{"text_format":"1","workbook":"xlsx","n_sheets":15,"sheets":["Input","General Input Data","Land&Rain","Animal","BMPs","Urban","Feedlots","Septic","Sediment","Gully&Streambank","Total Load","Graphs","Reference","BMPList","CountyData"],"not_rendered":{"charts":8,"images":92,"macros":1,"external_links":0,"defined_names":4,"comments":7,"pivot_tables":0},"unopened":[],"bounds":{"document_bytes":16777216,"sheet_cells":100000,"rows_first":2000,"rows_last":500,"rows_between":2000,"halvings":0,"cell_chars":16384,"cell_head_chars":4096},"cells_cut":0,"cells_raw":0,"read":"whole","date_system":"1900"}

{"sheet":"Input","index":0,"n_rows":103,"n_cols":27,"rows_kept":103,"cut":false,"hidden":false,"merged":[[44,2,44,6],[44,7,44,11],[44,12,44,16],[44,17,44,21]]}
[" ","STEPL Input Sheet:",null,"Values in RED are required input. Change worksheets by clicking on tabs at the bottom.",null,null,null,null,null,"You entered",{"$f":"'General Input Data'!$C$6","v":5},"subwatershed(s).",null,null,null,null,null,null,null,null,null,null,null,null,null,null,"0-24%"]
[null,"This sheet is composed of eight input tables. The first four tables require users to change initial values. The next four tables (initially hidden) contain default values users may choose to change.",null,null,null,null,null,null,null,null,null,null,null,null,null,null,null,null,null,null,null,null,null,null,null,null,"25-49%"]
[null,"Step 1:  Select the state and county where your watersheds are located. Select a nearby weather station. This will automatically specify values for rainfall parameters in Table 1 and USLE parameters in Table 4.",null,null,null,null,null,null,null,null,null,null,null,null,null,null,null,null,null,null,null,null,null,null,null,null,"50-74%"]
[null,"Step 2: (a) Enter land use areas in acres in Table 1; (b) enter total number of agricultural animals by type and number of months per year that manure is applied to croplands in Table 2; ",null,null,null,null,null,null,null,null,null,null,null,null,null,null,null,null,null,null,null,null,null,null,null,null,"75-100%"]
[null,"            (c) enter values for septic system parameters in Table 3; and (d) if desired, modify USLE parameters associated with the selected county in Table 4."]
[null,"Step 3: You may stop here and proceed to the BMPs sheet. If you have more detailed information on your watersheds, click the Yes button in row 10 to display optional input tables."]
[null,"Step 4: (a) Specify the representative Soil Hydrologic Group (SHG) and soil nutrient concentrations in Table 5; (b) modify the curve number table by landuse and SHG in Table 6;"]
[null,"            (c) modify the nutrient concentrations (mg/L) in runoff in Table 7; and (d) specify the detailed land use distribution in the urban area in Table 8."]
[null,"Step 5: Select BMPs in BMPs sheet.                           Step 6: View the estimates of loads and load reductions in Total Load and Graphs sheets."]
[null,"Show optional input tables?",null,null,null,false,null,null,null,null,false,null,null,null,null,null,null,null,null,null,null,null,null,null,null,null,"Opt Groupped"]
[]
[null,"State",null,"County",null,"Weather Station",null,null,null,null,null,null,null,null,null,null,null,null,null,null,null,null,null,null,null,null,"Hide Executed"]
[null,"Alabama",null,"Autauga",null,"AL ABBEVILLE 1 NNW",null,null,{"$f":"B13 & \"-\" & D13","v":"Alabama-Autauga"}]
[null,null,null,null,null,null,null,null,null,null,null,null,null,null,null,null,null,null,null,null,null,null,null,null,null,null,"Initialized"]
[null,null,null,null,null,null,null,null,null,null,"Rain correction factors"]
[null,"1. Input watershed land use area (ac) and precipitation (in)",null,null,null,null,null,null,null,null,{"$f":"LOOKUP(F13,CountyData!K2:K493,CountyData!L2:L493)","v":"0.913"},{"$f":"LOOKUP(F13,CountyData!K2:K493,CountyData!M2:M493)","v":"0.585"}]
[null,"Watershed","Urban","Cropland","Pastureland","Forest","User Defined","Feedlots","Feedlot Percent Paved","Total","Annual Rainfall","Rain Days","Avg. Rain/Event"]
[null,"W1",0,0,0,0,0,0,"0-24%",{"$f":"SUM(C18:H18)","v":0},{"$f":"IF(B13=\"Puerto Rico\",LOOKUP(F13,CountyData!K2:K493,CountyData!J2:J493),LOOKUP(I13,CountyData!F2:F3217,CountyData!G2:G3217))","v":60},{"$f":"IF(B13=\"Puerto Rico\",LOOKUP(F13,CountyData!K2:K493,CountyData!N2:N493),LOOKUP(I13,CountyData!F2:F3217,CountyData!H2:H3217))","v":87.3},{"$f":"(K18*K16)/(L18*L16)","v":1.0726348870678768}]
[null,"W2",0,0,0,0,0,0,"0-24%",{"$f":"SUM(C19:H19)","v":0},{"$f":"IF(B13=\"Puerto Rico\",LOOKUP(F13,CountyData!K2:K493,CountyData!J2:J493),LOOKUP(I13,CountyData!F2:F3217,CountyData!G2:G3217))","v":60},{"$f":"IF(B13=\"Puerto Rico\",LOOKUP(F13,CountyData!K2:K493,CountyData!N2:N493),LOOKUP(I13,CountyData!F2:F3217,CountyData!H2:H3217))","v":87.3},{"$f":"(K19*K16)/(L19*L16)","v":1.0726348870678768}]
[null,"W3",0,0,0,0,0,0,"0-24%",{"$f":"SUM(C20:H20)","v":0},{"$f":"IF(B13=\"Puerto Rico\",LOOKUP(F13,CountyData!K2:K493,CountyData!J2:J493),LOOKUP(I13,CountyData!F2:F3217,CountyData!G2:G3217))","v":60},{"$f":"IF(B13=\"Puerto Rico\",LOOKUP(F13,CountyData!K2:K493,CountyData!N2:N493),LOOKUP(I13,CountyData!F2:F3217,CountyData!H2:H3217))","v":87.3},{"$f":"(K20*K16)/(L20*L16)","v":1.0726348870678768},null,null,null,null,null,null,null,null,null,null,null,null,null,"$B$54"]
[null,"W4",0,0,0,0,0,0,"0-24%",{"$f":"SUM(C21:H21)","v":0},{"$f":"IF(B13=\"Puerto Rico\",LOOKUP(F13,CountyData!K2:K493,CountyData!J2:J493),LOOKUP(I13,CountyData!F2:F3217,CountyData!G2:G3217))","v":60},{"$f":"IF(B13=\"Puerto Rico\",LOOKUP(F13,CountyData!K2:K493,CountyData!N2:N493),LOOKUP(I13,CountyData!F2:F3217,CountyData!H2:H3217))","v":87.3},{"$f":"(K21*K16)/(L21*L16)","v":1.0726348870678768},null,null,null,null,null,null,null,null,null,null,null,null,null,"$O$103"]
[null,"W5",0,0,0,0,0,0,"0-24%",{"$f":"SUM(C22:H22)","v":0},{"$f":"IF(B13=\"Puerto Rico\",LOOKUP(F13,CountyData!K2:K493,CountyData!J2:J493),LOOKUP(I13,CountyData!F2:F3217,CountyData!G2:G3217))","v":60},{"$f":"IF(B13=\"Puerto Rico\",LOOKUP(F13,CountyData!K2:K493,CountyData!N2:N493),LOOKUP(I13,CountyData!F2:F3217,CountyData!H2:H3217))","v":87.3},{"$f":"(K22*K16)/(L22*L16)","v":1.0726348870678768}]
[]
[]
[null,"2. Input agricultural animals"]
[null,"Watershed","Beef Cattle","Dairy Cattle","Swine (Hog)","Sheep","Horse","Chicken","Turkey","Duck","# of months manure applied"]
[null,"W1",0,0,0,0,0,0,0,0,0]
[null,"W2",0,0,0,0,0,0,0,0,0]
[null,"W3",0,0,0,0,0,0,0,0,0]
[null,"W4",0,0,0,0,0,0,0,0,0]
[null,"W5",0,0,0,0,0,0,0,0,0]
[null,"Total",{"$f":"SUM(C27:C31)","v":0},{"$f":"SUM(D27:D31)","v":0},{"$f":"SUM(E27:E31)","v":0},{"$f":"SUM(F27:F31)","v":0},{"$f":"SUM(G27:G31)","v":0},{"$f":"SUM(H27:H31)","v":0},{"$f":"SUM(I27:I31)","v":0},{"$f":"SUM(J27:J31)","v":0}]
[]
[]
[null,"3. Input septic system and illegal direct wastewater discharge data"]
[null,"Watershed","No. of Septic Systems","Population per Septic System","Septic Failure Rate, %","Wastewater Direct Discharge, # of People","Direct Discharge Reduction, %"]
[null,"W1",0,2.4300000000000002,2,0,0]
[null,"W2",0,2.4300000000000002,2,0,0]
[null,"W3",0,2.4300000000000002,2,0,0]
[null,"W4",0,2.4300000000000002,2,0,0]
[null,"W5",0,2.4300000000000002,2,0,0]
[]
[]
[null,"4. Modify the Universal Soil Loss Equation (USLE) parameters"]
[null,"Watershed","Cropland",null,null,null,null,"Pastureland",null,null,null,null,"Forest",null,null,null,null,"User Defined"]
[null,null,"R","K","LS","C","P","R","K","LS","C","P","R","K","LS","C","P","R","K","LS","C","P"]
[null,"W1",{"$f":"LOOKUP(I13,CountyData!F2:F3217,CountyData!O2:O3217)","v":374.6893606005695},{"$f":"LOOKUP(I13,CountyData!F2:F3217,CountyData!P2:P3217)","v":0.19711980957418693},{"$f":"LOOKUP(I13,CountyData!F2:F3217,CountyData!Q2:Q3217)","v":0.28912718798606546},{"$f":"IF(LOOKUP(I13,CountyData!F2:F3217,CountyData!R2:R3217) > 0.2, LOOKUP(I13,CountyData!F2:F3217,CountyData!R2:R3217), 0.2)","v":0.2},{"$f":"LOOKUP(I13,CountyData!F2:F3217,CountyData!S2:S3217)","v":0.98570127504553728},{"$f":"LOOKUP(I13,CountyData!F2:F3217,CountyData!O2:O3217)","v":374.6893606005695},{"$f":"LOOKUP(I13,CountyData!F2:F3217,CountyData!P2:P3217)","v":0.19711980957418693},{"$f":"LOOKUP(I13,CountyData!F2:F3217,CountyData!Q2:Q3217)","v":0.28912718798606546},0.04,1,{"$f":"LOOKUP(I13,CountyData!F2:F3217,CountyData!O2:O3217)","v":374.6893606005695},{"$f":"LOOKUP(I13,CountyData!F2:F3217,CountyData!P2:P3217)","v":0.19711980957418693},{"$f":"LOOKUP(I13,CountyData!F2:F3217,CountyData!Q2:Q3217)","v":0.28912718798606546},3.0000000000000001E-3,1,{"$f":"LOOKUP(I13,CountyData!F2:F3217,CountyData!O2:O3217)","v":374.6893606005695},{"$f":"LOOKUP(I13,CountyData!F2:F3217,CountyData!P2:P3217)","v":0.19711980957418693},{"$f":"LOOKUP(I13,CountyData!F2:F3217,CountyData!Q2:Q3217)","v":0.28912718798606546},{"$f":"LOOKUP(I13,CountyData!F2:F3217,CountyData!R2:R3217)","v":0.13582877959927137},1]
[null,"W2",{"$f":"LOOKUP(I13,CountyData!F2:F3217,CountyData!O2:O3217)","v":374.6893606005695},{"$f":"LOOKUP(I13,CountyData!F2:F3217,CountyData!P2:P3217)","v":0.19711980957418693},{"$f":"LOOKUP(I13,CountyData!F2:F3217,CountyData!Q2:Q3217)","v":0.28912718798606546},{"$f":"IF(LOOKUP(I13,CountyData!F2:F3217,CountyData!R2:R3217) > 0.2, LOOKUP(I13,CountyData!F2:F3217,CountyData!R2:R3217), 0.2)","v":0.2},{"$f":"LOOKUP(I13,CountyData!F2:F3217,CountyData!S2:S3217)","v":0.98570127504553728},{"$f":"LOOKUP(I13,CountyData!F2:F3217,CountyData!O2:O3217)","v":374.6893606005695},{"$f":"LOOKUP(I13,CountyData!F2:F3217,CountyData!P2:P3217)","v":0.19711980957418693},{"$f":"LOOKUP(I13,CountyData!F2:F3217,CountyData!Q2:Q3217)","v":0.28912718798606546},0.04,1,{"$f":"LOOKUP(I13,CountyData!F2:F3217,CountyData!O2:O3217)","v":374.6893606005695},{"$f":"LOOKUP(I13,CountyData!F2:F3217,CountyData!P2:P3217)","v":0.19711980957418693},{"$f":"LOOKUP(I13,CountyData!F2:F3217,CountyData!Q2:Q3217)","v":0.28912718798606546},3.0000000000000001E-3,1,{"$f":"LOOKUP(I13,CountyData!F2:F3217,CountyData!O2:O3217)","v":374.6893606005695},{"$f":"LOOKUP(I13,CountyData!F2:F3217,CountyData!P2:P3217)","v":0.19711980957418693},{"$f":"LOOKUP(I13,CountyData!F2:F3217,CountyData!Q2:Q3217)","v":0.28912718798606546},{"$f":"LOOKUP(I13,CountyData!F2:F3217,CountyData!R2:R3217)","v":0.13582877959927137},1]
[null,"W3",{"$f":"LOOKUP(I13,CountyData!F2:F3217,CountyData!O2:O3217)","v":374.6893606005695},{"$f":"LOOKUP(I13,CountyData!F2:F3217,CountyData!P2:P3217)","v":0.19711980957418693},{"$f":"LOOKUP(I13,CountyData!F2:F3217,CountyData!Q2:Q3217)","v":0.28912718798606546},{"$f":"IF(LOOKUP(I13,CountyData!F2:F3217,CountyData!R2:R3217) > 0.2, LOOKUP(I13,CountyData!F2:F3217,CountyData!R2:R3217), 0.2)","v":0.2},{"$f":"LOOKUP(I13,CountyData!F2:F3217,CountyData!S2:S3217)","v":0.98570127504553728},{"$f":"LOOKUP(I13,CountyData!F2:F3217,CountyData!O2:O3217)","v":374.6893606005695},{"$f":"LOOKUP(I13,CountyData!F2:F3217,CountyData!P2:P3217)","v":0.19711980957418693},{"$f":"LOOKUP(I13,CountyData!F2:F3217,CountyData!Q2:Q3217)","v":0.28912718798606546},0.04,1,{"$f":"LOOKUP(I13,CountyData!F2:F3217,CountyData!O2:O3217)","v":374.6893606005695},{"$f":"LOOKUP(I13,CountyData!F2:F3217,CountyData!P2:P3217)","v":0.19711980957418693},{"$f":"LOOKUP(I13,CountyData!F2:F3217,CountyData!Q2:Q3217)","v":0.28912718798606546},3.0000000000000001E-3,1,{"$f":"LOOKUP(I13,CountyData!F2:F3217,CountyData!O2:O3217)","v":374.6893606005695},{"$f":"LOOKUP(I13,CountyData!F2:F3217,CountyData!P2:P3217)","v":0.19711980957418693},{"$f":"LOOKUP(I13,CountyData!F2:F3217,CountyData!Q2:Q3217)","v":0.28912718798606546},{"$f":"LOOKUP(I13,CountyData!F2:F3217,CountyData!R2:R3217)","v":0.13582877959927137},1]
[null,"W4",{"$f":"LOOKUP(I13,CountyData!F2:F3217,CountyData!O2:O3217)","v":374.6893606005695},{"$f":"LOOKUP(I13,CountyData!F2:F3217,CountyData!P2:P3217)","v":0.19711980957418693},{"$f":"LOOKUP(I13,CountyData!F2:F3217,CountyData!Q2:Q3217)","v":0.28912718798606546},{"$f":"IF(LOOKUP(I13,CountyData!F2:F3217,CountyData!R2:R3217) > 0.2, LOOKUP(I13,CountyData!F2:F3217,CountyData!R2:R3217), 0.2)","v":0.2},{"$f":"LOOKUP(I13,CountyData!F2:F3217,CountyData!S2:S3217)","v":0.98570127504553728},{"$f":"LOOKUP(I13,CountyData!F2:F3217,CountyData!O2:O3217)","v":374.6893606005695},{"$f":"LOOKUP(I13,CountyData!F2:F3217,CountyData!P2:P3217)","v":0.19711980957418693},{"$f":"LOOKUP(I13,CountyData!F2:F3217,CountyData!Q2:Q3217)","v":0.28912718798606546},0.04,1,{"$f":"LOOKUP(I13,CountyData!F2:F3217,CountyData!O2:O3217)","v":374.6893606005695},{"$f":"LOOKUP(I13,CountyData!F2:F3217,CountyData!P2:P3217)","v":0.19711980957418693},{"$f":"LOOKUP(I13,CountyData!F2:F3217,CountyData!Q2:Q3217)","v":0.28912718798606546},3.0000000000000001E-3,1,{"$f":"LOOKUP(I13,CountyData!F2:F3217,CountyData!O2:O3217)","v":374.6893606005695},{"$f":"LOOKUP(I13,CountyData!F2:F3217,CountyData!P2:P3217)","v":0.19711980957418693},{"$f":"LOOKUP(I13,CountyData!F2:F3217,CountyData!Q2:Q3217)","v":0.28912718798606546},{"$f":"LOOKUP(I13,CountyData!F2:F3217,CountyData!R2:R3217)","v":0.13582877959927137},1]
[null,"W5",{"$f":"LOOKUP(I13,CountyData!F2:F3217,CountyData!O2:O3217)","v":374.6893606005695},{"$f":"LOOKUP(I13,CountyData!F2:F3217,CountyData!P2:P3217)","v":0.19711980957418693},{"$f":"LOOKUP(I13,CountyData!F2:F3217,CountyData!Q2:Q3217)","v":0.28912718798606546},{"$f":"IF(LOOKUP(I13,CountyData!F2:F3217,CountyData!R2:R3217) > 0.2, LOOKUP(I13,CountyData!F2:F3217,CountyData!R2:R3217), 0.2)","v":0.2},{"$f":"LOOKUP(I13,CountyData!F2:F3217,CountyData!S2:S3217)","v":0.98570127504553728},{"$f":"LOOKUP(I13,CountyData!F2:F3217,CountyData!O2:O3217)","v":374.6893606005695},{"$f":"LOOKUP(I13,CountyData!F2:F3217,CountyData!P2:P3217)","v":0.19711980957418693},{"$f":"LOOKUP(I13,CountyData!F2:F3217,CountyData!Q2:Q3217)","v":0.28912718798606546},0.04,1,{"$f":"LOOKUP(I13,CountyData!F2:F3217,CountyData!O2:O3217)","v":374.6893606005695},{"$f":"LOOKUP(I13,CountyData!F2:F3217,CountyData!P2:P3217)","v":0.19711980957418693},{"$f":"LOOKUP(I13,CountyData!F2:F3217,CountyData!Q2:Q3217)","v":0.28912718798606546},3.0000000000000001E-3,1,{"$f":"LOOKUP(I13,CountyData!F2:F3217,CountyData!O2:O3217)","v":374.6893606005695},{"$f":"LOOKUP(I13,CountyData!F2:F3217,CountyData!P2:P3217)","v":0.19711980957418693},{"$f":"LOOKUP(I13,CountyData!F2:F3217,CountyData!Q2:Q3217)","v":0.28912718798606546},{"$f":"LOOKUP(I13,CountyData!F2:F3217,CountyData!R2:R3217)","v":0.13582877959927137},1]
[]
[]
[null,"Optional Data Input:"]
[null,"5. Select average soil hydrologic group (SHG), SHG A = highest infiltration and SHG D = lowest infiltration"]
[null,"Watershed","SHG A","SHG B","SHG C","SHG D","SHG Selected","Soil N conc.%","Soil P conc.%","Soil BOD conc.%"]
[null,"W1",false,true,false,false,{"$f":"IF(C57=TRUE,\"A\",IF(D57=TRUE,\"B\",IF(E57=TRUE,\"C\",IF(F57=TRUE,\"D\",\"No Match\"))))","v":"B"},0.08,3.0800000000000001E-2,{"$f":"IF((H57*2)>1,1,H57*2)","v":0.16}]
[null,"W2",false,true,false,false,{"$f":"IF(C58=TRUE,\"A\",IF(D58=TRUE,\"B\",IF(E58=TRUE,\"C\",IF(F58=TRUE,\"D\",\"No Match\"))))","v":"B"},0.08,3.0800000000000001E-2,{"$f":"IF((H58*2)>1,1,H58*2)","v":0.16}]
[null,"W3",false,true,false,false,{"$f":"IF(C59=TRUE,\"A\",IF(D59=TRUE,\"B\",IF(E59=TRUE,\"C\",IF(F59=TRUE,\"D\",\"No Match\"))))","v":"B"},0.08,3.0800000000000001E-2,{"$f":"IF((H59*2)>1,1,H59*2)","v":0.16}]
[null,"W4",false,true,false,false,{"$f":"IF(C60=TRUE,\"A\",IF(D60=TRUE,\"B\",IF(E60=TRUE,\"C\",IF(F60=TRUE,\"D\",\"No Match\"))))","v":"B"},0.08,3.0800000000000001E-2,{"$f":"IF((H60*2)>1,1,H60*2)","v":0.16}]
[null,"W5",false,true,false,false,{"$f":"IF(C61=TRUE,\"A\",IF(D61=TRUE,\"B\",IF(E61=TRUE,\"C\",IF(F61=TRUE,\"D\",\"No Match\"))))","v":"B"},0.08,3.0800000000000001E-2,{"$f":"IF((H61*2)>1,1,H61*2)","v":0.16}]
[]
[]
[null,"6. Reference runoff curve number (may be modified)",null,null,null,null,null,"6a. Detailed urban reference runoff curve number (may be modified)"]
[null,"SHG","A","B","C","D",null,"Urban\\SHG","A","B","C","D"]
[null,"Urban",83,89,92,93,null,"Commercial",89,92,94,95]
[null,"Cropland",67,78,85,89,null,"Industrial",81,88,91,93]
[null,"Pastureland",49,69,79,84,null,"Institutional",81,88,91,93]
[null,"Forest",39,60,73,79,null,"Transportation",98,98,98,98]
[null,"User Defined",50,70,80,85,null,"Multi-Family",77,85,90,92]
[null,null,null,null,null,null,null,"Single-Family",57,72,81,86]
[null,null,null,null,null,null,null,"Urban-Cultivated",67,78,85,89]
[null,"7. Nutrient concentration in runoff (mg/l)",null,null,null,null,null,"Vacant-Developed",77,85,90,92]
[null,"Land use","N","P","BOD",null,null,"Open Space",49,69,79,84]
[null,"1. L-Cropland",1.9,0.3,4]
[null,"1a. w/ manure",8.1,2,12.3,null,null,"7a. Nutrient concentration in shallow groundwater (mg/l) (may be modified)"]
[null,"2. M-Cropland",2.9,0.4,6.1,null,null,"Landuse","N","P","BOD"]
[null,"2a. w/ manure",12.2,3,18.5,null,null,"Urban",1.5,6.3E-2,0]
[null,"3. H-Cropland",4.4000000000000004,0.5,9.1999999999999993,null,null,"Cropland",1.44,6.3E-2,0]
[null,"3a. w/ manure",18.3,4,24.6,null,null,"Pastureland",1.44,6.3E-2,0]
[null,"4. Pastureland",4,0.3,13,null,null,"Forest",0.11,8.9999999999999993E-3,0]
[null,"5. Forest",0.2,0.1,0.5,null,null,"Feedlot",6,7.0000000000000007E-2,0]
[null,"6. User Defined",0,0,0,null,null,"User-Defined",0,0,0]
[]
[]
[null,"8. Input or modify urban land use distribution"]
[null,"Watershed","Urban Area (ac.)","Commercial %","Industrial %","Institutional %","Transportation %","Multi-Family %","Single-Family %","Urban-Cultivated %","Vacant (developed) %","Open Space %","Total % Area"]
[null,"W1",{"$f":"C18","v":0},15,10,10,10,10,30,5,5,5,{"$f":"D88+E88+F88+G88+H88+I88+J88+K88+L88","v":100}]
[null,"W2",{"$f":"C19","v":0},15,10,10,10,10,30,5,5,5,{"$f":"D89+E89+F89+G89+H89+I89+J89+K89+L89","v":100}]
[null,"W3",{"$f":"C20","v":0},15,10,10,10,10,30,5,5,5,{"$f":"D90+E90+F90+G90+H90+I90+J90+K90+L90","v":100}]
[null,"W4",{"$f":"C21","v":0},15,10,10,10,10,30,5,5,5,{"$f":"D91+E91+F91+G91+H91+I91+J91+K91+L91","v":100}]
[null,"W5",{"$f":"C22","v":0},15,10,10,10,10,30,5,5,5,{"$f":"D92+E92+F92+G92+H92+I92+J92+K92+L92","v":100}]
[]
[]
[null,"9. Input irrigation area (ac) and irrigation amount (in)"]
[null,"Watershed","Total Cropland (ac)","Cropland: Acres Irrigated","Water Depth (in) per Irrigation - Before BMP","Water Depth (in) per Irrigation - After BMP","Irrigation Frequency (#/Year)"]
[null,"W1",{"$f":"D18","v":0},0,0,0,0]
[null,"W2",{"$f":"D19","v":0},0,0,0,0]
[null,"W3",{"$f":"D20","v":0},0,0,0,0]
[null,"W4",{"$f":"D21","v":0},0,0,0,0]
[null,"W5",{"$f":"D22","v":0},0,0,0,0]
[]
[null,"Input Ends Here."]

{"sheet":"General Input Data","index":1,"n_rows":16,"n_cols":7,"rows_kept":16,"cut":false,"hidden":true,"merged":[]}
[null,"This Excel file was created dynamically by STEPL VB interface on/at 2/4/2015 11:43:16 PM"]
[null,"BLUE text found throughout the spreadsheet presents relevant information and assumptions."]
[null,"RED text designates values that should be specified by the user."]
[null,"BLACK text generally presents information that is calculated by the spreadsheet or that should not be changed."]
[]
[null,"There are",5,"subwatersheds in this study."]
[null,"Land Uses",null,"Animals",null,"Pollutants"]
[null,"Urban",0,"Beef Cattle",0,"Nitrogen",0]
[null,"Cropland",0,"Dairy Cattle",0,"Phosphorus",0]
[null,"Pastureland",0,"Swine (Hog)",0,"BOD",0]
[null,"Forest",0,"Sheep",0,"Sediment",0]
[null,"User Defined",0,"Horse",0]
[null,null,null,"Chicken",0]
[null,null,null,"Turkey",0]
[null,null,null,"Duck",0]
[null,"Total",{"$f":"SUM(C8:C15)","v":0},null,{"$f":"SUM(E8:E15)","v":0},null,{"$f":"SUM(G8:G15)","v":0}]

{"sheet":"Land&Rain","index":2,"n_rows":67,"n_cols":47,"rows_kept":67,"cut":false,"hidden":true,"merged":[[66,2,66,3],[66,4,66,5],[66,6,66,7],[66,8,66,9],[66,10,66,11],[66,12,66,13],[65,2,65,3],[65,4,65,5],[65,6,65,7],[65,8,65,9],[65,10,65,11],[65,12,65,13],[64,2,64,3],[64,4,64,5],[64,6,64,7],[64,8,64,9],[64,10,64,11],[64,12,64,13],[63,2,63,3],[63,4,63,5],[63,6,63,7],[63,8,63,9],[63,10,63,11],[63,12,63,13],[62,2,62,3],[62,4,62,5],[62,6,62,7],[62,8,62,9],[62,10,62,11],[62,12,62,13],[61,2,61,3],[61,4,61,5],[61,6,61,7],[61,8,61,9],[61,10,61,11],[61,12,61,13],[50,36,50,37],[50,38,50,39],[50,40,50,41],[50,42,50,43],[50,44,50,45],[50,46,50,47],[49,36,49,37],[49,38,49,39],[49,40,49,41],[49,42,49,43],[49,44,49,45],[49,46,49,47],[48,36,48,37],[48,38,48,39],[48,40,48,41],[48,42,48,43],[48,44,48,45],[48,46,48,47],[47,36,47,37],[47,38,47,39],[47,40,47,41],[47,42,47,43],[47,44,47,45],[47,46,47,47],[46,36,46,37],[46,38,46,39],[46,40,46,41],[46,42,46,43],[46,44,46,45],[46,46,46,47],[45,36,45,37],[45,38,45,39],[45,40,45,41],[45,42,45,43],[45,44,45,45],[45,46,45,47],[50,2,50,3],[50,4,50,5],[50,6,50,7],[50,8,50,9],[50,10,50,11],[50,12,50,13],[49,2,49,3],[49,4,49,5],[49,6,49,7],[49,8,49,9],[49,10,49,11],[49,12,49,13],[48,2,48,3],[48,4,48,5],[48,6,48,7],[48,8,48,9],[48,10,48,11],[48,12,48,13],[47,2,47,3],[47,4,47,5],[47,6,47,7],[47,8,47,9],[47,10,47,11],[47,12,47,13],[46,2,46,3],[46,4,46,5],[46,6,46,7],[46,8,46,9],[46,10,46,11],[46,12,46,13],[45,2,45,3],[45,4,45,5],[45,6,45,7],[45,8,45,9],[45,10,45,11],[45,12,45,13],[41,14,41,15],[41,16,41,17],[41,18,41,19],[41,20,41,21],[41,22,41,23],[41,24,41,25],[40,14,40,15],[40,16,40,17],[40,18,40,19],[40,20,40,21],[40,22,40,23],[40,24,40,25],[39,14,39,15],[39,16,39,17],[39,18,39,19],[39,20,39,21],[39,22,39,23],[39,24,39,25],[38,14,38,15],[38,16,38,17],[38,18,38,19],[38,20,38,21],[38,22,38,23],[38,24,38,25],[37,14,37,15],[37,16,37,17],[37,18,37,19],[37,20,37,21],[37,22,37,23],[37,24,37,25],[36,14,36,15],[36,16,36,17],[36,18,36,19],[36,20,36,21],[36,22,36,23],[36,24,36,25],[40,36,40,37],[40,38,40,39],[40,40,40,41],[40,42,40,43],[40,44,40,45],[41,36,41,37],[41,38,41,39],[41,40,41,41],[41,42,41,43],[41,44,41,45],[38,36,38,37],[38,38,38,39],[38,40,38,41],[38,42,38,43],[38,44,38,45],[39,36,39,37],[39,38,39,39],[39,40,39,41],[39,42,39,43],[39,44,39,45],[36,36,36,37],[36,38,36,39],[36,40,36,41],[36,42,36,43],[36,44,36,45],[37,36,37,37],[37,38,37,39],[37,40,37,41],[37,42,37,43],[37,44,37,45],[40,2,40,3],[40,4,40,5],[40,6,40,7],[40,8,40,9],[40,10,40,11],[41,2,41,3],[41,4,41,5],[41,6,41,7],[41,8,41,9],[41,10,41,11],[38,2,38,3],[38,4,38,5],[38,6,38,7],[38,8,38,9],[38,10,38,11],[39,2,39,3],[39,4,39,5],[39,6,39,7],[39,8,39,9],[39,10,39,11],[36,2,36,3],[36,4,36,5],[36,6,36,7],[36,8,36,9],[36,10,36,11],[37,2,37,3],[37,4,37,5],[37,6,37,7],[37,8,37,9],[37,10,37,11],[31,36,31,37],[31,38,31,39],[31,40,31,41],[31,42,31,43],[31,44,31,45],[32,36,32,37],[32,38,32,39],[32,40,32,41],[32,42,32,43],[32,44,32,45],[29,36,29,37],[29,38,29,39],[29,40,29,41],[29,42,29,43],[29,44,29,45],[30,36,30,37],[30,38,30,39],[30,40,30,41],[30,42,30,43],[30,44,30,45],[27,36,27,37],[27,38,27,39],[27,40,27,41],[27,42,27,43],[27,44,27,45],[28,36,28,37],[28,38,28,39],[28,40,28,41],[28,42,28,43],[28,44,28,45],[31,2,31,3],[31,4,31,5],[31,6,31,7],[31,8,31,9],[31,10,31,11],[32,2,32,3],[32,4,32,5],[32,6,32,7],[32,8,32,9],[32,10,32,11],[29,2,29,3],[29,4,29,5],[29,6,29,7],[29,8,29,9],[29,10,29,11],[30,2,30,3],[30,4,30,5],[30,6,30,7],[30,8,30,9],[30,10,30,11],[27,2,27,3],[27,4,27,5],[27,6,27,7],[27,8,27,9],[27,10,27,11],[28,2,28,3],[28,4,28,5],[28,6,28,7],[28,8,28,9],[28,10,28,11],[19,36,19,37],[19,38,19,39],[19,40,19,41],[19,42,19,43],[20,36,20,37],[20,38,20,39],[20,40,20,41],[20,42,20,43],[17,36,17,37],[17,38,17,39],[17,40,17,41],[17,42,17,43],[18,36,18,37],[18,38,18,39],[18,40,18,41],[18,42,18,43],[15,36,15,37],[15,38,15,39],[15,40,15,41],[15,42,15,43],[16,36,16,37],[16,38,16,39],[16,40,16,41],[16,42,16,43],[19,14,19,15],[19,16,19,17],[19,18,19,19],[19,20,19,21],[20,14,20,15],[20,16,20,17],[20,18,20,19],[20,20,20,21],[17,14,17,15],[17,16,17,17],[17,18,17,19],[17,20,17,21],[18,14,18,15],[18,16,18,17],[18,18,18,19],[18,20,18,21],[15,14,15,15],[15,16,15,17],[15,18,15,19],[15,20,15,21],[16,14,16,15],[16,16,16,17],[16,18,16,19],[16,20,16,21],[19,2,19,3],[19,4,19,5],[19,6,19,7],[19,8,19,9],[19,10,19,11],[20,2,20,3],[20,4,20,5],[20,6,20,7],[20,8,20,9],[20,10,20,11],[17,2,17,3],[17,4,17,5],[17,6,17,7],[17,8,17,9],[17,10,17,11],[18,2,18,3],[18,4,18,5],[18,6,18,7],[18,8,18,9],[18,10,18,11],[15,2,15,3],[15,4,15,5],[15,6,15,7],[15,8,15,9],[15,10,15,11],[16,2,16,3],[16,4,16,5],[16,6,16,7],[16,8,16,9],[16,10,16,11],[11,14,11,15],[11,16,11,17],[11,18,11,19],[11,20,11,21],[5,16,5,17],[5,18,5,19],[5,20,5,21],[10,14,10,15],[10,16,10,17],[10,18,10,19],[10,20,10,21],[11,2,11,3],[11,4,11,5],[11,6,11,7],[11,8,11,9],[11,10,11,11],[11,12,11,13],[9,14,9,15],[9,16,9,17],[9,18,9,19],[9,20,9,21],[10,2,10,3],[10,4,10,5],[10,6,10,7],[10,8,10,9],[10,10,10,11],[10,12,10,13],[8,14,8,15],[8,16,8,17],[8,18,8,19],[8,20,8,21],[9,2,9,3],[9,4,9,5],[9,6,9,7],[9,8,9,9],[9,10,9,11],[9,12,9,13],[7,14,7,15],[7,16,7,17],[7,18,7,19],[7,20,7,21],[8,2,8,3],[8,4,8,5],[8,6,8,7],[8,8,8,9],[8,10,8,11],[8,12,8,13],[6,14,6,15],[6,16,6,17],[6,18,6,19],[6,20,6,21],[7,2,7,3],[7,4,7,5],[7,6,7,7],[7,8,7,9],[7,10,7,11],[7,12,7,13],[6,2,6,3],[6,4,6,5],[6,6,6,7],[6,8,6,9],[6,10,6,11],[6,12,6,13]]}
[null,"Land Use and Precipitation"]
[null,"You entered",null,{"$f":"'General Input Data'!$C$6","v":5},null,"subwatersheds in this project."]
[null,"Areas listed below are in acres, and average annual precipitation is in inches."]
[null,"SHG: Soil Hydrologic Group"]
[null,null,null,null,null,null,null,null,null,null,null,null,null,null,null,null,"Go to \"STEPL\" menu for correction factors."]
[null,"1. Input watershed land use area (ac) and precipitation (in)",null,null,null,null,null,null,null,null,null,null,null,null,null,null,{"$f":"Input!K16","v":"0.913"},null,{"$f":"Input!L16","v":"0.585"},null,0,null,null,"1a. Detailed urban land use area (ac)"]
[null,"Watershed","Urban",null,"Cropland",null,"Pastureland",null,"Forest",null,"User Defined",null,"Feedlots",null,"Total",null,"Annual Rainfall",null,"Rain Days",null,"Avg. Rain/event",null,null,"Watershed","Commercial (ac.)","Industrial (ac.)","Institutional (ac.)","Transportation (ac.)","Multi-Family (ac.)","Single-Family (ac.)","Urban-Cultivated (ac.)","Vacant (developed) (ac.)","Open Space (ac.)","Total Area (ac.)","Pervious Area (ac.)"]
[null,"W1",{"$f":"Input!C18","v":0},null,{"$f":"Input!D18","v":0},null,{"$f":"Input!E18","v":0},null,{"$f":"Input!F18","v":0},null,{"$f":"Input!G18","v":0},null,{"$f":"Input!H18","v":0},null,{"$f":"Input!J18","v":0},null,{"$f":"Input!K18","v":60},null,{"$f":"Input!L18","v":87.3},null,{"$f":"Input!M18","v":1.0726348870678768},null,null,"W1",{"$f":"C8*Input!D88/100","v":0},{"$f":"C8*Input!E88/100","v":0},{"$f":"C8*Input!F88/100","v":0},{"$f":"C8*Input!G88/100","v":0},{"$f":"C8*Input!H88/100","v":0},{"$f":"C8*Input!I88/100","v":0},{"$f":"C8*Input!J88/100","v":0},{"$f":"C8*Input!K88/100","v":0},{"$f":"C8*Input!L88/100","v":0},{"$f":"C8*Input!M88/100","v":0},{"$f":"AH8-(Y8*0.85+Z8*0.7+AA8*0.5+AB8*0.95+AC8*0.75+AD8*0.3+AE8*0.01+AF8*0.7+AG8*0.01)","v":0}]
[null,"W2",{"$f":"Input!C19","v":0},null,{"$f":"Input!D19","v":0},null,{"$f":"Input!E19","v":0},null,{"$f":"Input!F19","v":0},null,{"$f":"Input!G19","v":0},null,{"$f":"Input!H19","v":0},null,{"$f":"Input!J19","v":0},null,{"$f":"Input!K19","v":60},null,{"$f":"Input!L19","v":87.3},null,{"$f":"Input!M19","v":1.0726348870678768},null,null,"W2",{"$f":"C9*Input!D89/100","v":0},{"$f":"C9*Input!E89/100","v":0},{"$f":"C9*Input!F89/100","v":0},{"$f":"C9*Input!G89/100","v":0},{"$f":"C9*Input!H89/100","v":0},{"$f":"C9*Input!I89/100","v":0},{"$f":"C9*Input!J89/100","v":0},{"$f":"C9*Input!K89/100","v":0},{"$f":"C9*Input!L89/100","v":0},{"$f":"C9*Input!M89/100","v":0},{"$f":"AH9-(Y9*0.85+Z9*0.7+AA9*0.5+AB9*0.95+AC9*0.75+AD9*0.3+AE9*0.01+AF9*0.7+AG9*0.01)","v":0}]
[null,"W3",{"$f":"Input!C20","v":0},null,{"$f":"Input!D20","v":0},null,{"$f":"Input!E20","v":0},null,{"$f":"Input!F20","v":0},null,{"$f":"Input!G20","v":0},null,{"$f":"Input!H20","v":0},null,{"$f":"Input!J20","v":0},null,{"$f":"Input!K20","v":60},null,{"$f":"Input!L20","v":87.3},null,{"$f":"Input!M20","v":1.0726348870678768},null,null,"W3",{"$f":"C10*Input!D90/100","v":0},{"$f":"C10*Input!E90/100","v":0},{"$f":"C10*Input!F90/100","v":0},{"$f":"C10*Input!G90/100","v":0},{"$f":"C10*Input!H90/100","v":0},{"$f":"C10*Input!I90/100","v":0},{"$f":"C10*Input!J90/100","v":0},{"$f":"C10*Input!K90/100","v":0},{"$f":"C10*Input!L90/100","v":0},{"$f":"C10*Input!M90/100","v":0},{"$f":"AH10-(Y10*0.85+Z10*0.7+AA10*0.5+AB10*0.95+AC10*0.75+AD10*0.3+AE10*0.01+AF10*0.7+AG10*0.01)","v":0}]
[null,"W4",{"$f":"Input!C21","v":0},null,{"$f":"Input!D21","v":0},null,{"$f":"Input!E21","v":0},null,{"$f":"Input!F21","v":0},null,{"$f":"Input!G21","v":0},null,{"$f":"Input!H21","v":0},null,{"$f":"Input!J21","v":0},null,{"$f":"Input!K21","v":60},null,{"$f":"Input!L21","v":87.3},null,{"$f":"Input!M21","v":1.0726348870678768},null,null,"W4",{"$f":"C11*Input!D91/100","v":0},{"$f":"C11*Input!E91/100","v":0},{"$f":"C11*Input!F91/100","v":0},{"$f":"C11*Input!G91/100","v":0},{"$f":"C11*Input!H91/100","v":0},{"$f":"C11*Input!I91/100","v":0},{"$f":"C11*Input!J91/100","v":0},{"$f":"C11*Input!K91/100","v":0},{"$f":"C11*Input!L91/100","v":0},{"$f":"C11*Input!M91/100","v":0},{"$f":"AH11-(Y11*0.85+Z11*0.7+AA11*0.5+AB11*0.95+AC11*0.75+AD11*0.3+AE11*0.01+AF11*0.7+AG11*0.01)","v":0}]
[null,"W5",{"$f":"Input!C22","v":0},null,{"$f":"Input!D22","v":0},null,{"$f":"Input!E22","v":0},null,{"$f":"Input!F22","v":0},null,{"$f":"Input!G22","v":0},null,{"$f":"Input!H22","v":0},null,{"$f":"Input!J22","v":0},null,{"$f":"Input!K22","v":60},null,{"$f":"Input!L22","v":87.3},null,{"$f":"Input!M22","v":1.0726348870678768},null,null,"W5",{"$f":"C12*Input!D92/100","v":0},{"$f":"C12*Input!E92/100","v":0},{"$f":"C12*Input!F92/100","v":0},{"$f":"C12*Input!G92/100","v":0},{"$f":"C12*Input!H92/100","v":0},{"$f":"C12*Input!I92/100","v":0},{"$f":"C12*Input!J92/100","v":0},{"$f":"C12*Input!K92/100","v":0},{"$f":"C12*Input!L92/100","v":0},{"$f":"C12*Input!M92/100","v":0},{"$f":"AH12-(Y12*0.85+Z12*0.7+AA12*0.5+AB12*0.95+AC12*0.75+AD12*0.3+AE12*0.01+AF12*0.7+AG12*0.01)","v":0}]
[null,null,null,null,null,null,null,null,null,null,null,null,null,null,"Sum=",{"$f":"SUM(O8:O12)","v":0}]
[]
[null,"2. Select average soil hydrologic group",null,null,null,null,null,null,null,null,null,null,null,"3. Reference runoff curve number (may be modified)",null,null,null,null,null,null,null,null,null,"2.1a. Urban runoff curve number",null,null,null,null,null,null,null,null,null,null,null,"GW1. Reference soil infiltration fraction for precipitation"]
[null,"Watershed","SHG A",null,"SHG B",null,"SHG C",null,"SHG D",null,"Selected",null,null,"SHG","A",null,"B",null,"C",null,"D",null,null,"Watershed","Commercial","Industrial","Institutional","Transportation","Multi-Family","Single-Family","Urban-Cultivated","Vacant (developed)","Open Space",null,null,"SHG","A",null,"B",null,"C",null,"D"]
[null,"W1",null,null,null,null,null,null,null,null,{"$f":"Input!G57","v":"B"},null,null,"Urban",{"$f":"Input!C66","v":83},null,{"$f":"Input!D66","v":89},null,{"$f":"Input!E66","v":92},null,{"$f":"Input!F66","v":93},null,null,"W1",{"$f":"LOOKUP(K17,Input!I65:L65,Input!I66:L66)","v":92},{"$f":"LOOKUP(K17,Input!I65:L65,Input!I67:L67)","v":88},{"$f":"LOOKUP(K17,Input!I65:L65,Input!I68:L68)","v":88},{"$f":"LOOKUP(K17,Input!I65:L65,Input!I69:L69)","v":98},{"$f":"LOOKUP(K17,Input!I65:L65,Input!I70:L70)","v":85},{"$f":"LOOKUP(K17,Input!I65:L65,Input!I71:L71)","v":72},{"$f":"LOOKUP(K17,Input!I65:L65,Input!I72:L72)","v":78},{"$f":"LOOKUP(K17,Input!I65:L65,Input!I73:L73)","v":85},{"$f":"LOOKUP(K17,Input!I65:L65,Input!I74:L74)","v":69},null,null,"Urban",{"$f":"IF(Input!$K$10=TRUE,0.36,0)","v":0},null,{"$f":"IF(Input!$K$10=TRUE,0.24,0)","v":0},null,{"$f":"IF(Input!$K$10=TRUE,0.12,0)","v":0},null,{"$f":"IF(Input!$K$10=TRUE,0.06,0)","v":0}]
[null,"W2",null,null,null,null,null,null,null,null,{"$f":"Input!G58","v":"B"},null,null,"Cropland",{"$f":"Input!C67","v":67},null,{"$f":"Input!D67","v":78},null,{"$f":"Input!E67","v":85},null,{"$f":"Input!F67","v":89},null,null,"W2",{"$f":"LOOKUP(K18,Input!I65:L65,Input!I66:L66)","v":92},{"$f":"LOOKUP(K18,Input!I65:L65,Input!I67:L67)","v":88},{"$f":"LOOKUP(K18,Input!I65:L65,Input!I68:L68)","v":88},{"$f":"LOOKUP(K18,Input!I65:L65,Input!I69:L69)","v":98},{"$f":"LOOKUP(K18,Input!I65:L65,Input!I70:L70)","v":85},{"$f":"LOOKUP(K18,Input!I65:L65,Input!I71:L71)","v":72},{"$f":"LOOKUP(K18,Input!I65:L65,Input!I72:L72)","v":78},{"$f":"LOOKUP(K18,Input!I65:L65,Input!I73:L73)","v":85},{"$f":"LOOKUP(K18,Input!I65:L65,Input!I74:L74)","v":69},null,null,"Cropland",{"$f":"IF(Input!$K$10=TRUE,0.45,0)","v":0},null,{"$f":"IF(Input!$K$10=TRUE,0.3,0)","v":0},null,{"$f":"IF(Input!$K$10=TRUE,0.15,0)","v":0},null,{"$f":"IF(Input!$K$10=TRUE,0.075,0)","v":0}]
[null,"W3",null,null,null,null,null,null,null,null,{"$f":"Input!G59","v":"B"},null,null,"Pastureland",{"$f":"Input!C68","v":49},null,{"$f":"Input!D68","v":69},null,{"$f":"Input!E68","v":79},null,{"$f":"Input!F68","v":84},null,null,"W3",{"$f":"LOOKUP(K19,Input!I65:L65,Input!I66:L66)","v":92},{"$f":"LOOKUP(K19,Input!I65:L65,Input!I67:L67)","v":88},{"$f":"LOOKUP(K19,Input!I65:L65,Input!I68:L68)","v":88},{"$f":"LOOKUP(K19,Input!I65:L65,Input!I69:L69)","v":98},{"$f":"LOOKUP(K19,Input!I65:L65,Input!I70:L70)","v":85},{"$f":"LOOKUP(K19,Input!I65:L65,Input!I71:L71)","v":72},{"$f":"LOOKUP(K19,Input!I65:L65,Input!I72:L72)","v":78},{"$f":"LOOKUP(K19,Input!I65:L65,Input!I73:L73)","v":85},{"$f":"LOOKUP(K19,Input!I65:L65,Input!I74:L74)","v":69},null,null,"Pastureland",{"$f":"IF(Input!$K$10=TRUE,0.45,0)","v":0},null,{"$f":"IF(Input!$K$10=TRUE,0.3,0)","v":0},null,{"$f":"IF(Input!$K$10=TRUE,0.15,0)","v":0},null,{"$f":"IF(Input!$K$10=TRUE,0.075,0)","v":0}]
[null,"W4",null,null,null,null,null,null,null,null,{"$f":"Input!G60","v":"B"},null,null,"Forest",{"$f":"Input!C69","v":39},null,{"$f":"Input!D69","v":60},null,{"$f":"Input!E69","v":73},null,{"$f":"Input!F69","v":79},null,null,"W4",{"$f":"LOOKUP(K20,Input!I65:L65,Input!I66:L66)","v":92},{"$f":"LOOKUP(K20,Input!I65:L65,Input!I67:L67)","v":88},{"$f":"LOOKUP(K20,Input!I65:L65,Input!I68:L68)","v":88},{"$f":"LOOKUP(K20,Input!I65:L65,Input!I69:L69)","v":98},{"$f":"LOOKUP(K20,Input!I65:L65,Input!I70:L70)","v":85},{"$f":"LOOKUP(K20,Input!I65:L65,Input!I71:L71)","v":72},{"$f":"LOOKUP(K20,Input!I65:L65,Input!I72:L72)","v":78},{"$f":"LOOKUP(K20,Input!I65:L65,Input!I73:L73)","v":85},{"$f":"LOOKUP(K20,Input!I65:L65,Input!I74:L74)","v":69},null,null,"Forest",{"$f":"IF(Input!$K$10=TRUE,0.45,0)","v":0},null,{"$f":"IF(Input!$K$10=TRUE,0.3,0)","v":0},null,{"$f":"IF(Input!$K$10=TRUE,0.15,0)","v":0},null,{"$f":"IF(Input!$K$10=TRUE,0.075,0)","v":0}]
[null,"W5",null,null,null,null,null,null,null,null,{"$f":"Input!G61","v":"B"},null,null,"User Defined",{"$f":"Input!C70","v":50},null,{"$f":"Input!D70","v":70},null,{"$f":"Input!E70","v":80},null,{"$f":"Input!F70","v":85},null,null,"W5",{"$f":"LOOKUP(K21,Input!I65:L65,Input!I66:L66)","v":92},{"$f":"LOOKUP(K21,Input!I65:L65,Input!I67:L67)","v":88},{"$f":"LOOKUP(K21,Input!I65:L65,Input!I68:L68)","v":88},{"$f":"LOOKUP(K21,Input!I65:L65,Input!I69:L69)","v":98},{"$f":"LOOKUP(K21,Input!I65:L65,Input!I70:L70)","v":85},{"$f":"LOOKUP(K21,Input!I65:L65,Input!I71:L71)","v":72},{"$f":"LOOKUP(K21,Input!I65:L65,Input!I72:L72)","v":78},{"$f":"LOOKUP(K21,Input!I65:L65,Input!I73:L73)","v":85},{"$f":"LOOKUP(K21,Input!I65:L65,Input!I74:L74)","v":69},null,null,"User Defined",{"$f":"IF(Input!$K$10=TRUE,0.45,0)","v":0},null,{"$f":"IF(Input!$K$10=TRUE,0.3,0)","v":0},null,{"$f":"IF(Input!$K$10=TRUE,0.15,0)","v":0},null,{"$f":"IF(Input!$K$10=TRUE,0.075,0)","v":0}]
[]
[]
[]
[]
[]
[null,"2.1. Curve Number (CN)",null,null,null,null,null,null,null,null,null,null,null,null,null,null,null,null,null,null,null,null,null,"2.2a. Runoff by urban land use (in)",null,null,null,null,null,null,null,null,null,null,null,"GW2. Infiltration fraction based on SHG"]
[null,"Watershed","Urban",null,"Cropland",null,"Pastureland",null,"Forest",null,"User Defined",null,null,null,null,null,null,null,null,null,null,null,null,"Watershed","Commercial","Industrial","Institutional","Transportation","Multi-Family","Single-Family","Urban-Cultivated","Vacant (developed)","Open Space",null,null,"Watershed","Urban",null,"Cropland",null,"Pastureland",null,"Forest",null,"User Defined"]
[null,"W1",{"$f":"LOOKUP(K17,O16:U16,O17:U17)","v":89},null,{"$f":"LOOKUP(K17,O16:U16,O18:U18)","v":78},null,{"$f":"LOOKUP(K17,O16:U16,O19:U19)","v":69},null,{"$f":"LOOKUP(K17,O16:U16,O20:U20)","v":60},null,{"$f":"LOOKUP(K17,O16:U16,O21:U21)","v":70},null,null,null,null,null,null,null,null,null,null,null,null,"W1",{"$f":"IF((U8-U6*(1000/Y17-10))>0,POWER((U8-U6*(1000/Y17-10)),2)/(U8+0.8*(1000/Y17-10)),0)","v":0.65065544296686495},{"$f":"IF((U8-U6*(1000/Z17-10))>0,POWER((U8-U6*(1000/Z17-10)),2)/(U8+0.8*(1000/Z17-10)),0)","v":0.53178748047956947},{"$f":"IF((U8-U6*(1000/AA17-10))>0,POWER((U8-U6*(1000/AA17-10)),2)/(U8+0.8*(1000/AA17-10)),0)","v":0.53178748047956947},{"$f":"IF((U8-U6*(1000/AB17-10))>0,POWER((U8-U6*(1000/AB17-10)),2)/(U8+0.8*(1000/AB17-10)),0)","v":0.93093730973948929},{"$f":"IF((U8-U6*(1000/AC17-10))>0,POWER((U8-U6*(1000/AC17-10)),2)/(U8+0.8*(1000/AC17-10)),0)","v":0.46310811039412586},{"$f":"IF((U8-U6*(1000/AD17-10))>0,POWER((U8-U6*(1000/AD17-10)),2)/(U8+0.8*(1000/AD17-10)),0)","v":0.2750036932107976},{"$f":"IF((U8-U6*(1000/AE17-10))>0,POWER((U8-U6*(1000/AE17-10)),2)/(U8+0.8*(1000/AE17-10)),0)","v":0.34560829047606273},{"$f":"IF((U8-U6*(1000/AF17-10))>0,POWER((U8-U6*(1000/AF17-10)),2)/(U8+0.8*(1000/AF17-10)),0)","v":0.46310811039412586},{"$f":"IF((U8-U6*(1000/AG17-10))>0,POWER((U8-U6*(1000/AG17-10)),2)/(U8+0.8*(1000/AG17-10)),0)","v":0.24653644583504816},null,null,"W1",{"$f":"LOOKUP(K17,AK16:AR16,AK17:AR17)","v":0},null,{"$f":"LOOKUP(K17,AK16:AR16,AK18:AR18)","v":0},null,{"$f":"LOOKUP(K17,AK16:AR16,AK19:AR19)","v":0},null,{"$f":"LOOKUP(K17,AK16:AR16,AK20:AR20)","v":0},null,{"$f":"LOOKUP(K17,AK16:AR16,AK21:AR21)","v":0}]
[null,"W2",{"$f":"LOOKUP(K18,O16:U16,O17:U17)","v":89},null,{"$f":"LOOKUP(K18,O16:U16,O18:U18)","v":78},null,{"$f":"LOOKUP(K18,O16:U16,O19:U19)","v":69},null,{"$f":"LOOKUP(K18,O16:U16,O20:U20)","v":60},null,{"$f":"LOOKUP(K18,O16:U16,O21:U21)","v":70},null,null,null,null,null,null,null,null,null,null,null,null,"W2",{"$f":"IF((U9-U6*(1000/Y18-10))>0,POWER((U9-U6*(1000/Y18-10)),2)/(U9+0.8*(1000/Y18-10)),0)","v":0.65065544296686495},{"$f":"IF((U9-U6*(1000/Z18-10))>0,POWER((U9-U6*(1000/Z18-10)),2)/(U9+0.8*(1000/Z18-10)),0)","v":0.53178748047956947},{"$f":"IF((U9-U6*(1000/AA18-10))>0,POWER((U9-U6*(1000/AA18-10)),2)/(U9+0.8*(1000/AA18-10)),0)","v":0.53178748047956947},{"$f":"IF((U9-U6*(1000/AB18-10))>0,POWER((U9-U6*(1000/AB18-10)),2)/(U9+0.8*(1000/AB18-10)),0)","v":0.93093730973948929},{"$f":"IF((U9-U6*(1000/AC18-10))>0,POWER((U9-U6*(1000/AC18-10)),2)/(U9+0.8*(1000/AC18-10)),0)","v":0.46310811039412586},{"$f":"IF((U9-U6*(1000/AD18-10))>0,POWER((U9-U6*(1000/AD18-10)),2)/(U9+0.8*(1000/AD18-10)),0)","v":0.2750036932107976},{"$f":"IF((U9-U6*(1000/AE18-10))>0,POWER((U9-U6*(1000/AE18-10)),2)/(U9+0.8*(1000/AE18-10)),0)","v":0.34560829047606273},{"$f":"IF((U9-U6*(1000/AF18-10))>0,POWER((U9-U6*(1000/AF18-10)),2)/(U9+0.8*(1000/AF18-10)),0)","v":0.46310811039412586},{"$f":"IF((U9-U6*(1000/AG18-10))>0,POWER((U9-U6*(1000/AG18-10)),2)/(U9+0.8*(1000/AG18-10)),0)","v":0.24653644583504816},null,null,"W2",{"$f":"LOOKUP(K18,AK16:AR16,AK17:AR17)","v":0},null,{"$f":"LOOKUP(K18,AK16:AR16,AK18:AR18)","v":0},null,{"$f":"LOOKUP(K18,AK16:AR16,AK19:AR19)","v":0},null,{"$f":"LOOKUP(K18,AK16:AR16,AK20:AR20)","v":0},null,{"$f":"LOOKUP(K18,AK16:AR16,AK21:AR21)","v":0}]
[null,"W3",{"$f":"LOOKUP(K19,O16:U16,O17:U17)","v":89},null,{"$f":"LOOKUP(K19,O16:U16,O18:U18)","v":78},null,{"$f":"LOOKUP(K19,O16:U16,O19:U19)","v":69},null,{"$f":"LOOKUP(K19,O16:U16,O20:U20)","v":60},null,{"$f":"LOOKUP(K19,O16:U16,O21:U21)","v":70},null,null,null,null,null,null,null,null,null,null,null,null,"W3",{"$f":"IF((U10-U6*(1000/Y19-10))>0,POWER((U10-U6*(1000/Y19-10)),2)/(U10+0.8*(1000/Y19-10)),0)","v":0.65065544296686495},{"$f":"IF((U10-U6*(1000/Z19-10))>0,POWER((U10-U6*(1000/Z19-10)),2)/(U10+0.8*(1000/Z19-10)),0)","v":0.53178748047956947},{"$f":"IF((U10-U6*(1000/AA19-10))>0,POWER((U10-U6*(1000/AA19-10)),2)/(U10+0.8*(1000/AA19-10)),0)","v":0.53178748047956947},{"$f":"IF((U10-U6*(1000/AB19-10))>0,POWER((U10-U6*(1000/AB19-10)),2)/(U10+0.8*(1000/AB19-10)),0)","v":0.93093730973948929},{"$f":"IF((U10-U6*(1000/AC19-10))>0,POWER((U10-U6*(1000/AC19-10)),2)/(U10+0.8*(1000/AC19-10)),0)","v":0.46310811039412586},{"$f":"IF((U10-U6*(1000/AD19-10))>0,POWER((U10-U6*(1000/AD19-10)),2)/(U10+0.8*(1000/AD19-10)),0)","v":0.2750036932107976},{"$f":"IF((U10-U6*(1000/AE19-10))>0,POWER((U10-U6*(1000/AE19-10)),2)/(U10+0.8*(1000/AE19-10)),0)","v":0.34560829047606273},{"$f":"IF((U10-U6*(1000/AF19-10))>0,POWER((U10-U6*(1000/AF19-10)),2)/(U10+0.8*(1000/AF19-10)),0)","v":0.46310811039412586},{"$f":"IF((U10-U6*(1000/AG19-10))>0,POWER((U10-U6*(1000/AG19-10)),2)/(U10+0.8*(1000/AG19-10)),0)","v":0.24653644583504816},null,null,"W3",{"$f":"LOOKUP(K19,AK16:AR16,AK17:AR17)","v":0},null,{"$f":"LOOKUP(K19,AK16:AR16,AK18:AR18)","v":0},null,{"$f":"LOOKUP(K19,AK16:AR16,AK19:AR19)","v":0},null,{"$f":"LOOKUP(K19,AK16:AR16,AK20:AR20)","v":0},null,{"$f":"LOOKUP(K19,AK16:AR16,AK21:AR21)","v":0}]
[null,"W4",{"$f":"LOOKUP(K20,O16:U16,O17:U17)","v":89},null,{"$f":"LOOKUP(K20,O16:U16,O18:U18)","v":78},null,{"$f":"LOOKUP(K20,O16:U16,O19:U19)","v":69},null,{"$f":"LOOKUP(K20,O16:U16,O20:U20)","v":60},null,{"$f":"LOOKUP(K20,O16:U16,O21:U21)","v":70},null,null,null,null,null,null,null,null,null,null,null,null,"W4",{"$f":"IF((U11-U6*(1000/Y20-10))>0,POWER((U11-U6*(1000/Y20-10)),2)/(U11+0.8*(1000/Y20-10)),0)","v":0.65065544296686495},{"$f":"IF((U11-U6*(1000/Z20-10))>0,POWER((U11-U6*(1000/Z20-10)),2)/(U11+0.8*(1000/Z20-10)),0)","v":0.53178748047956947},{"$f":"IF((U11-U6*(1000/AA20-10))>0,POWER((U11-U6*(1000/AA20-10)),2)/(U11+0.8*(1000/AA20-10)),0)","v":0.53178748047956947},{"$f":"IF((U11-U6*(1000/AB20-10))>0,POWER((U11-U6*(1000/AB20-10)),2)/(U11+0.8*(1000/AB20-10)),0)","v":0.93093730973948929},{"$f":"IF((U11-U6*(1000/AC20-10))>0,POWER((U11-U6*(1000/AC20-10)),2)/(U11+0.8*(1000/AC20-10)),0)","v":0.46310811039412586},{"$f":"IF((U11-U6*(1000/AD20-10))>0,POWER((U11-U6*(1000/AD20-10)),2)/(U11+0.8*(1000/AD20-10)),0)","v":0.2750036932107976},{"$f":"IF((U11-U6*(1000/AE20-10))>0,POWER((U11-U6*(1000/AE20-10)),2)/(U11+0.8*(1000/AE20-10)),0)","v":0.34560829047606273},{"$f":"IF((U11-U6*(1000/AF20-10))>0,POWER((U11-U6*(1000/AF20-10)),2)/(U11+0.8*(1000/AF20-10)),0)","v":0.46310811039412586},{"$f":"IF((U11-U6*(1000/AG20-10))>0,POWER((U11-U6*(1000/AG20-10)),2)/(U11+0.8*(1000/AG20-10)),0)","v":0.24653644583504816},null,null,"W4",{"$f":"LOOKUP(K20,AK16:AR16,AK17:AR17)","v":0},null,{"$f":"LOOKUP(K20,AK16:AR16,AK18:AR18)","v":0},null,{"$f":"LOOKUP(K20,AK16:AR16,AK19:AR19)","v":0},null,{"$f":"LOOKUP(K20,AK16:AR16,AK20:AR20)","v":0},null,{"$f":"LOOKUP(K20,AK16:AR16,AK21:AR21)","v":0}]
[null,"W5",{"$f":"LOOKUP(K21,O16:U16,O17:U17)","v":89},null,{"$f":"LOOKUP(K21,O16:U16,O18:U18)","v":78},null,{"$f":"LOOKUP(K21,O16:U16,O19:U19)","v":69},null,{"$f":"LOOKUP(K21,O16:U16,O20:U20)","v":60},null,{"$f":"LOOKUP(K21,O16:U16,O21:U21)","v":70},null,null,null,null,null,null,null,null,null,null,null,null,"W5",{"$f":"IF((U12-U6*(1000/Y21-10))>0,POWER((U12-U6*(1000/Y21-10)),2)/(U12+0.8*(1000/Y21-10)),0)","v":0.65065544296686495},{"$f":"IF((U12-U6*(1000/Z21-10))>0,POWER((U12-U6*(1000/Z21-10)),2)/(U12+0.8*(1000/Z21-10)),0)","v":0.53178748047956947},{"$f":"IF((U12-U6*(1000/AA21-10))>0,POWER((U12-U6*(1000/AA21-10)),2)/(U12+0.8*(1000/AA21-10)),0)","v":0.53178748047956947},{"$f":"IF((U12-U6*(1000/AB21-10))>0,POWER((U12-U6*(1000/AB21-10)),2)/(U12+0.8*(1000/AB21-10)),0)","v":0.93093730973948929},{"$f":"IF((U12-U6*(1000/AC21-10))>0,POWER((U12-U6*(1000/AC21-10)),2)/(U12+0.8*(1000/AC21-10)),0)","v":0.46310811039412586},{"$f":"IF((U12-U6*(1000/AD21-10))>0,POWER((U12-U6*(1000/AD21-10)),2)/(U12+0.8*(1000/AD21-10)),0)","v":0.2750036932107976},{"$f":"IF((U12-U6*(1000/AE21-10))>0,POWER((U12-U6*(1000/AE21-10)),2)/(U12+0.8*(1000/AE21-10)),0)","v":0.34560829047606273},{"$f":"IF((U12-U6*(1000/AF21-10))>0,POWER((U12-U6*(1000/AF21-10)),2)/(U12+0.8*(1000/AF21-10)),0)","v":0.46310811039412586},{"$f":"IF((U12-U6*(1000/AG21-10))>0,POWER((U12-U6*(1000/AG21-10)),2)/(U12+0.8*(1000/AG21-10)),0)","v":0.24653644583504816},null,null,"W5",{"$f":"LOOKUP(K21,AK16:AR16,AK17:AR17)","v":0},null,{"$f":"LOOKUP(K21,AK16:AR16,AK18:AR18)","v":0},null,{"$f":"LOOKUP(K21,AK16:AR16,AK19:AR19)","v":0},null,{"$f":"LOOKUP(K21,AK16:AR16,AK20:AR20)","v":0},null,{"$f":"LOOKUP(K21,AK16:AR16,AK21:AR21)","v":0}]
[]
[]
[null,"2.2. Calculated runoff (in)",null,null,null,null,null,null,null,null,null,null,null,"2.3. Irrigation runoff (in)",null,null,null,null,null,null,null,null,null,null,null,null,null,null,null,null,null,null,null,null,null,"GW3. Calculated infiltration (in)"]
[null,"Watershed","Urban",null,"Cropland",null,"Pastureland",null,"Forest",null,"User Defined",null,null,"Watershed",null,null,"Irr. before BMP",null,"Irr. after BMP",null,null,null,null,null,"Irr. Reduction",null,null,null,null,null,null,null,null,null,null,"Watershed","Urban",null,"Cropland",null,"Pastureland",null,"Forest",null,"User Defined"]
[null,"W1",{"$f":"IF((U8-U6*(1000/C29-10))>0,POWER((U8-U6*(1000/C29-10)),2)/(U8+0.8*(1000/C29-10)),0)","v":0.55813825411867812},null,{"$f":"IF((U8-U6*(1000/E29-10))>0,POWER((U8-U6*(1000/E29-10)),2)/(U8+0.8*(1000/E29-10)),0)","v":0.34560829047606273},null,{"$f":"IF((U8-U6*(1000/G29-10))>0,POWER((U8-U6*(1000/G29-10)),2)/(U8+0.8*(1000/G29-10)),0)","v":0.24653644583504816},null,{"$f":"IF((U8-U6*(1000/I29-10))>0,POWER((U8-U6*(1000/I29-10)),2)/(U8+0.8*(1000/I29-10)),0)","v":0.17960526205717844},null,{"$f":"IF((U8-U6*(1000/K29-10))>0,POWER((U8-U6*(1000/K29-10)),2)/(U8+0.8*(1000/K29-10)),0)","v":0.25560827926451196},null,null,"W1",null,null,{"$f":"IF((Input!E97-U6*(1000/E29-10))>0,POWER((Input!E97-U6*(1000/E29-10)),2)/(Input!E97+0.8*(1000/E29-10)),0)","v":0},null,{"$f":"IF((Input!F97-U6*(1000/E29-10))>0,POWER((Input!F97-U6*(1000/E29-10)),2)/(Input!F97+0.8*(1000/E29-10)),0)","v":0},null,null,null,null,null,{"$f":"Q38-S38","v":0},null,null,null,null,null,null,null,null,null,null,"W1",{"$f":"AK29*U8","v":0},null,{"$f":"AM29*U8","v":0},null,{"$f":"AO29*U8","v":0},null,{"$f":"AQ29*U8","v":0},null,{"$f":"AS29*U8","v":0}]
[null,"W2",{"$f":"IF((U9-U6*(1000/C30-10))>0,POWER((U9-U6*(1000/C30-10)),2)/(U9+0.8*(1000/C30-10)),0)","v":0.55813825411867812},null,{"$f":"IF((U9-U6*(1000/E30-10))>0,POWER((U9-U6*(1000/E30-10)),2)/(U9+0.8*(1000/E30-10)),0)","v":0.34560829047606273},null,{"$f":"IF((U9-U6*(1000/G30-10))>0,POWER((U9-U6*(1000/G30-10)),2)/(U9+0.8*(1000/G30-10)),0)","v":0.24653644583504816},null,{"$f":"IF((U9-U6*(1000/I30-10))>0,POWER((U9-U6*(1000/I30-10)),2)/(U9+0.8*(1000/I30-10)),0)","v":0.17960526205717844},null,{"$f":"IF((U9-U6*(1000/K30-10))>0,POWER((U9-U6*(1000/K30-10)),2)/(U9+0.8*(1000/K30-10)),0)","v":0.25560827926451196},null,null,"W2",null,null,{"$f":"IF((Input!E98-U6*(1000/E30-10))>0,POWER((Input!E98-U6*(1000/E30-10)),2)/(Input!E98+0.8*(1000/E30-10)),0)","v":0},null,{"$f":"IF((Input!F98-U6*(1000/E30-10))>0,POWER((Input!F98-U6*(1000/E30-10)),2)/(Input!F98+0.8*(1000/E30-10)),0)","v":0},null,null,null,null,null,{"$f":"Q39-S39","v":0},null,null,null,null,null,null,null,null,null,null,"W2",{"$f":"AK30*U9","v":0},null,{"$f":"AM30*U9","v":0},null,{"$f":"AO30*U9","v":0},null,{"$f":"AQ30*U9","v":0},null,{"$f":"AS30*U9","v":0}]
[null,"W3",{"$f":"IF((U10-U6*(1000/C31-10))>0,POWER((U10-U6*(1000/C31-10)),2)/(U10+0.8*(1000/C31-10)),0)","v":0.55813825411867812},null,{"$f":"IF((U10-U6*(1000/E31-10))>0,POWER((U10-U6*(1000/E31-10)),2)/(U10+0.8*(1000/E31-10)),0)","v":0.34560829047606273},null,{"$f":"IF((U10-U6*(1000/G31-10))>0,POWER((U10-U6*(1000/G31-10)),2)/(U10+0.8*(1000/G31-10)),0)","v":0.24653644583504816},null,{"$f":"IF((U10-U6*(1000/I31-10))>0,POWER((U10-U6*(1000/I31-10)),2)/(U10+0.8*(1000/I31-10)),0)","v":0.17960526205717844},null,{"$f":"IF((U10-U6*(1000/K31-10))>0,POWER((U10-U6*(1000/K31-10)),2)/(U10+0.8*(1000/K31-10)),0)","v":0.25560827926451196},null,null,"W3",null,null,{"$f":"IF((Input!E99-U6*(1000/E31-10))>0,POWER((Input!E99-U6*(1000/E31-10)),2)/(Input!E99+0.8*(1000/E31-10)),0)","v":0},null,{"$f":"IF((Input!F99-U6*(1000/E31-10))>0,POWER((Input!F99-U6*(1000/E31-10)),2)/(Input!F99+0.8*(1000/E31-10)),0)","v":0},null,null,null,null,null,{"$f":"Q40-S40","v":0},null,null,null,null,null,null,null,null,null,null,"W3",{"$f":"AK31*U10","v":0},null,{"$f":"AM31*U10","v":0},null,{"$f":"AO31*U10","v":0},null,{"$f":"AQ31*U10","v":0},null,{"$f":"AS31*U10","v":0}]
[null,"W4",{"$f":"IF((U11-U6*(1000/C32-10))>0,POWER((U11-U6*(1000/C32-10)),2)/(U11+0.8*(1000/C32-10)),0)","v":0.55813825411867812},null,{"$f":"IF((U11-U6*(1000/E32-10))>0,POWER((U11-U6*(1000/E32-10)),2)/(U11+0.8*(1000/E32-10)),0)","v":0.34560829047606273},null,{"$f":"IF((U11-U6*(1000/G32-10))>0,POWER((U11-U6*(1000/G32-10)),2)/(U11+0.8*(1000/G32-10)),0)","v":0.24653644583504816},null,{"$f":"IF((U11-U6*(1000/I32-10))>0,POWER((U11-U6*(1000/I32-10)),2)/(U11+0.8*(1000/I32-10)),0)","v":0.17960526205717844},null,{"$f":"IF((U11-U6*(1000/K32-10))>0,POWER((U11-U6*(1000/K32-10)),2)/(U11+0.8*(1000/K32-10)),0)","v":0.25560827926451196},null,null,"W4",null,null,{"$f":"IF((Input!E100-U6*(1000/E32-10))>0,POWER((Input!E100-U6*(1000/E32-10)),2)/(Input!E100+0.8*(1000/E32-10)),0)","v":0},null,{"$f":"IF((Input!F100-U6*(1000/E32-10))>0,POWER((Input!F100-U6*(1000/E32-10)),2)/(Input!F100+0.8*(1000/E32-10)),0)","v":0},null,null,null,null,null,{"$f":"Q41-S41","v":0},null,null,null,null,null,null,null,null,null,null,"W4",{"$f":"AK32*U11","v":0},null,{"$f":"AM32*U11","v":0},null,{"$f":"AO32*U11","v":0},null,{"$f":"AQ32*U11","v":0},null,{"$f":"AS32*U11","v":0}]
[null,"W5",{"$f":"IF((U12-U6*(1000/C33-10))>0,POWER((U12-U6*(1000/C33-10)),2)/(U12+0.8*(1000/C33-10)),0)","v":0.55813825411867812},null,{"$f":"IF((U12-U6*(1000/E33-10))>0,POWER((U12-U6*(1000/E33-10)),2)/(U12+0.8*(1000/E33-10)),0)","v":0.34560829047606273},null,{"$f":"IF((U12-U6*(1000/G33-10))>0,POWER((U12-U6*(1000/G33-10)),2)/(U12+0.8*(1000/G33-10)),0)","v":0.24653644583504816},null,{"$f":"IF((U12-U6*(1000/I33-10))>0,POWER((U12-U6*(1000/I33-10)),2)/(U12+0.8*(1000/I33-10)),0)","v":0.17960526205717844},null,{"$f":"IF((U12-U6*(1000/K33-10))>0,POWER((U12-U6*(1000/K33-10)),2)/(U12+0.8*(1000/K33-10)),0)","v":0.25560827926451196},null,null,"W5",null,null,{"$f":"IF((Input!E101-U6*(1000/E33-10))>0,POWER((Input!E101-U6*(1000/E33-10)),2)/(Input!E101+0.8*(1000/E33-10)),0)","v":0},null,{"$f":"IF((Input!F101-U6*(1000/E33-10))>0,POWER((Input!F101-U6*(1000/E33-10)),2)/(Input!F101+0.8*(1000/E33-10)),0)","v":0},null,null,null,null,null,{"$f":"Q42-S42","v":0},null,null,null,null,null,null,null,null,null,null,"W5",{"$f":"AK33*U12","v":0},null,{"$f":"AM33*U12","v":0},null,{"$f":"AO33*U12","v":0},null,{"$f":"AQ33*U12","v":0},null,{"$f":"AS33*U12","v":0}]
[]
[]
[null,"4. Annual runoff by land uses (ac-ft)",null,null,null,null,null,null,null,null,null,null,null,null,null,null,null,null,null,null,null,null,null,"4a. Urban annual runoff (ac-ft)",null,null,null,null,null,null,null,null,null,null,null,"GW4. Calculated infiltration volume (ac-ft)"]
[null,"Watershed","Urban",null,"Cropland",null,"Pastureland",null,"Forest",null,"User Defined",null,"Tot Runoff Vol",null,null,null,null,null,null,null,null,null,null,"Watershed","Commercial","Industrial","Institutional","Transportation","Multi-Family","Single-Family","Urban-Cultivated","Vacant (developed)","Open Space",null,null,"Watershed","Urban",null,"Cropland",null,"Pastureland",null,"Forest",null,"User Defined",null,"Feedlots"]
[null,"W1",{"$f":"(C38/12) * C8 * S8* S6","v":0},null,{"$f":"(E38/12) * E8 * S8* S6+ (Q38/12) * Input!D97*Input!G97","v":0},null,{"$f":"(G38/12) * G8 * S8* S6","v":0},null,{"$f":"(I38/12) * I8 * S8* S6","v":0},null,{"$f":"(K38/12) * K8 * S8* S6","v":0},null,{"$f":"SUM(C47:K47)","v":0},null,null,null,null,null,null,null,null,null,null,"W1",{"$f":"S6*S8*Y8*Y29/12","v":0},{"$f":"S6*S8*Z8*Z29/12","v":0},{"$f":"S6*S8*AA8*AA29/12","v":0},{"$f":"S6*S8*AB8*AB29/12","v":0},{"$f":"S6*S8*AC8*AC29/12","v":0},{"$f":"S6*S8*AD8*AD29/12","v":0},{"$f":"S6*S8*AE8*AE29/12","v":0},{"$f":"S6*S8*AF8*AF29/12","v":0},{"$f":"S6*S8*AG8*AG29/12","v":0},null,null,"W1",{"$f":"(AK38/12)*S8*RainDayCor*AI8","v":0},null,{"$f":"(AM38/12)*S8*RainDayCor*E8","v":0},null,{"$f":"(AO38/12)*S8*RainDayCor*G8","v":0},null,{"$f":"(AQ38/12)*S8*RainDayCor*I8","v":0},null,{"$f":"(AS38/12)*S8*RainDayCor*K8","v":0},null,{"$f":"(AK38/12)*S8*RainDayCor*Feedlots!I12","v":0}]
[null,"W2",{"$f":"(C39/12) * C9 * S9* S6","v":0},null,{"$f":"(E39/12) * E9 * S9* S6+ (Q39/12) * Input!D98*Input!G98","v":0},null,{"$f":"(G39/12) * G9 * S9* S6","v":0},null,{"$f":"(I39/12) * I9 * S9* S6","v":0},null,{"$f":"(K39/12) * K9 * S9* S6","v":0},null,{"$f":"SUM(C48:K48)","v":0},null,null,null,null,null,null,null,null,null,null,"W2",{"$f":"S6*S9*Y9*Y30/12","v":0},{"$f":"S6*S9*Z9*Z30/12","v":0},{"$f":"S6*S9*AA9*AA30/12","v":0},{"$f":"S6*S9*AB9*AB30/12","v":0},{"$f":"S6*S9*AC9*AC30/12","v":0},{"$f":"S6*S9*AD9*AD30/12","v":0},{"$f":"S6*S9*AE9*AE30/12","v":0},{"$f":"S6*S9*AF9*AF30/12","v":0},{"$f":"S6*S9*AG9*AG30/12","v":0},null,null,"W2",{"$f":"(AK39/12)*S9*RainDayCor*AI9","v":0},null,{"$f":"(AM39/12)*S9*RainDayCor*E9","v":0},null,{"$f":"(AO39/12)*S9*RainDayCor*G9","v":0},null,{"$f":"(AQ39/12)*S9*RainDayCor*I9","v":0},null,{"$f":"(AS39/12)*S9*RainDayCor*K9","v":0},null,{"$f":"(AK39/12)*S9*RainDayCor*Feedlots!I13","v":0}]
[null,"W3",{"$f":"(C40/12) * C10 * S10* S6","v":0},null,{"$f":"(E40/12) * E10 * S10* S6+ (Q40/12) * Input!D99*Input!G99","v":0},null,{"$f":"(G40/12) * G10 * S10* S6","v":0},null,{"$f":"(I40/12) * I10 * S10* S6","v":0},null,{"$f":"(K40/12) * K10 * S10* S6","v":0},null,0,null,null,null,null,null,null,null,null,null,null,"W3",{"$f":"S6*S10*Y10*Y31/12","v":0},{"$f":"S6*S10*Z10*Z31/12","v":0},{"$f":"S6*S10*AA10*AA31/12","v":0},{"$f":"S6*S10*AB10*AB31/12","v":0},{"$f":"S6*S10*AC10*AC31/12","v":0},{"$f":"S6*S10*AD10*AD31/12","v":0},{"$f":"S6*S10*AE10*AE31/12","v":0},{"$f":"S6*S10*AF10*AF31/12","v":0},{"$f":"S6*S10*AG10*AG31/12","v":0},null,null,"W3",{"$f":"(AK40/12)*S10*RainDayCor*AI10","v":0},null,{"$f":"(AM40/12)*S10*RainDayCor*E10","v":0},null,{"$f":"(AO40/12)*S10*RainDayCor*G10","v":0},null,{"$f":"(AQ40/12)*S10*RainDayCor*I10","v":0},null,{"$f":"(AS40/12)*S10*RainDayCor*K10","v":0},null,{"$f":"(AK40/12)*S10*RainDayCor*Feedlots!I14","v":0}]
[null,"W4",{"$f":"(C41/12) * C11 * S11* S6","v":0},null,{"$f":"(E41/12) * E11 * S11* S6+ (Q41/12) * Input!D100*Input!G100","v":0},null,{"$f":"(G41/12) * G11 * S11* S6","v":0},null,{"$f":"(I41/12) * I11 * S11* S6","v":0},null,{"$f":"(K41/12) * K11 * S11* S6","v":0},null,0,null,null,null,null,null,null,null,null,null,null,"W4",{"$f":"S6*S11*Y11*Y32/12","v":0},{"$f":"S6*S11*Z11*Z32/12","v":0},{"$f":"S6*S11*AA11*AA32/12","v":0},{"$f":"S6*S11*AB11*AB32/12","v":0},{"$f":"S6*S11*AC11*AC32/12","v":0},{"$f":"S6*S11*AD11*AD32/12","v":0},{"$f":"S6*S11*AE11*AE32/12","v":0},{"$f":"S6*S11*AF11*AF32/12","v":0},{"$f":"S6*S11*AG11*AG32/12","v":0},null,null,"W4",{"$f":"(AK41/12)*S11*RainDayCor*AI11","v":0},null,{"$f":"(AM41/12)*S11*RainDayCor*E11","v":0},null,{"$f":"(AO41/12)*S11*RainDayCor*G11","v":0},null,{"$f":"(AQ41/12)*S11*RainDayCor*I11","v":0},null,{"$f":"(AS41/12)*S11*RainDayCor*K11","v":0},null,{"$f":"(AK41/12)*S11*RainDayCor*Feedlots!I15","v":0}]
[null,"W5",{"$f":"(C42/12) * C12 * S12* S6","v":0},null,{"$f":"(E42/12) * E12 * S12* S6+ (Q42/12) * Input!D101*Input!G101","v":0},null,{"$f":"(G42/12) * G12 * S12* S6","v":0},null,{"$f":"(I42/12) * I12 * S12* S6","v":0},null,{"$f":"(K42/12) * K12 * S12* S6","v":0},null,0,null,null,null,null,null,null,null,null,null,null,"W5",{"$f":"S6*S12*Y12*Y33/12","v":0},{"$f":"S6*S12*Z12*Z33/12","v":0},{"$f":"S6*S12*AA12*AA33/12","v":0},{"$f":"S6*S12*AB12*AB33/12","v":0},{"$f":"S6*S12*AC12*AC33/12","v":0},{"$f":"S6*S12*AD12*AD33/12","v":0},{"$f":"S6*S12*AE12*AE33/12","v":0},{"$f":"S6*S12*AF12*AF33/12","v":0},{"$f":"S6*S12*AG12*AG33/12","v":0},null,null,"W5",{"$f":"(AK42/12)*S12*RainDayCor*AI12","v":0},null,{"$f":"(AM42/12)*S12*RainDayCor*E12","v":0},null,{"$f":"(AO42/12)*S12*RainDayCor*G12","v":0},null,{"$f":"(AQ42/12)*S12*RainDayCor*I12","v":0},null,{"$f":"(AS42/12)*S12*RainDayCor*K12","v":0},null,{"$f":"(AK42/12)*S12*RainDayCor*Feedlots!I16","v":0}]
[]
[]
[null,"5. Nutrient concentration in runoff (mg/l)"]
[null,null,"N","P","BOD"]
[null,"Pastureland",{"$f":"Input!C81","v":4},{"$f":"Input!D81","v":0.3},{"$f":"Input!E81","v":13}]
[null,"Forest",{"$f":"Input!C82","v":0.2},{"$f":"Input!D82","v":0.1},{"$f":"Input!E82","v":0.5}]
[null,"User Defined",{"$f":"Input!C83","v":0},{"$f":"Input!D83","v":0},{"$f":"Input!E83","v":0}]
[]
[]
[null,"6. Runoff reduction by land uses (ac-ft)(for irrigation reduction in cropland)"]
[null,"Watershed","Urban",null,"Cropland",null,"Pastureland",null,"Forest",null,"User Defined",null,"Tot Runoff Reduction"]
[null,"W1",null,null,{"$f":"(Y38/12) * Input!D97*Input!G97","v":0},null,null,null,null,null,null,null,{"$f":"SUM(C63:K63)","v":0}]
[null,"W2",null,null,{"$f":"(Y39/12) * Input!D98*Input!G98","v":0},null,null,null,null,null,null,null,{"$f":"SUM(C64:K64)","v":0}]
[null,"W3",null,null,{"$f":"(Y40/12) * Input!D99*Input!G99","v":0},null,null,null,null,null,null,null,0]
[null,"W4",null,null,{"$f":"(Y41/12) * Input!D100*Input!G100","v":0},null,null,null,null,null,null,null,0]
[null,"W5",null,null,{"$f":"(Y42/12) * Input!D101*Input!G101","v":0},null,null,null,null,null,null,null,0]

{"sheet":"Animal","index":3,"n_rows":43,"n_cols":19,"rows_kept":43,"cut":false,"hidden":true,"merged":[]}
[null,"Animal"]
[null,"The number of animals in the ",null,null,{"$f":"'General Input Data'!$C$6","v":5},"subwatersheds is shown below."]
[null,"Nutrient contributions from these animals are used to derive loading estimates for all land uses except for urban."]
[null,"Manure is assumed to be collected and applied to cropland. "]
[null,"Wildlife densities are required input for cropland."]
[]
[]
[null,"1. Agricultural animals"]
[null,"Watershed","Beef Cattle","Dairy Cattle","Swine (Hog)","Sheep","Horse","Chicken","Turkey","Duck","AEU","# of months manure applied"]
[null,"W1",{"$f":"Input!C27","v":0},{"$f":"Input!D27","v":0},{"$f":"Input!E27","v":0},{"$f":"Input!F27","v":0},{"$f":"Input!G27","v":0},{"$f":"Input!H27","v":0},{"$f":"Input!I27","v":0},{"$f":"Input!J27","v":0},{"$f":"IF(('Land&Rain'!E8)=0,0,(C10*Reference!C$5+D10*Reference!C$6+E10*Reference!C$7+F10*Reference!C$8+G10*Reference!C$9+H10*Reference!C$10+I10*Reference!C$11+J10*Reference!C$12)/1000/('Land&Rain'!E8))","v":0},{"$f":"Input!K27","v":0}]
[null,"W2",{"$f":"Input!C28","v":0},{"$f":"Input!D28","v":0},{"$f":"Input!E28","v":0},{"$f":"Input!F28","v":0},{"$f":"Input!G28","v":0},{"$f":"Input!H28","v":0},{"$f":"Input!I28","v":0},{"$f":"Input!J28","v":0},{"$f":"IF(('Land&Rain'!E9)=0,0,(C11*Reference!C$5+D11*Reference!C$6+E11*Reference!C$7+F11*Reference!C$8+G11*Reference!C$9+H11*Reference!C$10+I11*Reference!C$11+J11*Reference!C$12)/1000/('Land&Rain'!E9))","v":0},{"$f":"Input!K28","v":0}]
[null,"W3",{"$f":"Input!C29","v":0},{"$f":"Input!D29","v":0},{"$f":"Input!E29","v":0},{"$f":"Input!F29","v":0},{"$f":"Input!G29","v":0},{"$f":"Input!H29","v":0},{"$f":"Input!I29","v":0},{"$f":"Input!J29","v":0},{"$f":"IF(('Land&Rain'!E10)=0,0,(C12*Reference!C$5+D12*Reference!C$6+E12*Reference!C$7+F12*Reference!C$8+G12*Reference!C$9+H12*Reference!C$10+I12*Reference!C$11+J12*Reference!C$12)/1000/('Land&Rain'!E10))","v":0},{"$f":"Input!K29","v":0}]
[null,"W4",{"$f":"Input!C30","v":0},{"$f":"Input!D30","v":0},{"$f":"Input!E30","v":0},{"$f":"Input!F30","v":0},{"$f":"Input!G30","v":0},{"$f":"Input!H30","v":0},{"$f":"Input!I30","v":0},{"$f":"Input!J30","v":0},{"$f":"IF(('Land&Rain'!E11)=0,0,(C13*Reference!C$5+D13*Reference!C$6+E13*Reference!C$7+F13*Reference!C$8+G13*Reference!C$9+H13*Reference!C$10+I13*Reference!C$11+J13*Reference!C$12)/1000/('Land&Rain'!E11))","v":0},{"$f":"Input!K30","v":0}]
[null,"W5",{"$f":"Input!C31","v":0},{"$f":"Input!D31","v":0},{"$f":"Input!E31","v":0},{"$f":"Input!F31","v":0},{"$f":"Input!G31","v":0},{"$f":"Input!H31","v":0},{"$f":"Input!I31","v":0},{"$f":"Input!J31","v":0},{"$f":"IF(('Land&Rain'!E12)=0,0,(C14*Reference!C$5+D14*Reference!C$6+E14*Reference!C$7+F14*Reference!C$8+G14*Reference!C$9+H14*Reference!C$10+I14*Reference!C$11+J14*Reference!C$12)/1000/('Land&Rain'!E12))","v":0},{"$f":"Input!K31","v":0}]
[null,"Total",{"$f":"SUM(C10:C14)","v":0},{"$f":"SUM(D10:D14)","v":0},{"$f":"SUM(E10:E14)","v":0},{"$f":"SUM(F10:F14)","v":0},{"$f":"SUM(G10:G14)","v":0},{"$f":"SUM(H10:H14)","v":0},{"$f":"SUM(I10:I14)","v":0},{"$f":"SUM(J10:J14)","v":0}]
[]
[null,"2. Wildlife density in cropland"]
[null,"Animal","Cropland, #/mi²","Cropland, #/ac"]
[null,"Goose",0,{"$f":" C19 / 640","v":0}]
[null,"Deer",0,{"$f":" C20 / 640","v":0}]
[null,"Beaver",0,{"$f":" C21 / 640","v":0}]
[null,"Raccoons",0,{"$f":" C22 / 640","v":0}]
[null,"Other",0,{"$f":" C23 / 640","v":0}]
[]
[]
[]
[null,"Estimated wildlife and AEU in watersheds",null,null,null,null,null,null,null,null,null,"Total animal equivalent units and nutrient concentrations.  A: AEU<=1.5, B: 1.5<AEU<2.5, C: AEU>=2.5"]
[null,"Watershed","Geese","Deer","Beaver","Raccoons","Other","AEU",null,null,null,"Total","AEU","Ag N","Manured N","Ag P","Manured P","Ag BOD","Manured BOD"]
[null,"W1",{"$f":"'Land&Rain'!E8*D19","v":0},{"$f":"'Land&Rain'!E8*D20","v":0},{"$f":"'Land&Rain'!E8*D21","v":0},{"$f":"'Land&Rain'!E8*D22","v":0},{"$f":"'Land&Rain'!E8*D23","v":0},{"$f":"IF(('Land&Rain'!E8)=0,0,(C29*Reference!C$13+D29*Reference!C$14+E29*Reference!C$15+F29*Reference!C$16+G29*Reference!C$17)/1000/('Land&Rain'!E8))","v":0},null,null,null,{"$f":"H29+K10","v":0},{"$f":"IF(L29>=2.5,\"C\",IF(L29>1.5,\"B\",\"A\"))","v":"A"},{"$f":"LOOKUP(M29,C37:E37,C38:E38)","v":1.9},{"$f":"LOOKUP(M29,C37:E37,C39:E39)","v":8.1},{"$f":"LOOKUP(M29,C37:E37,C40:E40)","v":0.3},{"$f":"LOOKUP(M29,C37:E37,C41:E41)","v":2},{"$f":"LOOKUP(M29,C37:E37,C42:E42)","v":4},{"$f":"LOOKUP(M29,C37:E37,C43:E43)","v":12.3}]
[null,"W2",{"$f":"'Land&Rain'!E9*D19","v":0},{"$f":"'Land&Rain'!E9*D20","v":0},{"$f":"'Land&Rain'!E9*D21","v":0},{"$f":"'Land&Rain'!E9*D22","v":0},{"$f":"'Land&Rain'!E9*D23","v":0},{"$f":"IF(('Land&Rain'!E9)=0,0,(C30*Reference!C$13+D30*Reference!C$14+E30*Reference!C$15+F30*Reference!C$16+G30*Reference!C$17)/1000/('Land&Rain'!E9))","v":0},null,null,null,{"$f":"H30+K11","v":0},{"$f":"IF(L30>=2.5,\"C\",IF(L30>1.5,\"B\",\"A\"))","v":"A"},{"$f":"LOOKUP(M30,C37:E37,C38:E38)","v":1.9},{"$f":"LOOKUP(M30,C37:E37,C39:E39)","v":8.1},{"$f":"LOOKUP(M30,C37:E37,C40:E40)","v":0.3},{"$f":"LOOKUP(M30,C37:E37,C41:E41)","v":2},{"$f":"LOOKUP(M30,C37:E37,C42:E42)","v":4},{"$f":"LOOKUP(M30,C37:E37,C43:E43)","v":12.3}]
[null,"W3",{"$f":"'Land&Rain'!E10*D19","v":0},{"$f":"'Land&Rain'!E10*D20","v":0},{"$f":"'Land&Rain'!E10*D21","v":0},{"$f":"'Land&Rain'!E10*D22","v":0},{"$f":"'Land&Rain'!E10*D23","v":0},{"$f":"IF(('Land&Rain'!E10)=0,0,(C31*Reference!C$13+D31*Reference!C$14+E31*Reference!C$15+F31*Reference!C$16+G31*Reference!C$17)/1000/('Land&Rain'!E10))","v":0},null,null,null,{"$f":"H31+K12","v":0},{"$f":"IF(L31>=2.5,\"C\",IF(L31>1.5,\"B\",\"A\"))","v":"A"},{"$f":"LOOKUP(M31,C37:E37,C38:E38)","v":1.9},{"$f":"LOOKUP(M31,C37:E37,C39:E39)","v":8.1},{"$f":"LOOKUP(M31,C37:E37,C40:E40)","v":0.3},{"$f":"LOOKUP(M31,C37:E37,C41:E41)","v":2},{"$f":"LOOKUP(M31,C37:E37,C42:E42)","v":4},{"$f":"LOOKUP(M31,C37:E37,C43:E43)","v":12.3}]
[null,"W4",{"$f":"'Land&Rain'!E11*D19","v":0},{"$f":"'Land&Rain'!E11*D20","v":0},{"$f":"'Land&Rain'!E11*D21","v":0},{"$f":"'Land&Rain'!E11*D22","v":0},{"$f":"'Land&Rain'!E11*D23","v":0},{"$f":"IF(('Land&Rain'!E11)=0,0,(C32*Reference!C$13+D32*Reference!C$14+E32*Reference!C$15+F32*Reference!C$16+G32*Reference!C$17)/1000/('Land&Rain'!E11))","v":0},null,null,null,{"$f":"H32+K13","v":0},{"$f":"IF(L32>=2.5,\"C\",IF(L32>1.5,\"B\",\"A\"))","v":"A"},{"$f":"LOOKUP(M32,C37:E37,C38:E38)","v":1.9},{"$f":"LOOKUP(M32,C37:E37,C39:E39)","v":8.1},{"$f":"LOOKUP(M32,C37:E37,C40:E40)","v":0.3},{"$f":"LOOKUP(M32,C37:E37,C41:E41)","v":2},{"$f":"LOOKUP(M32,C37:E37,C42:E42)","v":4},{"$f":"LOOKUP(M32,C37:E37,C43:E43)","v":12.3}]
[null,"W5",{"$f":"'Land&Rain'!E12*D19","v":0},{"$f":"'Land&Rain'!E12*D20","v":0},{"$f":"'Land&Rain'!E12*D21","v":0},{"$f":"'Land&Rain'!E12*D22","v":0},{"$f":"'Land&Rain'!E12*D23","v":0},{"$f":"IF(('Land&Rain'!E12)=0,0,(C33*Reference!C$13+D33*Reference!C$14+E33*Reference!C$15+F33*Reference!C$16+G33*Reference!C$17)/1000/('Land&Rain'!E12))","v":0},null,null,null,{"$f":"H33+K14","v":0},{"$f":"IF(L33>=2.5,\"C\",IF(L33>1.5,\"B\",\"A\"))","v":"A"},{"$f":"LOOKUP(M33,C37:E37,C38:E38)","v":1.9},{"$f":"LOOKUP(M33,C37:E37,C39:E39)","v":8.1},{"$f":"LOOKUP(M33,C37:E37,C40:E40)","v":0.3},{"$f":"LOOKUP(M33,C37:E37,C41:E41)","v":2},{"$f":"LOOKUP(M33,C37:E37,C42:E42)","v":4},{"$f":"LOOKUP(M33,C37:E37,C43:E43)","v":12.3}]
[null,"Total",{"$f":"SUM(C29:C33)","v":0},{"$f":"SUM(D29:D33)","v":0},{"$f":"SUM(E29:E33)","v":0},{"$f":"SUM(F29:F33)","v":0},{"$f":"SUM(G29:G33)","v":0},{"$f":"SUM(H29:H33)","v":0},null,null,null,{"$f":"SUM(L29:L33)","v":0}]
[]
[null,"AEU and nutrient in runoff (mg/l), A: AEU<=1.5, B: 1.5<AEU<2.5, C: AEU>=2.5"]
[null,"AEU","A","B","C"]
[null,"N in ag. area",{"$f":"Input!C75","v":1.9},{"$f":"Input!C77","v":2.9},{"$f":"Input!C79","v":4.4000000000000004}]
[null,"N in manured area",{"$f":"Input!C76","v":8.1},{"$f":"Input!C78","v":12.2},{"$f":"Input!C80","v":18.3}]
[null,"P in ag. area",{"$f":"Input!D75","v":0.3},{"$f":"Input!D77","v":0.4},{"$f":"Input!D79","v":0.5}]
[null,"P in manured area",{"$f":"Input!D76","v":2},{"$f":"Input!D78","v":3},{"$f":"Input!D80","v":4}]
[null,"BOD in ag area",{"$f":"Input!E75","v":4},{"$f":"Input!E77","v":6.1},{"$f":"Input!E79","v":9.1999999999999993}]
[null,"BOD in manured area",{"$f":"Input!E76","v":12.3},{"$f":"Input!E78","v":18.5},{"$f":"Input!E80","v":24.6}]

{"sheet":"BMPs","index":4,"n_rows":76,"n_cols":8,"rows_kept":76,"cut":false,"hidden":false,"merged":[[5,2,5,7],[14,2,14,7],[23,2,23,7],[32,2,32,7],[41,2,41,7],[54,2,54,6]]}
[null,"Best Management Practice",null,null,"Select an appropriate BMP except \"Combined BMPs-Calculated\" for each subwatershed in each land use table"]
[null,"using the pull-down list-box if interactions between BMPs are not considered. Select \"Combined BMPs-Calculated\" if multiple BMPs and their interactions"]
[null,"in the subwatersheds are considered; use BMP calculator (under STEPL menu) to obtain the combined BMP efficiencies and enter them in Table 7."]
[]
[null,"1. BMPs and efficiencies for different pollutants on CROPLAND, ND=No Data"]
[null,"Watershed","Cropland"]
[null,null,"N","P","BOD","Sediment","BMPs","% Area BMP Applied"]
[null,"W1",{"$f":"IF(IF($G8<>\"Combined BMPs-Calculated\",LOOKUP(BMPs!$G8,BMPList!$B2:$B10,BMPList!$C2:$C10),$C57)=\"ND\",\"ND\",IF($G8<>\"Combined BMPs-Calculated\",LOOKUP(BMPs!$G8,BMPList!$B2:$B10,BMPList!$C2:$C10),$C57)*$H8/100)","v":0},{"$f":"IF(IF($G8<>\"Combined BMPs-Calculated\",LOOKUP(BMPs!$G8,BMPList!$B2:$B10,BMPList!$D2:$D10),$D57)=\"ND\",\"ND\",IF($G8<>\"Combined BMPs-Calculated\",LOOKUP(BMPs!$G8,BMPList!$B2:$B10,BMPList!$D2:$D10),$D57)*$H8/100)","v":0},{"$f":"IF(IF($G8<>\"Combined BMPs-Calculated\",LOOKUP(BMPs!$G8,BMPList!$B2:$B10,BMPList!$E2:$E10),$E57)=\"ND\",\"ND\",IF($G8<>\"Combined BMPs-Calculated\",LOOKUP(BMPs!$G8,BMPList!$B2:$B10,BMPList!$E2:$E10),$E57)*$H8/100)","v":0},{"$f":"IF(IF($G8<>\"Combined BMPs-Calculated\",LOOKUP(BMPs!$G8,BMPList!$B2:$B10,BMPList!$F2:$F10),$F57)=\"ND\",\"ND\",IF($G8<>\"Combined BMPs-Calculated\",LOOKUP(BMPs!$G8,BMPList!$B2:$B10,BMPList!$F2:$F10),$F57)*$H8/100)","v":0},"0 No BMP",0]
[null,"W2",{"$f":"IF(IF($G9<>\"Combined BMPs-Calculated\",LOOKUP(BMPs!$G9,BMPList!$B2:$B10,BMPList!$C2:$C10),$C58)=\"ND\",\"ND\",IF($G9<>\"Combined BMPs-Calculated\",LOOKUP(BMPs!$G9,BMPList!$B2:$B10,BMPList!$C2:$C10),$C58)*$H9/100)","v":0},{"$f":"IF(IF($G9<>\"Combined BMPs-Calculated\",LOOKUP(BMPs!$G9,BMPList!$B2:$B10,BMPList!$D2:$D10),$D58)=\"ND\",\"ND\",IF($G9<>\"Combined BMPs-Calculated\",LOOKUP(BMPs!$G9,BMPList!$B2:$B10,BMPList!$D2:$D10),$D58)*$H9/100)","v":0},{"$f":"IF(IF($G9<>\"Combined BMPs-Calculated\",LOOKUP(BMPs!$G9,BMPList!$B2:$B10,BMPList!$E2:$E10),$E58)=\"ND\",\"ND\",IF($G9<>\"Combined BMPs-Calculated\",LOOKUP(BMPs!$G9,BMPList!$B2:$B10,BMPList!$E2:$E10),$E58)*$H9/100)","v":0},{"$f":"IF(IF($G9<>\"Combined BMPs-Calculated\",LOOKUP(BMPs!$G9,BMPList!$B2:$B10,BMPList!$F2:$F10),$F58)=\"ND\",\"ND\",IF($G9<>\"Combined BMPs-Calculated\",LOOKUP(BMPs!$G9,BMPList!$B2:$B10,BMPList!$F2:$F10),$F58)*$H9/100)","v":0},"0 No BMP",0]
[null,"W3",{"$f":"IF(IF($G10<>\"Combined BMPs-Calculated\",LOOKUP(BMPs!$G10,BMPList!$B2:$B10,BMPList!$C2:$C10),$C59)=\"ND\",\"ND\",IF($G10<>\"Combined BMPs-Calculated\",LOOKUP(BMPs!$G10,BMPList!$B2:$B10,BMPList!$C2:$C10),$C59)*$H10/100)","v":0},{"$f":"IF(IF($G10<>\"Combined BMPs-Calculated\",LOOKUP(BMPs!$G10,BMPList!$B2:$B10,BMPList!$D2:$D10),$D59)=\"ND\",\"ND\",IF($G10<>\"Combined BMPs-Calculated\",LOOKUP(BMPs!$G10,BMPList!$B2:$B10,BMPList!$D2:$D10),$D59)*$H10/100)","v":0},{"$f":"IF(IF($G10<>\"Combined BMPs-Calculated\",LOOKUP(BMPs!$G10,BMPList!$B2:$B10,BMPList!$E2:$E10),$E59)=\"ND\",\"ND\",IF($G10<>\"Combined BMPs-Calculated\",LOOKUP(BMPs!$G10,BMPList!$B2:$B10,BMPList!$E2:$E10),$E59)*$H10/100)","v":0},{"$f":"IF(IF($G10<>\"Combined BMPs-Calculated\",LOOKUP(BMPs!$G10,BMPList!$B2:$B10,BMPList!$F2:$F10),$F59)=\"ND\",\"ND\",IF($G10<>\"Combined BMPs-Calculated\",LOOKUP(BMPs!$G10,BMPList!$B2:$B10,BMPList!$F2:$F10),$F59)*$H10/100)","v":0},"0 No BMP",0]
[null,"W4",{"$f":"IF(IF($G11<>\"Combined BMPs-Calculated\",LOOKUP(BMPs!$G11,BMPList!$B2:$B10,BMPList!$C2:$C10),$C60)=\"ND\",\"ND\",IF($G11<>\"Combined BMPs-Calculated\",LOOKUP(BMPs!$G11,BMPList!$B2:$B10,BMPList!$C2:$C10),$C60)*$H11/100)","v":0},{"$f":"IF(IF($G11<>\"Combined BMPs-Calculated\",LOOKUP(BMPs!$G11,BMPList!$B2:$B10,BMPList!$D2:$D10),$D60)=\"ND\",\"ND\",IF($G11<>\"Combined BMPs-Calculated\",LOOKUP(BMPs!$G11,BMPList!$B2:$B10,BMPList!$D2:$D10),$D60)*$H11/100)","v":0},{"$f":"IF(IF($G11<>\"Combined BMPs-Calculated\",LOOKUP(BMPs!$G11,BMPList!$B2:$B10,BMPList!$E2:$E10),$E60)=\"ND\",\"ND\",IF($G11<>\"Combined BMPs-Calculated\",LOOKUP(BMPs!$G11,BMPList!$B2:$B10,BMPList!$E2:$E10),$E60)*$H11/100)","v":0},{"$f":"IF(IF($G11<>\"Combined BMPs-Calculated\",LOOKUP(BMPs!$G11,BMPList!$B2:$B10,BMPList!$F2:$F10),$F60)=\"ND\",\"ND\",IF($G11<>\"Combined BMPs-Calculated\",LOOKUP(BMPs!$G11,BMPList!$B2:$B10,BMPList!$F2:$F10),$F60)*$H11/100)","v":0},"0 No BMP",0]
[null,"W5",{"$f":"IF(IF($G12<>\"Combined BMPs-Calculated\",LOOKUP(BMPs!$G12,BMPList!$B2:$B10,BMPList!$C2:$C10),$C61)=\"ND\",\"ND\",IF($G12<>\"Combined BMPs-Calculated\",LOOKUP(BMPs!$G12,BMPList!$B2:$B10,BMPList!$C2:$C10),$C61)*$H12/100)","v":0},{"$f":"IF(IF($G12<>\"Combined BMPs-Calculated\",LOOKUP(BMPs!$G12,BMPList!$B2:$B10,BMPList!$D2:$D10),$D61)=\"ND\",\"ND\",IF($G12<>\"Combined BMPs-Calculated\",LOOKUP(BMPs!$G12,BMPList!$B2:$B10,BMPList!$D2:$D10),$D61)*$H12/100)","v":0},{"$f":"IF(IF($G12<>\"Combined BMPs-Calculated\",LOOKUP(BMPs!$G12,BMPList!$B2:$B10,BMPList!$E2:$E10),$E61)=\"ND\",\"ND\",IF($G12<>\"Combined BMPs-Calculated\",LOOKUP(BMPs!$G12,BMPList!$B2:$B10,BMPList!$E2:$E10),$E61)*$H12/100)","v":0},{"$f":"IF(IF($G12<>\"Combined BMPs-Calculated\",LOOKUP(BMPs!$G12,BMPList!$B2:$B10,BMPList!$F2:$F10),$F61)=\"ND\",\"ND\",IF($G12<>\"Combined BMPs-Calculated\",LOOKUP(BMPs!$G12,BMPList!$B2:$B10,BMPList!$F2:$F10),$F61)*$H12/100)","v":0},"0 No BMP",0]
[]
[null,"2. BMPs and efficiencies for different pollutants on PASTURELAND, ND=No Data"]
[null,"Watershed","Pastureland"]
[null,null,"N","P","BOD","Sediment","BMPs","% Area BMP Applied"]
[null,"W1",{"$f":"IF(IF($G17<>\"Combined BMPs-Calculated\",LOOKUP(BMPs!$G17,BMPList!$B11:$B13,BMPList!$C11:$C13),$C62)=\"ND\",\"ND\",IF($G17<>\"Combined BMPs-Calculated\",LOOKUP(BMPs!$G17,BMPList!$B11:$B13,BMPList!$C11:$C13),$C62)*$H17/100)","v":0},{"$f":"IF(IF($G17<>\"Combined BMPs-Calculated\",LOOKUP(BMPs!$G17,BMPList!$B11:$B13,BMPList!$D11:$D13),$D62)=\"ND\",\"ND\",IF($G17<>\"Combined BMPs-Calculated\",LOOKUP(BMPs!$G17,BMPList!$B11:$B13,BMPList!$D11:$D13),$D62)*$H17/100)","v":0},{"$f":"IF(IF($G17<>\"Combined BMPs-Calculated\",LOOKUP(BMPs!$G17,BMPList!$B11:$B13,BMPList!$E11:$E13),$E62)=\"ND\",\"ND\",IF($G17<>\"Combined BMPs-Calculated\",LOOKUP(BMPs!$G17,BMPList!$B11:$B13,BMPList!$E11:$E13),$E62)*$H17/100)","v":0},{"$f":"IF(IF($G17<>\"Combined BMPs-Calculated\",LOOKUP(BMPs!$G17,BMPList!$B11:$B13,BMPList!$F11:$F13),$F62)=\"ND\",\"ND\",IF($G17<>\"Combined BMPs-Calculated\",LOOKUP(BMPs!$G17,BMPList!$B11:$B13,BMPList!$F11:$F13),$F62)*$H17/100)","v":0},"0 No BMP",0]
[null,"W2",{"$f":"IF(IF($G18<>\"Combined BMPs-Calculated\",LOOKUP(BMPs!$G18,BMPList!$B11:$B13,BMPList!$C11:$C13),$C63)=\"ND\",\"ND\",IF($G18<>\"Combined BMPs-Calculated\",LOOKUP(BMPs!$G18,BMPList!$B11:$B13,BMPList!$C11:$C13),$C63)*$H18/100)","v":0},{"$f":"IF(IF($G18<>\"Combined BMPs-Calculated\",LOOKUP(BMPs!$G18,BMPList!$B11:$B13,BMPList!$D11:$D13),$D63)=\"ND\",\"ND\",IF($G18<>\"Combined BMPs-Calculated\",LOOKUP(BMPs!$G18,BMPList!$B11:$B13,BMPList!$D11:$D13),$D63)*$H18/100)","v":0},{"$f":"IF(IF($G18<>\"Combined BMPs-Calculated\",LOOKUP(BMPs!$G18,BMPList!$B11:$B13,BMPList!$E11:$E13),$E63)=\"ND\",\"ND\",IF($G18<>\"Combined BMPs-Calculated\",LOOKUP(BMPs!$G18,BMPList!$B11:$B13,BMPList!$E11:$E13),$E63)*$H18/100)","v":0},{"$f":"IF(IF($G18<>\"Combined BMPs-Calculated\",LOOKUP(BMPs!$G18,BMPList!$B11:$B13,BMPList!$F11:$F13),$F63)=\"ND\",\"ND\",IF($G18<>\"Combined BMPs-Calculated\",LOOKUP(BMPs!$G18,BMPList!$B11:$B13,BMPList!$F11:$F13),$F63)*$H18/100)","v":0},"0 No BMP",0]
[null,"W3",{"$f":"IF(IF($G19<>\"Combined BMPs-Calculated\",LOOKUP(BMPs!$G19,BMPList!$B11:$B13,BMPList!$C11:$C13),$C64)=\"ND\",\"ND\",IF($G19<>\"Combined BMPs-Calculated\",LOOKUP(BMPs!$G19,BMPList!$B11:$B13,BMPList!$C11:$C13),$C64)*$H19/100)","v":0},{"$f":"IF(IF($G19<>\"Combined BMPs-Calculated\",LOOKUP(BMPs!$G19,BMPList!$B11:$B13,BMPList!$D11:$D13),$D64)=\"ND\",\"ND\",IF($G19<>\"Combined BMPs-Calculated\",LOOKUP(BMPs!$G19,BMPList!$B11:$B13,BMPList!$D11:$D13),$D64)*$H19/100)","v":0},{"$f":"IF(IF($G19<>\"Combined BMPs-Calculated\",LOOKUP(BMPs!$G19,BMPList!$B11:$B13,BMPList!$E11:$E13),$E64)=\"ND\",\"ND\",IF($G19<>\"Combined BMPs-Calculated\",LOOKUP(BMPs!$G19,BMPList!$B11:$B13,BMPList!$E11:$E13),$E64)*$H19/100)","v":0},{"$f":"IF(IF($G19<>\"Combined BMPs-Calculated\",LOOKUP(BMPs!$G19,BMPList!$B11:$B13,BMPList!$F11:$F13),$F64)=\"ND\",\"ND\",IF($G19<>\"Combined BMPs-Calculated\",LOOKUP(BMPs!$G19,BMPList!$B11:$B13,BMPList!$F11:$F13),$F64)*$H19/100)","v":0},"0 No BMP",0]
[null,"W4",{"$f":"IF(IF($G20<>\"Combined BMPs-Calculated\",LOOKUP(BMPs!$G20,BMPList!$B11:$B13,BMPList!$C11:$C13),$C65)=\"ND\",\"ND\",IF($G20<>\"Combined BMPs-Calculated\",LOOKUP(BMPs!$G20,BMPList!$B11:$B13,BMPList!$C11:$C13),$C65)*$H20/100)","v":0},{"$f":"IF(IF($G20<>\"Combined BMPs-Calculated\",LOOKUP(BMPs!$G20,BMPList!$B11:$B13,BMPList!$D11:$D13),$D65)=\"ND\",\"ND\",IF($G20<>\"Combined BMPs-Calculated\",LOOKUP(BMPs!$G20,BMPList!$B11:$B13,BMPList!$D11:$D13),$D65)*$H20/100)","v":0},{"$f":"IF(IF($G20<>\"Combined BMPs-Calculated\",LOOKUP(BMPs!$G20,BMPList!$B11:$B13,BMPList!$E11:$E13),$E65)=\"ND\",\"ND\",IF($G20<>\"Combined BMPs-Calculated\",LOOKUP(BMPs!$G20,BMPList!$B11:$B13,BMPList!$E11:$E13),$E65)*$H20/100)","v":0},{"$f":"IF(IF($G20<>\"Combined BMPs-Calculated\",LOOKUP(BMPs!$G20,BMPList!$B11:$B13,BMPList!$F11:$F13),$F65)=\"ND\",\"ND\",IF($G20<>\"Combined BMPs-Calculated\",LOOKUP(BMPs!$G20,BMPList!$B11:$B13,BMPList!$F11:$F13),$F65)*$H20/100)","v":0},"0 No BMP",0]
[null,"W5",{"$f":"IF(IF($G21<>\"Combined BMPs-Calculated\",LOOKUP(BMPs!$G21,BMPList!$B11:$B13,BMPList!$C11:$C13),$C66)=\"ND\",\"ND\",IF($G21<>\"Combined BMPs-Calculated\",LOOKUP(BMPs!$G21,BMPList!$B11:$B13,BMPList!$C11:$C13),$C66)*$H21/100)","v":0},{"$f":"IF(IF($G21<>\"Combined BMPs-Calculated\",LOOKUP(BMPs!$G21,BMPList!$B11:$B13,BMPList!$D11:$D13),$D66)=\"ND\",\"ND\",IF($G21<>\"Combined BMPs-Calculated\",LOOKUP(BMPs!$G21,BMPList!$B11:$B13,BMPList!$D11:$D13),$D66)*$H21/100)","v":0},{"$f":"IF(IF($G21<>\"Combined BMPs-Calculated\",LOOKUP(BMPs!$G21,BMPList!$B11:$B13,BMPList!$E11:$E13),$E66)=\"ND\",\"ND\",IF($G21<>\"Combined BMPs-Calculated\",LOOKUP(BMPs!$G21,BMPList!$B11:$B13,BMPList!$E11:$E13),$E66)*$H21/100)","v":0},{"$f":"IF(IF($G21<>\"Combined BMPs-Calculated\",LOOKUP(BMPs!$G21,BMPList!$B11:$B13,BMPList!$F11:$F13),$F66)=\"ND\",\"ND\",IF($G21<>\"Combined BMPs-Calculated\",LOOKUP(BMPs!$G21,BMPList!$B11:$B13,BMPList!$F11:$F13),$F66)*$H21/100)","v":0},"0 No BMP",0]
[]
[null,"3. BMPs and efficiencies for different pollutants on FOREST, ND=No Data"]
[null,"Watershed","Forest"]
[null,null,"N","P","BOD","Sediment","BMPs","% Area BMP Applied"]
[null,"W1",{"$f":"IF(IF($G26<>\"Combined BMPs-Calculated\",LOOKUP(BMPs!$G26,BMPList!$B14:$B28,BMPList!$C14:$C28),$C67)=\"ND\",\"ND\",IF($G26<>\"Combined BMPs-Calculated\",LOOKUP(BMPs!$G26,BMPList!$B14:$B28,BMPList!$C14:$C28),$C67)*$H26/100)","v":0},{"$f":"IF(IF($G26<>\"Combined BMPs-Calculated\",LOOKUP(BMPs!$G26,BMPList!$B14:$B28,BMPList!$D14:$D28),$D67)=\"ND\",\"ND\",IF($G26<>\"Combined BMPs-Calculated\",LOOKUP(BMPs!$G26,BMPList!$B14:$B28,BMPList!$D14:$D28),$D67)*$H26/100)","v":0},{"$f":"IF(IF($G26<>\"Combined BMPs-Calculated\",LOOKUP(BMPs!$G26,BMPList!$B14:$B28,BMPList!$E14:$E28),$E67)=\"ND\",\"ND\",IF($G26<>\"Combined BMPs-Calculated\",LOOKUP(BMPs!$G26,BMPList!$B14:$B28,BMPList!$E14:$E28),$E67)*$H26/100)","v":0},{"$f":"IF(IF($G26<>\"Combined BMPs-Calculated\",LOOKUP(BMPs!$G26,BMPList!$B14:$B28,BMPList!$F14:$F28),$F67)=\"ND\",\"ND\",IF($G26<>\"Combined BMPs-Calculated\",LOOKUP(BMPs!$G26,BMPList!$B14:$B28,BMPList!$F14:$F28),$F67)*$H26/100)","v":0},"0 No BMP",0]
[null,"W2",{"$f":"IF(IF($G27<>\"Combined BMPs-Calculated\",LOOKUP(BMPs!$G27,BMPList!$B14:$B28,BMPList!$C14:$C28),$C68)=\"ND\",\"ND\",IF($G27<>\"Combined BMPs-Calculated\",LOOKUP(BMPs!$G27,BMPList!$B14:$B28,BMPList!$C14:$C28),$C68)*$H27/100)","v":0},{"$f":"IF(IF($G27<>\"Combined BMPs-Calculated\",LOOKUP(BMPs!$G27,BMPList!$B14:$B28,BMPList!$D14:$D28),$D68)=\"ND\",\"ND\",IF($G27<>\"Combined BMPs-Calculated\",LOOKUP(BMPs!$G27,BMPList!$B14:$B28,BMPList!$D14:$D28),$D68)*$H27/100)","v":0},{"$f":"IF(IF($G27<>\"Combined BMPs-Calculated\",LOOKUP(BMPs!$G27,BMPList!$B14:$B28,BMPList!$E14:$E28),$E68)=\"ND\",\"ND\",IF($G27<>\"Combined BMPs-Calculated\",LOOKUP(BMPs!$G27,BMPList!$B14:$B28,BMPList!$E14:$E28),$E68)*$H27/100)","v":0},{"$f":"IF(IF($G27<>\"Combined BMPs-Calculated\",LOOKUP(BMPs!$G27,BMPList!$B14:$B28,BMPList!$F14:$F28),$F68)=\"ND\",\"ND\",IF($G27<>\"Combined BMPs-Calculated\",LOOKUP(BMPs!$G27,BMPList!$B14:$B28,BMPList!$F14:$F28),$F68)*$H27/100)","v":0},"0 No BMP",0]
[null,"W3",{"$f":"IF(IF($G28<>\"Combined BMPs-Calculated\",LOOKUP(BMPs!$G28,BMPList!$B14:$B28,BMPList!$C14:$C28),$C69)=\"ND\",\"ND\",IF($G28<>\"Combined BMPs-Calculated\",LOOKUP(BMPs!$G28,BMPList!$B14:$B28,BMPList!$C14:$C28),$C69)*$H28/100)","v":0},{"$f":"IF(IF($G28<>\"Combined BMPs-Calculated\",LOOKUP(BMPs!$G28,BMPList!$B14:$B28,BMPList!$D14:$D28),$D69)=\"ND\",\"ND\",IF($G28<>\"Combined BMPs-Calculated\",LOOKUP(BMPs!$G28,BMPList!$B14:$B28,BMPList!$D14:$D28),$D69)*$H28/100)","v":0},{"$f":"IF(IF($G28<>\"Combined BMPs-Calculated\",LOOKUP(BMPs!$G28,BMPList!$B14:$B28,BMPList!$E14:$E28),$E69)=\"ND\",\"ND\",IF($G28<>\"Combined BMPs-Calculated\",LOOKUP(BMPs!$G28,BMPList!$B14:$B28,BMPList!$E14:$E28),$E69)*$H28/100)","v":0},{"$f":"IF(IF($G28<>\"Combined BMPs-Calculated\",LOOKUP(BMPs!$G28,BMPList!$B14:$B28,BMPList!$F14:$F28),$F69)=\"ND\",\"ND\",IF($G28<>\"Combined BMPs-Calculated\",LOOKUP(BMPs!$G28,BMPList!$B14:$B28,BMPList!$F14:$F28),$F69)*$H28/100)","v":0},"0 No BMP",0]
[null,"W4",{"$f":"IF(IF($G29<>\"Combined BMPs-Calculated\",LOOKUP(BMPs!$G29,BMPList!$B14:$B28,BMPList!$C14:$C28),$C70)=\"ND\",\"ND\",IF($G29<>\"Combined BMPs-Calculated\",LOOKUP(BMPs!$G29,BMPList!$B14:$B28,BMPList!$C14:$C28),$C70)*$H29/100)","v":0},{"$f":"IF(IF($G29<>\"Combined BMPs-Calculated\",LOOKUP(BMPs!$G29,BMPList!$B14:$B28,BMPList!$D14:$D28),$D70)=\"ND\",\"ND\",IF($G29<>\"Combined BMPs-Calculated\",LOOKUP(BMPs!$G29,BMPList!$B14:$B28,BMPList!$D14:$D28),$D70)*$H29/100)","v":0},{"$f":"IF(IF($G29<>\"Combined BMPs-Calculated\",LOOKUP(BMPs!$G29,BMPList!$B14:$B28,BMPList!$E14:$E28),$E70)=\"ND\",\"ND\",IF($G29<>\"Combined BMPs-Calculated\",LOOKUP(BMPs!$G29,BMPList!$B14:$B28,BMPList!$E14:$E28),$E70)*$H29/100)","v":0},{"$f":"IF(IF($G29<>\"Combined BMPs-Calculated\",LOOKUP(BMPs!$G29,BMPList!$B14:$B28,BMPList!$F14:$F28),$F70)=\"ND\",\"ND\",IF($G29<>\"Combined BMPs-Calculated\",LOOKUP(BMPs!$G29,BMPList!$B14:$B28,BMPList!$F14:$F28),$F70)*$H29/100)","v":0},"0 No BMP",0]
[null,"W5",{"$f":"IF(IF($G30<>\"Combined BMPs-Calculated\",LOOKUP(BMPs!$G30,BMPList!$B14:$B28,BMPList!$C14:$C28),$C71)=\"ND\",\"ND\",IF($G30<>\"Combined BMPs-Calculated\",LOOKUP(BMPs!$G30,BMPList!$B14:$B28,BMPList!$C14:$C28),$C71)*$H30/100)","v":0},{"$f":"IF(IF($G30<>\"Combined BMPs-Calculated\",LOOKUP(BMPs!$G30,BMPList!$B14:$B28,BMPList!$D14:$D28),$D71)=\"ND\",\"ND\",IF($G30<>\"Combined BMPs-Calculated\",LOOKUP(BMPs!$G30,BMPList!$B14:$B28,BMPList!$D14:$D28),$D71)*$H30/100)","v":0},{"$f":"IF(IF($G30<>\"Combined BMPs-Calculated\",LOOKUP(BMPs!$G30,BMPList!$B14:$B28,BMPList!$E14:$E28),$E71)=\"ND\",\"ND\",IF($G30<>\"Combined BMPs-Calculated\",LOOKUP(BMPs!$G30,BMPList!$B14:$B28,BMPList!$E14:$E28),$E71)*$H30/100)","v":0},{"$f":"IF(IF($G30<>\"Combined BMPs-Calculated\",LOOKUP(BMPs!$G30,BMPList!$B14:$B28,BMPList!$F14:$F28),$F71)=\"ND\",\"ND\",IF($G30<>\"Combined BMPs-Calculated\",LOOKUP(BMPs!$G30,BMPList!$B14:$B28,BMPList!$F14:$F28),$F71)*$H30/100)","v":0},"0 No BMP",0]
[]
[null,"4. BMPs and efficiencies for different pollutants on USER DEFINED land use, ND=No Data"]
[null,"Watershed","User Defined"]
[null,null,"N","P","BOD","Sediment","BMPs","% Area BMP Applied"]
[null,"W1",{"$f":"IF(IF($G35<>\"Combined BMPs-Calculated\",LOOKUP(BMPs!$G35,BMPList!$B29:$B31,BMPList!$C29:$C31),$C72)=\"ND\",\"ND\",IF($G35<>\"Combined BMPs-Calculated\",LOOKUP(BMPs!$G35,BMPList!$B29:$B31,BMPList!$C29:$C31),$C72)*$H35/100)","v":0},{"$f":"IF(IF($G35<>\"Combined BMPs-Calculated\",LOOKUP(BMPs!$G35,BMPList!$B29:$B31,BMPList!$D29:$D31),$D72)=\"ND\",\"ND\",IF($G35<>\"Combined BMPs-Calculated\",LOOKUP(BMPs!$G35,BMPList!$B29:$B31,BMPList!$D29:$D31),$D72)*$H35/100)","v":0},{"$f":"IF(IF($G35<>\"Combined BMPs-Calculated\",LOOKUP(BMPs!$G35,BMPList!$B29:$B31,BMPList!$E29:$E31),$E72)=\"ND\",\"ND\",IF($G35<>\"Combined BMPs-Calculated\",LOOKUP(BMPs!$G35,BMPList!$B29:$B31,BMPList!$E29:$E31),$E72)*$H35/100)","v":0},{"$f":"IF(IF($G35<>\"Combined BMPs-Calculated\",LOOKUP(BMPs!$G35,BMPList!$B29:$B31,BMPList!$F29:$F31),$F72)=\"ND\",\"ND\",IF($G35<>\"Combined BMPs-Calculated\",LOOKUP(BMPs!$G35,BMPList!$B29:$B31,BMPList!$F29:$F31),$F72)*$H35/100)","v":0},"0 No BMP",0]
[null,"W2",{"$f":"IF(IF($G36<>\"Combined BMPs-Calculated\",LOOKUP(BMPs!$G36,BMPList!$B29:$B31,BMPList!$C29:$C31),$C73)=\"ND\",\"ND\",IF($G36<>\"Combined BMPs-Calculated\",LOOKUP(BMPs!$G36,BMPList!$B29:$B31,BMPList!$C29:$C31),$C73)*$H36/100)","v":0},{"$f":"IF(IF($G36<>\"Combined BMPs-Calculated\",LOOKUP(BMPs!$G36,BMPList!$B29:$B31,BMPList!$D29:$D31),$D73)=\"ND\",\"ND\",IF($G36<>\"Combined BMPs-Calculated\",LOOKUP(BMPs!$G36,BMPList!$B29:$B31,BMPList!$D29:$D31),$D73)*$H36/100)","v":0},{"$f":"IF(IF($G36<>\"Combined BMPs-Calculated\",LOOKUP(BMPs!$G36,BMPList!$B29:$B31,BMPList!$E29:$E31),$E73)=\"ND\",\"ND\",IF($G36<>\"Combined BMPs-Calculated\",LOOKUP(BMPs!$G36,BMPList!$B29:$B31,BMPList!$E29:$E31),$E73)*$H36/100)","v":0},{"$f":"IF(IF($G36<>\"Combined BMPs-Calculated\",LOOKUP(BMPs!$G36,BMPList!$B29:$B31,BMPList!$F29:$F31),$F73)=\"ND\",\"ND\",IF($G36<>\"Combined BMPs-Calculated\",LOOKUP(BMPs!$G36,BMPList!$B29:$B31,BMPList!$F29:$F31),$F73)*$H36/100)","v":0},"0 No BMP",0]
[null,"W3",{"$f":"IF(IF($G37<>\"Combined BMPs-Calculated\",LOOKUP(BMPs!$G37,BMPList!$B29:$B31,BMPList!$C29:$C31),$C74)=\"ND\",\"ND\",IF($G37<>\"Combined BMPs-Calculated\",LOOKUP(BMPs!$G37,BMPList!$B29:$B31,BMPList!$C29:$C31),$C74)*$H37/100)","v":0},{"$f":"IF(IF($G37<>\"Combined BMPs-Calculated\",LOOKUP(BMPs!$G37,BMPList!$B29:$B31,BMPList!$D29:$D31),$D74)=\"ND\",\"ND\",IF($G37<>\"Combined BMPs-Calculated\",LOOKUP(BMPs!$G37,BMPList!$B29:$B31,BMPList!$D29:$D31),$D74)*$H37/100)","v":0},{"$f":"IF(IF($G37<>\"Combined BMPs-Calculated\",LOOKUP(BMPs!$G37,BMPList!$B29:$B31,BMPList!$E29:$E31),$E74)=\"ND\",\"ND\",IF($G37<>\"Combined BMPs-Calculated\",LOOKUP(BMPs!$G37,BMPList!$B29:$B31,BMPList!$E29:$E31),$E74)*$H37/100)","v":0},{"$f":"IF(IF($G37<>\"Combined BMPs-Calculated\",LOOKUP(BMPs!$G37,BMPList!$B29:$B31,BMPList!$F29:$F31),$F74)=\"ND\",\"ND\",IF($G37<>\"Combined BMPs-Calculated\",LOOKUP(BMPs!$G37,BMPList!$B29:$B31,BMPList!$F29:$F31),$F74)*$H37/100)","v":0},"0 No BMP",0]
[null,"W4",{"$f":"IF(IF($G38<>\"Combined BMPs-Calculated\",LOOKUP(BMPs!$G38,BMPList!$B29:$B31,BMPList!$C29:$C31),$C75)=\"ND\",\"ND\",IF($G38<>\"Combined BMPs-Calculated\",LOOKUP(BMPs!$G38,BMPList!$B29:$B31,BMPList!$C29:$C31),$C75)*$H38/100)","v":0},{"$f":"IF(IF($G38<>\"Combined BMPs-Calculated\",LOOKUP(BMPs!$G38,BMPList!$B29:$B31,BMPList!$D29:$D31),$D75)=\"ND\",\"ND\",IF($G38<>\"Combined BMPs-Calculated\",LOOKUP(BMPs!$G38,BMPList!$B29:$B31,BMPList!$D29:$D31),$D75)*$H38/100)","v":0},{"$f":"IF(IF($G38<>\"Combined BMPs-Calculated\",LOOKUP(BMPs!$G38,BMPList!$B29:$B31,BMPList!$E29:$E31),$E75)=\"ND\",\"ND\",IF($G38<>\"Combined BMPs-Calculated\",LOOKUP(BMPs!$G38,BMPList!$B29:$B31,BMPList!$E29:$E31),$E75)*$H38/100)","v":0},{"$f":"IF(IF($G38<>\"Combined BMPs-Calculated\",LOOKUP(BMPs!$G38,BMPList!$B29:$B31,BMPList!$F29:$F31),$F75)=\"ND\",\"ND\",IF($G38<>\"Combined BMPs-Calculated\",LOOKUP(BMPs!$G38,BMPList!$B29:$B31,BMPList!$F29:$F31),$F75)*$H38/100)","v":0},"0 No BMP",0]
[null,"W5",{"$f":"IF(IF($G39<>\"Combined BMPs-Calculated\",LOOKUP(BMPs!$G39,BMPList!$B29:$B31,BMPList!$C29:$C31),$C76)=\"ND\",\"ND\",IF($G39<>\"Combined BMPs-Calculated\",LOOKUP(BMPs!$G39,BMPList!$B29:$B31,BMPList!$C29:$C31),$C76)*$H39/100)","v":0},{"$f":"IF(IF($G39<>\"Combined BMPs-Calculated\",LOOKUP(BMPs!$G39,BMPList!$B29:$B31,BMPList!$D29:$D31),$D76)=\"ND\",\"ND\",IF($G39<>\"Combined BMPs-Calculated\",LOOKUP(BMPs!$G39,BMPList!$B29:$B31,BMPList!$D29:$D31),$D76)*$H39/100)","v":0},{"$f":"IF(IF($G39<>\"Combined BMPs-Calculated\",LOOKUP(BMPs!$G39,BMPList!$B29:$B31,BMPList!$E29:$E31),$E76)=\"ND\",\"ND\",IF($G39<>\"Combined BMPs-Calculated\",LOOKUP(BMPs!$G39,BMPList!$B29:$B31,BMPList!$E29:$E31),$E76)*$H39/100)","v":0},{"$f":"IF(IF($G39<>\"Combined BMPs-Calculated\",LOOKUP(BMPs!$G39,BMPList!$B29:$B31,BMPList!$F29:$F31),$F76)=\"ND\",\"ND\",IF($G39<>\"Combined BMPs-Calculated\",LOOKUP(BMPs!$G39,BMPList!$B29:$B31,BMPList!$F29:$F31),$F76)*$H39/100)","v":0},"0 No BMP",0]
[]
[null,"5. BMPs and efficiencies for different pollutants on FEEDLOTS, ND=No Data"]
[null,"Watershed","Feedlots"]
[null,null,"N","P","BOD","Sediment","BMPs","%Area BMP Applied"]
[null,"W1",{"$f":"IF(IF($G44<>\"Combined BMPs-Calculated\",LOOKUP(BMPs!$G44,BMPList!$B32:$B41,BMPList!$C32:$C41),0)=\"ND\",\"ND\",IF($G44<>\"Combined BMPs-Calculated\",LOOKUP(BMPs!$G44,BMPList!$B32:$B41,BMPList!$C32:$C41),0)*$H44/100)","v":0},{"$f":"IF(IF($G44<>\"Combined BMPs-Calculated\",LOOKUP(BMPs!$G44,BMPList!$B32:$B41,BMPList!$D32:$D41),0)=\"ND\",\"ND\",IF($G44<>\"Combined BMPs-Calculated\",LOOKUP(BMPs!$G44,BMPList!$B32:$B41,BMPList!$D32:$D41),0)*$H44/100)","v":0},{"$f":"IF(IF($G44<>\"Combined BMPs-Calculated\",LOOKUP(BMPs!$G44,BMPList!$B32:$B41,BMPList!$E32:$E41),0)=\"ND\",\"ND\",IF($G44<>\"Combined BMPs-Calculated\",LOOKUP(BMPs!$G44,BMPList!$B32:$B41,BMPList!$E32:$E41),0)*$H44/100)","v":0},{"$f":"IF(IF($G44<>\"Combined BMPs-Calculated\",LOOKUP(BMPs!$G44,BMPList!$B32:$B41,BMPList!$F32:$F41),0)=\"ND\",\"ND\",IF($G44<>\"Combined BMPs-Calculated\",LOOKUP(BMPs!$G44,BMPList!$B32:$B41,BMPList!$F32:$F41),0)*$H44/100)","v":0},"0 No BMP",0]
[null,"W2",{"$f":"IF(IF($G45<>\"Combined BMPs-Calculated\",LOOKUP(BMPs!$G45,BMPList!$B32:$B41,BMPList!$C32:$C41),0)=\"ND\",\"ND\",IF($G45<>\"Combined BMPs-Calculated\",LOOKUP(BMPs!$G45,BMPList!$B32:$B41,BMPList!$C32:$C41),0)*$H45/100)","v":0},{"$f":"IF(IF($G45<>\"Combined BMPs-Calculated\",LOOKUP(BMPs!$G45,BMPList!$B32:$B41,BMPList!$D32:$D41),0)=\"ND\",\"ND\",IF($G45<>\"Combined BMPs-Calculated\",LOOKUP(BMPs!$G45,BMPList!$B32:$B41,BMPList!$D32:$D41),0)*$H45/100)","v":0},{"$f":"IF(IF($G45<>\"Combined BMPs-Calculated\",LOOKUP(BMPs!$G45,BMPList!$B32:$B41,BMPList!$E32:$E41),0)=\"ND\",\"ND\",IF($G45<>\"Combined BMPs-Calculated\",LOOKUP(BMPs!$G45,BMPList!$B32:$B41,BMPList!$E32:$E41),0)*$H45/100)","v":0},{"$f":"IF(IF($G45<>\"Combined BMPs-Calculated\",LOOKUP(BMPs!$G45,BMPList!$B32:$B41,BMPList!$F32:$F41),0)=\"ND\",\"ND\",IF($G45<>\"Combined BMPs-Calculated\",LOOKUP(BMPs!$G45,BMPList!$B32:$B41,BMPList!$F32:$F41),0)*$H45/100)","v":0},"0 No BMP",0]
[null,"W3",{"$f":"IF(IF($G46<>\"Combined BMPs-Calculated\",LOOKUP(BMPs!$G46,BMPList!$B32:$B41,BMPList!$C32:$C41),0)=\"ND\",\"ND\",IF($G46<>\"Combined BMPs-Calculated\",LOOKUP(BMPs!$G46,BMPList!$B32:$B41,BMPList!$C32:$C41),0)*$H46/100)","v":0},{"$f":"IF(IF($G46<>\"Combined BMPs-Calculated\",LOOKUP(BMPs!$G46,BMPList!$B32:$B41,BMPList!$D32:$D41),0)=\"ND\",\"ND\",IF($G46<>\"Combined BMPs-Calculated\",LOOKUP(BMPs!$G46,BMPList!$B32:$B41,BMPList!$D32:$D41),0)*$H46/100)","v":0},{"$f":"IF(IF($G46<>\"Combined BMPs-Calculated\",LOOKUP(BMPs!$G46,BMPList!$B32:$B41,BMPList!$E32:$E41),0)=\"ND\",\"ND\",IF($G46<>\"Combined BMPs-Calculated\",LOOKUP(BMPs!$G46,BMPList!$B32:$B41,BMPList!$E32:$E41),0)*$H46/100)","v":0},{"$f":"IF(IF($G46<>\"Combined BMPs-Calculated\",LOOKUP(BMPs!$G46,BMPList!$B32:$B41,BMPList!$F32:$F41),0)=\"ND\",\"ND\",IF($G46<>\"Combined BMPs-Calculated\",LOOKUP(BMPs!$G46,BMPList!$B32:$B41,BMPList!$F32:$F41),0)*$H46/100)","v":0},"0 No BMP",0]
[null,"W4",{"$f":"IF(IF($G47<>\"Combined BMPs-Calculated\",LOOKUP(BMPs!$G47,BMPList!$B32:$B41,BMPList!$C32:$C41),0)=\"ND\",\"ND\",IF($G47<>\"Combined BMPs-Calculated\",LOOKUP(BMPs!$G47,BMPList!$B32:$B41,BMPList!$C32:$C41),0)*$H47/100)","v":0},{"$f":"IF(IF($G47<>\"Combined BMPs-Calculated\",LOOKUP(BMPs!$G47,BMPList!$B32:$B41,BMPList!$D32:$D41),0)=\"ND\",\"ND\",IF($G47<>\"Combined BMPs-Calculated\",LOOKUP(BMPs!$G47,BMPList!$B32:$B41,BMPList!$D32:$D41),0)*$H47/100)","v":0},{"$f":"IF(IF($G47<>\"Combined BMPs-Calculated\",LOOKUP(BMPs!$G47,BMPList!$B32:$B41,BMPList!$E32:$E41),0)=\"ND\",\"ND\",IF($G47<>\"Combined BMPs-Calculated\",LOOKUP(BMPs!$G47,BMPList!$B32:$B41,BMPList!$E32:$E41),0)*$H47/100)","v":0},{"$f":"IF(IF($G47<>\"Combined BMPs-Calculated\",LOOKUP(BMPs!$G47,BMPList!$B32:$B41,BMPList!$F32:$F41),0)=\"ND\",\"ND\",IF($G47<>\"Combined BMPs-Calculated\",LOOKUP(BMPs!$G47,BMPList!$B32:$B41,BMPList!$F32:$F41),0)*$H47/100)","v":0},"0 No BMP",0]
[null,"W5",{"$f":"IF(IF($G48<>\"Combined BMPs-Calculated\",LOOKUP(BMPs!$G48,BMPList!$B32:$B41,BMPList!$C32:$C41),0)=\"ND\",\"ND\",IF($G48<>\"Combined BMPs-Calculated\",LOOKUP(BMPs!$G48,BMPList!$B32:$B41,BMPList!$C32:$C41),0)*$H48/100)","v":0},{"$f":"IF(IF($G48<>\"Combined BMPs-Calculated\",LOOKUP(BMPs!$G48,BMPList!$B32:$B41,BMPList!$D32:$D41),0)=\"ND\",\"ND\",IF($G48<>\"Combined BMPs-Calculated\",LOOKUP(BMPs!$G48,BMPList!$B32:$B41,BMPList!$D32:$D41),0)*$H48/100)","v":0},{"$f":"IF(IF($G48<>\"Combined BMPs-Calculated\",LOOKUP(BMPs!$G48,BMPList!$B32:$B41,BMPList!$E32:$E41),0)=\"ND\",\"ND\",IF($G48<>\"Combined BMPs-Calculated\",LOOKUP(BMPs!$G48,BMPList!$B32:$B41,BMPList!$E32:$E41),0)*$H48/100)","v":0},{"$f":"IF(IF($G48<>\"Combined BMPs-Calculated\",LOOKUP(BMPs!$G48,BMPList!$B32:$B41,BMPList!$F32:$F41),0)=\"ND\",\"ND\",IF($G48<>\"Combined BMPs-Calculated\",LOOKUP(BMPs!$G48,BMPList!$B32:$B41,BMPList!$F32:$F41),0)*$H48/100)","v":0},"0 No BMP",0]
[]
[null,"6. BMPs and efficiencies for different pollutants on URBAN"]
[null,"To change/set BMP/LID for urban land uses, click the 'Urban BMP Tool' button on the top-left of this sheet."]
[]
[]
[null,"7. Combined watershed BMP efficiencies from the BMP calculator"]
[null,"Watershed","Watershed Combined BMP Efficiencies"]
[null,null,"N","P","BOD","Sediment","BMPs"]
[null,"W1-Crop",0,0,0,0,"Combined BMPs"]
[null,"W2-Crop",0,0,0,0,"Combined BMPs"]
[null,"W3-Crop",0,0,0,0,"Combined BMPs"]
[null,"W4-Crop",0,0,0,0,"Combined BMPs"]
[null,"W5-Crop",0,0,0,0,"Combined BMPs"]
[null,"W1-Pasture",0,0,0,0,"Combined BMPs"]
[null,"W2-Pasture",0,0,0,0,"Combined BMPs"]
[null,"W3-Pasture",0,0,0,0,"Combined BMPs"]
[null,"W4-Pasture",0,0,0,0,"Combined BMPs"]
[null,"W5-Pasture",0,0,0,0,"Combined BMPs"]
[null,"W1-Forest",0,0,0,0,"Combined BMPs"]
[null,"W2-Forest",0,0,0,0,"Combined BMPs"]
[null,"W3-Forest",0,0,0,0,"Combined BMPs"]
[null,"W4-Forest",0,0,0,0,"Combined BMPs"]
[null,"W5-Forest",0,0,0,0,"Combined BMPs"]
[null,"W1-User",0,0,0,0,"Combined BMPs"]
[null,"W2-User",0,0,0,0,"Combined BMPs"]
[null,"W3-User",0,0,0,0,"Combined BMPs"]
[null,"W4-User",0,0,0,0,"Combined BMPs"]
[null,"W5-User",0,0,0,0,"Combined BMPs"]

{"sheet":"Urban","index":5,"n_rows":84,"n_cols":33,"rows_kept":84,"cut":false,"hidden":true,"merged":[[77,2,77,5],[77,6,77,9],[77,10,77,13]]}
[null,"Urban Runoff BMP and Pollutant Load Reduction "]
[]
[]
[]
[]
[null,"1. Urban pollutant concentration in runoff (mg/l)"]
[null,"Landuse","Commercial","Industrial","Institutional","Transportation","Multi-Family","Single-Family","Urban-Cultivated","Vacant (developed)","Open Space"]
[null,"TN",2,2.5,1.8,3,2.2000000000000002,2.2000000000000002,1.9,1.5,1.5]
[null,"TP",0.2,0.4,0.3,0.5,0.4,0.4,0.3,0.15,0.15]
[null,"BOD",9.3000000000000007,9,7.8,9.3000000000000007,10,10,4,4,4]
[null,"TSS",75,120,67,150,100,100,150,70,70]
[]
[]
[null,"2. Urban landuse distribution",null,null,null,null,null,null,null,null,null,null,"2a. Effective BMP application area (ac)"]
[null,"Landuse","Commercial","Industrial","Institutional","Transportation","Multi-Family","Single-Family","Urban-Cultivated","Vacant (developed)","Open Space",null,"Landuse","Commercial","Industrial","Institutional","Transportation","Multi-Family","Single-Family","Urban-Cultivated","Vacant (developed)","Open Space"]
[null,"W1",{"$f":"'Land&Rain'!Y8","v":0},{"$f":"'Land&Rain'!Z8","v":0},{"$f":"'Land&Rain'!AA8","v":0},{"$f":"'Land&Rain'!AB8","v":0},{"$f":"'Land&Rain'!AC8","v":0},{"$f":"'Land&Rain'!AD8","v":0},{"$f":"'Land&Rain'!AE8","v":0},{"$f":"'Land&Rain'!AF8","v":0},{"$f":"'Land&Rain'!AG8","v":0},null,"W1",{"$f":"C16","v":0},{"$f":"D16","v":0},{"$f":"E16","v":0},{"$f":"F16","v":0},{"$f":"G16","v":0},{"$f":"H16","v":0},{"$f":"I16","v":0},{"$f":"J16","v":0},{"$f":"K16","v":0}]
[null,"W2",{"$f":"'Land&Rain'!Y9","v":0},{"$f":"'Land&Rain'!Z9","v":0},{"$f":"'Land&Rain'!AA9","v":0},{"$f":"'Land&Rain'!AB9","v":0},{"$f":"'Land&Rain'!AC9","v":0},{"$f":"'Land&Rain'!AD9","v":0},{"$f":"'Land&Rain'!AE9","v":0},{"$f":"'Land&Rain'!AF9","v":0},{"$f":"'Land&Rain'!AG9","v":0},null,"W2",{"$f":"C17","v":0},{"$f":"D17","v":0},{"$f":"E17","v":0},{"$f":"F17","v":0},{"$f":"G17","v":0},{"$f":"H17","v":0},{"$f":"I17","v":0},{"$f":"J17","v":0},{"$f":"K17","v":0}]
[null,"W3",{"$f":"'Land&Rain'!Y10","v":0},{"$f":"'Land&Rain'!Z10","v":0},{"$f":"'Land&Rain'!AA10","v":0},{"$f":"'Land&Rain'!AB10","v":0},{"$f":"'Land&Rain'!AC10","v":0},{"$f":"'Land&Rain'!AD10","v":0},{"$f":"'Land&Rain'!AE10","v":0},{"$f":"'Land&Rain'!AF10","v":0},{"$f":"'Land&Rain'!AG10","v":0},null,"W3",{"$f":"C18","v":0},{"$f":"D18","v":0},{"$f":"E18","v":0},{"$f":"F18","v":0},{"$f":"G18","v":0},{"$f":"H18","v":0},{"$f":"I18","v":0},{"$f":"J18","v":0},{"$f":"K18","v":0}]
[null,"W4",{"$f":"'Land&Rain'!Y11","v":0},{"$f":"'Land&Rain'!Z11","v":0},{"$f":"'Land&Rain'!AA11","v":0},{"$f":"'Land&Rain'!AB11","v":0},{"$f":"'Land&Rain'!AC11","v":0},{"$f":"'Land&Rain'!AD11","v":0},{"$f":"'Land&Rain'!AE11","v":0},{"$f":"'Land&Rain'!AF11","v":0},{"$f":"'Land&Rain'!AG11","v":0},null,"W4",{"$f":"C19","v":0},{"$f":"D19","v":0},{"$f":"E19","v":0},{"$f":"F19","v":0},{"$f":"G19","v":0},{"$f":"H19","v":0},{"$f":"I19","v":0},{"$f":"J19","v":0},{"$f":"K19","v":0}]
[null,"W5",{"$f":"'Land&Rain'!Y12","v":0},{"$f":"'Land&Rain'!Z12","v":0},{"$f":"'Land&Rain'!AA12","v":0},{"$f":"'Land&Rain'!AB12","v":0},{"$f":"'Land&Rain'!AC12","v":0},{"$f":"'Land&Rain'!AD12","v":0},{"$f":"'Land&Rain'!AE12","v":0},{"$f":"'Land&Rain'!AF12","v":0},{"$f":"'Land&Rain'!AG12","v":0},null,"W5",{"$f":"C20","v":0},{"$f":"D20","v":0},{"$f":"E20","v":0},{"$f":"F20","v":0},{"$f":"G20","v":0},{"$f":"H20","v":0},{"$f":"I20","v":0},{"$f":"J20","v":0},{"$f":"K20","v":0}]
[]
[]
[null,"3. Selected urban BMPs",null,null,null,null,null,null,null,null,null,null,"3a. Percentage of BMP effective area (%)"]
[null,"Landuse","Commercial","Industrial","Institutional","Transportation","Multi-Family","Single-Family","Urban-Cultivated","Vacant (developed)","Open Space",null,"Landuse","Commercial","Industrial","Institutional","Transportation","Multi-Family","Single-Family","Urban-Cultivated","Vacant (developed)","Open Space"]
[null,"W1","0 No BMP","0 No BMP","0 No BMP","0 No BMP","0 No BMP","0 No BMP","0 No BMP","0 No BMP","0 No BMP",null,"W1",{"$f":"IF(C16>0, 100* N16/C16,0)","v":0},{"$f":"IF(D16>0, 100* O16/D16,0)","v":0},{"$f":"IF(E16>0, 100* P16/E16,0)","v":0},{"$f":"IF(F16>0, 100* Q16/F16,0)","v":0},{"$f":"IF(G16>0, 100* R16/G16,0)","v":0},{"$f":"IF(H16>0, 100* S16/H16,0)","v":0},{"$f":"IF(I16>0, 100* T16/I16,0)","v":0},{"$f":"IF(J16>0, 100* U16/J16,0)","v":0},{"$f":"IF(K16>0, 100* V16/K16,0)","v":0}]
[null,"W2","0 No BMP","0 No BMP","0 No BMP","0 No BMP","0 No BMP","0 No BMP","0 No BMP","0 No BMP","0 No BMP",null,"W2",{"$f":"IF(C17>0, 100* N17/C17,0)","v":0},{"$f":"IF(D17>0, 100* O17/D17,0)","v":0},{"$f":"IF(E17>0, 100* P17/E17,0)","v":0},{"$f":"IF(F17>0, 100* Q17/F17,0)","v":0},{"$f":"IF(G17>0, 100* R17/G17,0)","v":0},{"$f":"IF(H17>0, 100* S17/H17,0)","v":0},{"$f":"IF(I17>0, 100* T17/I17,0)","v":0},{"$f":"IF(J17>0, 100* U17/J17,0)","v":0},{"$f":"IF(K17>0, 100* V17/K17,0)","v":0}]
[null,"W3","0 No BMP","0 No BMP","0 No BMP","0 No BMP","0 No BMP","0 No BMP","0 No BMP","0 No BMP","0 No BMP",null,"W3",{"$f":"IF(C18>0, 100* N18/C18,0)","v":0},{"$f":"IF(D18>0, 100* O18/D18,0)","v":0},{"$f":"IF(E18>0, 100* P18/E18,0)","v":0},{"$f":"IF(F18>0, 100* Q18/F18,0)","v":0},{"$f":"IF(G18>0, 100* R18/G18,0)","v":0},{"$f":"IF(H18>0, 100* S18/H18,0)","v":0},{"$f":"IF(I18>0, 100* T18/I18,0)","v":0},{"$f":"IF(J18>0, 100* U18/J18,0)","v":0},{"$f":"IF(K18>0, 100* V18/K18,0)","v":0}]
[null,"W4","0 No BMP","0 No BMP","0 No BMP","0 No BMP","0 No BMP","0 No BMP","0 No BMP","0 No BMP","0 No BMP",null,"W4",{"$f":"IF(C19>0, 100* N19/C19,0)","v":0},{"$f":"IF(D19>0, 100* O19/D19,0)","v":0},{"$f":"IF(E19>0, 100* P19/E19,0)","v":0},{"$f":"IF(F19>0, 100* Q19/F19,0)","v":0},{"$f":"IF(G19>0, 100* R19/G19,0)","v":0},{"$f":"IF(H19>0, 100* S19/H19,0)","v":0},{"$f":"IF(I19>0, 100* T19/I19,0)","v":0},{"$f":"IF(J19>0, 100* U19/J19,0)","v":0},{"$f":"IF(K19>0, 100* V19/K19,0)","v":0}]
[null,"W5","0 No BMP","0 No BMP","0 No BMP","0 No BMP","0 No BMP","0 No BMP","0 No BMP","0 No BMP","0 No BMP",null,"W5",{"$f":"IF(C20>0, 100* N20/C20,0)","v":0},{"$f":"IF(D20>0, 100* O20/D20,0)","v":0},{"$f":"IF(E20>0, 100* P20/E20,0)","v":0},{"$f":"IF(F20>0, 100* Q20/F20,0)","v":0},{"$f":"IF(G20>0, 100* R20/G20,0)","v":0},{"$f":"IF(H20>0, 100* S20/H20,0)","v":0},{"$f":"IF(I20>0, 100* T20/I20,0)","v":0},{"$f":"IF(J20>0, 100* U20/J20,0)","v":0},{"$f":"IF(K20>0, 100* V20/K20,0)","v":0}]
[]
[]
[null,"3.1. Urban runoff (ac-ft)"]
[null,"Landuse","Commercial","Industrial","Institutional","Transportation","Multi-Family","Single-Family","Urban-Cultivated","Vacant (developed)","Open Space"]
[null,"W1",{"$f":"'Land&Rain'!Y47","v":0},{"$f":"'Land&Rain'!Z47","v":0},{"$f":"'Land&Rain'!AA47","v":0},{"$f":"'Land&Rain'!AB47","v":0},{"$f":"'Land&Rain'!AC47","v":0},{"$f":"'Land&Rain'!AD47","v":0},{"$f":"'Land&Rain'!AE47","v":0},{"$f":"'Land&Rain'!AF47","v":0},{"$f":"'Land&Rain'!AG47","v":0}]
[null,"W2",{"$f":"'Land&Rain'!Y48","v":0},{"$f":"'Land&Rain'!Z48","v":0},{"$f":"'Land&Rain'!AA48","v":0},{"$f":"'Land&Rain'!AB48","v":0},{"$f":"'Land&Rain'!AC48","v":0},{"$f":"'Land&Rain'!AD48","v":0},{"$f":"'Land&Rain'!AE48","v":0},{"$f":"'Land&Rain'!AF48","v":0},{"$f":"'Land&Rain'!AG48","v":0}]
[null,"W3",{"$f":"'Land&Rain'!Y49","v":0},{"$f":"'Land&Rain'!Z49","v":0},{"$f":"'Land&Rain'!AA49","v":0},{"$f":"'Land&Rain'!AB49","v":0},{"$f":"'Land&Rain'!AC49","v":0},{"$f":"'Land&Rain'!AD49","v":0},{"$f":"'Land&Rain'!AE49","v":0},{"$f":"'Land&Rain'!AF49","v":0},{"$f":"'Land&Rain'!AG49","v":0}]
[null,"W4",{"$f":"'Land&Rain'!Y50","v":0},{"$f":"'Land&Rain'!Z50","v":0},{"$f":"'Land&Rain'!AA50","v":0},{"$f":"'Land&Rain'!AB50","v":0},{"$f":"'Land&Rain'!AC50","v":0},{"$f":"'Land&Rain'!AD50","v":0},{"$f":"'Land&Rain'!AE50","v":0},{"$f":"'Land&Rain'!AF50","v":0},{"$f":"'Land&Rain'!AG50","v":0}]
[null,"W5",{"$f":"'Land&Rain'!Y51","v":0},{"$f":"'Land&Rain'!Z51","v":0},{"$f":"'Land&Rain'!AA51","v":0},{"$f":"'Land&Rain'!AB51","v":0},{"$f":"'Land&Rain'!AC51","v":0},{"$f":"'Land&Rain'!AD51","v":0},{"$f":"'Land&Rain'!AE51","v":0},{"$f":"'Land&Rain'!AF51","v":0},{"$f":"'Land&Rain'!AG51","v":0}]
[]
[]
[null,"3.2. Total urban N load (kg)",null,null,null,null,null,null,null,null,null,null,"3.2a. Selected urban N reduction efficiency",null,null,null,null,null,null,null,null,null,null,"3.2b. Urban N reduction (kg)"]
[null,"Landuse","Commercial","Industrial","Institutional","Transportation","Multi-Family","Single-Family","Urban-Cultivated","Vacant (developed)","Open Space",null,"Landuse","Commercial","Industrial","Institutional","Transportation","Multi-Family","Single-Family","Urban-Cultivated","Vacant (developed)","Open Space",null,"Landuse","Commercial","Industrial","Institutional","Transportation","Multi-Family","Single-Family","Urban-Cultivated","Vacant (developed)","Open Space"]
[null,"W1",{"$f":"4047*0.3048*C34*C8/1000","v":0},{"$f":"4047*0.3048*D34*D8/1000","v":0},{"$f":"4047*0.3048*E34*E8/1000","v":0},{"$f":"4047*0.3048*F34*F8/1000","v":0},{"$f":"4047*0.3048*G34*G8/1000","v":0},{"$f":"4047*0.3048*H34*H8/1000","v":0},{"$f":"4047*0.3048*I34*I8/1000","v":0},{"$f":"4047*0.3048*J34*J8/1000","v":0},{"$f":"4047*0.3048*K34*K8/1000","v":0},null,"W1",0,0,0,0,0,0,0,0,0,null,"W1",{"$f":"IF(ISNUMBER(N43),N43*C43*N25/100,0)","v":0},{"$f":"IF(ISNUMBER(O43),O43*D43*O25/100,0)","v":0},{"$f":"IF(ISNUMBER(P43),P43*E43*P25/100,0)","v":0},{"$f":"IF(ISNUMBER(Q43),Q43*F43*Q25/100,0)","v":0},{"$f":"IF(ISNUMBER(R43),R43*G43*R25/100,0)","v":0},{"$f":"IF(ISNUMBER(S43),S43*H43*S25/100,0)","v":0},{"$f":"IF(ISNUMBER(T43),T43*I43*T25/100,0)","v":0},{"$f":"IF(ISNUMBER(U43),U43*J43*U25/100,0)","v":0},{"$f":"IF(ISNUMBER(V43),V43*K43*V25/100,0)","v":0}]
[null,"W2",{"$f":"4047*0.3048*C35*C8/1000","v":0},{"$f":"4047*0.3048*D35*D8/1000","v":0},{"$f":"4047*0.3048*E35*E8/1000","v":0},{"$f":"4047*0.3048*F35*F8/1000","v":0},{"$f":"4047*0.3048*G35*G8/1000","v":0},{"$f":"4047*0.3048*H35*H8/1000","v":0},{"$f":"4047*0.3048*I35*I8/1000","v":0},{"$f":"4047*0.3048*J35*J8/1000","v":0},{"$f":"4047*0.3048*K35*K8/1000","v":0},null,"W2",0,0,0,0,0,0,0,0,0,null,"W2",{"$f":"IF(ISNUMBER(N44),N44*C44*N26/100,0)","v":0},{"$f":"IF(ISNUMBER(O44),O44*D44*O26/100,0)","v":0},{"$f":"IF(ISNUMBER(P44),P44*E44*P26/100,0)","v":0},{"$f":"IF(ISNUMBER(Q44),Q44*F44*Q26/100,0)","v":0},{"$f":"IF(ISNUMBER(R44),R44*G44*R26/100,0)","v":0},{"$f":"IF(ISNUMBER(S44),S44*H44*S26/100,0)","v":0},{"$f":"IF(ISNUMBER(T44),T44*I44*T26/100,0)","v":0},{"$f":"IF(ISNUMBER(U44),U44*J44*U26/100,0)","v":0},{"$f":"IF(ISNUMBER(V44),V44*K44*V26/100,0)","v":0}]
[null,"W3",{"$f":"4047*0.3048*C36*C8/1000","v":0},{"$f":"4047*0.3048*D36*D8/1000","v":0},{"$f":"4047*0.3048*E36*E8/1000","v":0},{"$f":"4047*0.3048*F36*F8/1000","v":0},{"$f":"4047*0.3048*G36*G8/1000","v":0},{"$f":"4047*0.3048*H36*H8/1000","v":0},{"$f":"4047*0.3048*I36*I8/1000","v":0},{"$f":"4047*0.3048*J36*J8/1000","v":0},{"$f":"4047*0.3048*K36*K8/1000","v":0},null,"W3",0,0,0,0,0,0,0,0,0,null,"W3",{"$f":"IF(ISNUMBER(N45),N45*C45*N27/100,0)","v":0},{"$f":"IF(ISNUMBER(O45),O45*D45*O27/100,0)","v":0},{"$f":"IF(ISNUMBER(P45),P45*E45*P27/100,0)","v":0},{"$f":"IF(ISNUMBER(Q45),Q45*F45*Q27/100,0)","v":0},{"$f":"IF(ISNUMBER(R45),R45*G45*R27/100,0)","v":0},{"$f":"IF(ISNUMBER(S45),S45*H45*S27/100,0)","v":0},{"$f":"IF(ISNUMBER(T45),T45*I45*T27/100,0)","v":0},{"$f":"IF(ISNUMBER(U45),U45*J45*U27/100,0)","v":0},{"$f":"IF(ISNUMBER(V45),V45*K45*V27/100,0)","v":0}]
[null,"W4",{"$f":"4047*0.3048*C37*C8/1000","v":0},{"$f":"4047*0.3048*D37*D8/1000","v":0},{"$f":"4047*0.3048*E37*E8/1000","v":0},{"$f":"4047*0.3048*F37*F8/1000","v":0},{"$f":"4047*0.3048*G37*G8/1000","v":0},{"$f":"4047*0.3048*H37*H8/1000","v":0},{"$f":"4047*0.3048*I37*I8/1000","v":0},{"$f":"4047*0.3048*J37*J8/1000","v":0},{"$f":"4047*0.3048*K37*K8/1000","v":0},null,"W4",0,0,0,0,0,0,0,0,0,null,"W4",{"$f":"IF(ISNUMBER(N46),N46*C46*N28/100,0)","v":0},{"$f":"IF(ISNUMBER(O46),O46*D46*O28/100,0)","v":0},{"$f":"IF(ISNUMBER(P46),P46*E46*P28/100,0)","v":0},{"$f":"IF(ISNUMBER(Q46),Q46*F46*Q28/100,0)","v":0},{"$f":"IF(ISNUMBER(R46),R46*G46*R28/100,0)","v":0},{"$f":"IF(ISNUMBER(S46),S46*H46*S28/100,0)","v":0},{"$f":"IF(ISNUMBER(T46),T46*I46*T28/100,0)","v":0},{"$f":"IF(ISNUMBER(U46),U46*J46*U28/100,0)","v":0},{"$f":"IF(ISNUMBER(V46),V46*K46*V28/100,0)","v":0}]
[null,"W5",{"$f":"4047*0.3048*C38*C8/1000","v":0},{"$f":"4047*0.3048*D38*D8/1000","v":0},{"$f":"4047*0.3048*E38*E8/1000","v":0},{"$f":"4047*0.3048*F38*F8/1000","v":0},{"$f":"4047*0.3048*G38*G8/1000","v":0},{"$f":"4047*0.3048*H38*H8/1000","v":0},{"$f":"4047*0.3048*I38*I8/1000","v":0},{"$f":"4047*0.3048*J38*J8/1000","v":0},{"$f":"4047*0.3048*K38*K8/1000","v":0},null,"W5",0,0,0,0,0,0,0,0,0,null,"W5",{"$f":"IF(ISNUMBER(N47),N47*C47*N29/100,0)","v":0},{"$f":"IF(ISNUMBER(O47),O47*D47*O29/100,0)","v":0},{"$f":"IF(ISNUMBER(P47),P47*E47*P29/100,0)","v":0},{"$f":"IF(ISNUMBER(Q47),Q47*F47*Q29/100,0)","v":0},{"$f":"IF(ISNUMBER(R47),R47*G47*R29/100,0)","v":0},{"$f":"IF(ISNUMBER(S47),S47*H47*S29/100,0)","v":0},{"$f":"IF(ISNUMBER(T47),T47*I47*T29/100,0)","v":0},{"$f":"IF(ISNUMBER(U47),U47*J47*U29/100,0)","v":0},{"$f":"IF(ISNUMBER(V47),V47*K47*V29/100,0)","v":0}]
[]
[]
[null,"3.3. Total urban P load (kg)",null,null,null,null,null,null,null,null,null,null,"3.3a. Selected urban P reduction efficiency",null,null,null,null,null,null,null,null,null,null,"3.3b. Urban P reduction (kg)"]
[null,"Landuse","Commercial","Industrial","Institutional","Transportation","Multi-Family","Single-Family","Urban-Cultivated","Vacant (developed)","Open Space",null,"Landuse","Commercial","Industrial","Institutional","Transportation","Multi-Family","Single-Family","Urban-Cultivated","Vacant (developed)","Open Space",null,"Landuse","Commercial","Industrial","Institutional","Transportation","Multi-Family","Single-Family","Urban-Cultivated","Vacant (developed)","Open Space"]
[null,"W1",{"$f":"4047*0.3048*C34*C9/1000","v":0},{"$f":"4047*0.3048*D34*D9/1000","v":0},{"$f":"4047*0.3048*E34*E9/1000","v":0},{"$f":"4047*0.3048*F34*F9/1000","v":0},{"$f":"4047*0.3048*G34*G9/1000","v":0},{"$f":"4047*0.3048*H34*H9/1000","v":0},{"$f":"4047*0.3048*I34*I9/1000","v":0},{"$f":"4047*0.3048*J34*J9/1000","v":0},{"$f":"4047*0.3048*K34*K9/1000","v":0},null,"W1",0,0,0,0,0,0,0,0,0,null,"W1",{"$f":"IF(ISNUMBER(N52),N52*C52*N25/100,0)","v":0},{"$f":"IF(ISNUMBER(O52),O52*D52*O25/100,0)","v":0},{"$f":"IF(ISNUMBER(P52),P52*E52*P25/100,0)","v":0},{"$f":"IF(ISNUMBER(Q52),Q52*F52*Q25/100,0)","v":0},{"$f":"IF(ISNUMBER(R52),R52*G52*R25/100,0)","v":0},{"$f":"IF(ISNUMBER(S52),S52*H52*S25/100,0)","v":0},{"$f":"IF(ISNUMBER(T52),T52*I52*T25/100,0)","v":0},{"$f":"IF(ISNUMBER(U52),U52*J52*U25/100,0)","v":0},{"$f":"IF(ISNUMBER(V52),V52*K52*V25/100,0)","v":0}]
[null,"W2",{"$f":"4047*0.3048*C35*C9/1000","v":0},{"$f":"4047*0.3048*D35*D9/1000","v":0},{"$f":"4047*0.3048*E35*E9/1000","v":0},{"$f":"4047*0.3048*F35*F9/1000","v":0},{"$f":"4047*0.3048*G35*G9/1000","v":0},{"$f":"4047*0.3048*H35*H9/1000","v":0},{"$f":"4047*0.3048*I35*I9/1000","v":0},{"$f":"4047*0.3048*J35*J9/1000","v":0},{"$f":"4047*0.3048*K35*K9/1000","v":0},null,"W2",0,0,0,0,0,0,0,0,0,null,"W2",{"$f":"IF(ISNUMBER(N53),N53*C53*N26/100,0)","v":0},{"$f":"IF(ISNUMBER(O53),O53*D53*O26/100,0)","v":0},{"$f":"IF(ISNUMBER(P53),P53*E53*P26/100,0)","v":0},{"$f":"IF(ISNUMBER(Q53),Q53*F53*Q26/100,0)","v":0},{"$f":"IF(ISNUMBER(R53),R53*G53*R26/100,0)","v":0},{"$f":"IF(ISNUMBER(S53),S53*H53*S26/100,0)","v":0},{"$f":"IF(ISNUMBER(T53),T53*I53*T26/100,0)","v":0},{"$f":"IF(ISNUMBER(U53),U53*J53*U26/100,0)","v":0},{"$f":"IF(ISNUMBER(V53),V53*K53*V26/100,0)","v":0}]
[null,"W3",{"$f":"4047*0.3048*C36*C9/1000","v":0},{"$f":"4047*0.3048*D36*D9/1000","v":0},{"$f":"4047*0.3048*E36*E9/1000","v":0},{"$f":"4047*0.3048*F36*F9/1000","v":0},{"$f":"4047*0.3048*G36*G9/1000","v":0},{"$f":"4047*0.3048*H36*H9/1000","v":0},{"$f":"4047*0.3048*I36*I9/1000","v":0},{"$f":"4047*0.3048*J36*J9/1000","v":0},{"$f":"4047*0.3048*K36*K9/1000","v":0},null,"W3",0,0,0,0,0,0,0,0,0,null,"W3",{"$f":"IF(ISNUMBER(N54),N54*C54*N27/100,0)","v":0},{"$f":"IF(ISNUMBER(O54),O54*D54*O27/100,0)","v":0},{"$f":"IF(ISNUMBER(P54),P54*E54*P27/100,0)","v":0},{"$f":"IF(ISNUMBER(Q54),Q54*F54*Q27/100,0)","v":0},{"$f":"IF(ISNUMBER(R54),R54*G54*R27/100,0)","v":0},{"$f":"IF(ISNUMBER(S54),S54*H54*S27/100,0)","v":0},{"$f":"IF(ISNUMBER(T54),T54*I54*T27/100,0)","v":0},{"$f":"IF(ISNUMBER(U54),U54*J54*U27/100,0)","v":0},{"$f":"IF(ISNUMBER(V54),V54*K54*V27/100,0)","v":0}]
[null,"W4",{"$f":"4047*0.3048*C37*C9/1000","v":0},{"$f":"4047*0.3048*D37*D9/1000","v":0},{"$f":"4047*0.3048*E37*E9/1000","v":0},{"$f":"4047*0.3048*F37*F9/1000","v":0},{"$f":"4047*0.3048*G37*G9/1000","v":0},{"$f":"4047*0.3048*H37*H9/1000","v":0},{"$f":"4047*0.3048*I37*I9/1000","v":0},{"$f":"4047*0.3048*J37*J9/1000","v":0},{"$f":"4047*0.3048*K37*K9/1000","v":0},null,"W4",0,0,0,0,0,0,0,0,0,null,"W4",{"$f":"IF(ISNUMBER(N55),N55*C55*N28/100,0)","v":0},{"$f":"IF(ISNUMBER(O55),O55*D55*O28/100,0)","v":0},{"$f":"IF(ISNUMBER(P55),P55*E55*P28/100,0)","v":0},{"$f":"IF(ISNUMBER(Q55),Q55*F55*Q28/100,0)","v":0},{"$f":"IF(ISNUMBER(R55),R55*G55*R28/100,0)","v":0},{"$f":"IF(ISNUMBER(S55),S55*H55*S28/100,0)","v":0},{"$f":"IF(ISNUMBER(T55),T55*I55*T28/100,0)","v":0},{"$f":"IF(ISNUMBER(U55),U55*J55*U28/100,0)","v":0},{"$f":"IF(ISNUMBER(V55),V55*K55*V28/100,0)","v":0}]
[null,"W5",{"$f":"4047*0.3048*C38*C9/1000","v":0},{"$f":"4047*0.3048*D38*D9/1000","v":0},{"$f":"4047*0.3048*E38*E9/1000","v":0},{"$f":"4047*0.3048*F38*F9/1000","v":0},{"$f":"4047*0.3048*G38*G9/1000","v":0},{"$f":"4047*0.3048*H38*H9/1000","v":0},{"$f":"4047*0.3048*I38*I9/1000","v":0},{"$f":"4047*0.3048*J38*J9/1000","v":0},{"$f":"4047*0.3048*K38*K9/1000","v":0},null,"W5",0,0,0,0,0,0,0,0,0,null,"W5",{"$f":"IF(ISNUMBER(N56),N56*C56*N29/100,0)","v":0},{"$f":"IF(ISNUMBER(O56),O56*D56*O29/100,0)","v":0},{"$f":"IF(ISNUMBER(P56),P56*E56*P29/100,0)","v":0},{"$f":"IF(ISNUMBER(Q56),Q56*F56*Q29/100,0)","v":0},{"$f":"IF(ISNUMBER(R56),R56*G56*R29/100,0)","v":0},{"$f":"IF(ISNUMBER(S56),S56*H56*S29/100,0)","v":0},{"$f":"IF(ISNUMBER(T56),T56*I56*T29/100,0)","v":0},{"$f":"IF(ISNUMBER(U56),U56*J56*U29/100,0)","v":0},{"$f":"IF(ISNUMBER(V56),V56*K56*V29/100,0)","v":0}]
[]
[]
[null,"3.4. Total urban BOD load (kg)",null,null,null,null,null,null,null,null,null,null,"3.4a. Selected urban BOD reduction efficiency",null,null,null,null,null,null,null,null,null,null,"3.4b. Urban BOD reduction (kg)"]
[null,"Landuse","Commercial","Industrial","Institutional","Transportation","Multi-Family","Single-Family","Urban-Cultivated","Vacant (developed)","Open Space",null,"Landuse","Commercial","Industrial","Institutional","Transportation","Multi-Family","Single-Family","Urban-Cultivated","Vacant (developed)","Open Space",null,"Landuse","Commercial","Industrial","Institutional","Transportation","Multi-Family","Single-Family","Urban-Cultivated","Vacant (developed)","Open Space"]
[null,"W1",{"$f":"4047*0.3048*C34*C10/1000","v":0},{"$f":"4047*0.3048*D34*D10/1000","v":0},{"$f":"4047*0.3048*E34*E10/1000","v":0},{"$f":"4047*0.3048*F34*F10/1000","v":0},{"$f":"4047*0.3048*G34*G10/1000","v":0},{"$f":"4047*0.3048*H34*H10/1000","v":0},{"$f":"4047*0.3048*I34*I10/1000","v":0},{"$f":"4047*0.3048*J34*J10/1000","v":0},{"$f":"4047*0.3048*K34*K10/1000","v":0},null,"W1",0,0,0,0,0,0,0,0,0,null,"W1",{"$f":"IF(ISNUMBER(N61),N61*C61*N25/100,0)","v":0},{"$f":"IF(ISNUMBER(O61),O61*D61*O25/100,0)","v":0},{"$f":"IF(ISNUMBER(P61),P61*E61*P25/100,0)","v":0},{"$f":"IF(ISNUMBER(Q61),Q61*F61*Q25/100,0)","v":0},{"$f":"IF(ISNUMBER(R61),R61*G61*R25/100,0)","v":0},{"$f":"IF(ISNUMBER(S61),S61*H61*S25/100,0)","v":0},{"$f":"IF(ISNUMBER(T61),T61*I61*T25/100,0)","v":0},{"$f":"IF(ISNUMBER(U61),U61*J61*U25/100,0)","v":0},{"$f":"IF(ISNUMBER(V61),V61*K61*V25/100,0)","v":0}]
[null,"W2",{"$f":"4047*0.3048*C35*C10/1000","v":0},{"$f":"4047*0.3048*D35*D10/1000","v":0},{"$f":"4047*0.3048*E35*E10/1000","v":0},{"$f":"4047*0.3048*F35*F10/1000","v":0},{"$f":"4047*0.3048*G35*G10/1000","v":0},{"$f":"4047*0.3048*H35*H10/1000","v":0},{"$f":"4047*0.3048*I35*I10/1000","v":0},{"$f":"4047*0.3048*J35*J10/1000","v":0},{"$f":"4047*0.3048*K35*K10/1000","v":0},null,"W2",0,0,0,0,0,0,0,0,0,null,"W2",{"$f":"IF(ISNUMBER(N62),N62*C62*N26/100,0)","v":0},{"$f":"IF(ISNUMBER(O62),O62*D62*O26/100,0)","v":0},{"$f":"IF(ISNUMBER(P62),P62*E62*P26/100,0)","v":0},{"$f":"IF(ISNUMBER(Q62),Q62*F62*Q26/100,0)","v":0},{"$f":"IF(ISNUMBER(R62),R62*G62*R26/100,0)","v":0},{"$f":"IF(ISNUMBER(S62),S62*H62*S26/100,0)","v":0},{"$f":"IF(ISNUMBER(T62),T62*I62*T26/100,0)","v":0},{"$f":"IF(ISNUMBER(U62),U62*J62*U26/100,0)","v":0},{"$f":"IF(ISNUMBER(V62),V62*K62*V26/100,0)","v":0}]
[null,"W3",{"$f":"4047*0.3048*C36*C10/1000","v":0},{"$f":"4047*0.3048*D36*D10/1000","v":0},{"$f":"4047*0.3048*E36*E10/1000","v":0},{"$f":"4047*0.3048*F36*F10/1000","v":0},{"$f":"4047*0.3048*G36*G10/1000","v":0},{"$f":"4047*0.3048*H36*H10/1000","v":0},{"$f":"4047*0.3048*I36*I10/1000","v":0},{"$f":"4047*0.3048*J36*J10/1000","v":0},{"$f":"4047*0.3048*K36*K10/1000","v":0},null,"W3",0,0,0,0,0,0,0,0,0,null,"W3",{"$f":"IF(ISNUMBER(N63),N63*C63*N27/100,0)","v":0},{"$f":"IF(ISNUMBER(O63),O63*D63*O27/100,0)","v":0},{"$f":"IF(ISNUMBER(P63),P63*E63*P27/100,0)","v":0},{"$f":"IF(ISNUMBER(Q63),Q63*F63*Q27/100,0)","v":0},{"$f":"IF(ISNUMBER(R63),R63*G63*R27/100,0)","v":0},{"$f":"IF(ISNUMBER(S63),S63*H63*S27/100,0)","v":0},{"$f":"IF(ISNUMBER(T63),T63*I63*T27/100,0)","v":0},{"$f":"IF(ISNUMBER(U63),U63*J63*U27/100,0)","v":0},{"$f":"IF(ISNUMBER(V63),V63*K63*V27/100,0)","v":0}]
[null,"W4",{"$f":"4047*0.3048*C37*C10/1000","v":0},{"$f":"4047*0.3048*D37*D10/1000","v":0},{"$f":"4047*0.3048*E37*E10/1000","v":0},{"$f":"4047*0.3048*F37*F10/1000","v":0},{"$f":"4047*0.3048*G37*G10/1000","v":0},{"$f":"4047*0.3048*H37*H10/1000","v":0},{"$f":"4047*0.3048*I37*I10/1000","v":0},{"$f":"4047*0.3048*J37*J10/1000","v":0},{"$f":"4047*0.3048*K37*K10/1000","v":0},null,"W4",0,0,0,0,0,0,0,0,0,null,"W4",{"$f":"IF(ISNUMBER(N64),N64*C64*N28/100,0)","v":0},{"$f":"IF(ISNUMBER(O64),O64*D64*O28/100,0)","v":0},{"$f":"IF(ISNUMBER(P64),P64*E64*P28/100,0)","v":0},{"$f":"IF(ISNUMBER(Q64),Q64*F64*Q28/100,0)","v":0},{"$f":"IF(ISNUMBER(R64),R64*G64*R28/100,0)","v":0},{"$f":"IF(ISNUMBER(S64),S64*H64*S28/100,0)","v":0},{"$f":"IF(ISNUMBER(T64),T64*I64*T28/100,0)","v":0},{"$f":"IF(ISNUMBER(U64),U64*J64*U28/100,0)","v":0},{"$f":"IF(ISNUMBER(V64),V64*K64*V28/100,0)","v":0}]
[null,"W5",{"$f":"4047*0.3048*C38*C10/1000","v":0},{"$f":"4047*0.3048*D38*D10/1000","v":0},{"$f":"4047*0.3048*E38*E10/1000","v":0},{"$f":"4047*0.3048*F38*F10/1000","v":0},{"$f":"4047*0.3048*G38*G10/1000","v":0},{"$f":"4047*0.3048*H38*H10/1000","v":0},{"$f":"4047*0.3048*I38*I10/1000","v":0},{"$f":"4047*0.3048*J38*J10/1000","v":0},{"$f":"4047*0.3048*K38*K10/1000","v":0},null,"W5",0,0,0,0,0,0,0,0,0,null,"W5",{"$f":"IF(ISNUMBER(N65),N65*C65*N29/100,0)","v":0},{"$f":"IF(ISNUMBER(O65),O65*D65*O29/100,0)","v":0},{"$f":"IF(ISNUMBER(P65),P65*E65*P29/100,0)","v":0},{"$f":"IF(ISNUMBER(Q65),Q65*F65*Q29/100,0)","v":0},{"$f":"IF(ISNUMBER(R65),R65*G65*R29/100,0)","v":0},{"$f":"IF(ISNUMBER(S65),S65*H65*S29/100,0)","v":0},{"$f":"IF(ISNUMBER(T65),T65*I65*T29/100,0)","v":0},{"$f":"IF(ISNUMBER(U65),U65*J65*U29/100,0)","v":0},{"$f":"IF(ISNUMBER(V65),V65*K65*V29/100,0)","v":0}]
[]
[]
[null,"3.5. Total urban TSS load (kg)",null,null,null,null,null,null,null,null,null,null,"3.5a. Selected urban TSS reduction efficiency",null,null,null,null,null,null,null,null,null,null,"3.5b. Urban TSS reduction (kg)"]
[null,"Landuse","Commercial","Industrial","Institutional","Transportation","Multi-Family","Single-Family","Urban-Cultivated","Vacant (developed)","Open Space",null,"Landuse","Commercial","Industrial","Institutional","Transportation","Multi-Family","Single-Family","Urban-Cultivated","Vacant (developed)","Open Space",null,"Landuse","Commercial","Industrial","Institutional","Transportation","Multi-Family","Single-Family","Urban-Cultivated","Vacant (developed)","Open Space"]
[null,"W1",{"$f":"4047*0.3048*C34*C11/1000","v":0},{"$f":"4047*0.3048*D34*D11/1000","v":0},{"$f":"4047*0.3048*E34*E11/1000","v":0},{"$f":"4047*0.3048*F34*F11/1000","v":0},{"$f":"4047*0.3048*G34*G11/1000","v":0},{"$f":"4047*0.3048*H34*H11/1000","v":0},{"$f":"4047*0.3048*I34*I11/1000","v":0},{"$f":"4047*0.3048*J34*J11/1000","v":0},{"$f":"4047*0.3048*K34*K11/1000","v":0},null,"W1",0,0,0,0,0,0,0,0,0,null,"W1",{"$f":"IF(ISNUMBER(N70),N70*C70*N25/100,0)","v":0},{"$f":"IF(ISNUMBER(O70),O70*D70*O25/100,0)","v":0},{"$f":"IF(ISNUMBER(P70),P70*E70*P25/100,0)","v":0},{"$f":"IF(ISNUMBER(Q70),Q70*F70*Q25/100,0)","v":0},{"$f":"IF(ISNUMBER(R70),R70*G70*R25/100,0)","v":0},{"$f":"IF(ISNUMBER(S70),S70*H70*S25/100,0)","v":0},{"$f":"IF(ISNUMBER(T70),T70*I70*T25/100,0)","v":0},{"$f":"IF(ISNUMBER(U70),U70*J70*U25/100,0)","v":0},{"$f":"IF(ISNUMBER(V70),V70*K70*V25/100,0)","v":0}]
[null,"W2",{"$f":"4047*0.3048*C35*C11/1000","v":0},{"$f":"4047*0.3048*D35*D11/1000","v":0},{"$f":"4047*0.3048*E35*E11/1000","v":0},{"$f":"4047*0.3048*F35*F11/1000","v":0},{"$f":"4047*0.3048*G35*G11/1000","v":0},{"$f":"4047*0.3048*H35*H11/1000","v":0},{"$f":"4047*0.3048*I35*I11/1000","v":0},{"$f":"4047*0.3048*J35*J11/1000","v":0},{"$f":"4047*0.3048*K35*K11/1000","v":0},null,"W2",0,0,0,0,0,0,0,0,0,null,"W2",{"$f":"IF(ISNUMBER(N71),N71*C71*N26/100,0)","v":0},{"$f":"IF(ISNUMBER(O71),O71*D71*O26/100,0)","v":0},{"$f":"IF(ISNUMBER(P71),P71*E71*P26/100,0)","v":0},{"$f":"IF(ISNUMBER(Q71),Q71*F71*Q26/100,0)","v":0},{"$f":"IF(ISNUMBER(R71),R71*G71*R26/100,0)","v":0},{"$f":"IF(ISNUMBER(S71),S71*H71*S26/100,0)","v":0},{"$f":"IF(ISNUMBER(T71),T71*I71*T26/100,0)","v":0},{"$f":"IF(ISNUMBER(U71),U71*J71*U26/100,0)","v":0},{"$f":"IF(ISNUMBER(V71),V71*K71*V26/100,0)","v":0}]
[null,"W3",{"$f":"4047*0.3048*C36*C11/1000","v":0},{"$f":"4047*0.3048*D36*D11/1000","v":0},{"$f":"4047*0.3048*E36*E11/1000","v":0},{"$f":"4047*0.3048*F36*F11/1000","v":0},{"$f":"4047*0.3048*G36*G11/1000","v":0},{"$f":"4047*0.3048*H36*H11/1000","v":0},{"$f":"4047*0.3048*I36*I11/1000","v":0},{"$f":"4047*0.3048*J36*J11/1000","v":0},{"$f":"4047*0.3048*K36*K11/1000","v":0},null,"W3",0,0,0,0,0,0,0,0,0,null,"W3",{"$f":"IF(ISNUMBER(N72),N72*C72*N27/100,0)","v":0},{"$f":"IF(ISNUMBER(O72),O72*D72*O27/100,0)","v":0},{"$f":"IF(ISNUMBER(P72),P72*E72*P27/100,0)","v":0},{"$f":"IF(ISNUMBER(Q72),Q72*F72*Q27/100,0)","v":0},{"$f":"IF(ISNUMBER(R72),R72*G72*R27/100,0)","v":0},{"$f":"IF(ISNUMBER(S72),S72*H72*S27/100,0)","v":0},{"$f":"IF(ISNUMBER(T72),T72*I72*T27/100,0)","v":0},{"$f":"IF(ISNUMBER(U72),U72*J72*U27/100,0)","v":0},{"$f":"IF(ISNUMBER(V72),V72*K72*V27/100,0)","v":0}]
[null,"W4",{"$f":"4047*0.3048*C37*C11/1000","v":0},{"$f":"4047*0.3048*D37*D11/1000","v":0},{"$f":"4047*0.3048*E37*E11/1000","v":0},{"$f":"4047*0.3048*F37*F11/1000","v":0},{"$f":"4047*0.3048*G37*G11/1000","v":0},{"$f":"4047*0.3048*H37*H11/1000","v":0},{"$f":"4047*0.3048*I37*I11/1000","v":0},{"$f":"4047*0.3048*J37*J11/1000","v":0},{"$f":"4047*0.3048*K37*K11/1000","v":0},null,"W4",0,0,0,0,0,0,0,0,0,null,"W4",{"$f":"IF(ISNUMBER(N73),N73*C73*N28/100,0)","v":0},{"$f":"IF(ISNUMBER(O73),O73*D73*O28/100,0)","v":0},{"$f":"IF(ISNUMBER(P73),P73*E73*P28/100,0)","v":0},{"$f":"IF(ISNUMBER(Q73),Q73*F73*Q28/100,0)","v":0},{"$f":"IF(ISNUMBER(R73),R73*G73*R28/100,0)","v":0},{"$f":"IF(ISNUMBER(S73),S73*H73*S28/100,0)","v":0},{"$f":"IF(ISNUMBER(T73),T73*I73*T28/100,0)","v":0},{"$f":"IF(ISNUMBER(U73),U73*J73*U28/100,0)","v":0},{"$f":"IF(ISNUMBER(V73),V73*K73*V28/100,0)","v":0}]
[null,"W5",{"$f":"4047*0.3048*C38*C11/1000","v":0},{"$f":"4047*0.3048*D38*D11/1000","v":0},{"$f":"4047*0.3048*E38*E11/1000","v":0},{"$f":"4047*0.3048*F38*F11/1000","v":0},{"$f":"4047*0.3048*G38*G11/1000","v":0},{"$f":"4047*0.3048*H38*H11/1000","v":0},{"$f":"4047*0.3048*I38*I11/1000","v":0},{"$f":"4047*0.3048*J38*J11/1000","v":0},{"$f":"4047*0.3048*K38*K11/1000","v":0},null,"W5",0,0,0,0,0,0,0,0,0,null,"W5",{"$f":"IF(ISNUMBER(N74),N74*C74*N29/100,0)","v":0},{"$f":"IF(ISNUMBER(O74),O74*D74*O29/100,0)","v":0},{"$f":"IF(ISNUMBER(P74),P74*E74*P29/100,0)","v":0},{"$f":"IF(ISNUMBER(Q74),Q74*F74*Q29/100,0)","v":0},{"$f":"IF(ISNUMBER(R74),R74*G74*R29/100,0)","v":0},{"$f":"IF(ISNUMBER(S74),S74*H74*S29/100,0)","v":0},{"$f":"IF(ISNUMBER(T74),T74*I74*T29/100,0)","v":0},{"$f":"IF(ISNUMBER(U74),U74*J74*U29/100,0)","v":0},{"$f":"IF(ISNUMBER(V74),V74*K74*V29/100,0)","v":0}]
[]
[]
[null,"4. Pollutant loads from urban in lb/year"]
[null,"Watershed","Pre-BMP Load",null,null,null,"Load Reduction",null,null,null,"After BMP Load"]
[null,null,"N","P","BOD","TSS","N","P","BOD","TSS","N","P","BOD","TSS"]
[null,"W1",{"$f":"2.203*SUM(C43:K43)","v":0},{"$f":"2.203*SUM(C52:K52)","v":0},{"$f":"2.203*SUM(C61:K61)","v":0},{"$f":"2.203*SUM(C70:K70)","v":0},{"$f":"2.203*SUM(Y43:AG43)","v":0},{"$f":"2.203*SUM(Y52:AG52)","v":0},{"$f":"2.203*SUM(Y61:AG61)","v":0},{"$f":"2.203*SUM(Y70:AG70)","v":0},{"$f":"C80-G80","v":0},{"$f":"D80-H80","v":0},{"$f":"E80-I80","v":0},{"$f":"F80-J80","v":0}]
[null,"W2",{"$f":"2.203*SUM(C44:K44)","v":0},{"$f":"2.203*SUM(C53:K53)","v":0},{"$f":"2.203*SUM(C62:K62)","v":0},{"$f":"2.203*SUM(C71:K71)","v":0},{"$f":"2.203*SUM(Y44:AG44)","v":0},{"$f":"2.203*SUM(Y53:AG53)","v":0},{"$f":"2.203*SUM(Y62:AG62)","v":0},{"$f":"2.203*SUM(Y71:AG71)","v":0},{"$f":"C81-G81","v":0},{"$f":"D81-H81","v":0},{"$f":"E81-I81","v":0},{"$f":"F81-J81","v":0}]
[null,"W3",{"$f":"2.203*SUM(C45:K45)","v":0},{"$f":"2.203*SUM(C54:K54)","v":0},{"$f":"2.203*SUM(C63:K63)","v":0},{"$f":"2.203*SUM(C72:K72)","v":0},{"$f":"2.203*SUM(Y45:AG45)","v":0},{"$f":"2.203*SUM(Y54:AG54)","v":0},{"$f":"2.203*SUM(Y63:AG63)","v":0},{"$f":"2.203*SUM(Y72:AG72)","v":0},{"$f":"C82-G82","v":0},{"$f":"D82-H82","v":0},{"$f":"E82-I82","v":0},{"$f":"F82-J82","v":0}]
[null,"W4",{"$f":"2.203*SUM(C46:K46)","v":0},{"$f":"2.203*SUM(C55:K55)","v":0},{"$f":"2.203*SUM(C64:K64)","v":0},{"$f":"2.203*SUM(C73:K73)","v":0},{"$f":"2.203*SUM(Y46:AG46)","v":0},{"$f":"2.203*SUM(Y55:AG55)","v":0},{"$f":"2.203*SUM(Y64:AG64)","v":0},{"$f":"2.203*SUM(Y73:AG73)","v":0},{"$f":"C83-G83","v":0},{"$f":"D83-H83","v":0},{"$f":"E83-I83","v":0},{"$f":"F83-J83","v":0}]
[null,"W5",{"$f":"2.203*SUM(C47:K47)","v":0},{"$f":"2.203*SUM(C56:K56)","v":0},{"$f":"2.203*SUM(C65:K65)","v":0},{"$f":"2.203*SUM(C74:K74)","v":0},{"$f":"2.203*SUM(Y47:AG47)","v":0},{"$f":"2.203*SUM(Y56:AG56)","v":0},{"$f":"2.203*SUM(Y65:AG65)","v":0},{"$f":"2.203*SUM(Y74:AG74)","v":0},{"$f":"C84-G84","v":0},{"$f":"D84-H84","v":0},{"$f":"E84-I84","v":0},{"$f":"F84-J84","v":0}]

{"sheet":"Feedlots","index":6,"n_rows":73,"n_cols":26,"rows_kept":73,"cut":false,"hidden":true,"merged":[]}
[null,"Feedlot Pollution ",null,null,null,null,null,null,null,null,null,null,null,null,null,null,null,null,null,null,null,null,null,null,null,"0-24%"]
[null,"Notes:  An animal lot refers to an open lot or combination of open lots intended for confined feeding, breeding, raising or holding animals.",null,null,null,null,null,null,null,null,null,null,null,null,null,null,null,null,null,null,null,null,null,null,null,"25-49%"]
[null,"It is specifically designed as a confinement area in which manure accumulates or where the concentration of animals is such that vegetation cannot be maintained.",null,null,null,null,null,null,null,null,null,null,null,null,null,null,null,null,null,null,null,null,null,null,null,"50-74%"]
[null,"The purpose of these calculations is to represent nitrogen (N), phosphorus (P), and Biological Oxygen Demand (BOD) reductions after an animal waste BMP is installed.",null,null,null,null,null,null,null,null,null,null,null,null,null,null,null,null,null,null,null,null,null,null,null,"75-100%"]
[null,"This method has two assumptions:  1) the feedlot is adjacent to a receiving hydrological system without any buffering areas; and 2) installing the "]
[null,"animal waste BMP will reduce pollutants from the lot from reaching the hydrologic system."]
[null,"Feedlots that cannot show impact to the hydrologic system being protected should not be evaluated with this computation."]
[]
[]
[null,"1. Select a range of paved percentage for feedlots"]
[null,"Watershed","Contributing area (ac.)","Percent paved","Average event rainfall (inch)","Feedlot BMP efficiency on N","Feedlot BMP efficiency on P","Feedlot BMP efficiency on BOD","Feedlot pervious area (ac.)"]
[null,"W1",{"$f":"'Land&Rain'!M8","v":0},{"$f":"Input!I18","v":"0-24%"},{"$f":"'Land&Rain'!U8","v":1.0726348870678768},{"$f":"IF(BMPs!C44=\"ND\",0,BMPs!C44)","v":0},{"$f":"IF(BMPs!D44=\"ND\",0,BMPs!D44)","v":0},{"$f":"IF(BMPs!E44=\"ND\",0,BMPs!E44)","v":0},{"$f":"C12*IF(D12=\"0-24%\",0.125,IF(D12=\"25-49%\",0.375,IF(D12=\"50-74%\",0.625,IF(D12=\"75-100%\",0.875,0.5))))","v":0}]
[null,"W2",{"$f":"'Land&Rain'!M9","v":0},{"$f":"Input!I19","v":"0-24%"},{"$f":"'Land&Rain'!U9","v":1.0726348870678768},{"$f":"IF(BMPs!C45=\"ND\",0,BMPs!C45)","v":0},{"$f":"IF(BMPs!D45=\"ND\",0,BMPs!D45)","v":0},{"$f":"IF(BMPs!E45=\"ND\",0,BMPs!E45)","v":0},{"$f":"C13*IF(D13=\"0-24%\",0.125,IF(D13=\"25-49%\",0.375,IF(D13=\"50-74%\",0.625,IF(D13=\"75-100%\",0.875,0.5))))","v":0}]
[null,"W3",{"$f":"'Land&Rain'!M10","v":0},{"$f":"Input!I20","v":"0-24%"},{"$f":"'Land&Rain'!U10","v":1.0726348870678768},{"$f":"IF(BMPs!C46=\"ND\",0,BMPs!C46)","v":0},{"$f":"IF(BMPs!D46=\"ND\",0,BMPs!D46)","v":0},{"$f":"IF(BMPs!E46=\"ND\",0,BMPs!E46)","v":0},{"$f":"C14*IF(D14=\"0-24%\",0.125,IF(D14=\"25-49%\",0.375,IF(D14=\"50-74%\",0.625,IF(D14=\"75-100%\",0.875,0.5))))","v":0}]
[null,"W4",{"$f":"'Land&Rain'!M11","v":0},{"$f":"Input!I21","v":"0-24%"},{"$f":"'Land&Rain'!U11","v":1.0726348870678768},{"$f":"IF(BMPs!C47=\"ND\",0,BMPs!C47)","v":0},{"$f":"IF(BMPs!D47=\"ND\",0,BMPs!D47)","v":0},{"$f":"IF(BMPs!E47=\"ND\",0,BMPs!E47)","v":0},{"$f":"C15*IF(D15=\"0-24%\",0.125,IF(D15=\"25-49%\",0.375,IF(D15=\"50-74%\",0.625,IF(D15=\"75-100%\",0.875,0.5))))","v":0}]
[null,"W5",{"$f":"'Land&Rain'!M12","v":0},{"$f":"Input!I22","v":"0-24%"},{"$f":"'Land&Rain'!U12","v":1.0726348870678768},{"$f":"IF(BMPs!C48=\"ND\",0,BMPs!C48)","v":0},{"$f":"IF(BMPs!D48=\"ND\",0,BMPs!D48)","v":0},{"$f":"IF(BMPs!E48=\"ND\",0,BMPs!E48)","v":0},{"$f":"C16*IF(D16=\"0-24%\",0.125,IF(D16=\"25-49%\",0.375,IF(D16=\"50-74%\",0.625,IF(D16=\"75-100%\",0.875,0.5))))","v":0}]
[]
[]
[null,"2. Agricultural animals"]
[null,"Animal","Beef Cattle (Slaughter Steer)","Young Beef","Dairy Cattle","Young Dairy Stock","Swine","Feeder Pig","Sheep","Horse","Chicken","Turkey","Duck"]
[null,"Design Weight (lbs)",{"$f":"Reference!$C$5","v":1000},500,{"$f":"Reference!$C$6","v":1400},500,{"$f":"Reference!$C$7","v":200},50,{"$f":"Reference!$C$8","v":100},{"$f":"Reference!$C$9","v":1000},{"$f":"Reference!$C$10","v":4},{"$f":"Reference!$C$11","v":10},{"$f":"Reference!$C$12","v":4}]
[null,"W1",{"$f":"Animal!C10","v":0},0,{"$f":"Animal!D10","v":0},0,{"$f":"Animal!E10","v":0},0,{"$f":"Animal!F10","v":0},{"$f":"Animal!G10","v":0},{"$f":"Animal!H10","v":0},{"$f":"Animal!I10","v":0},{"$f":"Animal!J10","v":0}]
[null,"W2",{"$f":"Animal!C11","v":0},0,{"$f":"Animal!D11","v":0},0,{"$f":"Animal!E11","v":0},0,{"$f":"Animal!F11","v":0},{"$f":"Animal!G11","v":0},{"$f":"Animal!H11","v":0},{"$f":"Animal!I11","v":0},{"$f":"Animal!J11","v":0}]
[null,"W3",{"$f":"Animal!C12","v":0},0,{"$f":"Animal!D12","v":0},0,{"$f":"Animal!E12","v":0},0,{"$f":"Animal!F12","v":0},{"$f":"Animal!G12","v":0},{"$f":"Animal!H12","v":0},{"$f":"Animal!I12","v":0},{"$f":"Animal!J12","v":0}]
[null,"W4",{"$f":"Animal!C13","v":0},0,{"$f":"Animal!D13","v":0},0,{"$f":"Animal!E13","v":0},0,{"$f":"Animal!F13","v":0},{"$f":"Animal!G13","v":0},{"$f":"Animal!H13","v":0},{"$f":"Animal!I13","v":0},{"$f":"Animal!J13","v":0}]
[null,"W5",{"$f":"Animal!C14","v":0},0,{"$f":"Animal!D14","v":0},0,{"$f":"Animal!E14","v":0},0,{"$f":"Animal!F14","v":0},{"$f":"Animal!G14","v":0},{"$f":"Animal!H14","v":0},{"$f":"Animal!I14","v":0},{"$f":"Animal!J14","v":0}]
[]
[null,"3. Load from feedlot (lb/yr) (1 ac x in x mg/l = 0.227 lb)"]
[null,"Watershed","N load","P Load","BOD load","N Reduction","P Reduction","BOD Reduction"]
[null,"W1",{"$f":"IF(C12<>0,'Land&Rain'!S8*'Land&Rain'!S6*C55*C42*0.227,0)","v":0},{"$f":"IF(C12<>0,'Land&Rain'!S8*'Land&Rain'!S6*C56*C42*0.227,0)","v":0},{"$f":"IF(C12<>0,'Land&Rain'!S8*'Land&Rain'!S6*C57*C42*0.227,0)","v":0},{"$f":"IF(F12<>0,C30*F12,0)","v":0},{"$f":"IF(G12<>0,D30*G12,0)","v":0},{"$f":"IF(H12<>0,E30*H12,0)","v":0}]
[null,"W2",{"$f":"IF(C13<>0,'Land&Rain'!S9*'Land&Rain'!S6*D55*D42*0.227,0)","v":0},{"$f":"IF(C13<>0,'Land&Rain'!S9*'Land&Rain'!S6*D56*D42*0.227,0)","v":0},{"$f":"IF(C13<>0,'Land&Rain'!S9*'Land&Rain'!S6*D57*D42*0.227,0)","v":0},{"$f":"IF(F13<>0,C31*F13,0)","v":0},{"$f":"IF(G13<>0,D31*G13,0)","v":0},{"$f":"IF(H13<>0,E31*H13,0)","v":0}]
[null,"W3",{"$f":"IF(C14<>0,'Land&Rain'!S10*'Land&Rain'!S6*E55*E42*0.227,0)","v":0},{"$f":"IF(C14<>0,'Land&Rain'!S10*'Land&Rain'!S6*E56*E42*0.227,0)","v":0},{"$f":"IF(C14<>0,'Land&Rain'!S10*'Land&Rain'!S6*E57*E42*0.227,0)","v":0},{"$f":"IF(F14<>0,C32*F14,0)","v":0},{"$f":"IF(G14<>0,D32*G14,0)","v":0},{"$f":"IF(H14<>0,E32*H14,0)","v":0}]
[null,"W4",{"$f":"IF(C15<>0,'Land&Rain'!S11*'Land&Rain'!S6*F55*F42*0.227,0)","v":0},{"$f":"IF(C15<>0,'Land&Rain'!S11*'Land&Rain'!S6*F56*F42*0.227,0)","v":0},{"$f":"IF(C15<>0,'Land&Rain'!S11*'Land&Rain'!S6*F57*F42*0.227,0)","v":0},{"$f":"IF(F15<>0,C33*F15,0)","v":0},{"$f":"IF(G15<>0,D33*G15,0)","v":0},{"$f":"IF(H15<>0,E33*H15,0)","v":0}]
[null,"W5",{"$f":"IF(C16<>0,'Land&Rain'!S12*'Land&Rain'!S6*G55*G42*0.227,0)","v":0},{"$f":"IF(C16<>0,'Land&Rain'!S12*'Land&Rain'!S6*G56*G42*0.227,0)","v":0},{"$f":"IF(C16<>0,'Land&Rain'!S12*'Land&Rain'!S6*G57*G42*0.227,0)","v":0},{"$f":"IF(F16<>0,C34*F16,0)","v":0},{"$f":"IF(G16<>0,D34*G16,0)","v":0},{"$f":"IF(H16<>0,E34*H16,0)","v":0}]
[]
[]
[null,"Feedlot load calculation"]
[null,null,"W1","W2","W3","W4","W5"]
[null,"CN",{"$f":"IF(D12=\"0-24%\",91,IF(D12=\"25-49%\",92,IF(D12=\"50-74%\",93,IF(D12=\"75-100%\",94,91))))","v":91},{"$f":"IF(D13=\"0-24%\",91,IF(D13=\"25-49%\",92,IF(D13=\"50-74%\",93,IF(D13=\"75-100%\",94,91))))","v":91},{"$f":"IF(D14=\"0-24%\",91,IF(D14=\"25-49%\",92,IF(D14=\"50-74%\",93,IF(D14=\"75-100%\",94,91))))","v":91},{"$f":"IF(D15=\"0-24%\",91,IF(D15=\"25-49%\",92,IF(D15=\"50-74%\",93,IF(D15=\"75-100%\",94,91))))","v":91},{"$f":"IF(D16=\"0-24%\",91,IF(D16=\"25-49%\",92,IF(D16=\"50-74%\",93,IF(D16=\"75-100%\",94,91))))","v":91}]
[null,"S",{"$f":"(1000/C39)-10","v":0.98901098901098905},{"$f":"(1000/D39)-10","v":0.98901098901098905},{"$f":"(1000/E39)-10","v":0.98901098901098905},{"$f":"(1000/F39)-10","v":0.98901098901098905},{"$f":"(1000/G39)-10","v":0.98901098901098905}]
[null,"Q",{"$f":"(($E12-0.2*(C40))^2)/($E12+(0.8*C40))","v":0.41062039865674538},{"$f":"(($E13-0.2*(D40))^2)/($E13+(0.8*D40))","v":0.41062039865674538},{"$f":"(($E14-0.2*(E40))^2)/($E14+(0.8*E40))","v":0.41062039865674538},{"$f":"(($E15-0.2*(F40))^2)/($E15+(0.8*F40))","v":0.41062039865674538},{"$f":"(($E16-0.2*(G40))^2)/($E16+(0.8*G40))","v":0.41062039865674538}]
[null,"V",{"$f":"((C41*C12))","v":0},{"$f":"((D41*C13))","v":0},{"$f":"((E41*C14))","v":0},{"$f":"((F41*C15))","v":0},{"$f":"((G41*C16))","v":0}]
[null,"EAU-N",{"$f":"C22*C63+D22*C64+E22*C65+F22*C66+G22*C67+H22*C68+I22*C69+J22*C70+K22*C71+L22*C72+M22*C73","v":0},{"$f":"C23*C63+D23*C64+E23*C65+F23*C66+G23*C67+H23*C68+I23*C69+J23*C70+K23*C71+L23*C72+M23*C73","v":0},{"$f":"C24*C63+D24*C64+E24*C65+F24*C66+G24*C67+H24*C68+I24*C69+J24*C70+K24*C71+L24*C72+M24*C73","v":0},{"$f":"C25*C63+D25*C64+E25*C65+F25*C66+G25*C67+H25*C68+I25*C69+J25*C70+K25*C71+L25*C72+M25*C73","v":0},{"$f":"C26*C63+D26*C64+E26*C65+F26*C66+G26*C67+H26*C68+I26*C69+J26*C70+K26*C71+L26*C72+M26*C73","v":0}]
[null,"EAU-P",{"$f":"C22*D63+D22*D64+E22*D65+F22*D66+G22*D67+H22*D68+I22*D69+J22*D70+K22*D71+L22*D72+M22*D73","v":0},{"$f":"C23*D63+D23*D64+E23*D65+F23*D66+G23*D67+H23*D68+I23*D69+J23*D70+K23*D71+L23*D72+M23*D73","v":0},{"$f":"C24*D63+D24*D64+E24*D65+F24*D66+G24*D67+H24*D68+I24*D69+J24*D70+K24*D71+L24*D72+M24*D73","v":0},{"$f":"C25*D63+D25*D64+E25*D65+F25*D66+G25*D67+H25*D68+I25*D69+J25*D70+K25*D71+L25*D72+M25*D73","v":0},{"$f":"C26*D63+D26*D64+E26*D65+F26*D66+G26*D67+H26*D68+I26*D69+J26*D70+K26*D71+L26*D72+M26*D73","v":0}]
[null,"EAU-BOD",{"$f":"C22*E63+D22*E64+E22*E65+F22*E66+G22*E67+H22*E68+I22*E69+J22*E70+K22*E71+L22*E72+M22*E73","v":0},{"$f":"C23*E63+D23*E64+E23*E65+F23*E66+G23*E67+H23*E68+I23*E69+J23*E70+K23*E71+L23*E72+M23*E73","v":0},{"$f":"C24*E63+D24*E64+E24*E65+F24*E66+G24*E67+H24*E68+I24*E69+J24*E70+K24*E71+L24*E72+M24*E73","v":0},{"$f":"C25*E63+D25*E64+E25*E65+F25*E66+G25*E67+H25*E68+I25*E69+J25*E70+K25*E71+L25*E72+M25*E73","v":0},{"$f":"C26*E63+D26*E64+E26*E65+F26*E66+G26*E67+H26*E68+I26*E69+J26*E70+K26*E71+L26*E72+M26*E73","v":0}]
[null,"EAU-COD",{"$f":"C22*F63+D22*F64+E22*F65+F22*F66+G22*F67+H22*F68+I22*F69+J22*F70+K22*F71+L22*F72+M22*F73","v":0},{"$f":"C23*F63+D23*F64+E23*F65+F23*F66+G23*F67+H23*F68+I23*F69+J23*F70+K23*F71+L23*F72+M23*F73","v":0},{"$f":"C24*F63+D24*F64+E24*F65+F24*F66+G24*F67+H24*F68+I24*F69+J24*F70+K24*F71+L24*F72+M24*F73","v":0},{"$f":"C25*F63+D25*F64+E25*F65+F25*F66+G25*F67+H25*F68+I25*F69+J25*F70+K25*F71+L25*F72+M25*F73","v":0},{"$f":"C26*F63+D26*F64+E26*F65+F26*F66+G26*F67+H26*F68+I26*F69+J26*F70+K26*F71+L26*F72+M26*F73","v":0}]
[null,"AUD-N",{"$f":"IF(C12>0,C43/C12,0)","v":0},{"$f":"IF(C13>0,D43/C13,0)","v":0},{"$f":"IF(C14>0,E43/C14,0)","v":0},{"$f":"IF(C15>0,F43/C15,0)","v":0},{"$f":"IF(C16>0,G43/C16,0)","v":0}]
[null,"AUD-P",{"$f":"IF(C12>0,C44/C12,0)","v":0},{"$f":"IF(C13>0,D44/C13,0)","v":0},{"$f":"IF(C14>0,E44/C14,0)","v":0},{"$f":"IF(C15>0,F44/C15,0)","v":0},{"$f":"IF(C16>0,G44/C16,0)","v":0}]
[null,"AUD-BOD",{"$f":"IF(C12>0,C45/C12,0)","v":0},{"$f":"IF(C13>0,D45/C13,0)","v":0},{"$f":"IF(C14>0,E45/C14,0)","v":0},{"$f":"IF(C15>0,F45/C15,0)","v":0},{"$f":"IF(C16>0,G45/C16,0)","v":0}]
[null,"AUD-COD",{"$f":"IF(C12>0,C46/C12,0)","v":0},{"$f":"IF(C13>0,D46/C13,0)","v":0},{"$f":"IF(C14>0,E46/C14,0)","v":0},{"$f":"IF(C15>0,F46/C15,0)","v":0},{"$f":"IF(C16>0,G46/C16,0)","v":0}]
[null,"PACK-N",{"$f":"(IF(C47<100,C47,100))/100","v":0},{"$f":"(IF(D47<100,D47,100))/100","v":0},{"$f":"(IF(E47<100,E47,100))/100","v":0},{"$f":"(IF(F47<100,F47,100))/100","v":0},{"$f":"(IF(G47<100,G47,100))/100","v":0}]
[null,"PACK-P",{"$f":"(IF(C48<100,C48,100))/100","v":0},{"$f":"(IF(D48<100,D48,100))/100","v":0},{"$f":"(IF(E48<100,E48,100))/100","v":0},{"$f":"(IF(F48<100,F48,100))/100","v":0},{"$f":"(IF(G48<100,G48,100))/100","v":0}]
[null,"PACK-BOD",{"$f":"(IF(C49<100,C49,100))/100","v":0},{"$f":"(IF(D49<100,D49,100))/100","v":0},{"$f":"(IF(E49<100,E49,100))/100","v":0},{"$f":"(IF(F49<100,F49,100))/100","v":0},{"$f":"(IF(G49<100,G49,100))/100","v":0}]
[null,"PACK-COD",{"$f":"(IF(C50<100,C50,100))/100","v":0},{"$f":"(IF(D50<100,D50,100))/100","v":0},{"$f":"(IF(E50<100,E50,100))/100","v":0},{"$f":"(IF(F50<100,F50,100))/100","v":0},{"$f":"(IF(G50<100,G50,100))/100","v":0}]
[null,"N-CONC mg/l",{"$f":"C51*1500","v":0},{"$f":"D51*1500","v":0},{"$f":"E51*1500","v":0},{"$f":"F51*1500","v":0},{"$f":"G51*1500","v":0}]
[null,"P-CONC mg/l",{"$f":"C52*300","v":0},{"$f":"D52*300","v":0},{"$f":"E52*300","v":0},{"$f":"F52*300","v":0},{"$f":"G52*300","v":0}]
[null,"BOD-CONC mg/l",{"$f":"C53*2000","v":0},{"$f":"D53*2000","v":0},{"$f":"E53*2000","v":0},{"$f":"F53*2000","v":0},{"$f":"G53*2000","v":0}]
[null,"COD-CONC mg/l",{"$f":"C54*4500","v":0},{"$f":"D54*4500","v":0},{"$f":"E54*4500","v":0},{"$f":"F54*4500","v":0},{"$f":"G54*4500","v":0}]
[]
[]
[null,"Ratio of nutrients produced by animals relative to 1000 lb of slaughter steer"]
[null,"Animal","N","P","BOD","COD"]
[null,"Slaughter Steer",1,1,1,1]
[null,"Young Beef",0.5,0.51,0.5,0.5]
[null,"Dairy Cow",1.853,0.92,1.4,1.96]
[null,"Young Dairy Stock",0.66200000000000003,0.33,0.5,0.7]
[null,"Swine",0.30599999999999999,0.27,0.38800000000000001,0.17]
[null,"Feeder Pig",7.5999999999999998E-2,7.0000000000000007E-2,9.7000000000000003E-2,0.04]
[null,"Sheep",0.124,0.06,7.4999999999999997E-2,0.18]
[null,"Horse",0.88200000000000001,0.42,1.0629999999999999,0.42]
[null,"Chicken",0.01,0.01,8.0000000000000002E-3,0.01]
[null,"Turkey",1.7999999999999999E-2,0.03,1.2999999999999999E-2,0.02]
[null,"Duck",1.7999999999999999E-2,0.01,1.0999999999999999E-2,0.01]

{"sheet":"Septic","index":7,"n_rows":29,"n_cols":19,"rows_kept":29,"cut":false,"hidden":true,"merged":[]}
[null,"Septic Nutrient Loads"]
[null,"The direct contribution of nutrients to a stream is mainly from failing septic systems."]
[null,"Required input for calculating septic nutrient load are number of systems, failure rate, loading rate (lb/hr) and flow (cfs)."]
[null,"Assumption: failing septic systems are distributed evenly across the watershed based on land area."]
[]
[]
[null,"1. Nutrient load from septic systems"]
[null,"Watershed","No. of Septic Systems","Population per Septic System","Septic Failure Rate, %","Failing Septic Systems","Population on Failing Septic","Direct Discharge Population","Failing Septic Flow, gal/day","Direct Wastewater Flow","Failing Septic Flow, l/hr","Direct Wastewater Flow, l/hr,","N Load,  lb/hr","P Load,  lb/hr","BOD, lb/hr","Reduction: Direct Wastewater Flow, l/hr","Reduction: N Load,  lb/hr","Reduction: P Load,  lb/hr","Reduction: BOD Load,  lb/hr"]
[null,"W1",{"$f":"Input!C37","v":0},{"$f":"Input!D37","v":2.4300000000000002},{"$f":"Input!E37","v":2},{"$f":"C9*E9/100","v":0},{"$f":"C9*D9*E9/100","v":0},{"$f":"Input!F37","v":0},{"$f":"G9*E20","v":0},{"$f":"H9*I20","v":0},{"$f":"I9*3.785412/24","v":0},{"$f":"J9*3.785412/24","v":0},{"$f":"(K9*E17+L9*I17)/453592.4","v":0},{"$f":"(K9*E18+L9*I18)/453592.4","v":0},{"$f":"(K9*E19+L9*I19)/453592.4","v":0},{"$f":"Input!G37*L9/100","v":0},{"$f":"I17*P9/453592.4","v":0},{"$f":"I18*P9/453592.4","v":0},{"$f":"I19*P9/453592.4","v":0}]
[null,"W2",{"$f":"Input!C38","v":0},{"$f":"Input!D38","v":2.4300000000000002},{"$f":"Input!E38","v":2},{"$f":"C10*E10/100","v":0},{"$f":"C10*D10*E10/100","v":0},{"$f":"Input!F38","v":0},{"$f":"G10*E20","v":0},{"$f":"H10*I20","v":0},{"$f":"I10*3.785412/24","v":0},{"$f":"J10*3.785412/24","v":0},{"$f":"(K10*E17+L10*I17)/453592.4","v":0},{"$f":"(K10*E18+L10*I18)/453592.4","v":0},{"$f":"(K10*E19+L10*I19)/453592.4","v":0},{"$f":"Input!G38*L10/100","v":0},{"$f":"I17*P10/453592.4","v":0},{"$f":"I18*P10/453592.4","v":0},{"$f":"I19*P10/453592.4","v":0}]
[null,"W3",{"$f":"Input!C39","v":0},{"$f":"Input!D39","v":2.4300000000000002},{"$f":"Input!E39","v":2},{"$f":"C11*E11/100","v":0},{"$f":"C11*D11*E11/100","v":0},{"$f":"Input!F39","v":0},{"$f":"G11*E20","v":0},{"$f":"H11*I20","v":0},{"$f":"I11*3.785412/24","v":0},{"$f":"J11*3.785412/24","v":0},{"$f":"(K11*E17+L11*I17)/453592.4","v":0},{"$f":"(K11*E18+L11*I18)/453592.4","v":0},{"$f":"(K11*E19+L11*I19)/453592.4","v":0},{"$f":"Input!G39*L11/100","v":0},{"$f":"I17*P11/453592.4","v":0},{"$f":"I18*P11/453592.4","v":0},{"$f":"I19*P11/453592.4","v":0}]
[null,"W4",{"$f":"Input!C40","v":0},{"$f":"Input!D40","v":2.4300000000000002},{"$f":"Input!E40","v":2},{"$f":"C12*E12/100","v":0},{"$f":"C12*D12*E12/100","v":0},{"$f":"Input!F40","v":0},{"$f":"G12*E20","v":0},{"$f":"H12*I20","v":0},{"$f":"I12*3.785412/24","v":0},{"$f":"J12*3.785412/24","v":0},{"$f":"(K12*E17+L12*I17)/453592.4","v":0},{"$f":"(K12*E18+L12*I18)/453592.4","v":0},{"$f":"(K12*E19+L12*I19)/453592.4","v":0},{"$f":"Input!G40*L12/100","v":0},{"$f":"I17*P12/453592.4","v":0},{"$f":"I18*P12/453592.4","v":0},{"$f":"I19*P12/453592.4","v":0}]
[null,"W5",{"$f":"Input!C41","v":0},{"$f":"Input!D41","v":2.4300000000000002},{"$f":"Input!E41","v":2},{"$f":"C13*E13/100","v":0},{"$f":"C13*D13*E13/100","v":0},{"$f":"Input!F41","v":0},{"$f":"G13*E20","v":0},{"$f":"H13*I20","v":0},{"$f":"I13*3.785412/24","v":0},{"$f":"J13*3.785412/24","v":0},{"$f":"(K13*E17+L13*I17)/453592.4","v":0},{"$f":"(K13*E18+L13*I18)/453592.4","v":0},{"$f":"(K13*E19+L13*I19)/453592.4","v":0},{"$f":"Input!G41*L13/100","v":0},{"$f":"I17*P13/453592.4","v":0},{"$f":"I18*P13/453592.4","v":0},{"$f":"I19*P13/453592.4","v":0}]
[]
[]
[null,"Assume the average concentrations reaching the stream (from septic overcharge) are:",null,null,null,null,null,null,"Wastewater per capita:"]
[null,null,"Total Nitrogen:",null,60,"mg/L (range of 20 to 100)",null,null,40,"mg/L (range of 20 to 85)"]
[null,null,"Total Phosphorus:",null,23.5,"mg/L (range of 18 to 29)",null,null,8,"mg/L (range of 4 to 15)"]
[null,null,"Organics (BOD):",null,245,"mg/L (range of 200 to 290)",null,null,220,"mg/L (range of 110 to 400)"]
[null,"Typical septic overcharge flow rate of:",null,null,70,"gal/day/person(range of 45 to 100)",null,null,75,"gal/day/person (range of 75 to 125)"]
[null,null,null,null,null,null,null,null,"Metcalf and Eddy, Inc. 1979. Wastewater Engineering: Treatment, Disposal, Reuse. 2nd ed. McGraw-Hill, New York."]
[]
[null,"2. Septic nutrient load in lb/yr",null,null,null,"Wastewater Reduction",null,null,"Load after Reduction"]
[null,"Watershed","N Load, lb/yr","P Load, lb/yr","BOD, lb/yr","N Load, lb/yr","P Load, lb/yr","BOD, lb/yr","N Load, lb/yr","P Load, lb/yr","BOD, lb/yr"]
[null,"W1",{"$f":"M9*24*365","v":0},{"$f":"N9*24*365","v":0},{"$f":"O9*24*365","v":0},{"$f":"Q9*24*365","v":0},{"$f":"R9*24*365","v":0},{"$f":"S9*24*365","v":0},{"$f":"C25-F25","v":0},{"$f":"D25-G25","v":0},{"$f":"E25-H25","v":0}]
[null,"W2",{"$f":"M10*24*365","v":0},{"$f":"N10*24*365","v":0},{"$f":"O10*24*365","v":0},{"$f":"Q10*24*365","v":0},{"$f":"R10*24*365","v":0},{"$f":"S10*24*365","v":0},{"$f":"C26-F26","v":0},{"$f":"D26-G26","v":0},{"$f":"E26-H26","v":0}]
[null,"W3",{"$f":"M11*24*365","v":0},{"$f":"N11*24*365","v":0},{"$f":"O11*24*365","v":0},{"$f":"Q11*24*365","v":0},{"$f":"R11*24*365","v":0},{"$f":"S11*24*365","v":0},{"$f":"C27-F27","v":0},{"$f":"D27-G27","v":0},{"$f":"E27-H27","v":0}]
[null,"W4",{"$f":"M12*24*365","v":0},{"$f":"N12*24*365","v":0},{"$f":"O12*24*365","v":0},{"$f":"Q12*24*365","v":0},{"$f":"R12*24*365","v":0},{"$f":"S12*24*365","v":0},{"$f":"C28-F28","v":0},{"$f":"D28-G28","v":0},{"$f":"E28-H28","v":0}]
[null,"W5",{"$f":"M13*24*365","v":0},{"$f":"N13*24*365","v":0},{"$f":"O13*24*365","v":0},{"$f":"Q13*24*365","v":0},{"$f":"R13*24*365","v":0},{"$f":"S13*24*365","v":0},{"$f":"C29-F29","v":0},{"$f":"D29-G29","v":0},{"$f":"E29-H29","v":0}]

{"sheet":"Sediment","index":8,"n_rows":55,"n_cols":24,"rows_kept":55,"cut":false,"hidden":true,"merged":[[45,16,45,17],[45,18,45,19],[48,2,48,5],[48,6,48,9],[48,10,48,13],[48,14,48,17],[44,14,44,15],[44,16,44,17],[44,18,44,19],[45,2,45,3],[45,4,45,5],[45,6,45,7],[45,8,45,9],[45,10,45,11],[45,12,45,13],[45,14,45,15],[44,2,44,3],[44,4,44,5],[44,6,44,7],[44,8,44,9],[44,10,44,11],[44,12,44,13],[42,18,42,19],[43,2,43,3],[43,4,43,5],[43,6,43,7],[43,8,43,9],[43,10,43,11],[43,12,43,13],[43,14,43,15],[43,16,43,17],[43,18,43,19],[41,16,41,17],[41,18,41,19],[42,2,42,3],[42,4,42,5],[42,6,42,7],[42,8,42,9],[42,10,42,11],[42,12,42,13],[42,14,42,15],[42,16,42,17],[40,14,40,15],[40,16,40,17],[40,18,40,19],[41,2,41,3],[41,4,41,5],[41,6,41,7],[41,8,41,9],[41,10,41,11],[41,12,41,13],[41,14,41,15],[40,2,40,3],[40,4,40,5],[40,6,40,7],[40,8,40,9],[40,10,40,11],[40,12,40,13],[37,2,37,3],[37,4,37,5],[37,6,37,7],[37,8,37,9],[37,10,37,11],[37,12,37,13],[36,2,36,3],[36,4,36,5],[36,6,36,7],[36,8,36,9],[36,10,36,11],[36,12,36,13],[35,2,35,3],[35,4,35,5],[35,6,35,7],[35,8,35,9],[35,10,35,11],[35,12,35,13],[34,2,34,3],[34,4,34,5],[34,6,34,7],[34,8,34,9],[34,10,34,11],[34,12,34,13],[33,2,33,3],[33,4,33,5],[33,6,33,7],[33,8,33,9],[33,10,33,11],[33,12,33,13],[32,2,32,3],[32,4,32,5],[32,6,32,7],[32,8,32,9],[32,10,32,11],[32,12,32,13],[28,14,28,15],[28,16,28,17],[29,2,29,3],[29,4,29,5],[29,6,29,7],[29,8,29,9],[29,10,29,11],[29,12,29,13],[29,14,29,15],[29,16,29,17],[28,2,28,3],[28,4,28,5],[28,6,28,7],[28,8,28,9],[28,10,28,11],[28,12,28,13],[26,14,26,15],[26,16,26,17],[27,2,27,3],[27,4,27,5],[27,6,27,7],[27,8,27,9],[27,10,27,11],[27,12,27,13],[27,14,27,15],[27,16,27,17],[26,2,26,3],[26,4,26,5],[26,6,26,7],[26,8,26,9],[26,10,26,11],[26,12,26,13],[24,14,24,15],[24,16,24,17],[25,2,25,3],[25,4,25,5],[25,6,25,7],[25,8,25,9],[25,10,25,11],[25,12,25,13],[25,14,25,15],[25,16,25,17],[24,2,24,3],[24,4,24,5],[24,6,24,7],[24,8,24,9],[24,10,24,11],[24,12,24,13],[6,2,6,6],[6,7,6,11],[6,12,6,16],[6,17,6,21],[15,2,15,5],[15,6,15,9],[15,10,15,13],[15,14,15,17]]}
[null,"Sediment Load"]
[null,"Sediment load is calculated based on USLE equation and delivery ratio. Users need to modify the default USLE parameters."]
[null,"Sediment delivery ratio (DR) is calculated using:  DR=0.42^A-0.125 if A<200 acres, and DR=0.417662A^-0.134958 - 0.127097 if A>=200 acres."]
[null,"Where A is the watershed area (mi²).  STEPL calcultes sheet and rill erosion only (using USLE) and does not account for gully erosion and stream bank erosion."]
[]
[null,"1. Input USLE parameters"]
[null,"Watershed","Cropland",null,null,null,null,"Pastureland",null,null,null,null,"Forest",null,null,null,null,"User Defined",null,null,null,null,null,{"$f":"IF(Input!$F$10=TRUE,\"Total WS \",\"Individual Sub \")","v":"Individual Sub "}]
[null,null,"R","K","LS","C","P","R","K","LS","C","P","R","K","LS","C","P","R","K","LS","C","P","DR","Area (ac)"]
[null,"W1",{"$f":"Input!C47","v":374.6893606005695},{"$f":"Input!D47","v":0.19711980957418693},{"$f":"Input!E47","v":0.28912718798606546},{"$f":"Input!F47","v":0.2},{"$f":"Input!G47","v":0.98570127504553728},{"$f":"Input!H47","v":374.6893606005695},{"$f":"Input!I47","v":0.19711980957418693},{"$f":"Input!J47","v":0.28912718798606546},{"$f":"Input!K47","v":0.04},{"$f":"Input!L47","v":1},{"$f":"Input!M47","v":374.6893606005695},{"$f":"Input!N47","v":0.19711980957418693},{"$f":"Input!O47","v":0.28912718798606546},{"$f":"Input!P47","v":3.0000000000000001E-3},{"$f":"Input!Q47","v":1},{"$f":"Input!R47","v":374.6893606005695},{"$f":"Input!S47","v":0.19711980957418693},{"$f":"Input!T47","v":0.28912718798606546},{"$f":"Input!U47","v":0.13582877959927137},{"$f":"Input!V47","v":1},{"$f":"IF(X9=0,0,IF(X9>200,(0.417662*POWER(X9/640,-0.134958)-0.127097),0.42*POWER(X9/640,-0.125)))","v":0},{"$f":"IF(Input!$F$10=TRUE, WSAreaSum, 'Land&Rain'!O8)","v":0}]
[null,"W2",{"$f":"Input!C48","v":374.6893606005695},{"$f":"Input!D48","v":0.19711980957418693},{"$f":"Input!E48","v":0.28912718798606546},{"$f":"Input!F48","v":0.2},{"$f":"Input!G48","v":0.98570127504553728},{"$f":"Input!H48","v":374.6893606005695},{"$f":"Input!I48","v":0.19711980957418693},{"$f":"Input!J48","v":0.28912718798606546},{"$f":"Input!K48","v":0.04},{"$f":"Input!L48","v":1},{"$f":"Input!M48","v":374.6893606005695},{"$f":"Input!N48","v":0.19711980957418693},{"$f":"Input!O48","v":0.28912718798606546},{"$f":"Input!P48","v":3.0000000000000001E-3},{"$f":"Input!Q48","v":1},{"$f":"Input!R48","v":374.6893606005695},{"$f":"Input!S48","v":0.19711980957418693},{"$f":"Input!T48","v":0.28912718798606546},{"$f":"Input!U48","v":0.13582877959927137},{"$f":"Input!V48","v":1},{"$f":"IF(X10=0,0,IF(X10>200,(0.417662*POWER(X10/640,-0.134958)-0.127097),0.42*POWER(X10/640,-0.125)))","v":0},{"$f":"IF(Input!$F$10=TRUE, WSAreaSum, 'Land&Rain'!O9)","v":0}]
[null,"W3",{"$f":"Input!C49","v":374.6893606005695},{"$f":"Input!D49","v":0.19711980957418693},{"$f":"Input!E49","v":0.28912718798606546},{"$f":"Input!F49","v":0.2},{"$f":"Input!G49","v":0.98570127504553728},{"$f":"Input!H49","v":374.6893606005695},{"$f":"Input!I49","v":0.19711980957418693},{"$f":"Input!J49","v":0.28912718798606546},{"$f":"Input!K49","v":0.04},{"$f":"Input!L49","v":1},{"$f":"Input!M49","v":374.6893606005695},{"$f":"Input!N49","v":0.19711980957418693},{"$f":"Input!O49","v":0.28912718798606546},{"$f":"Input!P49","v":3.0000000000000001E-3},{"$f":"Input!Q49","v":1},{"$f":"Input!R49","v":374.6893606005695},{"$f":"Input!S49","v":0.19711980957418693},{"$f":"Input!T49","v":0.28912718798606546},{"$f":"Input!U49","v":0.13582877959927137},{"$f":"Input!V49","v":1},{"$f":"IF(X11=0,0,IF(X11>200,(0.417662*POWER(X11/640,-0.134958)-0.127097),0.42*POWER(X11/640,-0.125)))","v":0},{"$f":"IF(Input!$F$10=TRUE, WSAreaSum, 'Land&Rain'!O10)","v":0}]
[null,"W4",{"$f":"Input!C50","v":374.6893606005695},{"$f":"Input!D50","v":0.19711980957418693},{"$f":"Input!E50","v":0.28912718798606546},{"$f":"Input!F50","v":0.2},{"$f":"Input!G50","v":0.98570127504553728},{"$f":"Input!H50","v":374.6893606005695},{"$f":"Input!I50","v":0.19711980957418693},{"$f":"Input!J50","v":0.28912718798606546},{"$f":"Input!K50","v":0.04},{"$f":"Input!L50","v":1},{"$f":"Input!M50","v":374.6893606005695},{"$f":"Input!N50","v":0.19711980957418693},{"$f":"Input!O50","v":0.28912718798606546},{"$f":"Input!P50","v":3.0000000000000001E-3},{"$f":"Input!Q50","v":1},{"$f":"Input!R50","v":374.6893606005695},{"$f":"Input!S50","v":0.19711980957418693},{"$f":"Input!T50","v":0.28912718798606546},{"$f":"Input!U50","v":0.13582877959927137},{"$f":"Input!V50","v":1},{"$f":"IF(X12=0,0,IF(X12>200,(0.417662*POWER(X12/640,-0.134958)-0.127097),0.42*POWER(X12/640,-0.125)))","v":0},{"$f":"IF(Input!$F$10=TRUE, WSAreaSum, 'Land&Rain'!O11)","v":0}]
[null,"W5",{"$f":"Input!C51","v":374.6893606005695},{"$f":"Input!D51","v":0.19711980957418693},{"$f":"Input!E51","v":0.28912718798606546},{"$f":"Input!F51","v":0.2},{"$f":"Input!G51","v":0.98570127504553728},{"$f":"Input!H51","v":374.6893606005695},{"$f":"Input!I51","v":0.19711980957418693},{"$f":"Input!J51","v":0.28912718798606546},{"$f":"Input!K51","v":0.04},{"$f":"Input!L51","v":1},{"$f":"Input!M51","v":374.6893606005695},{"$f":"Input!N51","v":0.19711980957418693},{"$f":"Input!O51","v":0.28912718798606546},{"$f":"Input!P51","v":3.0000000000000001E-3},{"$f":"Input!Q51","v":1},{"$f":"Input!R51","v":374.6893606005695},{"$f":"Input!S51","v":0.19711980957418693},{"$f":"Input!T51","v":0.28912718798606546},{"$f":"Input!U51","v":0.13582877959927137},{"$f":"Input!V51","v":1},{"$f":"IF(X13=0,0,IF(X13>200,(0.417662*POWER(X13/640,-0.134958)-0.127097),0.42*POWER(X13/640,-0.125)))","v":0},{"$f":"IF(Input!$F$10=TRUE, WSAreaSum, 'Land&Rain'!O12)","v":0}]
[]
[null,"BMP and efficiency, C=Cropland, P=Pastureland,F=Forest,U=Urban"]
[null,"BMP on","Sediment",null,null,null,"N",null,null,null,"P",null,null,null,"BOD"]
[null,null,"C","P","F","U","C","P","F","U","C","P","F","U","C","P","F","U"]
[null,"W1",{"$f":"IF(BMPs!F8=\"ND\",0,BMPs!F8)","v":0},{"$f":"IF(BMPs!F17=\"ND\",0,BMPs!F17)","v":0},{"$f":"IF(BMPs!F26=\"ND\",0,BMPs!F26)","v":0},{"$f":"IF(BMPs!F35=\"ND\",0,BMPs!F35)","v":0},{"$f":"IF(BMPs!C8=\"ND\",0,BMPs!C8)","v":0},{"$f":"IF(BMPs!C17=\"ND\",0,BMPs!C17)","v":0},{"$f":"IF(BMPs!C26=\"ND\",0,BMPs!C26)","v":0},{"$f":"IF(BMPs!C35=\"ND\",0,BMPs!C35)","v":0},{"$f":"IF(BMPs!D8=\"ND\",0,BMPs!D8)","v":0},{"$f":"IF(BMPs!D17=\"ND\",0,BMPs!D17)","v":0},{"$f":"IF(BMPs!D26=\"ND\",0,BMPs!D26)","v":0},{"$f":"IF(BMPs!D35=\"ND\",0,BMPs!D35)","v":0},{"$f":"IF(BMPs!E8=\"ND\",0,BMPs!E8)","v":0},{"$f":"IF(BMPs!E17=\"ND\",0,BMPs!E17)","v":0},{"$f":"IF(BMPs!E26=\"ND\",0,BMPs!E26)","v":0},{"$f":"IF(BMPs!E35=\"ND\",0,BMPs!E35)","v":0}]
[null,"W2",{"$f":"IF(BMPs!F9=\"ND\",0,BMPs!F9)","v":0},{"$f":"IF(BMPs!F18=\"ND\",0,BMPs!F18)","v":0},{"$f":"IF(BMPs!F27=\"ND\",0,BMPs!F27)","v":0},{"$f":"IF(BMPs!F36=\"ND\",0,BMPs!F36)","v":0},{"$f":"IF(BMPs!C9=\"ND\",0,BMPs!C9)","v":0},{"$f":"IF(BMPs!C18=\"ND\",0,BMPs!C18)","v":0},{"$f":"IF(BMPs!C27=\"ND\",0,BMPs!C27)","v":0},{"$f":"IF(BMPs!C36=\"ND\",0,BMPs!C36)","v":0},{"$f":"IF(BMPs!D9=\"ND\",0,BMPs!D9)","v":0},{"$f":"IF(BMPs!D18=\"ND\",0,BMPs!D18)","v":0},{"$f":"IF(BMPs!D27=\"ND\",0,BMPs!D27)","v":0},{"$f":"IF(BMPs!D36=\"ND\",0,BMPs!D36)","v":0},{"$f":"IF(BMPs!E9=\"ND\",0,BMPs!E9)","v":0},{"$f":"IF(BMPs!E18=\"ND\",0,BMPs!E18)","v":0},{"$f":"IF(BMPs!E27=\"ND\",0,BMPs!E27)","v":0},{"$f":"IF(BMPs!E36=\"ND\",0,BMPs!E36)","v":0}]
[null,"W3",{"$f":"IF(BMPs!F10=\"ND\",0,BMPs!F10)","v":0},{"$f":"IF(BMPs!F19=\"ND\",0,BMPs!F19)","v":0},{"$f":"IF(BMPs!F28=\"ND\",0,BMPs!F28)","v":0},{"$f":"IF(BMPs!F37=\"ND\",0,BMPs!F37)","v":0},{"$f":"IF(BMPs!C10=\"ND\",0,BMPs!C10)","v":0},{"$f":"IF(BMPs!C19=\"ND\",0,BMPs!C19)","v":0},{"$f":"IF(BMPs!C28=\"ND\",0,BMPs!C28)","v":0},{"$f":"IF(BMPs!C37=\"ND\",0,BMPs!C37)","v":0},{"$f":"IF(BMPs!D10=\"ND\",0,BMPs!D10)","v":0},{"$f":"IF(BMPs!D19=\"ND\",0,BMPs!D19)","v":0},{"$f":"IF(BMPs!D28=\"ND\",0,BMPs!D28)","v":0},{"$f":"IF(BMPs!D37=\"ND\",0,BMPs!D37)","v":0},{"$f":"IF(BMPs!E10=\"ND\",0,BMPs!E10)","v":0},{"$f":"IF(BMPs!E19=\"ND\",0,BMPs!E19)","v":0},{"$f":"IF(BMPs!E28=\"ND\",0,BMPs!E28)","v":0},{"$f":"IF(BMPs!E37=\"ND\",0,BMPs!E37)","v":0}]
[null,"W4",{"$f":"IF(BMPs!F11=\"ND\",0,BMPs!F11)","v":0},{"$f":"IF(BMPs!F20=\"ND\",0,BMPs!F20)","v":0},{"$f":"IF(BMPs!F29=\"ND\",0,BMPs!F29)","v":0},{"$f":"IF(BMPs!F38=\"ND\",0,BMPs!F38)","v":0},{"$f":"IF(BMPs!C11=\"ND\",0,BMPs!C11)","v":0},{"$f":"IF(BMPs!C20=\"ND\",0,BMPs!C20)","v":0},{"$f":"IF(BMPs!C29=\"ND\",0,BMPs!C29)","v":0},{"$f":"IF(BMPs!C38=\"ND\",0,BMPs!C38)","v":0},{"$f":"IF(BMPs!D11=\"ND\",0,BMPs!D11)","v":0},{"$f":"IF(BMPs!D20=\"ND\",0,BMPs!D20)","v":0},{"$f":"IF(BMPs!D29=\"ND\",0,BMPs!D29)","v":0},{"$f":"IF(BMPs!D38=\"ND\",0,BMPs!D38)","v":0},{"$f":"IF(BMPs!E11=\"ND\",0,BMPs!E11)","v":0},{"$f":"IF(BMPs!E20=\"ND\",0,BMPs!E20)","v":0},{"$f":"IF(BMPs!E29=\"ND\",0,BMPs!E29)","v":0},{"$f":"IF(BMPs!E38=\"ND\",0,BMPs!E38)","v":0}]
[null,"W5",{"$f":"IF(BMPs!F12=\"ND\",0,BMPs!F12)","v":0},{"$f":"IF(BMPs!F21=\"ND\",0,BMPs!F21)","v":0},{"$f":"IF(BMPs!F30=\"ND\",0,BMPs!F30)","v":0},{"$f":"IF(BMPs!F39=\"ND\",0,BMPs!F39)","v":0},{"$f":"IF(BMPs!C12=\"ND\",0,BMPs!C12)","v":0},{"$f":"IF(BMPs!C21=\"ND\",0,BMPs!C21)","v":0},{"$f":"IF(BMPs!C30=\"ND\",0,BMPs!C30)","v":0},{"$f":"IF(BMPs!C39=\"ND\",0,BMPs!C39)","v":0},{"$f":"IF(BMPs!D12=\"ND\",0,BMPs!D12)","v":0},{"$f":"IF(BMPs!D21=\"ND\",0,BMPs!D21)","v":0},{"$f":"IF(BMPs!D30=\"ND\",0,BMPs!D30)","v":0},{"$f":"IF(BMPs!D39=\"ND\",0,BMPs!D39)","v":0},{"$f":"IF(BMPs!E12=\"ND\",0,BMPs!E12)","v":0},{"$f":"IF(BMPs!E21=\"ND\",0,BMPs!E21)","v":0},{"$f":"IF(BMPs!E30=\"ND\",0,BMPs!E30)","v":0},{"$f":"IF(BMPs!E39=\"ND\",0,BMPs!E39)","v":0}]
[]
[null,"2. Erosion and sediment delivery (ton/year)"]
[null,"Watershed","Cropland",null,"Pastureland",null,"Forest",null,"User Defined",null,"Erosion",null,"Sediment",null,"Sed. Reduction",null,"%Reduction"]
[null,"W1",{"$f":"C9*D9*E9*F9*G9*'Land&Rain'!E8","v":0},null,{"$f":"H9*I9*J9*K9*L9*'Land&Rain'!G8","v":0},null,{"$f":"M9*N9*O9*P9*Q9*'Land&Rain'!I8","v":0},null,{"$f":"R9*S9*T9*U9*V9*'Land&Rain'!K8","v":0},null,{"$f":"SUM(C26:I26)","v":0},null,{"$f":"(K26*W9)","v":0},null,{"$f":"(M26-M34)","v":0},null,{"$f":"IF(M26=0,0,(100*O26/M26))","v":0}]
[null,"W2",{"$f":"C10*D10*E10*F10*G10*'Land&Rain'!E9","v":0},null,{"$f":"H10*I10*J10*K10*L10*'Land&Rain'!G9","v":0},null,{"$f":"M10*N10*O10*P10*Q10*'Land&Rain'!I9","v":0},null,{"$f":"R10*S10*T10*U10*V10*'Land&Rain'!K9","v":0},null,{"$f":"SUM(C27:I27)","v":0},null,{"$f":"(K27*W10)","v":0},null,{"$f":"(M27-M35)","v":0},null,{"$f":"IF(M27=0,0,(100*O27/M27))","v":0}]
[null,"W3",{"$f":"C11*D11*E11*F11*G11*'Land&Rain'!E10","v":0},null,{"$f":"H11*I11*J11*K11*L11*'Land&Rain'!G10","v":0},null,{"$f":"M11*N11*O11*P11*Q11*'Land&Rain'!I10","v":0},null,{"$f":"R11*S11*T11*U11*V11*'Land&Rain'!K10","v":0},null,{"$f":"SUM(C28:I28)","v":0},null,{"$f":"(K28*W11)","v":0},null,{"$f":"(M28-M36)","v":0},null,{"$f":"IF(M28=0,0,(100*O28/M28))","v":0}]
[null,"W4",{"$f":"C12*D12*E12*F12*G12*'Land&Rain'!E11","v":0},null,{"$f":"H12*I12*J12*K12*L12*'Land&Rain'!G11","v":0},null,{"$f":"M12*N12*O12*P12*Q12*'Land&Rain'!I11","v":0},null,{"$f":"R12*S12*T12*U12*V12*'Land&Rain'!K11","v":0},null,{"$f":"SUM(C29:I29)","v":0},null,{"$f":"(K29*W12)","v":0},null,{"$f":"(M29-M37)","v":0},null,{"$f":"IF(M29=0,0,(100*O29/M29))","v":0}]
[null,"W5",{"$f":"C13*D13*E13*F13*G13*'Land&Rain'!E12","v":0},null,{"$f":"H13*I13*J13*K13*L13*'Land&Rain'!G12","v":0},null,{"$f":"M13*N13*O13*P13*Q13*'Land&Rain'!I12","v":0},null,{"$f":"R13*S13*T13*U13*V13*'Land&Rain'!K12","v":0},null,{"$f":"SUM(C30:I30)","v":0},null,{"$f":"(K30*W13)","v":0},null,{"$f":"(M30-M38)","v":0},null,{"$f":"IF(M30=0,0,(100*O30/M30))","v":0}]
[]
[null,"Erosion and sediment delivery after BMP (ton/year)"]
[null,"Watershed","Cropland",null,"Pastureland",null,"Forest",null,"User Defined",null,"Erosion",null,"Sediment"]
[null,"W1",{"$f":"C26*(1-C18)","v":0},null,{"$f":"E26*(1-D18)","v":0},null,{"$f":"G26*(1-E18)","v":0},null,{"$f":"I26*(1-F18)","v":0},null,{"$f":"SUM(C34:I34)","v":0},null,{"$f":"(K34*W9)","v":0}]
[null,"W2",{"$f":"C27*(1-C19)","v":0},null,{"$f":"E27*(1-D19)","v":0},null,{"$f":"G27*(1-E19)","v":0},null,{"$f":"I27*(1-F19)","v":0},null,{"$f":"SUM(C35:I35)","v":0},null,{"$f":"(K35*W10)","v":0}]
[null,"W3",{"$f":"C28*(1-C20)","v":0},null,{"$f":"E28*(1-D20)","v":0},null,{"$f":"G28*(1-E20)","v":0},null,{"$f":"I28*(1-F20)","v":0},null,{"$f":"SUM(C36:I36)","v":0},null,{"$f":"(K36*W11)","v":0}]
[null,"W4",{"$f":"C29*(1-C21)","v":0},null,{"$f":"E29*(1-D21)","v":0},null,{"$f":"G29*(1-E21)","v":0},null,{"$f":"I29*(1-F21)","v":0},null,{"$f":"SUM(C37:I37)","v":0},null,{"$f":"(K37*W12)","v":0}]
[null,"W5",{"$f":"C30*(1-C22)","v":0},null,{"$f":"E30*(1-D22)","v":0},null,{"$f":"G30*(1-E22)","v":0},null,{"$f":"I30*(1-F22)","v":0},null,{"$f":"SUM(C38:I38)","v":0},null,{"$f":"(K38*W13)","v":0}]
[]
[null,"3. Nutrient load from sediment (ton/year)",null,null,null,null,null,null,null,null,null,null,null,null,"4. Nutrient load reduction (ton/year)"]
[null,"Watershed","N conc.%",null,"P conc.%",null,"BOD conc.%",null,"N Load",null,"P Load",null,"BOD Load",null,"N Reduction",null,"P Reduction",null,"BOD Reduction"]
[null,"W1",{"$f":"Input!H57","v":0.08},null,{"$f":"Input!I57","v":3.0800000000000001E-2},null,{"$f":"Input!J57","v":0.16},null,{"$f":"(2*C42*M26/100)","v":0},null,{"$f":"(2*E42*M26/100)","v":0},null,{"$f":"(2*G42*M26/100)","v":0},null,{"$f":"(I42*Q26/100)","v":0},null,{"$f":"(K42*Q26)/100","v":0},null,{"$f":"(M42*Q26/100)","v":0}]
[null,"W2",{"$f":"Input!H58","v":0.08},null,{"$f":"Input!I58","v":3.0800000000000001E-2},null,{"$f":"Input!J58","v":0.16},null,{"$f":"(2*C43*M27/100)","v":0},null,{"$f":"(2*E43*M27/100)","v":0},null,{"$f":"(2*G43*M27/100)","v":0},null,{"$f":"(I43*Q27/100)","v":0},null,{"$f":"(K43*Q27)/100","v":0},null,{"$f":"(M43*Q27/100)","v":0}]
[null,"W3",{"$f":"Input!H59","v":0.08},null,{"$f":"Input!I59","v":3.0800000000000001E-2},null,{"$f":"Input!J59","v":0.16},null,{"$f":"(2*C44*M28/100)","v":0},null,{"$f":"(2*E44*M28/100)","v":0},null,{"$f":"(2*G44*M28/100)","v":0},null,{"$f":"(I44*Q28/100)","v":0},null,{"$f":"(K44*Q28)/100","v":0},null,{"$f":"(M44*Q28/100)","v":0}]
[null,"W4",{"$f":"Input!H60","v":0.08},null,{"$f":"Input!I60","v":3.0800000000000001E-2},null,{"$f":"Input!J60","v":0.16},null,{"$f":"(2*C45*M29/100)","v":0},null,{"$f":"(2*E45*M29/100)","v":0},null,{"$f":"(2*G45*M29/100)","v":0},null,{"$f":"(I45*Q29/100)","v":0},null,{"$f":"(K45*Q29)/100","v":0},null,{"$f":"(M45*Q29/100)","v":0}]
[null,"W5",{"$f":"Input!H61","v":0.08},null,{"$f":"Input!I61","v":3.0800000000000001E-2},null,{"$f":"Input!J61","v":0.16},null,{"$f":"(2*C46*M30/100)","v":0},null,{"$f":"(2*E46*M30/100)","v":0},null,{"$f":"(2*G46*M30/100)","v":0},null,{"$f":"(I46*Q30/100)","v":0},null,{"$f":"(K46*Q30)/100","v":0},null,{"$f":"(M46*Q30/100)","v":0}]
[null,"Go to the \"STEPL\" menu for soil nutrient concentration map."]
[null,"Sediment and sediment nutrients by land uses with BMP (ton/year)"]
[null,"Watershed","Cropland",null,null,null,"Pastureland",null,null,null,"Forest",null,null,null,"User Defined"]
[null,null,"N","P","BOD","Sed.","N","P","BOD","Sed.","N","P","BOD","Sed.","N","P","BOD","Sed."]
[null,"W1",{"$f":"F51*C42*2/100","v":0},{"$f":"F51*E42*2/100","v":0},{"$f":"F51*G42*2/100","v":0},{"$f":"C26*W9*(1-C18)","v":0},{"$f":"J51*C42*2/100","v":0},{"$f":"J51*E42*2/100","v":0},{"$f":"J51*G42*2/100","v":0},{"$f":"E26*W9*(1-D18)","v":0},{"$f":"N51*C42*2/100","v":0},{"$f":"N51*E42*2/100","v":0},{"$f":"N51*G42*2/100","v":0},{"$f":"G26*W9*(1-E18)","v":0},{"$f":"R51*C42*2/100","v":0},{"$f":"R51*E42*2/100","v":0},{"$f":"R51*G42*2/100","v":0},{"$f":"I26*W9*(1-F18)","v":0}]
[null,"W2",{"$f":"F52*C43*2/100","v":0},{"$f":"F52*E43*2/100","v":0},{"$f":"F52*G43*2/100","v":0},{"$f":"C27*W10*(1-C19)","v":0},{"$f":"J52*C43*2/100","v":0},{"$f":"J52*E43*2/100","v":0},{"$f":"J52*G43*2/100","v":0},{"$f":"E27*W10*(1-D19)","v":0},{"$f":"N52*C43*2/100","v":0},{"$f":"N52*E43*2/100","v":0},{"$f":"N52*G43*2/100","v":0},{"$f":"G27*W10*(1-E19)","v":0},{"$f":"R52*C43*2/100","v":0},{"$f":"R52*E43*2/100","v":0},{"$f":"R52*G43*2/100","v":0},{"$f":"I27*W10*(1-F19)","v":0}]
[null,"W3",{"$f":"F53*C44*2/100","v":0},{"$f":"F53*E44*2/100","v":0},{"$f":"F53*G44*2/100","v":0},{"$f":"C28*W11*(1-C20)","v":0},{"$f":"J53*C44*2/100","v":0},{"$f":"J53*E44*2/100","v":0},{"$f":"J53*G44*2/100","v":0},{"$f":"E28*W11*(1-D20)","v":0},{"$f":"N53*C44*2/100","v":0},{"$f":"N53*E44*2/100","v":0},{"$f":"N53*G44*2/100","v":0},{"$f":"G28*W11*(1-E20)","v":0},{"$f":"R53*C44*2/100","v":0},{"$f":"R53*E44*2/100","v":0},{"$f":"R53*G44*2/100","v":0},{"$f":"I28*W11*(1-F20)","v":0}]
[null,"W4",{"$f":"F54*C45*2/100","v":0},{"$f":"F54*E45*2/100","v":0},{"$f":"F54*G45*2/100","v":0},{"$f":"C29*W12*(1-C21)","v":0},{"$f":"J54*C45*2/100","v":0},{"$f":"J54*E45*2/100","v":0},{"$f":"J54*G45*2/100","v":0},{"$f":"E29*W12*(1-D21)","v":0},{"$f":"N54*C45*2/100","v":0},{"$f":"N54*E45*2/100","v":0},{"$f":"N54*G45*2/100","v":0},{"$f":"G29*W12*(1-E21)","v":0},{"$f":"R54*C45*2/100","v":0},{"$f":"R54*E45*2/100","v":0},{"$f":"R54*G45*2/100","v":0},{"$f":"I29*W12*(1-F21)","v":0}]
[null,"W5",{"$f":"F55*C46*2/100","v":0},{"$f":"F55*E46*2/100","v":0},{"$f":"F55*G46*2/100","v":0},{"$f":"C30*W13*(1-C22)","v":0},{"$f":"J55*C46*2/100","v":0},{"$f":"J55*E46*2/100","v":0},{"$f":"J55*G46*2/100","v":0},{"$f":"E30*W13*(1-D22)","v":0},{"$f":"N55*C46*2/100","v":0},{"$f":"N55*E46*2/100","v":0},{"$f":"N55*G46*2/100","v":0},{"$f":"G30*W13*(1-E22)","v":0},{"$f":"R55*C46*2/100","v":0},{"$f":"R55*E46*2/100","v":0},{"$f":"R55*G46*2/100","v":0},{"$f":"I30*W13*(1-F22)","v":0}]

{"sheet":"Gully&Streambank","index":9,"n_rows":34,"n_cols":45,"rows_kept":34,"cut":false,"hidden":true,"merged":[[1,36,1,43]]}
[" ","Gully and Streambank Pollutant Load Reduction ",null,null,null,null,null,null,null,null,null,null,null,null,null,null,null,null,null,null,null,null,null,null,null,null,"W1","Soil Textural Class","Dry Density (tons/ft3)","Correction Factor",null,"Category","LRR (ft/yr)","Medium Value",null,"Category","Description",null,null,null,null,null,null,null," Lateral Recession Rate (ft/yr)"]
[null,"This sheet contains two input tables: the first table is for inputing the gully dimensions, and the second is for inputing the eroding streambank dimensions.",null,null,null,null,null,null,null,null,null,null,null,null,null,null,null,null,null,null,null,null,null,null,null,null,"W2","Clay",3.5000000000000003E-2,1.1499999999999999,null,"1. Slight","0.01 - 0.05",0.03,null,"Slight","Some bare bank but active erosion not readily apparent.  Some rills but no vegetative overhang.  No exposed tree roots.",null,null,null,null,null,null,null,"0.01 - 0.05"]
[null,"Gully:","Step 1. Specify the gully dimensions and assign each gully to a watershed.",null,null,null,null,null,null,null,null,null,null,null,null,null,null,null,null,null,null,null,null,null,null,null,"W3","Clay loam",3.7499999999999999E-2,1.1499999999999999,null,"2. Moderate","0.06 - 0.2",0.13,null,"Moderate","Bank is predominantly bare with some rills and vegetative overhang.",null,null,null,null,null,null,null,"0.06 - 0.2"]
[null,null,"Step 2. Specify the time (number of years) that the gully has taken to form the current size.",null,null,null,null,null,null,null,null,null,null,null,null,null,null,null,null,null,null,null,null,null,null,null,"W4","Fine Sandy loam",0.05,0.85,null,"3. Severe","0.3 - 0.5",0.4,null,"Severe","Bank is bare with rills and severe vegetative overhang.  Many exposed tree roots and",null,null,null,null,null,null,null,"0.3 - 0.5"]
[null,null,"Step 3. Specify the gully stabilization (BMP) efficiency (0-1) and the gully soil textural class.",null,null,null,null,null,null,null,null,null,null,null,null,null,null,null,null,null,null,null,null,null,null,null,"W5","Loams, sandy clay loams",4.4999999999999998E-2,0.85,null,"4. Very Severe","0.5+",0.5,null,null,"some fallen trees and slumps or slips.  Some changes in cultural features such as "]
[null,"Streambank:","Step 1. Specify the stream bank dimensions and assign each bank to a watershed.",null,null,null,null,null,null,null,null,null,null,null,null,null,null,null,null,null,null,null,null,null,null,null,null,"Organic",1.0999999999999999E-2,1.5,null,null,null,null,null,null,"fence corners missing and realignment of roads or trails.  Channel cross-section "]
[null,null,"Step 2. Specify the lateral recession rate (ft/yr) of the eroding streambank.",null,null,null,null,null,null,"Click to see \"Streambank Lateral Recession Rate\" table",null,null,null,null,null,null,null,null,null,null,null,null,null,null,null,null,null,"Sands, Loamy sands",5.5E-2,0.85,null,null,null,null,null,null,"becomes more U-shaped as opposed to V-shaped."]
[null,null,"Step 3. Specify the streambank stabilization (BMP) efficiency (0-1) and the streambank soil textural class.",null,null,null,null,null,null,null,null,null,null,null,null,null,null,null,null,null,null,null,null,null,null,null,null,"Sandy clay",4.4999999999999998E-2,0.85,null,null,null,null,null,"Very Severe","Bank is bare with gullies and severe vegetative overhang.  Many fallen trees, drains ",null,null,null,null,null,null,null,"0.5+"]
[null,null,null,null,null,null,null,null,null,null,null,null,null,null,null,null,null,null,null,null,null,null,null,null,null,null,null,"Sandy loam",5.2499999999999998E-2,0.85,null,null,null,null,null,null,"and culverts eroding out and changes in cultural features as above.  Massive slips or "]
[null,"1. Gully dimensions in the different watersheds",null,null,null,null,null,null,null,null,null,null,null,null,null,null,null,null,null,null,null,null,null,null,null,null,null,"Silt Loam",4.2500000000000003E-2,1,null,null,null,null,null,null,"washouts common.  Channel cross-section is U-shaped and streamcourse or gully"]
[null,"Watershed","Gully","Top Width (ft)","Bottom Width (ft)","Depth (ft)","Length (ft)","Years to Form","BMP Efficiency (0-1)","Soil Textural Class","Soil Dry Weight (ton/ft3)","Nutrient Correction Factor","Annual Load (ton)","Load Reduction (ton)","Annual Load (ton)-ncf","Load Reduction (ton)-ncf",null,null,null,null,null,null,null,null,null,null,null,"Silty clay loam, silty clay",0.04,1,null,null,null,null,null,null,"may be meandering."]
[null,"W1","Gully1",0,0,0,0,1,0.95,"Clay",{"$f":"LOOKUP(J12,AB2:AB11,AC2:AC11)","v":3.5000000000000003E-2},{"$f":"LOOKUP(J12,AB2:AB11,AD2:AD11)","v":1.1499999999999999},{"$f":"IF(H12=0,0,(D12+E12)*F12*G12*K12/H12/2)","v":0},{"$f":"I12*M12","v":0},{"$f":"IF(H12=0,0,(D12+E12)*F12*G12*K12*L12/H12/2)","v":0},{"$f":"I12*O12","v":0},null,null,null,null,null,null,null,null,null,null,null,null,null,null,null,null,null,null,null,"Source:","Steffen, L.J.  1982.  Channel Erosion (personal communication), as printed in \"Pollutants Controlled Calculation "]
[null,"W1","Gully2",0,0,0,0,1,0.95,"Clay",{"$f":"LOOKUP(J13,AB2:AB11,AC2:AC11)","v":3.5000000000000003E-2},{"$f":"LOOKUP(J13,AB2:AB11,AD2:AD11)","v":1.1499999999999999},{"$f":"IF(H13=0,0,(D13+E13)*F13*G13*K13/H13/2)","v":0},{"$f":"I13*M13","v":0},{"$f":"IF(H13=0,0,(D13+E13)*F13*G13*K13*L13/H13/2)","v":0},{"$f":"I13*O13","v":0},null,null,null,null,null,null,null,null,null,null,null,null,null,null,null,null,null,null,null,null,"and Documentation for Section 319 Watersheds Training Manual,\" June 1999 Revision; Michigan Department "]
[null,"W1","Gully3",0,0,0,0,1,0.95,"Clay",{"$f":"LOOKUP(J14,AB2:AB11,AC2:AC11)","v":3.5000000000000003E-2},{"$f":"LOOKUP(J14,AB2:AB11,AD2:AD11)","v":1.1499999999999999},{"$f":"IF(H14=0,0,(D14+E14)*F14*G14*K14/H14/2)","v":0},{"$f":"I14*M14","v":0},{"$f":"IF(H14=0,0,(D14+E14)*F14*G14*K14*L14/H14/2)","v":0},{"$f":"I14*O14","v":0},null,null,null,null,null,null,null,null,null,null,null,null,null,null,null,null,null,null,null,null,"of Environmental Quality - Surface Water Quality Division - Nonpoint Source Unit.  EQP 5841 (6/99)."]
[null,"W1","Gully4",0,0,0,0,1,0.95,"Clay",{"$f":"LOOKUP(J15,AB2:AB11,AC2:AC11)","v":3.5000000000000003E-2},{"$f":"LOOKUP(J15,AB2:AB11,AD2:AD11)","v":1.1499999999999999},{"$f":"IF(H15=0,0,(D15+E15)*F15*G15*K15/H15/2)","v":0},{"$f":"I15*M15","v":0},{"$f":"IF(H15=0,0,(D15+E15)*F15*G15*K15*L15/H15/2)","v":0},{"$f":"I15*O15","v":0},null,null,null,null,null,null,null,null,null,null,null,null,null,null,null,null,null,null,null,"Back to the origin"]
[null,"W1","Gully5",0,0,0,0,1,0.95,"Clay",{"$f":"LOOKUP(J16,AB2:AB11,AC2:AC11)","v":3.5000000000000003E-2},{"$f":"LOOKUP(J16,AB2:AB11,AD2:AD11)","v":1.1499999999999999},{"$f":"IF(H16=0,0,(D16+E16)*F16*G16*K16/H16/2)","v":0},{"$f":"I16*M16","v":0},{"$f":"IF(H16=0,0,(D16+E16)*F16*G16*K16*L16/H16/2)","v":0},{"$f":"I16*O16","v":0}]
[]
[]
[null,"2. Impaired streambank dimensions in the different watersheds"]
[null,"Watershed","Strm Bank","Length (ft)","Height (ft)","Lateral Recession","Rate Range (ft/yr)","Rate (ft/yr)","BMP Efficiency (0-1)","Soil Textural Class","Soil Dry Weight (ton/ft3)","Nutrient Correction Factor","Annual Load (ton)","Load Reduction (ton)","Annual Load (ton)-ncf","Load Reduction (ton)-ncf"]
[null,"W1","Bank1",0,0,"1. Slight",{"$f":"LOOKUP(F21,AF2:AF5,AG2:AG5)","v":"0.01 - 0.05"},{"$f":"LOOKUP(F21,AF2:AF5,AH2:AH5)","v":0.03},0.95,"Clay",{"$f":"LOOKUP(J21,AB2:AB11,AC2:AC11)","v":3.5000000000000003E-2},{"$f":"LOOKUP(J21,AB2:AB11,AD2:AD11)","v":1.1499999999999999},{"$f":"D21*E21*H21*K21","v":0},{"$f":"I21*M21","v":0},{"$f":"D21*E21*H21*K21*L21","v":0},{"$f":"I21*O21","v":0}]
[null,"W1","Bank2",0,0,"1. Slight",{"$f":"LOOKUP(F22,AF2:AF5,AG2:AG5)","v":"0.01 - 0.05"},{"$f":"LOOKUP(F22,AF2:AF5,AH2:AH5)","v":0.03},0.95,"Clay",{"$f":"LOOKUP(J22,AB2:AB11,AC2:AC11)","v":3.5000000000000003E-2},{"$f":"LOOKUP(J22,AB2:AB11,AD2:AD11)","v":1.1499999999999999},{"$f":"D22*E22*H22*K22","v":0},{"$f":"I22*M22","v":0},{"$f":"D22*E22*H22*K22*L22","v":0},{"$f":"I22*O22","v":0}]
[null,"W1","Bank3",0,0,"1. Slight",{"$f":"LOOKUP(F23,AF2:AF5,AG2:AG5)","v":"0.01 - 0.05"},{"$f":"LOOKUP(F23,AF2:AF5,AH2:AH5)","v":0.03},0.95,"Clay",{"$f":"LOOKUP(J23,AB2:AB11,AC2:AC11)","v":3.5000000000000003E-2},{"$f":"LOOKUP(J23,AB2:AB11,AD2:AD11)","v":1.1499999999999999},{"$f":"D23*E23*H23*K23","v":0},{"$f":"I23*M23","v":0},{"$f":"D23*E23*H23*K23*L23","v":0},{"$f":"I23*O23","v":0}]
[null,"W1","Bank4",0,0,"1. Slight",{"$f":"LOOKUP(F24,AF2:AF5,AG2:AG5)","v":"0.01 - 0.05"},{"$f":"LOOKUP(F24,AF2:AF5,AH2:AH5)","v":0.03},0.95,"Clay",{"$f":"LOOKUP(J24,AB2:AB11,AC2:AC11)","v":3.5000000000000003E-2},{"$f":"LOOKUP(J24,AB2:AB11,AD2:AD11)","v":1.1499999999999999},{"$f":"D24*E24*H24*K24","v":0},{"$f":"I24*M24","v":0},{"$f":"D24*E24*H24*K24*L24","v":0},{"$f":"I24*O24","v":0}]
[null,"W1","Bank5",0,0,"1. Slight",{"$f":"LOOKUP(F25,AF2:AF5,AG2:AG5)","v":"0.01 - 0.05"},{"$f":"LOOKUP(F25,AF2:AF5,AH2:AH5)","v":0.03},0.95,"Clay",{"$f":"LOOKUP(J25,AB2:AB11,AC2:AC11)","v":3.5000000000000003E-2},{"$f":"LOOKUP(J25,AB2:AB11,AD2:AD11)","v":1.1499999999999999},{"$f":"D25*E25*H25*K25","v":0},{"$f":"I25*M25","v":0},{"$f":"D25*E25*H25*K25*L25","v":0},{"$f":"I25*O25","v":0}]
[]
[]
[null,"3. Load and load reduction (lb/year, GU=Gully; SB=Streambank) in the different watersheds"]
[null,"Watershed","GU-N Load","GU-P Load","GU-BOD Load","GU-Sediment Load","GU-N Reduc- tion","GU-P Reduc- tion","GU-BOD Reduc- tion","GU-Sediment Reduction","SB-N Load","SB-P Load","SB-BOD Load","SB-Sediment Load","SB-N Reduction","SB-P Reduction","SB-BOD Reduction","SB-Sediment Reduction","GU-Sed Load-ncf","GU-Sed Reduc-ncf","SB-Sed Load-ncf","SB-Sed Reduc-ncf"]
[null,"W1",{"$f":"S30*Input!H57/100","v":0},{"$f":"S30*Input!I57/100","v":0},{"$f":"S30*Input!J57/100","v":0},{"$f":"2000*SUMIF(B12:B16, \"=W1\", M12:M16)","v":0},{"$f":"T30*Input!H57/100","v":0},{"$f":"T30*Input!I57/100","v":0},{"$f":"T30*Input!J57/100","v":0},{"$f":"2000*SUMIF(B12:B16, \"=W1\", N12:N16)","v":0},{"$f":"U30*Input!H57/100","v":0},{"$f":"U30*Input!I57/100","v":0},{"$f":"U30*Input!J57/100","v":0},{"$f":"2000*SUMIF(B21:B25, \"=W1\", M21:M25)","v":0},{"$f":"V30*Input!H57/100","v":0},{"$f":"V30*Input!I57/100","v":0},{"$f":"V30*Input!J57/100","v":0},{"$f":"2000*SUMIF(B21:B25, \"=W1\", N21:N25)","v":0},{"$f":"2000*SUMIF(B12:B16, \"=W1\", O12:O16)","v":0},{"$f":"2000*SUMIF(B12:B16, \"=W1\", P12:P16)","v":0},{"$f":"2000*SUMIF(B21:B25, \"=W1\", O21:O25)","v":0},{"$f":"2000*SUMIF(B21:B25, \"=W1\", P21:P25)","v":0}]
[null,"W2",{"$f":"S31*Input!H58/100","v":0},{"$f":"S31*Input!I58/100","v":0},{"$f":"S31*Input!J58/100","v":0},{"$f":"2000*SUMIF(B12:B16, \"=W2\", M12:M16)","v":0},{"$f":"T31*Input!H58/100","v":0},{"$f":"T31*Input!I58/100","v":0},{"$f":"T31*Input!J58/100","v":0},{"$f":"2000*SUMIF(B12:B16, \"=W2\", N12:N16)","v":0},{"$f":"U31*Input!H58/100","v":0},{"$f":"U31*Input!I58/100","v":0},{"$f":"U31*Input!J58/100","v":0},{"$f":"2000*SUMIF(B21:B25, \"=W2\", M21:M25)","v":0},{"$f":"V31*Input!H58/100","v":0},{"$f":"V31*Input!I58/100","v":0},{"$f":"V31*Input!J58/100","v":0},{"$f":"2000*SUMIF(B21:B25, \"=W2\", N21:N25)","v":0},{"$f":"2000*SUMIF(B12:B16, \"=W2\", O12:O16)","v":0},{"$f":"2000*SUMIF(B12:B16, \"=W2\", P12:P16)","v":0},{"$f":"2000*SUMIF(B21:B25, \"=W2\", O21:O25)","v":0},{"$f":"2000*SUMIF(B21:B25, \"=W2\", P21:P25)","v":0}]
[null,"W3",{"$f":"S32*Input!H59/100","v":0},{"$f":"S32*Input!I59/100","v":0},{"$f":"S32*Input!J59/100","v":0},{"$f":"2000*SUMIF(B12:B16, \"=W3\", M12:M16)","v":0},{"$f":"T32*Input!H59/100","v":0},{"$f":"T32*Input!I59/100","v":0},{"$f":"T32*Input!J59/100","v":0},{"$f":"2000*SUMIF(B12:B16, \"=W3\", N12:N16)","v":0},{"$f":"U32*Input!H59/100","v":0},{"$f":"U32*Input!I59/100","v":0},{"$f":"U32*Input!J59/100","v":0},{"$f":"2000*SUMIF(B21:B25, \"=W3\", M21:M25)","v":0},{"$f":"V32*Input!H59/100","v":0},{"$f":"V32*Input!I59/100","v":0},{"$f":"V32*Input!J59/100","v":0},{"$f":"2000*SUMIF(B21:B25, \"=W3\", N21:N25)","v":0},{"$f":"2000*SUMIF(B12:B16, \"=W3\", O12:O16)","v":0},{"$f":"2000*SUMIF(B12:B16, \"=W3\", P12:P16)","v":0},{"$f":"2000*SUMIF(B21:B25, \"=W3\", O21:O25)","v":0},{"$f":"2000*SUMIF(B21:B25, \"=W3\", P21:P25)","v":0}]
[null,"W4",{"$f":"S33*Input!H60/100","v":0},{"$f":"S33*Input!I60/100","v":0},{"$f":"S33*Input!J60/100","v":0},{"$f":"2000*SUMIF(B12:B16, \"=W4\", M12:M16)","v":0},{"$f":"T33*Input!H60/100","v":0},{"$f":"T33*Input!I60/100","v":0},{"$f":"T33*Input!J60/100","v":0},{"$f":"2000*SUMIF(B12:B16, \"=W4\", N12:N16)","v":0},{"$f":"U33*Input!H60/100","v":0},{"$f":"U33*Input!I60/100","v":0},{"$f":"U33*Input!J60/100","v":0},{"$f":"2000*SUMIF(B21:B25, \"=W4\", M21:M25)","v":0},{"$f":"V33*Input!H60/100","v":0},{"$f":"V33*Input!I60/100","v":0},{"$f":"V33*Input!J60/100","v":0},{"$f":"2000*SUMIF(B21:B25, \"=W4\", N21:N25)","v":0},{"$f":"2000*SUMIF(B12:B16, \"=W4\", O12:O16)","v":0},{"$f":"2000*SUMIF(B12:B16, \"=W4\", P12:P16)","v":0},{"$f":"2000*SUMIF(B21:B25, \"=W4\", O21:O25)","v":0},{"$f":"2000*SUMIF(B21:B25, \"=W4\", P21:P25)","v":0}]
[null,"W5",{"$f":"S34*Input!H61/100","v":0},{"$f":"S34*Input!I61/100","v":0},{"$f":"S34*Input!J61/100","v":0},{"$f":"2000*SUMIF(B12:B16, \"=W5\", M12:M16)","v":0},{"$f":"T34*Input!H61/100","v":0},{"$f":"T34*Input!I61/100","v":0},{"$f":"T34*Input!J61/100","v":0},{"$f":"2000*SUMIF(B12:B16, \"=W5\", N12:N16)","v":0},{"$f":"U34*Input!H61/100","v":0},{"$f":"U34*Input!I61/100","v":0},{"$f":"U34*Input!J61/100","v":0},{"$f":"2000*SUMIF(B21:B25, \"=W5\", M21:M25)","v":0},{"$f":"V34*Input!H61/100","v":0},{"$f":"V34*Input!I61/100","v":0},{"$f":"V34*Input!J61/100","v":0},{"$f":"2000*SUMIF(B21:B25, \"=W5\", N21:N25)","v":0},{"$f":"2000*SUMIF(B12:B16, \"=W5\", O12:O16)","v":0},{"$f":"2000*SUMIF(B12:B16, \"=W5\", P12:P16)","v":0},{"$f":"2000*SUMIF(B21:B25, \"=W5\", O21:O25)","v":0},{"$f":"2000*SUMIF(B21:B25, \"=W5\", P21:P25)","v":0}]

{"sheet":"Total Load","index":10,"n_rows":66,"n_cols":38,"rows_kept":66,"cut":false,"hidden":false,"merged":[[34,26,34,29],[34,30,34,33],[34,34,34,37],[44,2,44,5],[44,6,44,9],[44,10,44,13],[44,14,44,17],[44,18,44,21],[44,22,44,25],[44,26,44,29],[34,2,34,5],[34,6,34,9],[34,10,34,13],[34,14,34,17],[34,18,34,21],[34,22,34,25],[3,2,3,4],[3,5,3,7],[3,8,3,10],[3,11,3,13],[3,14,3,16],[14,2,14,4],[14,5,14,7],[14,8,14,10],[14,11,14,13],[14,14,14,16]]}
[null,"Total Load",null,"This is the summary of annual nutrient and sediment load for each subwatershed. This sheet is initially protected."]
[]
[null,"a. Nutrient load from runoff (lb/year) without BMPs"]
[null,"Watershed","Cropland",null,null,"Pastureland",null,null,"Forest",null,null,"User Defined",null,null,"Total"]
[null,null,"N","P","BOD","N","P","BOD","N","P","BOD","N","P","BOD","N","P","BOD"]
[null,"W1",{"$f":"'Land&Rain'!E47*((1-Animal!L10/12)*Animal!N29+(Animal!L10/12)*Animal!O29 )*4047*0.3048/454","v":0},{"$f":"'Land&Rain'!E47*((1-Animal!L10/12)*Animal!P29+(Animal!L10/12)*Animal!Q29 )*4047*0.3048/454","v":0},{"$f":"'Land&Rain'!E47*((1-Animal!L10/12)*Animal!R29+(Animal!L10/12)*Animal!S29 )*4047*0.3048/454","v":0},{"$f":"'Land&Rain'!G47*'Land&Rain'!C56*4047*0.3048/454","v":0},{"$f":"'Land&Rain'!G47*'Land&Rain'!D56*4047*0.3048/454","v":0},{"$f":"'Land&Rain'!G47*'Land&Rain'!E56*4047*0.3048/454","v":0},{"$f":"'Land&Rain'!I47*'Land&Rain'!C57*4047*0.3048/454","v":0},{"$f":"'Land&Rain'!I47*'Land&Rain'!D57*4047*0.3048/454","v":0},{"$f":"'Land&Rain'!I47*'Land&Rain'!E57*4047*0.3048/454","v":0},{"$f":"'Land&Rain'!K47*'Land&Rain'!C58*4047*0.3048/454","v":0},{"$f":"'Land&Rain'!K47*'Land&Rain'!D58*4047*0.3048/454","v":0},{"$f":"'Land&Rain'!K47*'Land&Rain'!E58*4047*0.3048/454","v":0},{"$f":"L6+I6+F6+C6","v":0},{"$f":"M6+J6+G6+D6","v":0},{"$f":"N6+K6+H6+E6","v":0}]
[null,"W2",{"$f":"'Land&Rain'!E48*((1-Animal!L11/12)*Animal!N30+(Animal!L11/12)*Animal!O30 )*4047*0.3048/454","v":0},{"$f":"'Land&Rain'!E48*((1-Animal!L11/12)*Animal!P30+(Animal!L11/12)*Animal!Q30 )*4047*0.3048/454","v":0},{"$f":"'Land&Rain'!E48*((1-Animal!L11/12)*Animal!R30+(Animal!L11/12)*Animal!S30 )*4047*0.3048/454","v":0},{"$f":"'Land&Rain'!G48*'Land&Rain'!C56*4047*0.3048/454","v":0},{"$f":"'Land&Rain'!G48*'Land&Rain'!D56*4047*0.3048/454","v":0},{"$f":"'Land&Rain'!G48*'Land&Rain'!E56*4047*0.3048/454","v":0},{"$f":"'Land&Rain'!I48*'Land&Rain'!C57*4047*0.3048/454","v":0},{"$f":"'Land&Rain'!I48*'Land&Rain'!D57*4047*0.3048/454","v":0},{"$f":"'Land&Rain'!I48*'Land&Rain'!E57*4047*0.3048/454","v":0},{"$f":"'Land&Rain'!K48*'Land&Rain'!C58*4047*0.3048/454","v":0},{"$f":"'Land&Rain'!K48*'Land&Rain'!D58*4047*0.3048/454","v":0},{"$f":"'Land&Rain'!K48*'Land&Rain'!E58*4047*0.3048/454","v":0},{"$f":"L7+I7+F7+C7","v":0},{"$f":"M7+J7+G7+D7","v":0},{"$f":"N7+K7+H7+E7","v":0}]
[null,"W3",{"$f":"'Land&Rain'!E49*((1-Animal!L12/12)*Animal!N31+(Animal!L12/12)*Animal!O31 )*4047*0.3048/454","v":0},{"$f":"'Land&Rain'!E49*((1-Animal!L12/12)*Animal!P31+(Animal!L12/12)*Animal!Q31 )*4047*0.3048/454","v":0},{"$f":"'Land&Rain'!E49*((1-Animal!L12/12)*Animal!R31+(Animal!L12/12)*Animal!S31 )*4047*0.3048/454","v":0},{"$f":"'Land&Rain'!G49*'Land&Rain'!C56*4047*0.3048/454","v":0},{"$f":"'Land&Rain'!G49*'Land&Rain'!D56*4047*0.3048/454","v":0},{"$f":"'Land&Rain'!G49*'Land&Rain'!E56*4047*0.3048/454","v":0},{"$f":"'Land&Rain'!I49*'Land&Rain'!C57*4047*0.3048/454","v":0},{"$f":"'Land&Rain'!I49*'Land&Rain'!D57*4047*0.3048/454","v":0},{"$f":"'Land&Rain'!I49*'Land&Rain'!E57*4047*0.3048/454","v":0},{"$f":"'Land&Rain'!K49*'Land&Rain'!C58*4047*0.3048/454","v":0},{"$f":"'Land&Rain'!K49*'Land&Rain'!D58*4047*0.3048/454","v":0},{"$f":"'Land&Rain'!K49*'Land&Rain'!E58*4047*0.3048/454","v":0},{"$f":"L8+I8+F8+C8","v":0},{"$f":"M8+J8+G8+D8","v":0},{"$f":"N8+K8+H8+E8","v":0}]
[null,"W4",{"$f":"'Land&Rain'!E50*((1-Animal!L13/12)*Animal!N32+(Animal!L13/12)*Animal!O32 )*4047*0.3048/454","v":0},{"$f":"'Land&Rain'!E50*((1-Animal!L13/12)*Animal!P32+(Animal!L13/12)*Animal!Q32 )*4047*0.3048/454","v":0},{"$f":"'Land&Rain'!E50*((1-Animal!L13/12)*Animal!R32+(Animal!L13/12)*Animal!S32 )*4047*0.3048/454","v":0},{"$f":"'Land&Rain'!G50*'Land&Rain'!C56*4047*0.3048/454","v":0},{"$f":"'Land&Rain'!G50*'Land&Rain'!D56*4047*0.3048/454","v":0},{"$f":"'Land&Rain'!G50*'Land&Rain'!E56*4047*0.3048/454","v":0},{"$f":"'Land&Rain'!I50*'Land&Rain'!C57*4047*0.3048/454","v":0},{"$f":"'Land&Rain'!I50*'Land&Rain'!D57*4047*0.3048/454","v":0},{"$f":"'Land&Rain'!I50*'Land&Rain'!E57*4047*0.3048/454","v":0},{"$f":"'Land&Rain'!K50*'Land&Rain'!C58*4047*0.3048/454","v":0},{"$f":"'Land&Rain'!K50*'Land&Rain'!D58*4047*0.3048/454","v":0},{"$f":"'Land&Rain'!K50*'Land&Rain'!E58*4047*0.3048/454","v":0},{"$f":"L9+I9+F9+C9","v":0},{"$f":"M9+J9+G9+D9","v":0},{"$f":"N9+K9+H9+E9","v":0}]
[null,"W5",{"$f":"'Land&Rain'!E51*((1-Animal!L14/12)*Animal!N33+(Animal!L14/12)*Animal!O33 )*4047*0.3048/454","v":0},{"$f":"'Land&Rain'!E51*((1-Animal!L14/12)*Animal!P33+(Animal!L14/12)*Animal!Q33 )*4047*0.3048/454","v":0},{"$f":"'Land&Rain'!E51*((1-Animal!L14/12)*Animal!R33+(Animal!L14/12)*Animal!S33 )*4047*0.3048/454","v":0},{"$f":"'Land&Rain'!G51*'Land&Rain'!C56*4047*0.3048/454","v":0},{"$f":"'Land&Rain'!G51*'Land&Rain'!D56*4047*0.3048/454","v":0},{"$f":"'Land&Rain'!G51*'Land&Rain'!E56*4047*0.3048/454","v":0},{"$f":"'Land&Rain'!I51*'Land&Rain'!C57*4047*0.3048/454","v":0},{"$f":"'Land&Rain'!I51*'Land&Rain'!D57*4047*0.3048/454","v":0},{"$f":"'Land&Rain'!I51*'Land&Rain'!E57*4047*0.3048/454","v":0},{"$f":"'Land&Rain'!K51*'Land&Rain'!C58*4047*0.3048/454","v":0},{"$f":"'Land&Rain'!K51*'Land&Rain'!D58*4047*0.3048/454","v":0},{"$f":"'Land&Rain'!K51*'Land&Rain'!E58*4047*0.3048/454","v":0},{"$f":"L10+I10+F10+C10","v":0},{"$f":"M10+J10+G10+D10","v":0},{"$f":"N10+K10+H10+E10","v":0}]
[null,"Total",{"$f":"SUM(C6:C10)","v":0},{"$f":"SUM(D6:D10)","v":0},{"$f":"SUM(E6:E10)","v":0},{"$f":"SUM(F6:F10)","v":0},{"$f":"SUM(G6:G10)","v":0},{"$f":"SUM(H6:H10)","v":0},{"$f":"SUM(I6:I10)","v":0},{"$f":"SUM(J6:J10)","v":0},{"$f":"SUM(K6:K10)","v":0},{"$f":"SUM(L6:L10)","v":0},{"$f":"SUM(M6:M10)","v":0},{"$f":"SUM(N6:N10)","v":0},{"$f":"SUM(O6:O10)","v":0},{"$f":"SUM(P6:P10)","v":0},{"$f":"SUM(Q6:Q10)","v":0}]
[]
[]
[null,"b. Nutrient load reduction in runoff with BMPs (lb/year)"]
[null,"Watershed","Cropland",null,null,"Pastureland",null,null,"Forest",null,null,"User Defined",null,null,"Total"]
[null,null,"N","P","BOD","N","P","BOD","N","P","BOD","N","P","BOD","N","P","BOD"]
[null,"W1",{"$f":"(C6-'Land&Rain'!E63*Animal!N29*4047*0.3048/454)*Sediment!G18+'Land&Rain'!E63*Animal!N29*4047*0.3048/454","v":0},{"$f":"(D6-'Land&Rain'!E63*Animal!P29*4047*0.3048/454)*Sediment!K18+'Land&Rain'!E63*Animal!P29*4047*0.3048/454","v":0},{"$f":"(E6-'Land&Rain'!E63*Animal!R29*4047*0.3048/454)*Sediment!O18+'Land&Rain'!E63*Animal!R29*4047*0.3048/454","v":0},{"$f":"F6*Sediment!H18","v":0},{"$f":"G6*Sediment!L18","v":0},{"$f":"H6*Sediment!P18","v":0},{"$f":"I6*Sediment!I18","v":0},{"$f":"J6*Sediment!M18","v":0},{"$f":"K6*Sediment!Q18","v":0},{"$f":"L6*Sediment!J18","v":0},{"$f":"M6*Sediment!N18","v":0},{"$f":"N6*Sediment!R18","v":0},{"$f":"L17+I17+F17+C17","v":0},{"$f":"M17+J17+G17+D17","v":0},{"$f":"N17+K17+H17+E17","v":0}]
[null,"W2",{"$f":"(C7-'Land&Rain'!E64*Animal!N30*4047*0.3048/454)*Sediment!G19+'Land&Rain'!E64*Animal!N30*4047*0.3048/454","v":0},{"$f":"(D7-'Land&Rain'!E64*Animal!P30*4047*0.3048/454)*Sediment!K19+'Land&Rain'!E64*Animal!P30*4047*0.3048/454","v":0},{"$f":"(E7-'Land&Rain'!E64*Animal!R30*4047*0.3048/454)*Sediment!O19+'Land&Rain'!E64*Animal!R30*4047*0.3048/454","v":0},{"$f":"F7*Sediment!H19","v":0},{"$f":"G7*Sediment!L19","v":0},{"$f":"H7*Sediment!P19","v":0},{"$f":"I7*Sediment!I19","v":0},{"$f":"J7*Sediment!M19","v":0},{"$f":"K7*Sediment!Q19","v":0},{"$f":"L7*Sediment!J19","v":0},{"$f":"M7*Sediment!N19","v":0},{"$f":"N7*Sediment!R19","v":0},{"$f":"L18+I18+F18+C18","v":0},{"$f":"M18+J18+G18+D18","v":0},{"$f":"N18+K18+H18+E18","v":0}]
[null,"W3",{"$f":"(C8-'Land&Rain'!E65*Animal!N31*4047*0.3048/454)*Sediment!G20+'Land&Rain'!E65*Animal!N31*4047*0.3048/454","v":0},{"$f":"(D8-'Land&Rain'!E65*Animal!P31*4047*0.3048/454)*Sediment!K20+'Land&Rain'!E65*Animal!P31*4047*0.3048/454","v":0},{"$f":"(E8-'Land&Rain'!E65*Animal!R31*4047*0.3048/454)*Sediment!O20+'Land&Rain'!E65*Animal!R31*4047*0.3048/454","v":0},{"$f":"F8*Sediment!H20","v":0},{"$f":"G8*Sediment!L20","v":0},{"$f":"H8*Sediment!P20","v":0},{"$f":"I8*Sediment!I20","v":0},{"$f":"J8*Sediment!M20","v":0},{"$f":"K8*Sediment!Q20","v":0},{"$f":"L8*Sediment!J20","v":0},{"$f":"M8*Sediment!N20","v":0},{"$f":"N8*Sediment!R20","v":0},{"$f":"L19+I19+F19+C19","v":0},{"$f":"M19+J19+G19+D19","v":0},{"$f":"N19+K19+H19+E19","v":0}]
[null,"W4",{"$f":"(C9-'Land&Rain'!E66*Animal!N32*4047*0.3048/454)*Sediment!G21+'Land&Rain'!E66*Animal!N32*4047*0.3048/454","v":0},{"$f":"(D9-'Land&Rain'!E66*Animal!P32*4047*0.3048/454)*Sediment!K21+'Land&Rain'!E66*Animal!P32*4047*0.3048/454","v":0},{"$f":"(E9-'Land&Rain'!E66*Animal!R32*4047*0.3048/454)*Sediment!O21+'Land&Rain'!E66*Animal!R32*4047*0.3048/454","v":0},{"$f":"F9*Sediment!H21","v":0},{"$f":"G9*Sediment!L21","v":0},{"$f":"H9*Sediment!P21","v":0},{"$f":"I9*Sediment!I21","v":0},{"$f":"J9*Sediment!M21","v":0},{"$f":"K9*Sediment!Q21","v":0},{"$f":"L9*Sediment!J21","v":0},{"$f":"M9*Sediment!N21","v":0},{"$f":"N9*Sediment!R21","v":0},{"$f":"L20+I20+F20+C20","v":0},{"$f":"M20+J20+G20+D20","v":0},{"$f":"N20+K20+H20+E20","v":0}]
[null,"W5",{"$f":"(C10-'Land&Rain'!E67*Animal!N33*4047*0.3048/454)*Sediment!G22+'Land&Rain'!E67*Animal!N33*4047*0.3048/454","v":0},{"$f":"(D10-'Land&Rain'!E67*Animal!P33*4047*0.3048/454)*Sediment!K22+'Land&Rain'!E67*Animal!P33*4047*0.3048/454","v":0},{"$f":"(E10-'Land&Rain'!E67*Animal!R33*4047*0.3048/454)*Sediment!O22+'Land&Rain'!E67*Animal!R33*4047*0.3048/454","v":0},{"$f":"F10*Sediment!H22","v":0},{"$f":"G10*Sediment!L22","v":0},{"$f":"H10*Sediment!P22","v":0},{"$f":"I10*Sediment!I22","v":0},{"$f":"J10*Sediment!M22","v":0},{"$f":"K10*Sediment!Q22","v":0},{"$f":"L10*Sediment!J22","v":0},{"$f":"M10*Sediment!N22","v":0},{"$f":"N10*Sediment!R22","v":0},{"$f":"L21+I21+F21+C21","v":0},{"$f":"M21+J21+G21+D21","v":0},{"$f":"N21+K21+H21+E21","v":0}]
[null,"Total",{"$f":"SUM(C17:C21)","v":0},{"$f":"SUM(D17:D21)","v":0},{"$f":"SUM(E17:E21)","v":0},{"$f":"SUM(F17:F21)","v":0},{"$f":"SUM(G17:G21)","v":0},{"$f":"SUM(H17:H21)","v":0},{"$f":"SUM(I17:I21)","v":0},{"$f":"SUM(J17:J21)","v":0},{"$f":"SUM(K17:K21)","v":0},{"$f":"SUM(L17:L21)","v":0},{"$f":"SUM(M17:M21)","v":0},{"$f":"SUM(N17:N21)","v":0},{"$f":"SUM(O17:O21)","v":0},{"$f":"SUM(P17:P21)","v":0},{"$f":"SUM(Q17:Q21)","v":0}]
[]
[null,"1. Total load by subwatershed(s)"]
[null,"Watershed","N Load (no BMP)","P Load (no BMP)","BOD Load (no BMP)","Sediment Load (no BMP)","N Reduction","P Reduction","BOD Reduction","Sediment Reduction","N Load (with BMP)","P Load (with BMP)","BOD (with BMP)","Sediment Load (with BMP)","%N Reduction","%P Reduction","%BOD Reduction","%Sed Reduction"]
[null,null,"lb/year","lb/year","lb/year","t/year","lb/year","lb/year","lb/year","t/year","lb/year","lb/year","lb/year","t/year","%","%","%","%"]
[null,"W1",{"$f":"O6+Feedlots!C30+(Sediment!I42)*2000+Urban!C80+Septic!C25+AA47+'Gully&Streambank'!C30+'Gully&Streambank'!K30","v":0},{"$f":"P6+Feedlots!D30+(Sediment!K42)*2000+Urban!D80+Septic!D25+AB47+'Gully&Streambank'!D30+'Gully&Streambank'!L30","v":0},{"$f":"Q6+Feedlots!E30+(Sediment!M42)*2000+Urban!E80+Septic!E25+AC47+'Gully&Streambank'!E30+'Gully&Streambank'!M30","v":0},{"$f":"Sediment!M26+Urban!F80/2000+AD47/2000+'Gully&Streambank'!N30/2000+'Gully&Streambank'!F30/2000","v":0},{"$f":"O17+(Sediment!O42)*2000+Urban!G80+Feedlots!F30+Septic!F25+'Gully&Streambank'!G30+'Gully&Streambank'!O30","v":0},{"$f":"P17+(Sediment!Q42)*2000+Urban!H80+Feedlots!G30+Septic!G25+'Gully&Streambank'!H30+'Gully&Streambank'!P30","v":0},{"$f":"Q17+(Sediment!S42)*2000+Urban!I80+Feedlots!H30+Septic!H25+'Gully&Streambank'!I30+'Gully&Streambank'!Q30","v":0},{"$f":"Sediment!O26+Urban!J80/2000+'Gully&Streambank'!R30/2000+'Gully&Streambank'!J30/2000","v":0},{"$f":"C27-G27","v":0},{"$f":"D27-H27","v":0},{"$f":"E27-I27","v":0},{"$f":"F27-J27","v":0},{"$f":"IF(C27=0,0,100*G27/C27)","v":0},{"$f":"IF(D27=0,0,100*H27/D27)","v":0},{"$f":"IF(E27=0,0,100*I27/E27)","v":0},{"$f":"IF(F27=0,0,100*J27/F27)","v":0}]
[null,"W2",{"$f":"O7+Feedlots!C31+(Sediment!I43)*2000+Urban!C81+Septic!C26+AA48+'Gully&Streambank'!C31+'Gully&Streambank'!K31","v":0},{"$f":"P7+Feedlots!D31+(Sediment!K43)*2000+Urban!D81+Septic!D26+AB48+'Gully&Streambank'!D31+'Gully&Streambank'!L31","v":0},{"$f":"Q7+Feedlots!E31+(Sediment!M43)*2000+Urban!E81+Septic!E26+AC48+'Gully&Streambank'!E31+'Gully&Streambank'!M31","v":0},{"$f":"Sediment!M27+Urban!F81/2000+AD48/2000+'Gully&Streambank'!N31/2000+'Gully&Streambank'!F31/2000","v":0},{"$f":"O18+(Sediment!O43)*2000+Urban!G81+Feedlots!F31+Septic!F26+'Gully&Streambank'!G31+'Gully&Streambank'!O31","v":0},{"$f":"P18+(Sediment!Q43)*2000+Urban!H81+Feedlots!G31+Septic!G26+'Gully&Streambank'!H31+'Gully&Streambank'!P31","v":0},{"$f":"Q18+(Sediment!S43)*2000+Urban!I81+Feedlots!H31+Septic!H26+'Gully&Streambank'!I31+'Gully&Streambank'!Q31","v":0},{"$f":"Sediment!O27+Urban!J81/2000+'Gully&Streambank'!R31/2000+'Gully&Streambank'!J31/2000","v":0},{"$f":"C28-G28","v":0},{"$f":"D28-H28","v":0},{"$f":"E28-I28","v":0},{"$f":"F28-J28","v":0},{"$f":"IF(C28=0,0,100*G28/C28)","v":0},{"$f":"IF(D28=0,0,100*H28/D28)","v":0},{"$f":"IF(E28=0,0,100*I28/E28)","v":0},{"$f":"IF(F28=0,0,100*J28/F28)","v":0}]
[null,"W3",{"$f":"O8+Feedlots!C32+(Sediment!I44)*2000+Urban!C82+Septic!C27+AA49+'Gully&Streambank'!C32+'Gully&Streambank'!K32","v":0},{"$f":"P8+Feedlots!D32+(Sediment!K44)*2000+Urban!D82+Septic!D27+AB49+'Gully&Streambank'!D32+'Gully&Streambank'!L32","v":0},{"$f":"Q8+Feedlots!E32+(Sediment!M44)*2000+Urban!E82+Septic!E27+AC49+'Gully&Streambank'!E32+'Gully&Streambank'!M32","v":0},{"$f":"Sediment!M28+Urban!F82/2000+AD49/2000+'Gully&Streambank'!N32/2000+'Gully&Streambank'!F32/2000","v":0},{"$f":"O19+(Sediment!O44)*2000+Urban!G82+Feedlots!F32+Septic!F27+'Gully&Streambank'!G32+'Gully&Streambank'!O32","v":0},{"$f":"P19+(Sediment!Q44)*2000+Urban!H82+Feedlots!G32+Septic!G27+'Gully&Streambank'!H32+'Gully&Streambank'!P32","v":0},{"$f":"Q19+(Sediment!S44)*2000+Urban!I82+Feedlots!H32+Septic!H27+'Gully&Streambank'!I32+'Gully&Streambank'!Q32","v":0},{"$f":"Sediment!O28+Urban!J82/2000+'Gully&Streambank'!R32/2000+'Gully&Streambank'!J32/2000","v":0},{"$f":"C29-G29","v":0},{"$f":"D29-H29","v":0},{"$f":"E29-I29","v":0},{"$f":"F29-J29","v":0},{"$f":"IF(C29=0,0,100*G29/C29)","v":0},{"$f":"IF(D29=0,0,100*H29/D29)","v":0},{"$f":"IF(E29=0,0,100*I29/E29)","v":0},{"$f":"IF(F29=0,0,100*J29/F29)","v":0}]
[null,"W4",{"$f":"O9+Feedlots!C33+(Sediment!I45)*2000+Urban!C83+Septic!C28+AA50+'Gully&Streambank'!C33+'Gully&Streambank'!K33","v":0},{"$f":"P9+Feedlots!D33+(Sediment!K45)*2000+Urban!D83+Septic!D28+AB50+'Gully&Streambank'!D33+'Gully&Streambank'!L33","v":0},{"$f":"Q9+Feedlots!E33+(Sediment!M45)*2000+Urban!E83+Septic!E28+AC50+'Gully&Streambank'!E33+'Gully&Streambank'!M33","v":0},{"$f":"Sediment!M29+Urban!F83/2000+AD50/2000+'Gully&Streambank'!N33/2000+'Gully&Streambank'!F33/2000","v":0},{"$f":"O20+(Sediment!O45)*2000+Urban!G83+Feedlots!F33+Septic!F28+'Gully&Streambank'!G33+'Gully&Streambank'!O33","v":0},{"$f":"P20+(Sediment!Q45)*2000+Urban!H83+Feedlots!G33+Septic!G28+'Gully&Streambank'!H33+'Gully&Streambank'!P33","v":0},{"$f":"Q20+(Sediment!S45)*2000+Urban!I83+Feedlots!H33+Septic!H28+'Gully&Streambank'!I33+'Gully&Streambank'!Q33","v":0},{"$f":"Sediment!O29+Urban!J83/2000+'Gully&Streambank'!R33/2000+'Gully&Streambank'!J33/2000","v":0},{"$f":"C30-G30","v":0},{"$f":"D30-H30","v":0},{"$f":"E30-I30","v":0},{"$f":"F30-J30","v":0},{"$f":"IF(C30=0,0,100*G30/C30)","v":0},{"$f":"IF(D30=0,0,100*H30/D30)","v":0},{"$f":"IF(E30=0,0,100*I30/E30)","v":0},{"$f":"IF(F30=0,0,100*J30/F30)","v":0}]
[null,"W5",{"$f":"O10+Feedlots!C34+(Sediment!I46)*2000+Urban!C84+Septic!C29+AA51+'Gully&Streambank'!C34+'Gully&Streambank'!K34","v":0},{"$f":"P10+Feedlots!D34+(Sediment!K46)*2000+Urban!D84+Septic!D29+AB51+'Gully&Streambank'!D34+'Gully&Streambank'!L34","v":0},{"$f":"Q10+Feedlots!E34+(Sediment!M46)*2000+Urban!E84+Septic!E29+AC51+'Gully&Streambank'!E34+'Gully&Streambank'!M34","v":0},{"$f":"Sediment!M30+Urban!F84/2000+AD51/2000+'Gully&Streambank'!N34/2000+'Gully&Streambank'!F34/2000","v":0},{"$f":"O21+(Sediment!O46)*2000+Urban!G84+Feedlots!F34+Septic!F29+'Gully&Streambank'!G34+'Gully&Streambank'!O34","v":0},{"$f":"P21+(Sediment!Q46)*2000+Urban!H84+Feedlots!G34+Septic!G29+'Gully&Streambank'!H34+'Gully&Streambank'!P34","v":0},{"$f":"Q21+(Sediment!S46)*2000+Urban!I84+Feedlots!H34+Septic!H29+'Gully&Streambank'!I34+'Gully&Streambank'!Q34","v":0},{"$f":"Sediment!O30+Urban!J84/2000+'Gully&Streambank'!R34/2000+'Gully&Streambank'!J34/2000","v":0},{"$f":"C31-G31","v":0},{"$f":"D31-H31","v":0},{"$f":"E31-I31","v":0},{"$f":"F31-J31","v":0},{"$f":"IF(C31=0,0,100*G31/C31)","v":0},{"$f":"IF(D31=0,0,100*H31/D31)","v":0},{"$f":"IF(E31=0,0,100*I31/E31)","v":0},{"$f":"IF(F31=0,0,100*J31/F31)","v":0}]
[null,"Total",{"$f":"SUM(C27:C31)","v":0},{"$f":"SUM(D27:D31)","v":0},{"$f":"SUM(E27:E31)","v":0},{"$f":"SUM(F27:F31)","v":0},{"$f":"SUM(G27:G31)","v":0},{"$f":"SUM(H27:H31)","v":0},{"$f":"SUM(I27:I31)","v":0},{"$f":"SUM(J27:J31)","v":0},{"$f":"SUM(K27:K31)","v":0},{"$f":"SUM(L27:L31)","v":0},{"$f":"SUM(M27:M31)","v":0},{"$f":"SUM(N27:N31)","v":0},{"$f":"IF(C32=0,0,100*G32/C32)","v":0},{"$f":"IF(D32=0,0,100*H32/D32)","v":0},{"$f":"IF(E32=0,0,100*I32/E32)","v":0},{"$f":"IF(F32=0,0,100*J32/F32)","v":0}]
[]
[null,"c. Nutrient and sediment load by land uses with BMP (lb/year)"]
[null,"Watershed","Urban",null,null,null,"Cropland",null,null,null,"Pastureland",null,null,null,"Forest",null,null,null,"Feedlot",null,null,null,"User Defined",null,null,null,"Septic",null,null,null,"Gully",null,null,null,"Streambank"]
[null,null,"N","P","BOD","Sediment","N","P","BOD","Sediment","N","P","BOD","Sediment","N","P","BOD","Sediment","N","P","BOD","Sediment","N","P","BOD","Sediment","N","P","BOD","Sediment","N","P","BOD","Sediment","N","P","BOD","Sediment"]
[null,"W1",{"$f":"Urban!K80","v":0},{"$f":"Urban!L80","v":0},{"$f":"Urban!M80","v":0},{"$f":"Urban!N80","v":0},{"$f":"C6-C17+(Sediment!C51)*2000","v":0},{"$f":"D6-D17+(Sediment!D51)*2000","v":0},{"$f":"E6-E17+(Sediment!E51)*2000","v":0},{"$f":"2000*Sediment!F51","v":0},{"$f":"F6-F17+(Sediment!G51)*2000","v":0},{"$f":"G6-G17+(Sediment!H51)*2000","v":0},{"$f":"H6-H17+(Sediment!I51)*2000","v":0},{"$f":"(Sediment!J51)*2000","v":0},{"$f":"I6-I17+(Sediment!K51)*2000","v":0},{"$f":"J6-J17+(Sediment!L51)*2000","v":0},{"$f":"K6-K17+(Sediment!M51)*2000","v":0},{"$f":"(Sediment!N51)*2000","v":0},{"$f":"Feedlots!C30- Feedlots!F30","v":0},{"$f":"Feedlots!D30- Feedlots!G30","v":0},{"$f":"Feedlots!E30- Feedlots!H30","v":0},0,{"$f":"L6-L17+(Sediment!O51)*2000","v":0},{"$f":"M6-M17+(Sediment!P51)*2000","v":0},{"$f":"N6-N17+(Sediment!Q51)*2000","v":0},{"$f":"(Sediment!R51)*2000","v":0},{"$f":"Septic!I25","v":0},{"$f":"Septic!J25","v":0},{"$f":"Septic!K25","v":0},0,{"$f":"'Gully&Streambank'!C30-'Gully&Streambank'!G30","v":0},{"$f":"'Gully&Streambank'!D30-'Gully&Streambank'!H30","v":0},{"$f":"'Gully&Streambank'!E30-'Gully&Streambank'!I30","v":0},{"$f":"'Gully&Streambank'!F30-'Gully&Streambank'!J30","v":0},{"$f":"'Gully&Streambank'!K30-'Gully&Streambank'!O30","v":0},{"$f":"'Gully&Streambank'!L30-'Gully&Streambank'!P30","v":0},{"$f":"'Gully&Streambank'!M30-'Gully&Streambank'!Q30","v":0},{"$f":"'Gully&Streambank'!N30-'Gully&Streambank'!R30","v":0}]
[null,"W2",{"$f":"Urban!K81","v":0},{"$f":"Urban!L81","v":0},{"$f":"Urban!M81","v":0},{"$f":"Urban!N81","v":0},{"$f":"C7-C18+(Sediment!C52)*2000","v":0},{"$f":"D7-D18+(Sediment!D52)*2000","v":0},{"$f":"E7-E18+(Sediment!E52)*2000","v":0},{"$f":"2000*Sediment!F52","v":0},{"$f":"F7-F18+(Sediment!G52)*2000","v":0},{"$f":"G7-G18+(Sediment!H52)*2000","v":0},{"$f":"H7-H18+(Sediment!I52)*2000","v":0},{"$f":"(Sediment!J52)*2000","v":0},{"$f":"I7-I18+(Sediment!K52)*2000","v":0},{"$f":"J7-J18+(Sediment!L52)*2000","v":0},{"$f":"K7-K18+(Sediment!M52)*2000","v":0},{"$f":"(Sediment!N52)*2000","v":0},{"$f":"Feedlots!C31- Feedlots!F31","v":0},{"$f":"Feedlots!D31- Feedlots!G31","v":0},{"$f":"Feedlots!E31- Feedlots!H31","v":0},0,{"$f":"L7-L18+(Sediment!O52)*2000","v":0},{"$f":"M7-M18+(Sediment!P52)*2000","v":0},{"$f":"N7-N18+(Sediment!Q52)*2000","v":0},{"$f":"(Sediment!R52)*2000","v":0},{"$f":"Septic!I26","v":0},{"$f":"Septic!J26","v":0},{"$f":"Septic!K26","v":0},0,{"$f":"'Gully&Streambank'!C31-'Gully&Streambank'!G31","v":0},{"$f":"'Gully&Streambank'!D31-'Gully&Streambank'!H31","v":0},{"$f":"'Gully&Streambank'!E31-'Gully&Streambank'!I31","v":0},{"$f":"'Gully&Streambank'!F31-'Gully&Streambank'!J31","v":0},{"$f":"'Gully&Streambank'!K31-'Gully&Streambank'!O31","v":0},{"$f":"'Gully&Streambank'!L31-'Gully&Streambank'!P31","v":0},{"$f":"'Gully&Streambank'!M31-'Gully&Streambank'!Q31","v":0},{"$f":"'Gully&Streambank'!N31-'Gully&Streambank'!R31","v":0}]
[null,"W3",{"$f":"Urban!K82","v":0},{"$f":"Urban!L82","v":0},{"$f":"Urban!M82","v":0},{"$f":"Urban!N82","v":0},{"$f":"C8-C19+(Sediment!C53)*2000","v":0},{"$f":"D8-D19+(Sediment!D53)*2000","v":0},{"$f":"E8-E19+(Sediment!E53)*2000","v":0},{"$f":"2000*Sediment!F53","v":0},{"$f":"F8-F19+(Sediment!G53)*2000","v":0},{"$f":"G8-G19+(Sediment!H53)*2000","v":0},{"$f":"H8-H19+(Sediment!I53)*2000","v":0},{"$f":"(Sediment!J53)*2000","v":0},{"$f":"I8-I19+(Sediment!K53)*2000","v":0},{"$f":"J8-J19+(Sediment!L53)*2000","v":0},{"$f":"K8-K19+(Sediment!M53)*2000","v":0},{"$f":"(Sediment!N53)*2000","v":0},{"$f":"Feedlots!C32- Feedlots!F32","v":0},{"$f":"Feedlots!D32- Feedlots!G32","v":0},{"$f":"Feedlots!E32- Feedlots!H32","v":0},0,{"$f":"L8-L19+(Sediment!O53)*2000","v":0},{"$f":"M8-M19+(Sediment!P53)*2000","v":0},{"$f":"N8-N19+(Sediment!Q53)*2000","v":0},{"$f":"(Sediment!R53)*2000","v":0},{"$f":"Septic!I27","v":0},{"$f":"Septic!J27","v":0},{"$f":"Septic!K27","v":0},0,{"$f":"'Gully&Streambank'!C32-'Gully&Streambank'!G32","v":0},{"$f":"'Gully&Streambank'!D32-'Gully&Streambank'!H32","v":0},{"$f":"'Gully&Streambank'!E32-'Gully&Streambank'!I32","v":0},{"$f":"'Gully&Streambank'!F32-'Gully&Streambank'!J32","v":0},{"$f":"'Gully&Streambank'!K32-'Gully&Streambank'!O32","v":0},{"$f":"'Gully&Streambank'!L32-'Gully&Streambank'!P32","v":0},{"$f":"'Gully&Streambank'!M32-'Gully&Streambank'!Q32","v":0},{"$f":"'Gully&Streambank'!N32-'Gully&Streambank'!R32","v":0}]
[null,"W4",{"$f":"Urban!K83","v":0},{"$f":"Urban!L83","v":0},{"$f":"Urban!M83","v":0},{"$f":"Urban!N83","v":0},{"$f":"C9-C20+(Sediment!C54)*2000","v":0},{"$f":"D9-D20+(Sediment!D54)*2000","v":0},{"$f":"E9-E20+(Sediment!E54)*2000","v":0},{"$f":"2000*Sediment!F54","v":0},{"$f":"F9-F20+(Sediment!G54)*2000","v":0},{"$f":"G9-G20+(Sediment!H54)*2000","v":0},{"$f":"H9-H20+(Sediment!I54)*2000","v":0},{"$f":"(Sediment!J54)*2000","v":0},{"$f":"I9-I20+(Sediment!K54)*2000","v":0},{"$f":"J9-J20+(Sediment!L54)*2000","v":0},{"$f":"K9-K20+(Sediment!M54)*2000","v":0},{"$f":"(Sediment!N54)*2000","v":0},{"$f":"Feedlots!C33- Feedlots!F33","v":0},{"$f":"Feedlots!D33- Feedlots!G33","v":0},{"$f":"Feedlots!E33- Feedlots!H33","v":0},0,{"$f":"L9-L20+(Sediment!O54)*2000","v":0},{"$f":"M9-M20+(Sediment!P54)*2000","v":0},{"$f":"N9-N20+(Sediment!Q54)*2000","v":0},{"$f":"(Sediment!R54)*2000","v":0},{"$f":"Septic!I28","v":0},{"$f":"Septic!J28","v":0},{"$f":"Septic!K28","v":0},0,{"$f":"'Gully&Streambank'!C33-'Gully&Streambank'!G33","v":0},{"$f":"'Gully&Streambank'!D33-'Gully&Streambank'!H33","v":0},{"$f":"'Gully&Streambank'!E33-'Gully&Streambank'!I33","v":0},{"$f":"'Gully&Streambank'!F33-'Gully&Streambank'!J33","v":0},{"$f":"'Gully&Streambank'!K33-'Gully&Streambank'!O33","v":0},{"$f":"'Gully&Streambank'!L33-'Gully&Streambank'!P33","v":0},{"$f":"'Gully&Streambank'!M33-'Gully&Streambank'!Q33","v":0},{"$f":"'Gully&Streambank'!N33-'Gully&Streambank'!R33","v":0}]
[null,"W5",{"$f":"Urban!K84","v":0},{"$f":"Urban!L84","v":0},{"$f":"Urban!M84","v":0},{"$f":"Urban!N84","v":0},{"$f":"C10-C21+(Sediment!C55)*2000","v":0},{"$f":"D10-D21+(Sediment!D55)*2000","v":0},{"$f":"E10-E21+(Sediment!E55)*2000","v":0},{"$f":"2000*Sediment!F55","v":0},{"$f":"F10-F21+(Sediment!G55)*2000","v":0},{"$f":"G10-G21+(Sediment!H55)*2000","v":0},{"$f":"H10-H21+(Sediment!I55)*2000","v":0},{"$f":"(Sediment!J55)*2000","v":0},{"$f":"I10-I21+(Sediment!K55)*2000","v":0},{"$f":"J10-J21+(Sediment!L55)*2000","v":0},{"$f":"K10-K21+(Sediment!M55)*2000","v":0},{"$f":"(Sediment!N55)*2000","v":0},{"$f":"Feedlots!C34- Feedlots!F34","v":0},{"$f":"Feedlots!D34- Feedlots!G34","v":0},{"$f":"Feedlots!E34- Feedlots!H34","v":0},0,{"$f":"L10-L21+(Sediment!O55)*2000","v":0},{"$f":"M10-M21+(Sediment!P55)*2000","v":0},{"$f":"N10-N21+(Sediment!Q55)*2000","v":0},{"$f":"(Sediment!R55)*2000","v":0},{"$f":"Septic!I29","v":0},{"$f":"Septic!J29","v":0},{"$f":"Septic!K29","v":0},0,{"$f":"'Gully&Streambank'!C34-'Gully&Streambank'!G34","v":0},{"$f":"'Gully&Streambank'!D34-'Gully&Streambank'!H34","v":0},{"$f":"'Gully&Streambank'!E34-'Gully&Streambank'!I34","v":0},{"$f":"'Gully&Streambank'!F34-'Gully&Streambank'!J34","v":0},{"$f":"'Gully&Streambank'!K34-'Gully&Streambank'!O34","v":0},{"$f":"'Gully&Streambank'!L34-'Gully&Streambank'!P34","v":0},{"$f":"'Gully&Streambank'!M34-'Gully&Streambank'!Q34","v":0},{"$f":"'Gully&Streambank'!N34-'Gully&Streambank'!R34","v":0}]
[null,"Total",{"$f":"SUM(C37:C41)","v":0},{"$f":"SUM(D37:D41)","v":0},{"$f":"SUM(E37:E41)","v":0},{"$f":"SUM(F37:F41)","v":0},{"$f":"SUM(G37:G41)","v":0},{"$f":"SUM(H37:H41)","v":0},{"$f":"SUM(I37:I41)","v":0},{"$f":"SUM(J37:J41)","v":0},{"$f":"SUM(K37:K41)","v":0},{"$f":"SUM(L37:L41)","v":0},{"$f":"SUM(M37:M41)","v":0},{"$f":"SUM(N37:N41)","v":0},{"$f":"SUM(O37:O41)","v":0},{"$f":"SUM(P37:P41)","v":0},{"$f":"SUM(Q37:Q41)","v":0},{"$f":"SUM(R37:R41)","v":0},{"$f":"SUM(S37:S41)","v":0},{"$f":"SUM(T37:T41)","v":0},{"$f":"SUM(U37:U41)","v":0},{"$f":"SUM(V37:V41)","v":0},{"$f":"SUM(W37:W41)","v":0},{"$f":"SUM(X37:X41)","v":0},{"$f":"SUM(Y37:Y41)","v":0},{"$f":"SUM(Z37:Z41)","v":0},{"$f":"SUM(AA37:AA41)","v":0},{"$f":"SUM(AB37:AB41)","v":0},{"$f":"SUM(AC37:AC41)","v":0},{"$f":"SUM(AD37:AD41)","v":0},{"$f":"SUM(AE37:AE41)","v":0},{"$f":"SUM(AF37:AF41)","v":0},{"$f":"SUM(AG37:AG41)","v":0},{"$f":"SUM(AH37:AH41)","v":0},{"$f":"SUM(AI37:AI41)","v":0},{"$f":"SUM(AJ37:AJ41)","v":0},{"$f":"SUM(AK37:AK41)","v":0},{"$f":"SUM(AL37:AL41)","v":0}]
[]
[null,"d. Load from groundwater by land uses with BMP (lb/year)"]
[null,"Watershed","Urban",null,null,null,"Cropland",null,null,null,"Pastureland",null,null,null,"Forest",null,null,null,"Feedlot",null,null,null,"User Defined",null,null,null,"Total"]
[null,null,"N","P","BOD","Sediment","N","P","BOD","Sediment","N","P","BOD","Sediment","N","P","BOD","Sediment","N","P","BOD","Sediment","N","P","BOD","Sediment","N","P","BOD","Sediment"]
[null,"W1",{"$f":"'Land&Rain'!AK47*Input!I78*4047*0.3048/454","v":0},{"$f":"'Land&Rain'!AK47*Input!J78*4047*0.3048/454","v":0},{"$f":"'Land&Rain'!AK47*Input!K78*4047*0.3048/454","v":0},null,{"$f":"'Land&Rain'!AM47*Input!I79*4047*0.3048/454","v":0},{"$f":"'Land&Rain'!AM47*Input!J79*4047*0.3048/454","v":0},{"$f":"'Land&Rain'!AM47*Input!K79*4047*0.3048/454","v":0},null,{"$f":"'Land&Rain'!AO47*Input!I80*4047*0.3048/454","v":0},{"$f":"'Land&Rain'!AO47*Input!J80*4047*0.3048/454","v":0},{"$f":"'Land&Rain'!AO47*Input!K80*4047*0.3048/454","v":0},null,{"$f":"'Land&Rain'!AQ47*Input!I81*4047*0.3048/454","v":0},{"$f":"'Land&Rain'!AQ47*Input!J81*4047*0.3048/454","v":0},{"$f":"'Land&Rain'!AQ47*Input!K81*4047*0.3048/454","v":0},null,{"$f":"'Land&Rain'!AU47*Input!I82*4047*0.3048/454","v":0},{"$f":"'Land&Rain'!AU47*Input!J82*4047*0.3048/454","v":0},{"$f":"'Land&Rain'!AU47*Input!K82*4047*0.3048/454","v":0},null,{"$f":"'Land&Rain'!AS47*Input!I83*4047*0.3048/454","v":0},{"$f":"'Land&Rain'!AS47*Input!J83*4047*0.3048/454","v":0},{"$f":"'Land&Rain'!AS47*Input!K83*4047*0.3048/454","v":0},null,{"$f":"W47+S47+O47+K47+G47+C47","v":0},{"$f":"X47+T47+P47+L47+H47+D47","v":0},{"$f":"Y47+U47+Q47+M47+I47+E47","v":0},{"$f":"Z47+V47+R47+N47+J47+F47","v":0}]
[null,"W2",{"$f":"'Land&Rain'!AK48*Input!I78*4047*0.3048/454","v":0},{"$f":"'Land&Rain'!AK48*Input!J78*4047*0.3048/454","v":0},{"$f":"'Land&Rain'!AK48*Input!K78*4047*0.3048/454","v":0},null,{"$f":"'Land&Rain'!AM48*Input!I79*4047*0.3048/454","v":0},{"$f":"'Land&Rain'!AM48*Input!J79*4047*0.3048/454","v":0},{"$f":"'Land&Rain'!AM48*Input!K79*4047*0.3048/454","v":0},null,{"$f":"'Land&Rain'!AO48*Input!I80*4047*0.3048/454","v":0},{"$f":"'Land&Rain'!AO48*Input!J80*4047*0.3048/454","v":0},{"$f":"'Land&Rain'!AO48*Input!K80*4047*0.3048/454","v":0},null,{"$f":"'Land&Rain'!AQ48*Input!I81*4047*0.3048/454","v":0},{"$f":"'Land&Rain'!AQ48*Input!J81*4047*0.3048/454","v":0},{"$f":"'Land&Rain'!AQ48*Input!K81*4047*0.3048/454","v":0},null,{"$f":"'Land&Rain'!AU48*Input!I82*4047*0.3048/454","v":0},{"$f":"'Land&Rain'!AU48*Input!J82*4047*0.3048/454","v":0},{"$f":"'Land&Rain'!AU48*Input!K82*4047*0.3048/454","v":0},null,{"$f":"'Land&Rain'!AS48*Input!I83*4047*0.3048/454","v":0},{"$f":"'Land&Rain'!AS48*Input!J83*4047*0.3048/454","v":0},{"$f":"'Land&Rain'!AS48*Input!K83*4047*0.3048/454","v":0},null,{"$f":"W48+S48+O48+K48+G48+C48","v":0},{"$f":"X48+T48+P48+L48+H48+D48","v":0},{"$f":"Y48+U48+Q48+M48+I48+E48","v":0},{"$f":"Z48+V48+R48+N48+J48+F48","v":0}]
[null,"W3",{"$f":"'Land&Rain'!AK49*Input!I78*4047*0.3048/454","v":0},{"$f":"'Land&Rain'!AK49*Input!J78*4047*0.3048/454","v":0},{"$f":"'Land&Rain'!AK49*Input!K78*4047*0.3048/454","v":0},null,{"$f":"'Land&Rain'!AM49*Input!I79*4047*0.3048/454","v":0},{"$f":"'Land&Rain'!AM49*Input!J79*4047*0.3048/454","v":0},{"$f":"'Land&Rain'!AM49*Input!K79*4047*0.3048/454","v":0},null,{"$f":"'Land&Rain'!AO49*Input!I80*4047*0.3048/454","v":0},{"$f":"'Land&Rain'!AO49*Input!J80*4047*0.3048/454","v":0},{"$f":"'Land&Rain'!AO49*Input!K80*4047*0.3048/454","v":0},null,{"$f":"'Land&Rain'!AQ49*Input!I81*4047*0.3048/454","v":0},{"$f":"'Land&Rain'!AQ49*Input!J81*4047*0.3048/454","v":0},{"$f":"'Land&Rain'!AQ49*Input!K81*4047*0.3048/454","v":0},null,{"$f":"'Land&Rain'!AU49*Input!I82*4047*0.3048/454","v":0},{"$f":"'Land&Rain'!AU49*Input!J82*4047*0.3048/454","v":0},{"$f":"'Land&Rain'!AU49*Input!K82*4047*0.3048/454","v":0},null,{"$f":"'Land&Rain'!AS49*Input!I83*4047*0.3048/454","v":0},{"$f":"'Land&Rain'!AS49*Input!J83*4047*0.3048/454","v":0},{"$f":"'Land&Rain'!AS49*Input!K83*4047*0.3048/454","v":0},null,{"$f":"W49+S49+O49+K49+G49+C49","v":0},{"$f":"X49+T49+P49+L49+H49+D49","v":0},{"$f":"Y49+U49+Q49+M49+I49+E49","v":0},{"$f":"Z49+V49+R49+N49+J49+F49","v":0}]
[null,"W4",{"$f":"'Land&Rain'!AK50*Input!I78*4047*0.3048/454","v":0},{"$f":"'Land&Rain'!AK50*Input!J78*4047*0.3048/454","v":0},{"$f":"'Land&Rain'!AK50*Input!K78*4047*0.3048/454","v":0},null,{"$f":"'Land&Rain'!AM50*Input!I79*4047*0.3048/454","v":0},{"$f":"'Land&Rain'!AM50*Input!J79*4047*0.3048/454","v":0},{"$f":"'Land&Rain'!AM50*Input!K79*4047*0.3048/454","v":0},null,{"$f":"'Land&Rain'!AO50*Input!I80*4047*0.3048/454","v":0},{"$f":"'Land&Rain'!AO50*Input!J80*4047*0.3048/454","v":0},{"$f":"'Land&Rain'!AO50*Input!K80*4047*0.3048/454","v":0},null,{"$f":"'Land&Rain'!AQ50*Input!I81*4047*0.3048/454","v":0},{"$f":"'Land&Rain'!AQ50*Input!J81*4047*0.3048/454","v":0},{"$f":"'Land&Rain'!AQ50*Input!K81*4047*0.3048/454","v":0},null,{"$f":"'Land&Rain'!AU50*Input!I82*4047*0.3048/454","v":0},{"$f":"'Land&Rain'!AU50*Input!J82*4047*0.3048/454","v":0},{"$f":"'Land&Rain'!AU50*Input!K82*4047*0.3048/454","v":0},null,{"$f":"'Land&Rain'!AS50*Input!I83*4047*0.3048/454","v":0},{"$f":"'Land&Rain'!AS50*Input!J83*4047*0.3048/454","v":0},{"$f":"'Land&Rain'!AS50*Input!K83*4047*0.3048/454","v":0},null,{"$f":"W50+S50+O50+K50+G50+C50","v":0},{"$f":"X50+T50+P50+L50+H50+D50","v":0},{"$f":"Y50+U50+Q50+M50+I50+E50","v":0},{"$f":"Z50+V50+R50+N50+J50+F50","v":0}]
[null,"W5",{"$f":"'Land&Rain'!AK51*Input!I78*4047*0.3048/454","v":0},{"$f":"'Land&Rain'!AK51*Input!J78*4047*0.3048/454","v":0},{"$f":"'Land&Rain'!AK51*Input!K78*4047*0.3048/454","v":0},null,{"$f":"'Land&Rain'!AM51*Input!I79*4047*0.3048/454","v":0},{"$f":"'Land&Rain'!AM51*Input!J79*4047*0.3048/454","v":0},{"$f":"'Land&Rain'!AM51*Input!K79*4047*0.3048/454","v":0},null,{"$f":"'Land&Rain'!AO51*Input!I80*4047*0.3048/454","v":0},{"$f":"'Land&Rain'!AO51*Input!J80*4047*0.3048/454","v":0},{"$f":"'Land&Rain'!AO51*Input!K80*4047*0.3048/454","v":0},null,{"$f":"'Land&Rain'!AQ51*Input!I81*4047*0.3048/454","v":0},{"$f":"'Land&Rain'!AQ51*Input!J81*4047*0.3048/454","v":0},{"$f":"'Land&Rain'!AQ51*Input!K81*4047*0.3048/454","v":0},null,{"$f":"'Land&Rain'!AU51*Input!I82*4047*0.3048/454","v":0},{"$f":"'Land&Rain'!AU51*Input!J82*4047*0.3048/454","v":0},{"$f":"'Land&Rain'!AU51*Input!K82*4047*0.3048/454","v":0},null,{"$f":"'Land&Rain'!AS51*Input!I83*4047*0.3048/454","v":0},{"$f":"'Land&Rain'!AS51*Input!J83*4047*0.3048/454","v":0},{"$f":"'Land&Rain'!AS51*Input!K83*4047*0.3048/454","v":0},null,{"$f":"W51+S51+O51+K51+G51+C51","v":0},{"$f":"X51+T51+P51+L51+H51+D51","v":0},{"$f":"Y51+U51+Q51+M51+I51+E51","v":0},{"$f":"Z51+V51+R51+N51+J51+F51","v":0}]
[null,"Total",{"$f":"SUM(C47:C51)","v":0},{"$f":"SUM(D47:D51)","v":0},{"$f":"SUM(E47:E51)","v":0},{"$f":"SUM(F47:F51)","v":0},{"$f":"SUM(G47:G51)","v":0},{"$f":"SUM(H47:H51)","v":0},{"$f":"SUM(I47:I51)","v":0},{"$f":"SUM(J47:J51)","v":0},{"$f":"SUM(K47:K51)","v":0},{"$f":"SUM(L47:L51)","v":0},{"$f":"SUM(M47:M51)","v":0},{"$f":"SUM(N47:N51)","v":0},{"$f":"SUM(O47:O51)","v":0},{"$f":"SUM(P47:P51)","v":0},{"$f":"SUM(Q47:Q51)","v":0},{"$f":"SUM(R47:R51)","v":0},{"$f":"SUM(S47:S51)","v":0},{"$f":"SUM(T47:T51)","v":0},{"$f":"SUM(U47:U51)","v":0},{"$f":"SUM(V47:V51)","v":0},{"$f":"SUM(W47:W51)","v":0},{"$f":"SUM(X47:X51)","v":0},{"$f":"SUM(Y47:Y51)","v":0},{"$f":"SUM(Z47:Z51)","v":0},{"$f":"SUM(AA47:AA51)","v":0},{"$f":"SUM(AB47:AB51)","v":0},{"$f":"SUM(AC47:AC51)","v":0},{"$f":"SUM(AD47:AD51)","v":0}]
[]
[null,"2. Total load by land uses (with BMP)"]
[null,"Sources","N Load (lb/yr)","P Load (lb/yr)","BOD Load (lb/yr)","Sediment Load (t/yr)"]
[null,"Urban",{"$f":"C42","v":0},{"$f":"D42","v":0},{"$f":"E42","v":0},{"$f":"F42/2000","v":0}]
[null,"Cropland",{"$f":"G42","v":0},{"$f":"H42","v":0},{"$f":"I42","v":0},{"$f":"J42/2000","v":0}]
[null,"Pastureland",{"$f":"K42","v":0},{"$f":"L42","v":0},{"$f":"M42","v":0},{"$f":"N42/2000","v":0}]
[null,"Forest",{"$f":"O42","v":0},{"$f":"P42","v":0},{"$f":"Q42","v":0},{"$f":"R42/2000","v":0}]
[null,"Feedlots",{"$f":"S42","v":0},{"$f":"T42","v":0},{"$f":"U42","v":0},{"$f":"V42/2000","v":0}]
[null,"User Defined",{"$f":"W42","v":0},{"$f":"X42","v":0},{"$f":"Y42","v":0},{"$f":"Z42/2000","v":0}]
[null,"Septic",{"$f":"AA42","v":0},{"$f":"AB42","v":0},{"$f":"AC42","v":0},{"$f":"AD42/2000","v":0}]
[null,"Gully",{"$f":"AE42","v":0},{"$f":"AF42","v":0},{"$f":"AG42","v":0},{"$f":"AH42/2000","v":0}]
[null,"Streambank",{"$f":"AI42","v":0},{"$f":"AJ42","v":0},{"$f":"AK42","v":0},{"$f":"AL42/2000","v":0}]
[null,"Groundwater",{"$f":"AA52","v":0},{"$f":"AB52","v":0},{"$f":"AC52","v":0},{"$f":"AD52","v":0}]
[null,"Total",{"$f":"SUM(C56:C65)","v":0},{"$f":"SUM(D56:D65)","v":0},{"$f":"SUM(E56:E65)","v":0},{"$f":"SUM(F56:F65)","v":0}]

{"sheet":"Graphs","index":11,"n_rows":21,"n_cols":10,"rows_kept":21,"cut":false,"hidden":false,"merged":[]}
[null,"Graphs",null,"This sheet is protected. To copy specific objects, remove the protection by clicking Tools -> Protection -> Unprotect sheet."]
[null,"1. Copy of total load by land uses (with BMP)"]
[null,"Sources","Total N Load by Land Uses (with BMP) (lb/yr)","Total P Load by Land Uses (with BMP) (lb/yr)","Total BOD Load by Land Uses (with BMP) (lb/yr)","Total Sediment Load by Land Uses (with BMP) (t/yr)"]
[null,"Urban",{"$f":"'Total Load'!C56","v":0},{"$f":"'Total Load'!D56","v":0},{"$f":"'Total Load'!E56","v":0},{"$f":"'Total Load'!F56","v":0}]
[null,"Cropland",{"$f":"'Total Load'!C57","v":0},{"$f":"'Total Load'!D57","v":0},{"$f":"'Total Load'!E57","v":0},{"$f":"'Total Load'!F57","v":0}]
[null,"Pastureland",{"$f":"'Total Load'!C58","v":0},{"$f":"'Total Load'!D58","v":0},{"$f":"'Total Load'!E58","v":0},{"$f":"'Total Load'!F58","v":0}]
[null,"Forest",{"$f":"'Total Load'!C59","v":0},{"$f":"'Total Load'!D59","v":0},{"$f":"'Total Load'!E59","v":0},{"$f":"'Total Load'!F59","v":0}]
[null,"Feedlots",{"$f":"'Total Load'!C60","v":0},{"$f":"'Total Load'!D60","v":0},{"$f":"'Total Load'!E60","v":0},{"$f":"'Total Load'!F60","v":0}]
[null,"User Defined",{"$f":"'Total Load'!C61","v":0},{"$f":"'Total Load'!D61","v":0},{"$f":"'Total Load'!E61","v":0},{"$f":"'Total Load'!F61","v":0}]
[null,"Septic",{"$f":"'Total Load'!C62","v":0},{"$f":"'Total Load'!D62","v":0},{"$f":"'Total Load'!E62","v":0},{"$f":"'Total Load'!F62","v":0}]
[null,"Gully",{"$f":"'Total Load'!C63","v":0},{"$f":"'Total Load'!D63","v":0},{"$f":"'Total Load'!E63","v":0},{"$f":"'Total Load'!F63","v":0}]
[null,"Streambank",{"$f":"'Total Load'!C64","v":0},{"$f":"'Total Load'!D64","v":0},{"$f":"'Total Load'!E64","v":0},{"$f":"'Total Load'!F64","v":0}]
[null,"Groundwater",{"$f":"'Total Load'!C65","v":0},{"$f":"'Total Load'!D65","v":0},{"$f":"'Total Load'!E65","v":0},{"$f":"'Total Load'!F65","v":0}]
[]
[null,"2. Copy of total load by subwatersheds"]
[null,"Watershed","N Load with BMP (lb/yr)","P Load with BMP (lb/yr)","BOD Load with BMP (lb/yr)","Sediment Load by Watersheds with BMP (t/yr)","N Load Reduction (lb/yr)","P Load Reduction (lb/yr)","BOD Load Reduction (lb/yr) ","Sediment Load Reduction by Watersheds (t/yr) "]
[null,"W1",{"$f":"'Total Load'!K27","v":0},{"$f":"'Total Load'!L27","v":0},{"$f":"'Total Load'!M27","v":0},{"$f":"'Total Load'!N27","v":0},{"$f":"'Total Load'!G27","v":0},{"$f":"'Total Load'!H27","v":0},{"$f":"'Total Load'!I27","v":0},{"$f":"'Total Load'!J27","v":0}]
[null,"W2",{"$f":"'Total Load'!K28","v":0},{"$f":"'Total Load'!L28","v":0},{"$f":"'Total Load'!M28","v":0},{"$f":"'Total Load'!N28","v":0},{"$f":"'Total Load'!G28","v":0},{"$f":"'Total Load'!H28","v":0},{"$f":"'Total Load'!I28","v":0},{"$f":"'Total Load'!J28","v":0}]
[null,"W3",{"$f":"'Total Load'!K29","v":0},{"$f":"'Total Load'!L29","v":0},{"$f":"'Total Load'!M29","v":0},{"$f":"'Total Load'!N29","v":0},{"$f":"'Total Load'!G29","v":0},{"$f":"'Total Load'!H29","v":0},{"$f":"'Total Load'!I29","v":0},{"$f":"'Total Load'!J29","v":0}]
[null,"W4",{"$f":"'Total Load'!K30","v":0},{"$f":"'Total Load'!L30","v":0},{"$f":"'Total Load'!M30","v":0},{"$f":"'Total Load'!N30","v":0},{"$f":"'Total Load'!G30","v":0},{"$f":"'Total Load'!H30","v":0},{"$f":"'Total Load'!I30","v":0},{"$f":"'Total Load'!J30","v":0}]
[null,"W5",{"$f":"'Total Load'!K31","v":0},{"$f":"'Total Load'!L31","v":0},{"$f":"'Total Load'!M31","v":0},{"$f":"'Total Load'!N31","v":0},{"$f":"'Total Load'!G31","v":0},{"$f":"'Total Load'!H31","v":0},{"$f":"'Total Load'!I31","v":0},{"$f":"'Total Load'!J31","v":0}]

{"sheet":"Reference","index":12,"n_rows":105,"n_cols":6,"rows_kept":105,"cut":false,"hidden":true,"merged":[]}
[]
[]
[null,"Modified from ASAE, 1998"]
[null,"Animal","Typical Animal Mass,lb","BOD,lb/day/1000lb animal","BOD per Animal,lb/day","BOD per Animal,lb/yr"]
[null,"Beef cattle",1000,1.6,1.28,467.1]
[null,"Dairy cow",1400,1.6,2.2400000000000002,818]
[null,"Hog",200,3.1,0.42,153]
[null,"Sheep",100,1.2,7.0000000000000007E-2,26]
[null,"Horse",1000,1.7,1.7,621]
[null,"Chicken (Layer)",4,3.3,0.01,5]
[null,"Turkey",10,2.1,0.03,11]
[null,"Duck",4,0,0,0]
[null,"Goose",6,0,0,0]
[null,"Deer",40,0,0,0]
[null,"Beaver",15,0,0,0]
[null,"Raccoon",7,0,0,0]
[null,"Other",0,0,0,0]
[]
[]
[]
[]
[]
[]
[]
[null,"Sources of Data:"]
[]
[null,"I. Typical Animal weight: 1"]
[]
[null,"II. General nutrient concentrations in runoff: 3, 9, 10, 11, 14, 17, and 18; Detailed urban nutrient concentrations: 27, 28 and 17"]
[null,"     Nutrient concentrations in groundwater: 10 (page 46: forest mean and 75% agriculture mean), 27 (urban N mean 2.0 mg/l below lawn)"]
[]
[]
[null,"III. Nutrient adjustment factor by animal density: 8"]
[]
[null,"IV. BMP efficiencies"]
[]
[null,"Feedlots: 5, 6, 7, and 23"]
[null,"Forest: 21 and 23"]
[null,"Cropland: 23"]
[null,"Urban: BMP: 2, 12, 15, 16, 20 and 25; LID: 26"]
[]
[null,"V. Constituent concentrations from feedlots"]
[null,"N and P: 4, 13, and 19"]
[null,"BOD5: 22"]
[null,"COD: 15"]
[]
[null,"VI. Sediment delivery ratio: 15 and 24"]
[]
[null,"VII. Infiltration Rate by Soil Hydrological Group (for groundwater output calculation): 27 (page 7-13)"]
[]
[null,"1. ASAE (American Society of Agricultural Engineers). 1998. ASAE standards: Standards, engineering practice, and  data. 45th ed. American Society of Agricultural Engineers. St. Joseph, Michigan."]
[]
[null,"2. Athayde, D.N., P.E. Shelly, E.D. Driscoll, D. Gaboury, and G. Boyd. 1983. Results of the nationwide urban runoff program - volume I - final report. U.S. Environmental Protection Agency, Washington, DC."]
[]
[null,"3. Beaulac, M.N. and K.H. Reckhow. 1982. An examination of landuse- nutrient export relationships. Water Resources Bulletin 18:1013-1024."]
[]
[null,"4. Clark, R.N., A.D. Schneider, and B.A. Stewart. 1975. Analysis of runoff from Southern Great Planes feedlots. Transactions ASAE 15(2):319-322."]
[]
[null,"5. DPRA Inc.1986. An evaluation of the cost effectiveness of agricultural best management practices and publicly owned treatment works in controlling phosphorus pollution in the Great Lakes basin. Prepared for U.S. Environmental Protection Agency, Washington, DC."]
[]
[null,"6. Edwards, W.M., L.B. Owens, and R.K. White. 1983. Managing runoff from a small, paved beef feedlot. Journal of Environmental Quality 12(2)."]
[]
[null,"7. Edwards, W.M., L.B. Owens, R.K. White, and N.R. Fausey. 1986. Managing feedlot runoff with a settling basin plus tiled infiltration bed. Transactions of the ASAE 29(1):243-247."]
[]
[null,"8. Evans, B.M., S. A. Sheeder, K. J. Corradini, and W. S. Brown. 2001.  AVGWLF version 3.2, users guide. Software. Environmental Resources Research Institute, Pennsylvania State University, University Park, Pennsylvania."]
[]
[null,"9. Haith, D.A. and L.L. Shoemaker. 1987. Generalized watershed loading functions for stream flow nutrients. Water Resources Bulletin 23:471-478."]
[]
[null,"10. Haith, D.A., R. Mandal, and R.S. Wu. 1992. GWLF: General watershed loading functions, user’s manual, version 2.0. Cornell University, Ithaca, NY, USA."]
[]
[null,"11. Horner, R. R. 1992. Water quality criteria/pollutant loading estimation/treatment effectiveness estimation. In R.W. Beck and Associates. Covington Master Drainage Plan. King County Surface Water Manage. Div., Seattle, WA."]
[]
[null,"12. Leeds, R., L.C. Brown, M.R. Sulc, and L.VanLieshout. 1994. Vegetative filter strips: Application, installation and maintenance. AEX-467-94. Ohio State University Extension, Columbus, Ohio.  http://ohioline.osu.edu/aex-fact/0467.html"]
[]
[null,"13. Loehr, R. C. 1974. Characteristics and comparative magnitude of nonpoint sources. J. WPCF (Water Pollution Control Federation) 46:1849-1872."]
[]
[null,"14. Maidment, D. R. 1993. Handbook of hydrology. McGraw-Hill, New York."]
[]
[null,"15. MDEQ (Michigan Department of Environmental Quality). 1999.  Pollutants controlled: Calculation and documentation for section 319 watersheds training manual. Michigan Department of Environmental Quality, Lansing, Michigan, USA."]
[]
[null,"16. Northeastern Illinois Planning Commission (NIPC). 1994. Model best management practice selection methodology & Lake County decision-making framework. NIPC, Chicago, Illinois."]
[]
[null,"17. Novotny, V., and H. Olem. 1994. Water quality: prevention, identification, and management of diffuse pollution. Van Nostrand Reinhold, New York. p 682."]
[]
[null,"18. Reckhow, K.H., M.N. Beaulac, and J.T. Simpson. 1980. Modeling phosphorous loading and lake response under uncertainty: A manual and compilation of export coefficients. EPA 440/5-80-011. U.S. Environmental Protection Agency, Washington, DC."]
[]
[null,"19. Ritter, W.F. 1988. Reducing impact of nonpoint pollution from agriculture: A review. J. Environ. Sci. Health 25:821"]
[]
[null,"20. Schueler, T.R. 1987. Controlling urban runoff: A practical manual for planning and designing urban BMPs. Document No. 87703. Metropolitan Washington Council of Governments, Washington, DC."]
[]
[null,"21. Seyedbagheri, K. A. 1996. Idaho forestry best management practices: Compilation of research on their effectiveness. General Technical Report INT-GTR-339. USDA Forest Service, Intermountain Research Station, Ogden, Utah."]
[]
[null,"22. U.S. Environmental Protection Agency (EPA). 1973. Development document for proposed effluent limitation guidelines and new source performance standards for the feedlots point source category. EPA-440-1-73-004. Washington, DC."]
[]
[null,"23. U.S. Environmental Protection Agency (EPA). 1993. Guidance specifying management measures for sources of nonpoint pollution in coastal waters. EPA-840-B-92-002. Office of Water, Washington, DC."]
[]
[null,"24. USDA-NRCS (U.S. Department of Agriculture Natural Resources Conservation Service).  1983.  Sediment sources, yields, and delivery ratios. In National Engineering Handbook, Chapter 6, Section 3, Sedimentation."]
[]
[null,"25. Davis, A.P., Shokouhian, M., Sharma, H. and C. Minami. 2001. Laboratory study of biological retention for urban stormwater management. Water Environment Research 73:5-14"]
[]
[null,"26. Maryland Prince George's County and the U.S. Environmental Protection Agency. 1999. Low-Impact Development Design Strategies: An Integrated Design Approach. http://www.epa.gov/owow/nps/lid/lidnatl.pdf"]
[]
[null,"27. Caraco, D. 2001. The Watershed Treatment Model. Version 3.0. Center for Watershed Protection. Ellicott City, Maryland."]
[]
[null,"28. USDA Natural Resources Conservation Service, and Illinois Environmental Protection Agency. 2002. Illinois Urban Manual. http://www.il.nrcs.usda.gov/technical/engineer/urban/."]

{"sheet":"BMPList","index":13,"n_rows":75,"n_cols":6,"rows_kept":75,"cut":false,"hidden":true,"merged":[]}
["Landuse","BMP & Efficiency","N","P","BOD","Sediment"]
["Cropland"]
["Cropland","0 No BMP",0,0,0,0]
["Cropland","Combined BMPs-Calculated",0,0,0,0]
["Cropland","Contour Farming",0.48499999999999999,0.55000000000000004,"ND",0.40500000000000003]
["Cropland","Diversion",0.1,0.3,"ND",0.35]
["Cropland","Filter strip",0.7,0.75,"ND",0.65]
["Cropland","Reduced Tillage Systems",0.55000000000000004,0.45,"ND",0.75]
["Cropland","Streambank stabilization and fencing",0.75,0.75,"ND",0.75]
["Cropland","Terrace",0.2,0.7,"ND",0.85]
["Pastureland"]
["Pastureland","0 No BMP",0,0,0,0]
["Pastureland","Combined BMPs-Calculated",0,0,0,0]
["Forest"]
["Forest","0 No BMP",0,0,0,0]
["Forest","Combined BMPs-Calculated",0,0,0,0]
["Forest","Road dry seeding","ND","ND","ND",0.41]
["Forest","Road grass and legume seeding","ND","ND","ND",0.71]
["Forest","Road hydro mulch","ND","ND","ND",0.41]
["Forest","Road straw mulch","ND","ND","ND",0.41]
["Forest","Road tree planting","ND","ND","ND",0.5]
["Forest","Site preparation/hydro mulch/seed/fertilizer","ND","ND","ND",0.71]
["Forest","Site preparation/hydro mulch/seed/fertilizer/transplants","ND","ND","ND",0.69]
["Forest","Site preparation/steep slope seeder/transplant","ND","ND","ND",0.81]
["Forest","Site preparation/straw/crimp seed/fertilizer/transplant","ND","ND","ND",0.95]
["Forest","Site preparation/straw/crimp/net","ND","ND","ND",0.93]
["Forest","Site preparation/straw/net/seed/fertilizer/transplant","ND","ND","ND",0.83]
["Forest","Site preparation/straw/polymer/seed/fertilizer/transplant","ND","ND","ND",0.86]
["User_Defined"]
["User_Defined","0 No BMP",0,0,0,0]
["User_Defined","Combined BMPs-Calculated",0,0,0,0]
["Feedlots"]
["Feedlots","0 No BMP",0,0,0,0]
["Feedlots","Diversion",0.45,0.7,"ND","ND"]
["Feedlots","Filter strip","ND",0.85,"ND","ND"]
["Feedlots","Runoff Mgmt System","ND",0.82499999999999996,"ND","ND"]
["Feedlots","Solids Separation Basin",0.35,0.31,"ND","ND"]
["Feedlots","Solids Separation Basin w/Infilt Bed","ND",0.8,0.85,"ND"]
["Feedlots","Terrace",0.55000000000000004,0.85,"ND","ND"]
["Feedlots","Waste Mgmt System",0.8,0.9,"ND","ND"]
["Feedlots","Waste Storage Facility",0.65,0.6,"ND","ND"]
["Urban"]
["Urban","0 No BMP",0,0,0,0]
["Urban","Alum Treatment",0.6,0.9,0.6,0.95]
["Urban","Bioretention facility",0.63,0.8,"ND","ND"]
["Urban","Combined BMPs-Calculated",0,0,0,0]
["Urban","Concrete Grid Pavement",0.9,0.9,"ND",0.9]
["Urban","Dry Detention",0.3,0.26,0.27,0.57499999999999996]
["Urban","Extended Wet Detention",0.55000000000000004,0.68500000000000005,0.72,0.86]
["Urban","Filter Strip-Agricultural",0.53249999999999997,0.61250000000000004,"ND",0.65]
["Urban","Grass Swales",0.1,0.25,0.3,0.65]
["Urban","Infiltration Basin",0.6,0.65,"ND",0.75]
["Urban","Infiltration Devises","ND",0.83,0.83,0.94]
["Urban","Infiltration Trench",0.55000000000000004,0.6,"ND",0.75]
["Urban","LID*/Cistern",0,0,0,0]
["Urban","LID*/Cistern+Rain Barrel",0,0,0,0]
["Urban","LID*/Rain Barrel",0,0,0,0]
["Urban","LID/Bioretention",0.43,0.81,"ND","ND"]
["Urban","LID/Dry Well",0.5,0.5,0.7,0.9]
["Urban","LID/Filter/Buffer Strip",0.3,0.3,0.4,0.6]
["Urban","LID/Infiltration Swale",0.5,0.65,"ND",0.9]
["Urban","LID/Infiltration Trench",0.5,0.5,0.7,0.9]
["Urban","LID/Vegetated Swale",7.4999999999999997E-2,0.17499999999999999,"ND",0.47499999999999998]
["Urban","LID/Wet Swale",0.4,0.2,"ND",0.8]
["Urban","Oil/Grit Separator",0.05,0.05,"ND",0.15]
["Urban","Porous Pavement",0.85,0.65,"ND",0.9]
["Urban","Sand Filter/Infiltration Basin",0.35,0.5,"ND",0.8]
["Urban","Sand Filters","ND",0.375,0.4,0.82499999999999996]
["Urban","Settling Basin","ND",0.51500000000000001,0.56000000000000005,0.81499999999999995]
["Urban","Vegetated Filter Strips",0.4,0.45250000000000001,0.505,0.73]
["Urban","Weekly Street Sweeping","ND",0.06,0.06,0.16]
["Urban","Wet Pond",0.35,0.45,"ND",0.6]
["Urban","Wetland Detention",0.2,0.44,0.63,0.77500000000000002]
["Urban","WQ Inlet w/Sand Filter",0.35,"ND","ND",0.8]
["Urban","WQ Inlets",0.2,0.09,0.13,0.37]

{"sheet":"CountyData","index":14,"n_rows":3217,"n_cols":19,"rows_kept":3217,"cut":false,"hidden":true,"merged":[]}
["List of States","List of Weather Stations","State_name","Name",null,"State_name-Name","Rainfall (inches)","RainDays","Runoff","Rainfall (>5mm/day) (in/yr)","Station Name","Ptrecipitation Correction Factor","No. of Rain Days Correction Factor","Rain Days (>5mm)","Rmean","Kmean","LSavg","Cavg","Pavg"]
["Alabama","AL ABBEVILLE 1 NNW","Alabama","Autauga",null,"Alabama-Autauga",60,87.3,19,null,"AK ANCHORAGE WSCMO AP","0.620","0.209",null,374.6893606005695,0.19711980957418693,0.28912718798606546,0.13582877959927137,0.98570127504553728]
["Alaska","AL BIRMINGHAM FAA ARPT","Alabama","Baldwin",null,"Alabama-Baldwin",60,104.4,25.875,null,"AK ANNETTE WSO AIRPORT","0.919","0.570",null,550,0.21350309424774253,0.18310391573382698,0.19637228260869566,0.98586956521739133]
["Arizona","AL DADEVILLE 2","Alabama","Barbour",null,"Alabama-Barbour",60,89.2,18,null,"AK COLD BAY WSO AIRPORT","0.685","0.217",null,376.73263048738335,0.19079136690647477,0.56265751401612829,0.14704902576995588,0.94286612193588937]
["Arkansas","AL HALEYVILLE","Alabama","Bibb",null,"Alabama-Bibb",60,97.8,21,null,"AK FAIRBANKS WSO AIRPOR","0.493","0.124",null,375,0.25436661698956786,1.0871025441777475,4.8274999999999998E-2,0.99140625000000004]
["California","AL HUNTSVILLE WSO AP","Alabama","Blount",null,"Alabama-Blount",60,95.5,24,null,"AK KING SALMON WSO AP","0.592","0.190",null,325,0.25893680297397775,0.77279849621563068,0.10029494382022477,0.95754915730337109]
["Colorado","AL JACKSONVILLE","Alabama","Bullock",null,"Alabama-Bullock",60,97.2,18,null,"AK MCGRATH WSO AIRPORT","0.600","0.185",null,375,0.24925553319919516,0.35658755857477736,5.3463208685162904E-2,0.96344993968636916]
["Connecticut","AL MOBILE WSO ARPT","Alabama","Butler",null,"Alabama-Butler",60,97.8,18,null,"AK ST PAUL ISLAND WSO A","0.570","0.253",null,425,0.2361696554503325,0.42998223464689517,0.10012555555555555,0.94977777777777772]
["Delaware","AL MONTGOMERY WSO ARPT","Alabama","Calhoun",null,"Alabama-Calhoun",60,97.8,23,null,"AK YAKUTAT WSO AIRPORT","0.947","0.708",null,325,0.26877392150502755,0.35736055575351933,0.14726086956521744,0.99557721139430277]
["District of Columbia","AL THOMASVILLE","Alabama","Chambers",null,"Alabama-Chambers",60,97.8,20,null,"AL ABBEVILLE 1 NNW","0.913","0.585",null,346.83290155440415,0.21080813486754074,0.84835914368691168,1.847377326565143E-2,1]
["Florida","AL TUSCALOOSA OLIVER DA","Alabama","Cherokee",null,"Alabama-Cherokee",60,100.8,22.75,null,"AL BIRMINGHAM FAA ARPT","0.916","0.550",null,300,0.29178998292544117,0.55794274258585841,0.19698723064644827,0.85347166799680751]
["Georgia","AK ANCHORAGE WSCMO AP","Alabama","Chilton",null,"Alabama-Chilton",60,90.4,20,null,"AL DADEVILLE 2","0.896","0.558",null,374.86318631863185,0.24393087008343303,0.43918884304583894,0.10092061611374417,0.94324644549763037]
["Hawaii","AK ANNETTE WSO AIRPORT","Alabama","Choctaw",null,"Alabama-Choctaw",60,96.3,22,null,"AL HALEYVILLE","0.923","0.591",null,425,0.266624977981328,0.5241259245596579,3.2291907514450852E-2,0.96809248554913307]
["Idaho","AK COLD BAY WSO AIRPORT","Alabama","Clarke",null,"Alabama-Clarke",60,98.4,19,null,"AL HUNTSVILLE WSO AP","0.935","0.541",null,450,0.26806956296870965,0.29791176300850669,8.3186480186480199E-2,1]
["Illinois","AK FAIRBANKS WSO AIRPOR","Alabama","Clay",null,"Alabama-Clay",60,98.3,26.332999999999998,null,"AL JACKSONVILLE","0.911","0.600",null,350,0.19830423940149647,0.61728619998939005,2.3275675675675674E-2,1]
["Indiana","AK KING SALMON WSO AP","Alabama","Cleburne",null,"Alabama-Cleburne",60,97.3,21.332999999999998,null,"AL MOBILE WSO ARPT","0.941","0.547",null,325,0.29680449764236477,0.55311679916137457,5.6207831325301209E-2,0.9632530120481928]
["Iowa","AK MCGRATH WSO AIRPORT","Alabama","Coffee",null,"Alabama-Coffee",60,99.7,20,null,"AL MONTGOMERY WSO ARPT","0.937","0.564",null,450,0.17912536443148686,0.38461621296816612,0.14232056663168938,0.84098111227701988]
["Kansas","AK ST PAUL ISLAND WSO A","Alabama","Colbert",null,"Alabama-Colbert",60,97.8,24.5,null,"AL THOMASVILLE","0.910","0.586",null,300,0.29330352152040318,0.32643441748370439,0.22665272373540854,0.98501945525291834]
["Kentucky","AK YAKUTAT WSO AIRPORT","Alabama","Conecuh",null,"Alabama-Conecuh",60,93.3,20,null,"AL TUSCALOOSA OLIVER DA","0.930","0.611",null,449.7596488019023,0.20838221730308043,0.29858027432871992,0.14132727272727277,0.90921212121212114]
["Louisiana","AZ AJO","Alabama","Coosa",null,"Alabama-Coosa",60,97.8,24,null,"AR ALUM FORK","0.911","0.596",null,350.33411488862839,0.2000913461538463,0.53711963710387589,3.0412621359223305E-2,0.98737864077669901]
["Maine","AZ COCHISE 4 SSE","Alabama","Covington",null,"Alabama-Covington",60,100,21,null,"AR BATESVILLE LIVESTOCK","0.929","0.632",null,474.73780305297817,0.19669954857047325,0.35550029500826885,8.9803760282021153E-2,0.93278495887191537]
["Maryland","AZ FLAGSTAFF AP","Alabama","Crenshaw",null,"Alabama-Crenshaw",60,97.8,18,null,"AR BULL SHOALS DAM","0.879","0.537",null,425,0.19174376299376322,0.35843314154678058,0.14679840848806378,0.90106100795755961]
["Massachusetts","AZ KEAMS CANYON","Alabama","Cullman",null,"Alabama-Cullman",60,101.7,24,null,"AR CLARKSVILLE 6 NE","0.904","0.556",null,325,0.25155813453685794,0.64830198303338238,5.7858432304038081E-2,0.96427553444180536]
["Michigan","AZ PAYSON","Alabama","Dale",null,"Alabama-Dale",60,97.8,20,null,"AR EUREKA SPRINGS 3 WNW","0.917","0.555",null,424.94906241253847,0.16710954966464378,0.42469519606010819,0.18641741472172346,0.86430879712746866]
["Minnesota","AZ PHOENIX AIRPORT","Alabama","Dallas",null,"Alabama-Dallas",60,96.4,18,null,"AR FORT SMITH WSO AIRPO","0.920","0.515",null,399.86922351461806,0.25329912023460405,0.20749547605195462,0.12012666787922882,1]
["Mississippi","AZ TUCSON WSO AP","Alabama","De Kalb",null,"Alabama-De Kalb",60,115,26.332999999999998,null,"AR MENA","0.922","0.570",null,300,0.23693010971149955,0.61815292228038843,0.14597492477432281,0.9122367101303912]
["Missouri","AZ TUWEEP","Alabama","Elmore",null,"Alabama-Elmore",60,97.8,19,null,"AR MILLWOOD DAM","0.931","0.599",null,375,0.22588055130168458,0.28624417297050458,0.17701799242424252,0.92675189393939394]
["Montana","AZ WHITERIVER 1 SW","Alabama","Escambia",null,"Alabama-Escambia",60,93.3,23,null,"AR MONTICELLO 3 SW","0.905","0.571",null,525,0.19684946046347079,0.21937032476504414,0.18580000000000002,0.8963358778625955]
["Nebraska","AZ YUMA WSO AP","Alabama","Etowah",null,"Alabama-Etowah",60,96.9,24,null,"AR STUTTGART 9 ESE","0.897","0.553",null,325,0.26837488457987047,0.37474698477429524,8.9983463881636278E-2,0.96492602262837257]
["Nevada","AR ALUM FORK","Alabama","Fayette",null,"Alabama-Fayette",60,98.5,22,null,"AZ AJO","0.754","0.406",null,350,0.28936860494135208,0.60480751217157946,0.1145899470899471,0.95238095238095233]
["New Hampshire","AR BATESVILLE LIVESTOCK","Alabama","Franklin",null,"Alabama-Franklin",60,97.8,24,null,"AZ COCHISE 4 SSE","0.709","0.342",null,323.40502658289029,0.22106505903039433,0.43046067799064386,6.9574367088607605E-2,0.98424050632911386]
["New Jersey","AR BULL SHOALS DAM","Alabama","Geneva",null,"Alabama-Geneva",60,98.2,21.332999999999998,null,"AZ FLAGSTAFF AP","0.836","0.388",null,450,0.18797544338335614,0.36624990018006787,0.18827289896128413,0.88081208687440993]
["New Mexico","AR CLARKSVILLE 6 NE","Alabama","Greene",null,"Alabama-Greene",60,97.5,20,null,"AZ KEAMS CANYON","0.587","0.276",null,373.82880305197904,0.29499113699670781,0.22913893848302913,3.6565949485500508E-2,0.99625818521983167]
["New York","AR EUREKA SPRINGS 3 WNW","Alabama","Hale",null,"Alabama-Hale",60,97.2,20,null,"AZ PAYSON","0.785","0.411",null,372.33722314836865,0.26677336086732117,0.25975681917688703,4.0614035087719325E-2,0.98238596491228058]
["North Carolina","AR FORT SMITH WSO AIRPO","Alabama","Henry",null,"Alabama-Henry",60,89,18,null,"AZ PHOENIX AIRPORT","0.808","0.346",null,400,0.17188545506095831,0.42292652926226798,0.21770121951219495,0.90000762195121964]
["North Dakota","AR MENA","Alabama","Houston",null,"Alabama-Houston",60,97.8,20,null,"AZ TUCSON WSO AP","0.787","0.324",null,424.84973118279572,0.18289783620925784,0.27426202974316144,0.2092568475452195,0.90237726098191218]
["Ohio","AR MILLWOOD DAM","Alabama","Jackson",null,"Alabama-Jackson",60,108.8,28,null,"AZ TUWEEP","0.682","0.344",null,275,0.23682546684311101,0.23903345264029527,0.15398862084660908,0.98293126991351842]
["Oklahoma","AR MONTICELLO 3 SW","Alabama","Jefferson",null,"Alabama-Jefferson",60,98.3,27,null,"AZ WHITERIVER 1 SW","0.755","0.385",null,350,0.28048625792811854,0.67039027409063234,1.5589788732394368E-2,1]
["Oregon","AR STUTTGART 9 ESE","Alabama","Lamar",null,"Alabama-Lamar",60,97.8,22,null,"AZ YUMA WSO AP","0.738","0.253",null,350,0.20658211297071136,0.56443074955492289,5.4375176304654445E-2,0.98589562764456984]
["Pennsylvania","CA BAKERSFIELD AP","Alabama","Lauderdale",null,"Alabama-Lauderdale",60,103.3,24.5,null,"CA BAKERSFIELD AP","0.698","0.277",null,300,0.32910888730045318,0.37934631293350835,0.16222017956391588,0.97823856348867033]
["Puerto Rico","CA BLUE CANYON","Alabama","Lawrence",null,"Alabama-Lawrence",60,110.2,24.5,null,"CA BLUE CANYON","0.959","0.640",null,300,0.31625106746370668,0.25080524115413438,0.25964483260553128,0.95875788452207666]
["Rhode Island","CA EUREKA WFO WOODLEY I","Alabama","Lee",null,"Alabama-Lee",60,98.7,18,null,"CA EUREKA WFO WOODLEY I","0.869","0.443",null,350,0.2119714964370546,0.48783011322969527,7.5108433734939736E-2,0.95020080321285139]
["South Carolina","CA FRESNO AIR TERMINAL","Alabama","Limestone",null,"Alabama-Limestone",60,106.1,23.667000000000002,null,"CA FRESNO AIR TERMINAL","0.816","0.392",null,275,0.36147996490201817,0.26072474679217184,0.22891563169164875,0.9884154175588864]
["South Dakota","CA LOS ANGELES WSO ARPT","Alabama","Lowndes",null,"Alabama-Lowndes",60,96.1,18,null,"CA LOS ANGELES WSO ARPT","0.899","0.478",null,400,0.28883484413000121,0.34502297066037013,6.5761799735333054E-2,0.98650198500220565]
["Tennessee","CA SACRAMENTO FAA ARPT","Alabama","Macon",null,"Alabama-Macon",60,97.8,18,null,"CA SACRAMENTO FAA ARPT","0.874","0.458",null,350,0.2336122881355932,0.4810035105564085,9.4078467153284703E-2,0.98704379562043787]
["Texas","CA SAN DIEGO WSO AIRPOR","Alabama","Madison",null,"Alabama-Madison",60,108.2,28,null,"CA SAN DIEGO WSO AIRPOR","0.849","0.379",null,275,0.3136700550614146,0.29335933589789021,0.23760581092801358,0.97497831743278396]
["Utah","CA SAN FRANCISCO WSO AP","Alabama","Marengo",null,"Alabama-Marengo",60,96.4,18,null,"CA SAN FRANCISCO WSO AP","0.869","0.421",null,400,0.29698289770893821,0.32328958818732789,2.2725154541131699E-2,0.995815501664289]
["Vermont","CA SANTA MARIA WSO ARPT","Alabama","Marion",null,"Alabama-Marion",60,98.3,23.667000000000002,null,"CA SANTA MARIA WSO ARPT","0.865","0.418",null,325,0.27176872199701291,0.79278966247966898,0.11529829172141923,0.94647831800262805]
["Virginia","CA YOSEMITE PARK HDQTRS","Alabama","Marshall",null,"Alabama-Marshall",60,97.4,26.6,null,"CA YOSEMITE PARK HDQTRS","0.902","0.554",null,300,0.24052952592181856,0.4089138512967127,0.1093260869565217,0.92033596837944665]
["Washington","CO AKRON 4 E","Alabama","Mobile",null,"Alabama-Mobile",60,100.2,25.777999999999999,null,"CO AKRON 4 E","0.733","0.300",null,549.58246602179508,0.16918718135469765,0.2887586360761753,0.16315428167020529,0.98188251946213734]
["West Virginia","CO ALAMOSA WSO AP","Alabama","Monroe",null,"Alabama-Monroe",60,92.2,19,null,"CO ALAMOSA WSO AP","0.536","0.147",null,450,0.23840532590184252,0.27703139016995854,0.15646995192307703,0.93882211538461546]
["Wisconsin","CO BOULDER 2","Alabama","Montgomery",null,"Alabama-Montgomery",60,97.8,18,null,"CO BOULDER 2","0.708","0.343",null,398.15156250000001,0.30475781729000578,0.23857666561351995,7.0628113879003612E-2,1]
["Wyoming","CO COLORADO SPRINGS WSO","Alabama","Morgan",null,"Alabama-Morgan",60,108.2,25.5,null,"CO COLORADO SPRINGS WSO","0.759","0.255",null,300,0.29134112409571494,0.31012336563576048,9.8900889453621341E-2,0.9388818297331637]
[null,"CO GRAND JUNCTION WSO A","Alabama","Perry",null,"Alabama-Perry",60,96.5,20,null,"CO GRAND JUNCTION WSO A","0.552","0.173",null,375,0.2842890939200382,0.27995987135961853,7.0220317460317511E-2,1]
[null,"CO KIM 15 NNE","Alabama","Pickens",null,"Alabama-Pickens",60,93.4,20,null,"CO KIM 15 NNE","0.748","0.360",null,350,0.26069477112357536,0.24314746929782011,0.1325137931034483,0.98275862068965514]
[null,"CO NUNN","Alabama","Pike",null,"Alabama-Pike",60,97.7,18,null,"CO NUNN","0.650","0.276",null,399.89774575877294,0.17929375879868592,0.39481249356360026,0.20292448512585817,0.88765827612509518]
[null,"CO PUEBLO WSO AP","Alabama","Randolph",null,"Alabama-Randolph",60,97.8,22,null,"CO PUEBLO WSO AP","0.732","0.252",null,325,0.17970881863560742,1.0339220400713416,2.7170568561872912E-2,0.97792642140468222]
[null,"CO SUGARLOAF RESERVOIR","Alabama","Russell",null,"Alabama-Russell",58.59,95.9,18,null,"CO SUGARLOAF RESERVOIR","0.439","0.185",null,350,0.22443298969072184,0.3957140105175142,6.5594049904030768E-2,0.97154510556621887]
[null,"CO TELLURIDE 4 WNW","Alabama","Shelby",null,"Alabama-Shelby",60,94.5,24,null,"CO TELLURIDE 4 WNW","0.629","0.309",null,350,0.31185838509316749,0.75404976696473303,4.629129662522203E-2,0.95701598579040847]
[null,"CT BRIDGEPORT SIKORSKY","Alabama","St. Clair",null,"Alabama-St. Clair",60,97.5,25,null,"CT BRIDGEPORT SIKORSKY","0.890","0.458",null,350,0.29793453490781019,0.6946466233428874,0.13794483734087695,0.98090523338048086]
[null,"CT HARTFORD BRADLEY AP","Alabama","Sumter",null,"Alabama-Sumter",60,96.2,18,null,"CT HARTFORD BRADLEY AP","0.888","0.447",null,375,0.29244975556762626,0.32263552555995612,3.4909214707217431E-2,1]
[null,"CT JEWETT CITY","Alabama","Talladega",null,"Alabama-Talladega",60,97.8,24,null,"CT JEWETT CITY","0.880","0.545",null,350,0.27191959098303475,0.59883905648952573,8.3971092436974842E-2,0.99025210084033621]
[null,"CT THOMASTON DAM","Alabama","Tallapoosa",null,"Alabama-Tallapoosa",60,98,20,null,"CT THOMASTON DAM","0.874","0.534",null,350,0.20654028436018956,0.9599623334485694,4.948160535117057E-2,0.99464882943143806]
[null,"DE GEORGETOWN 5 SW","Alabama","Tuscaloosa",null,"Alabama-Tuscaloosa",60,98.4,23,null,"DC WASHINGTN DC NATL AP","0.896","0.471",null,350,0.29119506645910653,0.90798026680025967,2.3131410256410263E-2,0.97756410256410253]
[null,"DE WILMINGTN NEW CASTLE","Alabama","Walker",null,"Alabama-Walker",60,100.9,26,null,"DE GEORGETOWN 5 SW","0.872","0.541",null,350,0.27094559841740851,0.67599654272659127,3.3401785714285717E-2,0.9871651785714286]
[null,"DC WASHINGTN DC NATL AP","Alabama","Washington",null,"Alabama-Washington",60,98.1,20,null,"DE WILMINGTN NEW CASTLE","0.897","0.461",null,474.65212399540758,0.22718527143065045,0.46840893440199705,6.0199312714776632E-2,1]
[null,"FL DAYTONA BEACH REG AP","Alabama","Wilcox",null,"Alabama-Wilcox",60,97.6,18,null,"FL DAYTONA BEACH REG AP","0.914","0.483",null,425,0.27670845272206324,0.24480143776393445,4.5189753320683146E-2,1]
[null,"FL JACKSONVILLE INTL AP","Alabama","Winston",null,"Alabama-Winston",60,100.9,24,null,"FL JACKSONVILLE INTL AP","0.917","0.492",null,325,0.23117783676177855,0.87201395494619849,9.6751838235294138E-2,0.98805147058823528]
[null,"FL KEY WEST INTL ARPT","Alaska","Aleutians East",null,"Alaska-Aleutians East",null,null,null,null,"FL KEY WEST INTL ARPT","0.879","0.527",null,null,null,""]
[null,"FL MIAMI INTL ARPT","Alaska","Aleutians West",null,"Alaska-Aleutians West",null,null,null,null,"FL MIAMI INTL ARPT","0.894","0.553",null,null,null,""]
[null,"FL NICEVILLE","Alaska","Anchorage",null,"Alaska-Anchorage",null,null,null,null,"FL NICEVILLE","0.927","0.613",null,null,null,""]
[null,"FL ORTONA LOCK 2","Alaska","Bethel",null,"Alaska-Bethel",null,null,null,null,"FL ORTONA LOCK 2","0.918","0.533",null,null,null,""]
[null,"FL RAIFORD STATE PRISON","Alaska","Bristol Bay",null,"Alaska-Bristol Bay",null,null,null,null,"FL RAIFORD STATE PRISON","0.888","0.548",null,null,null,""]
[null,"FL TALLAHASSEE MUNI AP","Alaska","Dillingham",null,"Alaska-Dillingham",null,null,null,null,"FL TALLAHASSEE MUNI AP","0.944","0.560",null,null,null,""]
[null,"FL TAMPA INTL ARPT","Alaska","Fairbanks North Star",null,"Alaska-Fairbanks North Star",null,null,null,null,"FL TAMPA INTL ARPT","0.899","0.590",null,null,null,""]
[null,"FL W PALM BEACH INTL AP","Alaska","Haines",null,"Alaska-Haines",null,null,null,null,"FL W PALM BEACH INTL AP","0.914","0.468",null,null,null,""]
[null,"GA ATHENS MUNI AP","Alaska","Juneau",null,"Alaska-Juneau",null,null,null,null,"GA ATHENS MUNI AP","0.917","0.515",null,null,null,""]
[null,"GA ATLANTA HARTSFIELD","Alaska","Kenai Peninsula",null,"Alaska-Kenai Peninsula",null,null,null,null,"GA ATLANTA HARTSFIELD","0.921","0.515",null,null,null,""]
[null,"GA AUGUSTA BUSH FIELD","Alaska","Ketchikan Gateway",null,"Alaska-Ketchikan Gateway",null,null,null,null,"GA AUGUSTA BUSH FIELD","0.912","0.485",null,null,null,""]
[null,"GA CALHOUN EXP STATION","Alaska","Kodiak Island",null,"Alaska-Kodiak Island",null,null,null,null,"GA CALHOUN EXP STATION","0.901","0.595",null,null,null,""]
[null,"GA COLUMBUS METRO AP","Alaska","Lake and Peninsula",null,"Alaska-Lake and Peninsula",null,null,null,null,"GA COLUMBUS METRO AP","0.922","0.515",null,null,null,""]
[null,"GA DAHLONEGA 3 NNW","Alaska","Matanuska-Susitna",null,"Alaska-Matanuska-Susitna",null,null,null,null,"GA DAHLONEGA 3 NNW","0.936","0.624",null,null,null,""]
[null,"GA EDISON","Alaska","Nome",null,"Alaska-Nome",null,null,null,null,"GA EDISON","0.904","0.579",null,null,null,""]
[null,"GA JESUP","Alaska","North Slope",null,"Alaska-North Slope",null,null,2.5,null,"GA JESUP","0.887","0.560",null,null,null,""]
[null,"GA MACON LEWIS B WILSON","Alaska","Northwest Arctic",null,"Alaska-Northwest Arctic",null,null,null,null,"GA MACON LEWIS B WILSON","0.903","0.606",null,null,null,""]
[null,"GA SAVANNAH INTL AP","Alaska","Prince of Wales-Outer Ketchikan",null,"Alaska-Prince of Wales-Outer Ketchikan",null,null,2.5,null,"GA SAVANNAH INTL AP","0.922","0.500",null,null,null,""]
[null,"HI HILO WSO AP 87","Alaska","Sitka",null,"Alaska-Sitka",null,null,null,null,"HI HILO WSO AP 87","0.894","0.559",null,null,null,""]
[null,"HI HONOLULU WSFO AP 703","Alaska","Skagway-Yakutat-Angoon",null,"Alaska-Skagway-Yakutat-Angoon",null,null,2.5,null,"HI HONOLULU WSFO AP 703","0.803","0.194",null,null,null,""]
[null,"HI KAHULUI WSO AP 398","Alaska","Southeast Fairbanks",null,"Alaska-Southeast Fairbanks",null,null,null,null,"HI KAHULUI WSO AP 398","0.774","0.197",null,null,null,""]
[null,"HI KANALOHULUHULU 1075","Alaska","Valdez-Cordova",null,"Alaska-Valdez-Cordova",null,null,57.273000000000003,null,"HI KANALOHULUHULU 1075","0.877","0.408",null,null,null,""]
[null,"HI KEAIWA CAMP 22.1","Alaska","Wade Hampton",null,"Alaska-Wade Hampton",null,null,null,null,"HI KEAIWA CAMP 22.1","0.892","0.509",null,null,null,""]
[null,"HI KUALAPUU 534","Alaska","Wrangell-Petersburg",null,"Alaska-Wrangell-Petersburg",null,null,2.5,null,"HI KUALAPUU 534","0.839","0.372",null,null,null,""]
[null,"HI LALAMILO FLD OF 191.","Alaska","Yukon-Koyukuk",null,"Alaska-Yukon-Koyukuk",null,null,2.5,null,"HI LALAMILO FLD OF 191.","0.779","0.306",null,null,null,""]
[null,"HI LIHUE WSO AP 1020.1","Arizona","Apache",null,"Arizona-Apache",13.22,53.7,1.391,null,"HI LIHUE WSO AP 1020.1","0.764","0.201",null,38.411925576536021,0.24322320093609814,0.26122213125563681,0.23873328350888645,0.99998248359296538]
[null,"HI PAAKEA 350","Arizona","Cochise",null,"Arizona-Cochise",16.09,48.1,1.1399999999999999,null,"HI PAAKEA 350","0.946","0.687",null,85.538088782485801,0.21838772626337416,0.83893122445538326,0.16729348249371612,1]
[null,"HI PUNALUU PUMP 905.2","Arizona","Coconino",null,"Arizona-Coconino",14.41,52.2,0.82199999999999995,null,"HI PUNALUU PUMP 905.2","0.842","0.410",null,34.693708100129157,0.19974323353293394,1.2571091716631069,0.28569188680355301,1]
[null,"ID BOISE WSFO AIRPORT","Arizona","Gila",null,"Arizona-Gila",21.36,59.1,2.5830000000000002,null,"IA CENTERVILLE","0.873","0.523",null,71.611707385962433,0.17750762132322637,1.8543536091255415,9.2737425742574209E-2,1]
[null,"ID CALDER","Arizona","Graham",null,"Arizona-Graham",16.100000000000001,53.6,0.86699999999999999,null,"IA DES MOINES AP","0.871","0.403",null,61.859154929577464,0.16430698806350666,2.8271454927651183,0.15397049937799887,1]
[null,"ID CASCADE 1 NW","Arizona","Greenlee",null,"Arizona-Greenlee",19.32,58.6,1.133,null,"IA IRWIN 3 ESE","0.844","0.422",null,58.865920183749644,0.14936397648316405,2.6745066415478354,0.14609252971137526,1]
[null,"ID FENN RANGER STATION","Arizona","La Paz",null,"Arizona-La Paz",7.83,31.7,0.15,null,"IA LARRABEE","0.858","0.453",null,46.884708371109099,0.22460737764791824,0.53000197673966432,0.36008816827344448,1]
[null,"ID GOODING 1 S","Arizona","Maricopa",null,"Arizona-Maricopa",10.15,38.6,0.76,null,"IA LENOX","0.845","0.460",null,42.109112035683495,0.23539055004796922,0.64474287086104154,0.26816027078113341,1]
[null,"ID GRASMERE 3 S","Arizona","Mohave",null,"Arizona-Mohave",10.25,42.1,0.36399999999999999,null,"IA MCGREGOR","0.843","0.476",null,45.587531470448937,0.14749522435772483,1.2667756345031402,0.2015823529411766,1]
[null,"ID LEADORE","Arizona","Navajo",null,"Arizona-Navajo",12.02,49.8,1.887,null,"IA MOUNT PLEASANT 1 SSW","0.856","0.501",null,37.083123425692698,0.22379980819496442,0.57202653566736106,0.27449352792980602,1]
[null,"ID POCATELLO WSO AP","Arizona","Pima",null,"Arizona-Pima",12.5,45,0.71699999999999997,null,"IA SIOUX CITY AP","0.840","0.349",null,96.378290598290604,0.18597756487410275,0.62759459352600044,0.2753738541559374,1]
[null,"ID SANDPOINT EXP STATIO","Arizona","Pinal",null,"Arizona-Pinal",12.34,45.3,0.6,null,"IA ST ANSGAR","0.830","0.465",null,65.653118779031189,0.20511349004892765,2.2613096713017016,0.27338559735676254,1]
[null,"ID TETONIA EXPERIMENT S","Arizona","Santa Cruz",null,"Arizona-Santa Cruz",19.39,60.2,0.5,null,"IA WATERLOO WSO AP","0.865","0.402",null,97.051020408163268,0.16747558874210247,1.9559680270630186,0.14676003677597318,1]
[null,"IL AUGUSTA","Arizona","Yavapai",null,"Arizona-Yavapai",16.86,46.6,1.222,null,"ID BOISE WSFO AIRPORT","0.600","0.218",null,59.3507527956519,0.19545624618204002,0.9726536645258077,0.21872394780371243,1]
[null,"IL BELLEVILLE SIU RESEA","Arizona","Yuma",null,"Arizona-Yuma",6.42,29.5,0.82199999999999995,null,"ID CALDER","0.728","0.416",null,39.329673985362611,0.30220601160133609,0.15353130006935334,0.31599444238606889,1]
[null,"IL CHICAGO MIDWAY AP 3","Arkansas","Arkansas",null,"Arkansas-Arkansas",57.75,96.3,18,null,"ID CASCADE 1 NW","0.635","0.326",null,300,0.45191353771960002,0.11138135641903774,0.24207329963235297,1]
[null,"IL MOLINE WSO AP","Arkansas","Ashley",null,"Arkansas-Ashley",60,85.1,15.667,null,"ID FENN RANGER STATION","0.746","0.432",null,325,0.42934835779175434,0.10663349036869331,0.26670110272780023,1]
[null,"IL MURPHYSBORO 2 SW","Arkansas","Baxter",null,"Arkansas-Baxter",45,84.7,14.5,null,"ID GOODING 1 S","0.544","0.246",null,275,0.26964230171073084,1.5526981988941255,1.5560251798561152E-2,1]
[null,"IL NEWTON 6 SSE","Arkansas","Benton",null,"Arkansas-Benton",45,89.2,12,null,"ID GRASMERE 3 S","0.541","0.228",null,275,0.32159675236806479,0.70678956738049514,1.9699492385786797E-2,1]
[null,"IL PEORIA WSO AIRPORT","Arkansas","Boone",null,"Arkansas-Boone",45,88.4,14.5,null,"ID LEADORE","0.442","0.168",null,275,0.28720218579234957,2.0366243965431856,1.6185989146521959E-2,1]
[null,"IL PIPER CITY","Arkansas","Bradley",null,"Arkansas-Bradley",60,96.1,15,null,"ID POCATELLO WSO AP","0.592","0.189",null,325,0.35635839598997504,0.27563169549112365,5.6571428571428578E-2,1]
[null,"IL ROCKFORD WSO AP","Arkansas","Calhoun",null,"Arkansas-Calhoun",60,97.8,15,null,"ID SANDPOINT EXP STATIO","0.766","0.430",null,325,0.35453613403350837,0.12048377207115485,3.3432624113475182E-2,1]
[null,"IL SPRINGFIELD WSO AP","Arkansas","Carroll",null,"Arkansas-Carroll",45,83,14.5,null,"ID TETONIA EXPERIMENT S","0.554","0.252",null,275,0.2561896422316739,1.3030205924498182,9.9582076691081302E-3,1]
[null,"IN EVANSVILLE WSO AP","Arkansas","Chicot",null,"Arkansas-Chicot",60,90.5,18,null,"IL AUGUSTA","0.855","0.489",null,325,0.36156581872067195,0.1132068208312165,0.28892853154662185,1]
[null,"IN FORT WAYNE WSO AP","Arkansas","Clark",null,"Arkansas-Clark",60,90.5,19,null,"IL BELLEVILLE SIU RESEA","0.862","0.514",null,300.28313572818968,0.30327956989247318,0.35960880074965124,0.11031445993031365,1]
[null,"IN INDIANAPOLIS WSFO AP","Arkansas","Clay",null,"Arkansas-Clay",45.19,92.9,17,null,"IL CHICAGO MIDWAY AP 3","0.847","0.431",null,275,0.41246965568491439,0.13979854467465536,0.20307136690647482,1]
[null,"IN PERU WASTE WATER PLA","Arkansas","Cleburne",null,"Arkansas-Cleburne",59.63,96.5,18,null,"IL MOLINE WSO AP","0.879","0.424",null,275,0.2329261198371147,0.52770257895085826,4.9627496159754231E-2,1]
[null,"IN RICHMOND WTR WKS","Arkansas","Cleveland",null,"Arkansas-Cleveland",60,97.8,16,null,"IL MURPHYSBORO 2 SW","0.873","0.534",null,325,0.33987142482288152,0.25248411056700099,3.4321428571428572E-2,1]
[null,"IN SHOALS HIWAY 50 BRID","Arkansas","Columbia",null,"Arkansas-Columbia",57.54,93.5,12,null,"IL NEWTON 6 SSE","0.862","0.511",null,325,0.3122688216039281,0.4043113664946601,1.9952681388012618E-2,1]
[null,"IN SOUTH BEND WSO AP","Arkansas","Conway",null,"Arkansas-Conway",47.93,83.1,20,null,"IL PEORIA WSO AIRPORT","0.872","0.411",null,275,0.30193178561192308,0.35502209551617614,8.2741092636579625E-2,1]
[null,"IN VALPARAISO WATERWORK","Arkansas","Craighead",null,"Arkansas-Craighead",45,89.5,17,null,"IL PIPER CITY","0.838","0.477",null,276.07267950963222,0.4388509593931284,0.15208304578861651,0.21256480179926909,1]
[null,"IN VERSAILLES WATERWORK","Arkansas","Crawford",null,"Arkansas-Crawford",48.01,85.2,15.333,null,"IL ROCKFORD WSO AP","0.862","0.381",null,275,0.31391603578802474,0.59548252999884432,0.13495932203389832,1]
[null,"IN WEST LAFAYETTE 6 NW","Arkansas","Crittenden",null,"Arkansas-Crittenden",58.98,95.4,16,null,"IL SPRINGFIELD WSO AP","0.872","0.414",null,275,0.33947171824973316,0.11516341970210592,0.34497047303404643,1]
[null,"IA CENTERVILLE","Arkansas","Cross",null,"Arkansas-Cross",47.45,83,18,null,"IN EVANSVILLE WSO AP","0.902","0.477",null,275,0.42705715024566876,0.12325726301636093,0.21815086328898969,1]
[null,"IA DES MOINES AP","Arkansas","Dallas",null,"Arkansas-Dallas",60,90.5,17,null,"IN FORT WAYNE WSO AP","0.842","0.382",null,325,0.34031802120141341,0.20900159663093429,1.2680473372781064E-2,1]
[null,"IA IRWIN 3 ESE","Arkansas","Desha",null,"Arkansas-Desha",60,97.8,18,null,"IN INDIANAPOLIS WSFO AP","0.870","0.417",null,325,0.34726840317100788,0.11699803577827826,0.31866982124079885,1]
[null,"IA LARRABEE","Arkansas","Drew",null,"Arkansas-Drew",60,95.9,15.5,null,"IN PERU WASTE WATER PLA","0.817","0.461",null,325,0.41915607813388961,0.12819118232396803,0.19927052489905786,1]
[null,"IA LENOX","Arkansas","Faulkner",null,"Arkansas-Faulkner",50.62,88.9,21,null,"IN RICHMOND WTR WKS","0.828","0.488",null,275,0.31658682634730534,0.46071003380284253,2.6618966977137958E-2,1]
[null,"IA MCGREGOR","Arkansas","Franklin",null,"Arkansas-Franklin",45.77,83.2,15.75,null,"IN SHOALS HIWAY 50 BRID","0.866","0.504",null,275,0.3148475609756099,0.52815059097325923,7.2449225473321902E-2,1]
[null,"IA MOUNT PLEASANT 1 SSW","Arkansas","Fulton",null,"Arkansas-Fulton",45,83,15,null,"IN SOUTH BEND WSO AP","0.837","0.366",null,275,0.28690390544707078,0.73488073152101241,2.7920603994154903E-2,1]
[null,"IA SIOUX CITY AP","Arkansas","Garland",null,"Arkansas-Garland",60,97,18,null,"IN VALPARAISO WATERWORK","0.809","0.447",null,300,0.28591920575145496,0.84712321206369001,1.1836363636363633E-2,1]
[null,"IA ST ANSGAR","Arkansas","Grant",null,"Arkansas-Grant",60,97.8,18,null,"IN VERSAILLES WATERWORK","0.859","0.502",null,300,0.32580421313506791,0.21853117430488703,3.4142307692307687E-2,1]
[null,"IA WATERLOO WSO AP","Arkansas","Greene",null,"Arkansas-Greene",46.4,97.4,17.332999999999998,null,"IN WEST LAFAYETTE 6 NW","0.833","0.481",null,275,0.41938414802540769,0.17046691910990211,0.23366142763588735,1]
[null,"KS BIG BOW 4 WSW","Arkansas","Hempstead",null,"Arkansas-Hempstead",59.76,94.1,16.600000000000001,null,"KS BIG BOW 4 WSW","0.804","0.421",null,325,0.31047120418848162,0.32314465489268074,2.908612716763008E-2,1]
[null,"KS COLLYER 10 S","Arkansas","Hot Spring",null,"Arkansas-Hot Spring",60,97.7,20,null,"KS COLLYER 10 S","0.810","0.395",null,300.42074855563931,0.27070699135899451,0.41111328869675767,2.3088842975206608E-2,1]
[null,"KS COLUMBUS 1 SW","Arkansas","Howard",null,"Arkansas-Howard",60,95.7,20,null,"KS COLUMBUS 1 SW","0.900","0.537",null,300,0.28722553191489381,0.47344388758441269,2.636555142503098E-2,1]
[null,"KS CONCORDIA WSO ARPT","Arkansas","Independence",null,"Arkansas-Independence",45.31,90.8,16.332999999999998,null,"KS CONCORDIA WSO ARPT","0.867","0.397",null,275.54678007290403,0.33070483670938389,0.49895716221561537,9.3051059395623456E-2,1]
[null,"KS DODGE CITY WFO AP","Arkansas","Izard",null,"Arkansas-Izard",45,84,15,null,"KS DODGE CITY WFO AP","0.856","0.375",null,275,0.26208999728923843,1.662527221706835,1.9259453170447943E-2,1]
[null,"KS FALL RIVER LAKE","Arkansas","Jackson",null,"Arkansas-Jackson",45.38,84.6,16,null,"KS FALL RIVER LAKE","0.886","0.498",null,275,0.38688799799549017,9.3224085492670777E-2,0.24617635327635343,1]
[null,"KS GOODLAND WFO","Arkansas","Jefferson",null,"Arkansas-Jefferson",58.97,97.8,18,null,"KS GOODLAND WFO","0.825","0.327",null,300,0.35869631901840476,8.3636160149611755E-2,0.28309433384379795,1]
[null,"KS PHILLIPSBURG 1 SSE","Arkansas","Johnson",null,"Arkansas-Johnson",45,80.7,18,null,"KS PHILLIPSBURG 1 SSE","0.798","0.403",null,275,0.25220472440944869,0.50753100661387296,2.6194014447884415E-2,0.99587203302373584]
[null,"KS TOPEKA WSFO AIRPORT","Arkansas","Lafayette",null,"Arkansas-Lafayette",52.27,83,13.2,null,"KS TOPEKA WSFO AIRPORT","0.887","0.423",null,325,0.36093256379100852,0.13798090289648393,0.13242367066895361,0.98134648370497424]
[null,"KS WICHITA WSO ARPT","Arkansas","Lawrence",null,"Arkansas-Lawrence",45,83.5,15.5,null,"KS WICHITA WSO ARPT","0.883","0.418",null,274.92334126354746,0.37198871271163636,0.14023774872638703,0.19691513181654033,1]
[null,"KY BUCKHORN LAKE","Arkansas","Lee",null,"Arkansas-Lee",60,89.7,18,null,"KY BUCKHORN LAKE","0.885","0.531",null,300,0.42546692077321074,0.1064120300932591,0.26715566365531623,1]
[null,"KY CLINTON 4 S","Arkansas","Lincoln",null,"Arkansas-Lincoln",60,97.8,17,null,"KY CLINTON 4 S","0.884","0.555",null,300,0.3685209276018096,0.11471412793164451,0.27824949290060852,1]
[null,"KY COVINGTON WSO AIRPOR","Arkansas","Little River",null,"Arkansas-Little River",49.9,83,16.25,null,"KY COVINGTON WSO AIRPOR","0.871","0.437",null,300.28495968862939,0.37420316301703221,0.15414390749512677,0.17113782816229089,1]
[null,"KY HODGENVILLE-LINCOLN","Arkansas","Logan",null,"Arkansas-Logan",45.86,84.8,15,null,"KY HODGENVILLE-LINCOLN","0.876","0.537",null,300,0.34474029680365309,0.58495314257654663,7.2829608621667638E-2,1]
[null,"KY LEXINGTON WSO AIRPOR","Arkansas","Lonoke",null,"Arkansas-Lonoke",46.7,90.4,18,null,"KY LEXINGTON WSO AIRPOR","0.889","0.465",null,300,0.42581357649442725,0.1352525394237668,0.20031772486772476,1]
[null,"KY LOUISA 2 S","Arkansas","Madison",null,"Arkansas-Madison",45.45,83.4,15.75,null,"KY LOUISA 2 S","0.840","0.499",null,275,0.24681257706535129,1.3002948728447938,9.1894736842105303E-3,1]
[null,"KY LOUISVILLE WSFO AP","Arkansas","Marion",null,"Arkansas-Marion",45,86.8,14.5,null,"KY LOUISVILLE WSFO AP","0.895","0.472",null,275,0.26805129809196099,1.7135179072933719,2.6358052434456936E-2,1]
[null,"KY PADUCAH WALKER BOAT","Arkansas","Miller",null,"Arkansas-Miller",45.51,83,12.8,null,"KY PADUCAH WALKER BOAT","0.888","0.552",null,325,0.33661605764282038,0.18772432754368457,0.1725888157894736,1]
[null,"KY SOMERSET 2 NE","Arkansas","Mississippi",null,"Arkansas-Mississippi",50.31,97.8,18,null,"KY SOMERSET 2 NE","0.863","0.526",null,275,0.33320121406891645,9.2521175870744432E-2,0.37704563492063503,1]
[null,"KY WOODBURY","Arkansas","Monroe",null,"Arkansas-Monroe",56.35,84.5,15,null,"KY WOODBURY","0.886","0.528",null,300,0.42576303576303581,9.0226542686120667E-2,0.25692632307160163,1]
[null,"LA ALEXANDRIA","Arkansas","Montgomery",null,"Arkansas-Montgomery",60,93.9,20,null,"LA ALEXANDRIA","0.912","0.572",null,298.4021632251721,0.26875653689715279,0.55221494358915957,1.823946784922395E-2,1]
[null,"LA BATON ROUGE WSO AP","Arkansas","Nevada",null,"Arkansas-Nevada",60,90.9,15.75,null,"LA BATON ROUGE WSO AP","0.942","0.548",null,325,0.30268323611463394,0.38848508440406748,3.8827464788732391E-2,1]
[null,"LA CALHOUN RESEARCH STN","Arkansas","Newton",null,"Arkansas-Newton",45,83,17,null,"LA CALHOUN RESEARCH STN","0.919","0.580",null,275,0.2373340321453529,1.4892945940515967,2.8118644067796603E-2,1]
[null,"LA LAFAYETTE","Arkansas","Ouachita",null,"Arkansas-Ouachita",60,92.5,15,null,"LA LAFAYETTE","0.918","0.577",null,325,0.31211258278145687,0.16329147418209458,5.5134366925064598E-2,1]
[null,"LA LAKE CHARLES AP","Arkansas","Perry",null,"Arkansas-Perry",50.06,88.9,19,null,"LA LAKE CHARLES AP","0.927","0.626",null,300,0.31752043596730234,0.28117614670539537,2.8167553191489354E-2,0.99002659574468088]
[null,"LA MORGAN CITY","Arkansas","Phillips",null,"Arkansas-Phillips",60,96.1,15.5,null,"LA MORGAN CITY","0.921","0.599",null,300,0.41398411169956695,9.7041928789608448E-2,0.28360505481120574,1]
[null,"LA NATCHITOCHES","Arkansas","Pike",null,"Arkansas-Pike",60,91.9,21,null,"LA NATCHITOCHES","0.910","0.576",null,297.21995926680245,0.24372739541160593,0.74623950354433743,2.564825581395349E-2,1]
[null,"LA NEW ORLEANS WSCMO AR","Arkansas","Poinsett",null,"Arkansas-Poinsett",45,85.5,18,null,"LA NEW ORLEANS WSCMO AR","0.933","0.647",null,275,0.40823357053160342,0.10253745932767229,0.24861897810218997,1]
[null,"LA SHREVEPORT AP","Arkansas","Polk",null,"Arkansas-Polk",60,97.2,21,null,"LA SHREVEPORT AP","0.918","0.612",null,300,0.24671616219303269,0.84380853926930199,2.836749482401657E-2,1]
[null,"LA WINNSBORO 5 SSE","Arkansas","Pope",null,"Arkansas-Pope",46.6,82.1,19,null,"LA WINNSBORO 5 SSE","0.912","0.586",null,275,0.30786039453717756,0.391965529204989,6.2864139020537141E-2,1]
[null,"ME AUGUSTA","Arkansas","Prairie",null,"Arkansas-Prairie",54.47,86.7,18,null,"MA BIRCH HILL DAM","0.880","0.491",null,300,0.46694074969770311,0.1311667516509778,0.22880414603960397,1]
[null,"ME CARIBOU MUNI ARPT","Arkansas","Pulaski",null,"Arkansas-Pulaski",52.14,92.5,19,null,"MA BOSTON LOGAN INTL AP","0.884","0.439",null,300,0.31510223953261923,0.25037991968452949,0.12843687943262408,1]
[null,"ME CLAYTON LAKE","Arkansas","Randolph",null,"Arkansas-Randolph",45,90.2,12,null,"MA BRIDGEWATER","0.863","0.517",null,275,0.33723032069970871,0.50625262340253308,7.5725660066006617E-2,1]
[null,"ME EASTPORT","Arkansas","Saline",null,"Arkansas-Saline",60,96.6,18,null,"MA HYANNIS","0.901","0.530",null,275,0.41591057523235397,0.1432433841879272,0.28276755748912352,1]
[null,"ME GRAND LAKE STREAM","Arkansas","Scott",null,"Arkansas-Scott",52.7,83.9,15.75,null,"MA KNIGHTVILLE DAM","0.893","0.502",null,300,0.30808404202101064,0.4444671614460684,5.2084615384615389E-2,1]
[null,"ME MILLINOCKET","Arkansas","Searcy",null,"Arkansas-Searcy",46,83.1,17,null,"MA NEW BEDFORD","0.904","0.477",null,300,0.35268600842302306,0.38515163063140506,2.4223948811700192E-2,1]
[null,"ME ORONO 2","Arkansas","Sebastian",null,"Arkansas-Sebastian",45.04,79.900000000000006,14.8,null,"MA PROVINCETOWN","0.873","0.515",null,275,0.28714247093809148,1.348837110467729,2.3070643642072192E-2,1]
[null,"ME PORTLAND INTL JETPRT","Arkansas","Sevier",null,"Arkansas-Sevier",60,84.5,20,null,"MA WORCESTER MUNI AP","0.895","0.445",null,275,0.33514559386973192,0.48211027469485324,6.3306313328137145E-2,1]
[null,"ME ROCKLAND 1 W","Arkansas","Sharp",null,"Arkansas-Sharp",45,83,15,null,"MD BALT-WASHGTN INTL AP","0.891","0.458",null,300,0.30105464159811973,0.40198294304648935,3.3008737864077688E-2,1]
[null,"ME SKOWHEGAN","Arkansas","St. Francis",null,"Arkansas-St. Francis",59.87,84.3,18,null,"MD BELTSVILLE","0.878","0.559",null,275,0.27126786178228124,0.63503129982677509,3.9693972179289057E-2,1]
[null,"MD BALT-WASHGTN INTL AP","Arkansas","Stone",null,"Arkansas-Stone",50.63,88.9,16.332999999999998,null,"MD HANCOCK","0.828","0.459",null,275,0.26523512924322645,0.63420293458175658,1.7912932138284241E-2,1]
[null,"MD BELTSVILLE","Arkansas","Union",null,"Arkansas-Union",60,93.9,14.5,null,"MD SAVAGE RIVER DAM","0.802","0.425",null,325,0.31771341463414604,0.30384192156684886,0.31873063380281685,1]
[null,"MD HANCOCK","Arkansas","Van Buren",null,"Arkansas-Van Buren",59.42,84.2,21,null,"MD UNIONVILLE","0.850","0.512",null,275,0.23819507530480533,0.81731157187249714,2.2106132075471706E-2,1]
[null,"MD SAVAGE RIVER DAM","Arkansas","Washington",null,"Arkansas-Washington",47,86.5,14.75,null,"ME AUGUSTA","0.853","0.504",null,275,0.30775957226629846,0.41648216507301877,2.4853795033228428E-2,1]
[null,"MD UNIONVILLE","Arkansas","White",null,"Arkansas-White",59.26,90.8,19,null,"ME CARIBOU MUNI ARPT","0.800","0.344",null,275,0.36732572298325694,0.22366505188950242,0.10871781504986398,1]
[null,"MA BIRCH HILL DAM","Arkansas","Woodruff",null,"Arkansas-Woodruff",54.35,83,18,null,"ME CLAYTON LAKE","0.776","0.394",null,275,0.37682346580156795,0.11484568660881149,0.27794832605531328,1]
[null,"MA BOSTON LOGAN INTL AP","Arkansas","Yell",null,"Arkansas-Yell",49.95,85.4,16.2,null,"ME EASTPORT","0.856","0.483",null,300,0.33409765848086792,0.22924456551476338,4.5367242482405631E-2,1]
[null,"MA BRIDGEWATER","California","Alameda",null,"California-Alameda",19.05,47.2,3.5,null,"ME GRAND LAKE STREAM","0.856","0.493",null,30.638905066977287,0.29515003489183528,5.2514521772458869,8.8838709677419386E-2,1]
[null,"MA HYANNIS","California","Alpine",null,"California-Alpine",47.83,85.5,15.2,null,"ME MILLINOCKET","0.823","0.464",null,89.06460674157303,0.16560209424083769,4.8159271494804825,0.15407178217821782,1]
[null,"MA KNIGHTVILLE DAM","California","Amador",null,"California-Amador",35.39,62.8,17.5,null,"ME ORONO 2","0.847","0.518",null,46.566749072929539,0.24971236458722426,6.2017515430947245,6.4527816411682939E-2,1]
[null,"MA NEW BEDFORD","California","Butte",null,"California-Butte",45.98,64.599999999999994,16.443999999999999,null,"ME PORTLAND INTL JETPRT","0.890","0.437",null,74.825768087215067,0.25623008434864086,0.83652769386120229,0.19274814471243037,1]
[null,"MA PROVINCETOWN","California","Calaveras",null,"California-Calaveras",35.83,59.1,15,null,"ME ROCKLAND 1 W","0.870","0.530",null,50.152287581699348,0.26976840039254124,2.3989581764010315,2.3709999999999991E-2,1]
[null,"MA WORCESTER MUNI AP","California","Colusa",null,"California-Colusa",20.28,46.4,8.8330000000000002,null,"ME SKOWHEGAN","0.835","0.486",null,32.850374064837908,0.29909283733072212,3.1540355597256879,0.14360546949703593,1]
[null,"MI ALPENA WSO AIRPORT","California","Contra Costa",null,"California-Contra Costa",18.510000000000002,45.9,2.6669999999999998,null,"MI ALPENA WSO AIRPORT","0.773","0.294",null,33.769744597249506,0.27271280276816529,7.8972604283516343,6.3626475548060724E-2,1]
[null,"MI BERRIEN SPRINGS 5 W","California","Del Norte",null,"California-Del Norte",89.25,132.5,78.75,null,"MI BERRIEN SPRINGS 5 W","0.793","0.401",null,210.74144486692015,0.2326865671641791,0.15936969976528981,7.0976190476190471E-2,1]
[null,"MI DETROIT CITY AIRPORT","California","El Dorado",null,"California-El Dorado",44.28,69.3,25,null,"MI DETROIT CITY AIRPORT","0.813","0.410",null,72.1446460516228,0.22242345699011845,5.63362819527703,3.0074253430185622E-2,1]
[null,"MI FLINT WSCMO","California","Fresno",null,"California-Fresno",20.72,53.1,9.5830000000000002,null,"MI FLINT WSCMO","0.812","0.342",null,17.034667278217331,0.34020000871497652,2.2423371583235765,0.3527278062860808,1]
[null,"MI GRAND RAPIDS WSFO","California","Glenn",null,"California-Glenn",24.39,52,11.143000000000001,null,"MI GRAND RAPIDS WSFO","0.833","0.349",null,58.06869820903502,0.29269307589880195,2.3001653566996376,0.27335589825756074,1]
[null,"MI HANCOCK MCLAIN ST PK","California","Humboldt",null,"California-Humboldt",67.87,108.9,49.286000000000001,null,"MI HANCOCK MCLAIN ST PK","0.708","0.331",null,157.63908230225917,0.2678913079792859,3.6704172820350265,2.7319915254237288E-2,1]
[null,"MI LANSING WSO AIRPORT","California","Imperial",null,"California-Imperial",5.0999999999999996,29.5,3.41,null,"MI LANSING WSO AIRPORT","0.803","0.318",null,11.261716822890971,0.34164073777064979,1.9439309882619715,0.35335791955980556,1]
[null,"MI MUSKEGON WSO AIRPORT","California","Inyo",null,"California-Inyo",8.31,33.5,3.41,null,"MI MUSKEGON WSO AIRPORT","0.800","0.326",null,18.424048794655825,0.29611157542833283,1.0059473119147628,0.22908807755775581,1]
[null,"MI SAULT STE MARIE WSO","California","Kern",null,"California-Kern",10.53,38.299999999999997,2.23,null,"MI SAULT STE MARIE WSO","0.769","0.317",null,19.117927511554367,0.31364348974090894,3.4784581731517599,0.17429003943082458,1]
[null,"MI TRAVERSE CITY","California","Kings",null,"California-Kings",8.6300000000000008,44.7,1.167,null,"MI TRAVERSE CITY","0.716","0.346",null,10.670259346581341,0.3506455076959793,1.1794846684959992,0.26486533727227951,1]
[null,"MN DULUTH WSO AP","California","Lake",null,"California-Lake",41.91,72.099999999999994,23.571000000000002,null,"MN DULUTH WSO AP","0.808","0.299",null,85.542754275427541,0.2696397485493231,3.5560524272889023,7.5720861486486477E-2,0.99881756756756745]
[null,"MN INT FALLS WSO AP","California","Lassen",null,"California-Lassen",19.27,65.3,3.2639999999999998,null,"MN INT FALLS WSO AP","0.754","0.251",null,32.152402487280952,0.22300192431045537,1.3488937712723017,0.10094730238393965,1]
[null,"MN MINNEAPOLIS WSFO AP","California","Los Angeles",null,"California-Los Angeles",16.53,37,2.6859999999999999,null,"MN MINNEAPOLIS WSFO AP","0.825","0.337",null,40.106584109278252,0.30547662460797809,2.5428497306113584,0.10477605810167788,1]
[null,"MN ROCHESTER WSO AP","California","Madera",null,"California-Madera",23.49,56.6,12.055999999999999,null,"MN ROCHESTER WSO AP","0.833","0.335",null,20.472527472527471,0.32953652968036518,1.023002110202659,0.20200503983092175,1]
[null,"MN SHERBURN 3 WSW","California","Marin",null,"California-Marin",35.590000000000003,59.5,10,null,"MN SHERBURN 3 WSW","0.806","0.431",null,62.311320754716981,0.30413777161349975,7.9759177627293578,2.5075260208166545E-2,1]
[null,"MN ST CLOUD WSO AP","California","Mariposa",null,"California-Mariposa",30.66,52.6,23.332999999999998,null,"MN ST CLOUD WSO AP","0.821","0.334",null,36.805813234384665,0.30550627032048311,5.9190741888237177,2.3280334728033477E-2,1]
[null,"MN THIEF LAKE REFUGE","California","Mendocino",null,"California-Mendocino",53.3,89.4,31.154,null,"MN THIEF LAKE REFUGE","0.749","0.337",null,172.06088655286291,0.26216091370558364,6.387199967866632,2.3793429003021161E-2,1]
[null,"MN TRACY","California","Merced",null,"California-Merced",10.42,45,3.25,null,"MN TRACY","0.809","0.441",null,20.735908141962422,0.31722188866969703,1.3071398782544492,0.16783944954128441,1]
[null,"MN WINNIBIGOSHISH DAM","California","Modoc",null,"California-Modoc",18.170000000000002,79.5,5.1109999999999998,null,"MN WINNIBIGOSHISH DAM","0.799","0.382",null,39.642217518723541,0.23385864163445597,2.1794697168041566,6.5914423639555283E-2,1]
[null,"MN WINTON POWER PLANT","California","Mono",null,"California-Mono",19.77,60.5,11.952999999999999,null,"MN WINTON POWER PLANT","0.766","0.335",null,26.890736890736889,0.18223452440865631,2.0788934159338086,0.1378370497427101,1]
[null,"MS ARKABUTLA DAM","California","Monterey",null,"California-Monterey",19.79,48,5.5380000000000003,null,"MO COLUMBIA AIRPORT","0.894","0.444",null,44.29009558435466,0.27596106348975735,13.861471631542452,0.14295922349039109,0.99808799141547166]
[null,"MS BOONEVILLE","California","Napa",null,"California-Napa",33.520000000000003,61.8,17.5,null,"MO KANSAS CITY WSMO AP","0.893","0.436",null,82.036310517529216,0.29207168458781363,2.211059012004442,0.1313050333535476,1]
[null,"MS CALHOUN CITY 2 NW","California","Nevada",null,"California-Nevada",51.62,77.7,31.667000000000002,null,"MO NEVADA WATER PLANT","0.891","0.549",null,75.132548506649229,0.21023871983210929,10.02877644075833,0.17156009334889147,1]
[null,"MS CLEVELAND 3 N","California","Orange",null,"California-Orange",14.89,40.5,1,null,"MO PATTONSBURG 2 S","0.859","0.504",null,36.496883730926285,0.29364439140811466,13.575574018688084,4.1807266982622431E-2,0.99865718799368086]
[null,"MS JACKSON WSFO AIRPORT","California","Placer",null,"California-Placer",44.74,71.2,15.3,null,"MO ROLLA UNI OF MISSOUR","0.887","0.485",null,64.132493368700267,0.22021691102631052,6.2794624909834029,0.16193333333333329,1]
[null,"MS LEAKESVILLE","California","Plumas",null,"California-Plumas",43.57,71.8,27.143000000000001,null,"MO SPRINGFIELD REG AP","0.908","0.476",null,64.660838293650798,0.17499923768867204,1.3305882116205832,3.5171084337349397E-2,1]
[null,"MS LEXINGTON 2 NNW","California","Riverside",null,"California-Riverside",8.76,33.4,1.4670000000000001,null,"MO ST LOUIS WSCMO AIRPO","0.880","0.424",null,30.66379388551211,0.256443395054057,8.4839883835189802,0.16280021301198952,0.99721258596555296]
[null,"MS MERIDIAN WSO ARPT","California","Sacramento",null,"California-Sacramento",17.649999999999999,45,4,null,"MO STEFFENVILLE","0.845","0.476",null,25.809938281373636,0.29539290897781523,0.5978864054677403,0.14212218430034107,1]
[null,"MS RUTH 1 SE","California","San Benito",null,"California-San Benito",16.14,45,1,null,"MO WAPPAPELLO DAM","0.891","0.562",null,31.551833122629581,0.32634214186369986,11.393876284169657,6.2001650660264099E-2,0.99964735894357737]
[null,"MS SAUCIER EXP FOREST","California","San Bernardino",null,"California-San Bernardino",8.49,30.7,1.96,null,"MO WEST PLAINS","0.908","0.547",null,16.52756917494078,0.18771468466371841,2.8203486432019114,0.31441115977291173,1]
[null,"MO COLUMBIA AIRPORT","California","San Diego",null,"California-San Diego",15.15,42.2,0.76,null,"MS ARKABUTLA DAM","0.926","0.625",null,41.073896434634975,0.25337605758302806,8.8738782144858313,0.20273176025766709,0.99879568687858866]
[null,"MO KANSAS CITY WSMO AP","California","San Francisco",null,"California-San Francisco",25.01,47.1,5,null,"MS BOONEVILLE","0.914","0.597",null,35,0.15339999999999995,9.4408211821853272E-2,5.4999999999999997E-3,1]
[null,"MO NEVADA WATER PLANT","California","San Joaquin",null,"California-San Joaquin",15.09,45,2.25,null,"MS CALHOUN CITY 2 NW","0.918","0.603",null,20.060775909440597,0.26698268755152588,0.95011767756033438,0.15251765960282523,1]
[null,"MO PATTONSBURG 2 S","California","San Luis Obispo",null,"California-San Luis Obispo",15.85,41.1,6.7130000000000001,null,"MS CLEVELAND 3 N","0.917","0.594",null,52.823498447123228,0.30498990132148446,7.7874300403961181,0.11364191759112513,1]
[null,"MO ROLLA UNI OF MISSOUR","California","San Mateo",null,"California-San Mateo",29.02,65.2,6.6669999999999998,null,"MS JACKSON WSFO AIRPORT","0.936","0.542",null,131.2922773393461,0.30061288868859859,6.9357112450517642,5.9099809885931602E-2,0.99572243346007605]
[null,"MO SPRINGFIELD REG AP","California","Santa Barbara",null,"California-Santa Barbara",18.68,42.3,1.9,null,"MS LEAKESVILLE","0.929","0.624",null,62.886163280950555,0.26929313691903595,9.2736983048560848,8.0459969260863573E-2,0.99816263797680593]
[null,"MO ST LOUIS WSCMO AIRPO","California","Santa Clara",null,"California-Santa Clara",23.09,48.4,2.6669999999999998,null,"MS LEXINGTON 2 NNW","0.923","0.600",null,60.825215930902111,0.29044718683651799,10.764806642324686,0.10022793888369196,1]
[null,"MO STEFFENVILLE","California","Santa Cruz",null,"California-Santa Cruz",38.25,63.7,7.5,null,"MS MERIDIAN WSO ARPT","0.941","0.581",null,240.53486750348674,0.23437545126353793,0.89496517547676768,0.27663157894736828,0.98089244851258572]
[null,"MO WAPPAPELLO DAM","California","Shasta",null,"California-Shasta",50.2,83.5,16.768999999999998,null,"MS RUTH 1 SE","0.922","0.592",null,77.146861282986933,0.18890152063721946,5.7406089109761513,0.12495872079836698,1]
[null,"MO WEST PLAINS","California","Sierra",null,"California-Sierra",51.44,77.599999999999994,27.143000000000001,null,"MS SAUCIER EXP FOREST","0.924","0.578",null,54.132067137809187,0.2018226332970619,4.2592000004473896,3.321577726218098E-2,1]
[null,"MT BILLINGS WSO","California","Siskiyou",null,"California-Siskiyou",40.25,91,28.094999999999999,null,"MT BILLINGS WSO","0.679","0.224",null,50.817878756795572,0.22035443377861291,1.6280071020974096,0.12269021518473405,0.98544457978075517]
[null,"MT CLARK CANYON DAM","California","Solano",null,"California-Solano",21.46,46.3,3,null,"MT CLARK CANYON DAM","0.586","0.228",null,37.240133897110638,0.29577849117174848,3.4441405051028227,0.1350793136937517,0.97937843962447402]
[null,"MT CUT BANK FCWOS","California","Sonoma",null,"California-Sonoma",42.25,70.099999999999994,23.888999999999999,null,"MT CUT BANK FCWOS","0.659","0.270",null,116.88372320642067,0.26917819619265576,1.5609134518522654,4.2099736147757257E-2,1]
[null,"MT GLASGOW WSO AIRPORT","California","Stanislaus",null,"California-Stanislaus",13.17,45,3.8,null,"MT GLASGOW WSO AIRPORT","0.628","0.139",null,22.038849958779885,0.31283047050037371,4.5516211311578445,0.1025953701136679,1]
[null,"MT GREAT FALLS WSCMO AI","California","Sutter",null,"California-Sutter",18.829999999999998,45,2.6669999999999998,null,"MT GREAT FALLS WSCMO AI","0.677","0.213",null,25.368475452196382,0.28230548302872055,0.29261277695102467,0.24894705035971226,1]
[null,"MT HELENA WSO","California","Tehama",null,"California-Tehama",37.64,66.099999999999994,17.332999999999998,null,"MT HELENA WSO","0.596","0.170",null,48.893558673469386,0.23685681930780655,3.0174808210140687,3.2832787625606853E-2,1]
[null,"MT HILGER","California","Trinity",null,"California-Trinity",54.39,90.9,28,null,"MT HILGER","0.632","0.269",null,113.3015873015873,0.18985327743902433,18.350074641315132,0.23744578313253015,1]
[null,"MT ISMAY","California","Tulare",null,"California-Tulare",20,48.5,5.7,null,"MT ISMAY","0.671","0.259",null,27.829839774880835,0.32957561071451952,3.6701137722474133,0.14677171196501101,1]
[null,"MT KALISPELL WSO AIRPOR","California","Tuolumne",null,"California-Tuolumne",42.12,69.7,23.332999999999998,null,"MT KALISPELL WSO AIRPOR","0.601","0.198",null,48.893564356435647,0.27643631856213208,5.3118258588236076,6.484437825763216E-2,1]
[null,"MT MISSOULA WSO AP","California","Ventura",null,"California-Ventura",17.52,37.799999999999997,1.8140000000000001,null,"MT MISSOULA WSO AP","0.547","0.154",null,74.483751473312012,0.32263971684053655,11.137444969832647,7.2367900172117097E-2,0.99451376936316693]
[null,"NE AMELIA 2 W","California","Yolo",null,"California-Yolo",20.41,47.1,6.3330000000000002,null,"NC ASHEVILLE REGIONL AP","0.900","0.468",null,30.652918287937744,0.3186599304290213,2.164910236354658,0.27718158379373825,0.99860036832412513]
[null,"NE EDISON","California","Yuba",null,"California-Yuba",38.869999999999997,57.4,16.443999999999999,null,"NC CAPE HATTERAS NWS","0.925","0.509",null,52.26289378310566,0.29057867360208051,2.0589574413923954,0.10378869047619045,1]
[null,"NE GRAND ISLAND WSO AP","Colorado","Adams",null,"Colorado-Adams",16,67.2,0.45,null,"NC CHARLOTTE DOUGLAS AP","0.895","0.476",null,50.176060498641142,0.26282006920415207,0.3904821173886317,0.30173050871883556,0.99697362732382167]
[null,"NE HEBRON","Colorado","Alamosa",null,"Colorado-Alamosa",9.59,48,2.6669999999999998,null,"NC ELIZABETH CITY","0.864","0.514",null,15,0.17443360433604327,0.25767025118474346,0.14208638154192452,1]
[null,"NE MALMO 3 E","Colorado","Arapahoe",null,"Colorado-Arapahoe",16,66.8,0.45,null,"NC GRNSBR,HGH PT,W-S AP","0.898","0.484",null,50,0.29405507131537229,0.63298287053741698,0.18664526290283495,0.98558517082626607]
[null,"NE NORFOLK AIRPORT","Colorado","Archuleta",null,"Colorado-Archuleta",24.82,92.6,18.332999999999998,null,"NC HELTON","0.837","0.486",null,40,0.27797342192691088,1.8115110737864317,0.14509439834024895,1]
[null,"NE NORTH PLATTE WSO ARP","Colorado","Baca",null,"Colorado-Baca",16,45.3,0.1,null,"NC LAURINBURG","0.899","0.550",null,100,0.27945938375350132,0.2680311237504695,0.1780909679275135,0.99395944196749608]
[null,"NE OSHKOSH 10 NE","Colorado","Bent",null,"Colorado-Bent",15.4,45,0.13300000000000001,null,"NC MOREHEAD CITY 2 WNW","0.893","0.554",null,90,0.29423056300268075,0.40899372599340583,5.9527019909406974E-2,0.99438533656378392]
[null,"NE SCOTTSBLUFF AP","Colorado","Boulder",null,"Colorado-Boulder",20.52,91.3,12.833,null,"NC RALEIGH DURHAM AP","0.903","0.501",null,70,0.18259868421052616,2.2847607179179765,9.2298070939639071E-2,0.99875544492843804]
[null,"NE VALENTINE WSO AP","Colorado","Chaffee",null,"Colorado-Chaffee",18.61,78.8,12.75,null,"NC WILMINGTON NEW HANVR","0.926","0.513",null,30,0.14771561771561775,0.86615727938511211,0.11062219730941701,1]
[null,"NV BEATTY 8 N","Colorado","Cheyenne",null,"Colorado-Cheyenne",16,45,0.1,null,"ND ASHLEY","0.744","0.339",null,100,0.27175666199158477,0.47010826797284172,0.17702841918294845,0.99200710479573717]
[null,"NV CONTACT","Colorado","Clear Creek",null,"Colorado-Clear Creek",23.69,119.7,15,null,"ND BALDHILL DAM","0.735","0.315",null,40,0.12677115987460813,5.9384985310185385,0.62188073394495413,1]
[null,"NV ELKO FCWOS","Colorado","Conejos",null,"Colorado-Conejos",20.21,71.5,13.555999999999999,null,"ND BISMARCK WSFO AP","0.728","0.218",null,15,0.17817941176470564,0.63199663619623769,0.1420064620355411,1]
[null,"NV ELY ASOS","Colorado","Costilla",null,"Colorado-Costilla",15.77,61.7,5,null,"ND BOWMAN","0.656","0.286",null,15.306962025316455,0.18483862181669586,2.1033270678511435,0.1523600789214074,1]
[null,"NV LAS VEGAS AP","Colorado","Crowley",null,"Colorado-Crowley",8.5,45,0.2,null,"ND FARGO WSO AP","0.784","0.269",null,70,0.2409991990388467,0.36784278809851467,0.16949637243047158,1]
[null,"NV LEONARD CREEK RANCH","Colorado","Custer",null,"Colorado-Custer",20.9,74.2,4.5,null,"ND MINOT EXPERIMENT STN","0.693","0.306",null,30,0.1859678023212282,2.5958277969323369,9.0608431116905752E-2,1]
[null,"NV PAHRANAGAT W L REFUG","Colorado","Delta",null,"Colorado-Delta",18.78,76.599999999999994,10.4,null,"ND RICHARDTON ABBEY","0.726","0.300",null,30,0.26297269624573388,2.2180946205603531,0.17129928918817791,1]
[null,"NV RENO AIRPORT","Colorado","Denver",null,"Colorado-Denver",16,70.599999999999994,0.46,null,"ND ROLETTE","0.717","0.332",null,null,null,""]
[null,"NV SMOKEY VALLEY","Colorado","Dolores",null,"Colorado-Dolores",23.63,85,5.5830000000000002,null,"ND TROTTERS 3 SSE","0.680","0.272",null,30,0.29993363604610568,1.6831323348792655,9.978622129436332E-2,1]
[null,"NV WINNEMUCCA AIRPORT","Colorado","Douglas",null,"Colorado-Douglas",17.350000000000001,71.5,0.75,null,"ND WILLISTON WSO","0.689","0.201",null,70,0.21474966532797851,1.2555637068293661,8.3804363636363677E-2,0.99945454545454548]
[null,"NH BRISTOL","Colorado","Eagle",null,"Colorado-Eagle",21.04,104.7,15,null,"NE AMELIA 2 W","0.827","0.424",null,30,0.224127349443805,4.2214020448838374,0.14696572459410706,1]
[null,"NH CONCORD MUNI AP","Colorado","El Paso",null,"Colorado-El Paso",16.68,65.7,0.75,null,"NE EDISON","0.780","0.406",null,70,0.24084368754887475,1.0163717879582572,0.13516681392472163,0.99517582611768862]
[null,"NH DURHAM","Colorado","Elbert",null,"Colorado-Elbert",16,64.7,0.26700000000000002,null,"NE GRAND ISLAND WSO AP","0.853","0.364",null,80,0.18247909698996664,0.50231516067956805,0.1300794849968078,1]
[null,"NH ERROL","Colorado","Fremont",null,"Colorado-Fremont",15.72,67.099999999999994,4.5,null,"NE HEBRON","0.830","0.452",null,50,0.18810719640179907,1.4326229050321801,0.16257432221875975,1]
[null,"NH LINCOLN","Colorado","Garfield",null,"Colorado-Garfield",24.01,94,12.231,null,"NE MALMO 3 E","0.860","0.471",null,30,0.24210391686650704,9.613651997629324,0.13859450668594145,0.99945789663895912]
[null,"NH MOUNT WASHINGTON","Colorado","Gilpin",null,"Colorado-Gilpin",23.77,111.1,12.5,null,"NE NORFOLK AIRPORT","0.853","0.374",null,40,0.10650862068965516,6.7534636701093893,0.58593827160493839,1]
[null,"NH NEW DURHAM 3 NNW","Colorado","Grand",null,"Colorado-Grand",23.66,118.2,20.385000000000002,null,"NE NORTH PLATTE WSO ARP","0.804","0.302",null,30,0.26232617586912088,1.2005826980264072,5.5660744031093862E-2,1]
[null,"NH NORTH STRATFORD","Colorado","Gunnison",null,"Colorado-Gunnison",22.62,95.9,13.888999999999999,null,"NE OSHKOSH 10 NE","0.719","0.336",null,30,0.22887634684453542,3.5131977849263398,9.5986820428336159E-2,0.99859967051070841]
[null,"NH PITTSBURG RESERVOIR","Colorado","Hinsdale",null,"Colorado-Hinsdale",30.11,100.6,12.5,null,"NE SCOTTSBLUFF AP","0.736","0.266",null,40,0.20994011976047905,0.82999101273303588,8.7090909090909108E-2,1]
[null,"NH SURRY MOUNTAIN LAKE","Colorado","Huerfano",null,"Colorado-Huerfano",17.45,65.599999999999994,4.5,null,"NE VALENTINE WSO AP","0.810","0.318",null,80,0.24774880922536993,1.5023130153535089,9.6843913249960445E-2,1]
[null,"NJ ATLANTIC CITY INT AP","Colorado","Jackson",null,"Colorado-Jackson",25.83,110.2,20.385000000000002,null,"NH BRISTOL","0.843","0.492",null,29.9581589958159,0.20081255374032678,0.97761919391229335,5.8286945169712862E-2,1]
[null,"NJ CAPE MAY 2 NW","Colorado","Jefferson",null,"Colorado-Jefferson",18.079999999999998,78.400000000000006,2,null,"NH CONCORD MUNI AP","0.858","0.410",null,69.763361893104857,0.15585912823752357,2.5131734945078708,0.2697369439071568,1]
[null,"NJ CLINTON 2 N","Colorado","Kiowa",null,"Colorado-Kiowa",15.76,45,0.15,null,"NH DURHAM","0.851","0.505",null,100,0.29853350076239998,0.27517160259509593,0.18752890850144097,0.95998739193083582]
[null,"NJ GLASSBORO 2 W","Colorado","Kit Carson",null,"Colorado-Kit Carson",16,45.1,0.13300000000000001,null,"NH ERROL","0.813","0.444",null,100,0.28253244399333005,0.481229405911687,0.21779970577418148,0.99682236116219203]
[null,"NJ NEW BRUNSWICK 3 SE","Colorado","La Plata",null,"Colorado-La Plata",22.89,87.1,7.625,null,"NH LINCOLN","0.854","0.474",null,30,0.16051526717557249,3.9903246502956806,0.17539644970414206,1]
[null,"NJ NEWARK INTL ARPT","Colorado","Lake",null,"Colorado-Lake",24.41,112.5,15.833,null,"NH MOUNT WASHINGTON","0.923","0.573",null,30,0.27568596352101538,1.6787652951371503,0.13952625960717333,1]
[null,"NJ SPRINGFIELD","Colorado","Larimer",null,"Colorado-Larimer",20.81,88.3,6.1219999999999999,null,"NH NEW DURHAM 3 NNW","0.853","0.510",null,49.30594758064516,0.2363006885998469,2.2590561222230172,0.10232509336653019,1]
[null,"NJ WANAQUE RAYMOND DAM","Colorado","Las Animas",null,"Colorado-Las Animas",16.48,58.5,1.5780000000000001,null,"NH NORTH STRATFORD","0.786","0.399",null,96.453908832095294,0.28315978582499596,1.7671264026623221,0.11928988446121191,0.99846734260787551]
[null,"NJ WATCHUNG","Colorado","Lincoln",null,"Colorado-Lincoln",15.65,51,0.15,null,"NH PITTSBURG RESERVOIR","0.737","0.375",null,75,0.25773612374886251,0.37399994578772594,0.14603611876339143,0.98815426997245182]
[null,"NJ WINDSOR","Colorado","Logan",null,"Colorado-Logan",16,65.400000000000006,0.32500000000000001,null,"NH SURRY MOUNTAIN LAKE","0.849","0.472",null,90,0.24693287435456143,0.53006429066731808,0.18553871758934809,0.99087245970567617]
[null,"NM ALBUQUERQUE WSFO AIR","Colorado","Mesa",null,"Colorado-Mesa",18.03,71,6.3,null,"NJ ATLANTIC CITY INT AP","0.888","0.465",null,30.092214310727208,0.28970316493021409,1.974713011482331,0.14990045346577413,1]
[null,"NM ANIMAS","Colorado","Mineral",null,"Colorado-Mineral",30.35,90.6,17.5,null,"NJ CAPE MAY 2 NW","0.861","0.521",null,40,0.19101190476190483,6.5087363928446802,0.11466891891891889,1]
[null,"NM AUGUSTINE 2 E","Colorado","Moffat",null,"Colorado-Moffat",15.48,74.099999999999994,2.35,null,"NJ CLINTON 2 N","0.861","0.501",null,35,0.22674647999363587,2.3422399028969654,7.2868276449191222E-2,0.99989164925315377]
[null,"NM CARLSBAD","Colorado","Montezuma",null,"Colorado-Montezuma",16.579999999999998,68.7,3.6,null,"NJ GLASSBORO 2 W","0.902","0.529",null,29.282392026578073,0.25720159558146638,3.5017388604938748,0.17422188926940643,0.99517551369863022]
[null,"NM CARRIZOZO 1 SW","Colorado","Montrose",null,"Colorado-Montrose",17.170000000000002,75.7,5.25,null,"NJ NEW BRUNSWICK 3 SE","0.900","0.498",null,30,0.24912864022013301,3.9251042212830036,0.13908492106695688,1]
[null,"NM CUBA","Colorado","Morgan",null,"Colorado-Morgan",16,47.1,0.1,null,"NJ NEWARK INTL ARPT","0.900","0.467",null,60,0.19464776417686724,0.49732212808956933,0.19803511218151873,0.99151983774876418]
[null,"NM DURAN","Colorado","Otero",null,"Colorado-Otero",11.46,45,0.2,null,"NJ SPRINGFIELD","0.910","0.520",null,80,0.29487641846727808,0.48161173591179363,0.18123925985518913,1]
[null,"NM JORNADA EXP RANGE","Colorado","Ouray",null,"Colorado-Ouray",23.16,105.8,12.5,null,"NJ WANAQUE RAYMOND DAM","0.900","0.516",null,30,0.23752795031055898,4.2264427410315717,9.9128529980657618E-2,1]
[null,"NM OCATE 2 NW","Colorado","Park",null,"Colorado-Park",17.350000000000001,86.1,6.6,null,"NJ WATCHUNG","0.907","0.523",null,30,0.16876344086021497,2.6929918553359098,0.15415748627673651,1]
[null,"NM TUCUMCARI 4 NE","Colorado","Phillips",null,"Colorado-Phillips",16,64,0.5,null,"NJ WINDSOR","0.868","0.515",null,100,0.25017902813299242,0.33090468832933428,0.28110952314491788,0.98736217725052355]
[null,"NY ALBANY COUNTY AP","Colorado","Pitkin",null,"Colorado-Pitkin",29.1,111.9,18,null,"NM ALBUQUERQUE WSFO AIR","0.660","0.221",null,30,0.23244712990936553,7.3249542630865498,8.4173509933774857E-2,0.9924503311258277]
[null,"NY BINGHAMTON LINK FLD","Colorado","Prowers",null,"Colorado-Prowers",16,45,0.1,null,"NM ANIMAS","0.716","0.341",null,100,0.31234829512617995,0.36500954607093616,0.20406082484422888,0.95418850756601736]
[null,"NY BUFFALO GR BUFFLO AP","Colorado","Pueblo",null,"Colorado-Pueblo",13.34,51.2,0.75,null,"NM AUGUSTINE 2 E","0.672","0.312",null,70.002728885250377,0.27197516435354285,0.94399941588829683,0.18520705497586071,0.99852047967606294]
[null,"NY CANTON 4 SE","Colorado","Rio Blanco",null,"Colorado-Rio Blanco",18.54,82.3,12.055999999999999,null,"NM CARLSBAD","0.791","0.394",null,36.358147925435958,0.25053254437869887,5.8239166721244233,9.0738325281803436E-2,0.99930555555555556]
[null,"NY NEW YORK CNTRL PARK","Colorado","Rio Grande",null,"Colorado-Rio Grande",18.07,69.400000000000006,11.143000000000001,null,"NM CARRIZOZO 1 SW","0.703","0.326",null,15,0.19258679085520775,0.46083988324507075,0.21546167718665457,1]
[null,"NY OLD FORGE","Colorado","Routt",null,"Colorado-Routt",28.04,114.1,19,null,"NM CUBA","0.631","0.287",null,43,0.24352809781330839,6.4431205943487706,7.5131459398069228E-2,0.99246166950596248]
[null,"NY ROCHESTER INTL AP","Colorado","Saguache",null,"Colorado-Saguache",15.53,66.400000000000006,4.5999999999999996,null,"NM DURAN","0.733","0.341",null,15.071114121232645,0.1899546584759399,1.9595224984634081,0.15688878690530844,1]
[null,"NY SYRACUSE HANCOCK AP","Colorado","San Juan",null,"Colorado-San Juan",36.6,126.9,17.5,null,"NM JORNADA EXP RANGE","0.675","0.310",null,40,0.1291509433962264,5.2566160958053922,0.23554672897196263,1]
[null,"NY WELLSVILLE","Colorado","San Miguel",null,"Colorado-San Miguel",21.46,85.6,8.8330000000000002,null,"NM OCATE 2 NW","0.744","0.350",null,30,0.26125994272987568,5.1264862255292805,9.6529869067103119E-2,0.99073240589198031]
[null,"NY WHITEHALL","Colorado","Sedgwick",null,"Colorado-Sedgwick",16,58.2,0.5,null,"NM TUCUMCARI 4 NE","0.763","0.388",null,100.16429789653212,0.25140233236151643,0.64412044616329112,0.19756041297935098,1]
[null,"NC ASHEVILLE REGIONL AP","Colorado","Summit",null,"Colorado-Summit",24.58,125.3,17,null,"NV BEATTY 8 N","0.715","0.330",null,30,0.23226415094339628,4.2444281098660852,0.11681818181818178,1]
[null,"NC CAPE HATTERAS NWS","Colorado","Teller",null,"Colorado-Teller",20.68,82,1,null,"NV CONTACT","0.468","0.191",null,30,0.13576029567053857,3.5641572850718291,0.13064637681159424,1]
[null,"NC CHARLOTTE DOUGLAS AP","Colorado","Washington",null,"Colorado-Washington",16,60.3,0.15,null,"NV ELKO FCWOS","0.503","0.179",null,90,0.24194227188081951,0.26356657326771882,0.19201206112654706,0.98721899469563024]
[null,"NC ELIZABETH CITY","Colorado","Weld",null,"Colorado-Weld",16,57.8,0.46,null,"NV ELY ASOS","0.608","0.195",null,55.354327424400417,0.21231267824734226,0.77035947655134407,0.14747722544376082,0.99701208445841261]
[null,"NC GRNSBR,HGH PT,W-S AP","Colorado","Yuma",null,"Colorado-Yuma",16,47.3,0.2,null,"NV LAS VEGAS AP","0.717","0.236",null,100,0.20728304893433397,0.53178734896167534,0.22257842144352133,0.98899466612652753]
[null,"NC HELTON","Connecticut","Fairfield",null,"Connecticut-Fairfield",48.72,110,23.25,null,"NV LEONARD CREEK RANCH","0.560","0.243",null,150,0.22141933670601474,0.78107676386262959,7.3293774319066154E-2,1]
[null,"NC LAURINBURG","Connecticut","Hartford",null,"Connecticut-Hartford",46.34,110.9,25.667000000000002,null,"NV PAHRANAGAT W L REFUG","0.618","0.274",null,150,0.26433072625698362,0.66747807304499696,0.18355661375661347,0.98814814814814811]
[null,"NC MOREHEAD CITY 2 WNW","Connecticut","Litchfield",null,"Connecticut-Litchfield",49.4,118.8,25,null,"NV RENO AIRPORT","0.651","0.214",null,150,0.22292097488921725,0.79186238420076194,8.2105147864184005E-2,1]
[null,"NC RALEIGH DURHAM AP","Connecticut","Middlesex",null,"Connecticut-Middlesex",48.85,112.4,27,null,"NV SMOKEY VALLEY","0.564","0.244",null,150,0.2249683544303796,0.78954647007183776,6.1339673913043471E-2,0.98029891304347827]
[null,"NC WILMINGTON NEW HANVR","Connecticut","New Haven",null,"Connecticut-New Haven",49,109,26.25,null,"NV WINNEMUCCA AIRPORT","0.538","0.161",null,150,0.23303611111111083,0.41083129996483564,0.12230571428571435,0.97285714285714286]
[null,"ND ASHLEY","Connecticut","New London",null,"Connecticut-New London",48.02,112.5,27.332999999999998,null,"NY ALBANY COUNTY AP","0.853","0.399",null,150,0.21548809212248118,0.51076229079092972,0.14035951661631427,0.97696374622356497]
[null,"ND BALDHILL DAM","Connecticut","Tolland",null,"Connecticut-Tolland",45.15,113.3,24.5,null,"NY BINGHAMTON LINK FLD","0.825","0.351",null,150,0.21646017699115022,0.39001845831534471,8.3030030030030066E-2,0.99399399399399402]
[null,"ND BISMARCK WSFO AP","Connecticut","Windham",null,"Connecticut-Windham",45.09,112.5,25.5,null,"NY BUFFALO GR BUFFLO AP","0.804","0.342",null,150,0.20944779435099994,0.69247846483684983,6.0121475054229948E-2,0.99457700650759218]
[null,"ND BOWMAN","Delaware","Kent",null,"Delaware-Kent",45,103.6,19,null,"NY CANTON 4 SE","0.769","0.374",null,210,0.27437421383647759,0.16389342555299316,0.23752443933294964,1]
[null,"ND FARGO WSO AP","Delaware","New Castle",null,"Delaware-New Castle",45,97.8,18.667000000000002,null,"NY NEW YORK CNTRL PARK","0.912","0.497",null,190,0.37771079258010204,0.39192039232019049,0.16296921549155907,0.99652432969215488]
[null,"ND MINOT EXPERIMENT STN","Delaware","Sussex",null,"Delaware-Sussex",45,97.8,19.2,null,"NY OLD FORGE","0.815","0.451",null,225,0.19959678890713339,0.10992759238494064,0.19853053160919518,1]
[null,"ND RICHARDTON ABBEY","District of Columbia","Washington",null,"District of Columbia-Washington",45,99,16,null,"NY ROCHESTER INTL AP","0.765","0.292",null,null,null,""]
[null,"ND ROLETTE","Florida","Alachua",null,"Florida-Alachua",60,106.5,10,null,"NY SYRACUSE HANCOCK AP","0.806","0.338",null,350,0.10651453809348549,0.20301983736170207,4.9398390913393264E-2,1]
[null,"ND TROTTERS 3 SSE","Florida","Baker",null,"Florida-Baker",60,98.1,13.25,null,"NY WELLSVILLE","0.761","0.407",null,349.02909336941815,0.10935830860534156,0.10762414238767325,4.923636363636362E-2,1]
[null,"ND WILLISTON WSO","Florida","Bay",null,"Florida-Bay",60,99.5,40,null,"NY WHITEHALL","0.809","0.462",null,550,0.10158425123037233,9.5930468257394486E-2,0.139875,1]
[null,"OH AKRON CANTON WSO AP","Florida","Bradford",null,"Florida-Bradford",60,97.8,11,null,"OH AKRON CANTON WSO AP","0.817","0.351",null,350,0.10164988814317662,0.1347098307104726,1.0232352941176474E-2,1]
[null,"OH CLEVELAND WSFO AP","Florida","Brevard",null,"Florida-Brevard",55.86,99.9,17.5,null,"OH CLEVELAND WSFO AP","0.820","0.360",null,400,0.10002486325211336,8.4117173738399553E-2,1.7443762210438182E-2,1]
[null,"OH COLUMBUS WSO AIRPORT","Florida","Broward",null,"Florida-Broward",59.57,116.7,10,null,"OH COLUMBUS WSO AIRPORT","0.845","0.391",null,450,0.10080645161290316,5.2704264955964808E-2,3.904521276595746E-2,1]
[null,"OH DAYTON WSO AIRPORT","Florida","Calhoun",null,"Florida-Calhoun",60,101.2,26.6,null,"OH DAYTON WSO AIRPORT","0.854","0.400",null,525,0.15703724928366761,0.21332262676444358,0.15723151750972761,1]
[null,"OH MANSFIELD WSO AP","Florida","Charlotte",null,"Florida-Charlotte",48.64,97.8,13.333,null,"OH MANSFIELD WSO AP","0.862","0.406",null,400,0.10227989328159109,9.2015093362288886E-2,1.2315209910529937E-2,1]
[null,"OH PANDORA","Florida","Citrus",null,"Florida-Citrus",59.99,100.1,8,null,"OH PANDORA","0.801","0.449",null,350,0.10216021602160225,0.24301163002939108,1.9707317073170732E-2,1]
[null,"OH PORTSMOUTH SCIOTOVIL","Florida","Clay",null,"Florida-Clay",60,102.9,11.8,null,"OH PORTSMOUTH SCIOTOVIL","0.832","0.467",null,350,0.10337051142546244,0.13066696616441076,3.1433884297520663E-2,1]
[null,"OH TOLEDO EXPRESS WSO A","Florida","Collier",null,"Florida-Collier",54.16,106.4,10,null,"OH TOLEDO EXPRESS WSO A","0.827","0.361",null,434.6005712706164,0.10861024624964603,8.6181151217096061E-2,3.1476573938506572E-2,1]
[null,"OH TOM JENKINS DAM-BURR","Florida","Columbia",null,"Florida-Columbia",60,103,12,null,"OH TOM JENKINS DAM-BURR","0.827","0.405",null,349.2866696388765,0.10233841684822051,0.26041481335109024,9.6242857142857172E-2,1]
[null,"OH YOUNGSTOWN WSO AP","Florida","Dade",null,"Florida-Dade",59.86,116.7,5,null,"OH YOUNGSTOWN WSO AP","0.820","0.355",null,423.37931433866112,0.20052951388888901,6.2048165163755525E-2,0.23429481132075475,1]
[null,"OK CARTER TOWER","Florida","De Soto",null,"Florida-De Soto",51.84,97.7,12,null,"OK CARTER TOWER","0.904","0.571",null,350,0.1,9.2842516746821729E-2,2.3907844852726748E-2,1]
[null,"OK FORT SUPPLY DAM","Florida","Dixie",null,"Florida-Dixie",60,96.7,12,null,"OK FORT SUPPLY DAM","0.859","0.462",null,399.88134135855546,0.10001202212070225,0.19831361692331639,5.8514851485148523E-3,1]
[null,"OK GOODWELL RESEARCH ST","Florida","Duval",null,"Florida-Duval",58.95,97.8,13.667,null,"OK GOODWELL RESEARCH ST","0.786","0.384",null,400,0.10762678062678063,0.12079896051902539,2.711528822055137E-2,1]
[null,"OK GREAT SALT PLAINS DA","Florida","Escambia",null,"Florida-Escambia",60,98,29,null,"OK GREAT SALT PLAINS DA","0.886","0.503",null,550,0.15232876712328777,0.31381069766740122,0.14278594249201279,0.90878594249201272]
[null,"OK LEHIGH","Florida","Flagler",null,"Florida-Flagler",56.66,108.6,12,null,"OK LEHIGH","0.921","0.623",null,400,0.11522299651567937,0.10073914133387163,8.0207792207792228E-2,1]
[null,"OK MAYFIELD","Florida","Franklin",null,"Florida-Franklin",60,98.7,25.286000000000001,null,"OK MAYFIELD","0.830","0.442",null,500,0.10687680115273773,5.6239411987019962E-2,0.12066666666666667,1]
[null,"OK OKLAHOMA CITY AIRPOR","Florida","Gadsden",null,"Florida-Gadsden",60,104.4,19.600000000000001,null,"OK OKLAHOMA CITY AIRPOR","0.909","0.457",null,450,0.13899154400250555,0.28572792829136007,0.16360469011725304,0.98492462311557794]
[null,"OK TULSA INTL AIRPORT","Florida","Gilchrist",null,"Florida-Gilchrist",60,97.8,12,null,"OK TULSA INTL AIRPORT","0.921","0.495",null,350,0.10258259655653792,0.21880547765337813,9.1881294964028845E-2,1]
[null,"OK WEBBERS FALLS DAM","Florida","Glades",null,"Florida-Glades",45.65,97.8,10.667,null,"OK WEBBERS FALLS DAM","0.904","0.573",null,350,0.10028852318871562,6.2776819151487542E-2,4.0474130036630029E-2,1]
[null,"OK WICHITA MTN WL REF","Florida","Gulf",null,"Florida-Gulf",60,107.3,18,null,"OK WICHITA MTN WL REF","0.891","0.518",null,500,0.14375738724727832,0.11236981364664117,0.13239575289575289,0.96621621621621623]
[null,"OR ALLEGANY","Florida","Hamilton",null,"Florida-Hamilton",60,97.8,11,null,"OR ALLEGANY","0.918","0.624",null,350,0.10397427652733116,0.31108048700976754,0.18992696629213485,1]
[null,"OR ASTORIA WSO AIRPORT","Florida","Hardee",null,"Florida-Hardee",48.71,97.1,12,null,"OR ASTORIA WSO AIRPORT","0.888","0.489",null,400,0.1,0.11633471782078045,3.8287692307692391E-2,1]
[null,"OR BEULAH","Florida","Hendry",null,"Florida-Hendry",46.97,97.9,10,null,"OR BEULAH","0.602","0.244",null,350,0.10092925659472433,5.979060500790747E-2,4.1293693173618064E-2,1]
[null,"OR EUGENE WSO AIRPORT","Florida","Hernando",null,"Florida-Hernando",60,97.8,10,null,"OR EUGENE WSO AIRPORT","0.892","0.499",null,400,0.12007189072609641,0.59957134564920234,6.4294642857142856E-2,0.9977678571428571]
[null,"OR LA GRANDE","Florida","Highlands",null,"Florida-Highlands",45.23,96.8,10,null,"OR LA GRANDE","0.570","0.245",null,350,9.9999999999999922E-2,0.1052042310110044,2.0051150895140653E-2,1]
[null,"OR MEDFORD WSO AP","Florida","Hillsborough",null,"Florida-Hillsborough",54.49,97.6,13,null,"OR MEDFORD WSO AP","0.728","0.277",null,400,0.10768827160493827,0.10350505305995417,6.6075315315315283E-2,1]
[null,"OR OCHOCO DAM","Florida","Holmes",null,"Florida-Holmes",60,101.3,25,null,"OR OCHOCO DAM","0.545","0.229",null,499.51180599872367,0.14307440183546383,0.31710004359327848,9.3236819360414863E-2,0.94425237683664653]
[null,"OR PENDLETON WSO AIRPOR","Florida","Indian River",null,"Florida-Indian River",59.22,118.7,17.5,null,"OR PENDLETON WSO AIRPOR","0.591","0.199",null,399.33410538506081,0.10228299643281789,7.0821380680561721E-2,3.7001990049751285E-2,1]
[null,"OR PORTLAND INTL AIRPOR","Florida","Jackson",null,"Florida-Jackson",60,98.1,25,null,"OR PORTLAND INTL AIRPOR","0.805","0.390",null,450,0.13195238941197351,0.33060751183815235,0.13749879999999987,1]
[null,"OR SALEM WSO AIRPORT","Florida","Jefferson",null,"Florida-Jefferson",60,103.8,13.4,null,"OR SALEM WSO AIRPORT","0.832","0.428",null,400,0.11173687089715541,0.38327785288248822,0.17143389199255121,0.95158286778398515]
[null,"PA ALLENTOWN A-B-E INTL","Florida","Lafayette",null,"Florida-Lafayette",60,97.8,11.5,null,"PA ALLENTOWN A-B-E INTL","0.894","0.456",null,350,9.9999999999999908E-2,0.1649867264412064,8.3379629629629637E-2,1]
[null,"PA ALVIN R BUSH DAM","Florida","Lake",null,"Florida-Lake",51.38,102,7,null,"PA ALVIN R BUSH DAM","0.816","0.472",null,349.80932784636491,0.10203722334004019,0.3450490148671107,4.0921135646687715E-2,1]
[null,"PA ERIE INTL ARPT","Florida","Lee",null,"Florida-Lee",58.1,97.8,11,null,"PA ERIE INTL ARPT","0.820","0.366",null,400,0.10025083612040132,0.1282932885251708,0.11090635593220333,1]
[null,"PA JOHNSTOWN 2","Florida","Leon",null,"Florida-Leon",60,108.5,18.25,null,"PA JOHNSTOWN 2","0.840","0.478",null,425,0.15060644346178148,0.28214107985847015,4.8830708661417324E-2,1]
[null,"PA KANE 1 NNE","Florida","Levy",null,"Florida-Levy",59.29,99.3,9,null,"PA KANE 1 NNE","0.810","0.450",null,350,0.11097640358014632,0.3297998591757762,6.5349563046192272E-2,1]
[null,"PA PHILADELPHIA INTL AP","Florida","Liberty",null,"Florida-Liberty",60,106.9,25.832999999999998,null,"PA PHILADELPHIA INTL AP","0.894","0.451",null,500,0.14272840531561459,0.32347874704271085,4.5805970149253729E-2,1]
[null,"PA PITTSBURGH GR P'BURG","Florida","Madison",null,"Florida-Madison",60,97.8,11.333,null,"PA PITTSBURGH GR P'BURG","0.819","0.360",null,374.52500545970736,0.10713428943937423,0.37043712644264182,0.10566723259762306,0.99320882852292025]
[null,"PA PUTNEYVILLE 2 SE DAM","Florida","Manatee",null,"Florida-Manatee",60,95,15.25,null,"PA PUTNEYVILLE 2 SE DAM","0.851","0.495",null,400,0.1,9.9173205829617195E-2,6.0141649048625824E-2,1]
[null,"PA WILKES-BARRE SCRANTN","Florida","Marion",null,"Florida-Marion",58.4,112,7,null,"PA WILKES-BARRE SCRANTN","0.850","0.384",null,350,0.11636262203626216,0.28019164372644295,4.9055454213790595E-2,1]
[null,"PA YORK 1 S FILTER PLAN","Florida","Martin",null,"Florida-Martin",54.14,112.9,15.25,null,"PA YORK 1 S FILTER PLAN","0.868","0.512",null,400,0.10016248153618905,7.5239043662120031E-2,1.5140799423838707E-2,1]
[null,"PR ACEITUNA","Florida","Monroe",null,"Florida-Monroe",56.72,112.1,5,73.540000000000006,"PR ACEITUNA",1,1,77,446.10225563909773,0.16714285714285712,""]
[null,"PR ADJUNTAS SUBSTATION","Florida","Nassau",null,"Florida-Nassau",60,97.8,14.25,72.12,"PR ADJUNTAS SUBSTATION",1,1,85,400,0.12980560320182966,0.14290582319918013,9.7164179104477603E-3,1]
[null,"PR CALERO CAMP","Florida","Okaloosa",null,"Florida-Okaloosa",60,97.7,28.832999999999998,51.58,"PR CALERO CAMP",1,1,71,548.03142909964879,0.12069224113066053,0.30183302664836908,0.11464197530864201,0.9630864197530864]
[null,"PR CANOVANAS","Florida","Okeechobee",null,"Florida-Okeechobee",45.08,98.2,12.75,68.540000000000006,"PR CANOVANAS",1,1,104,349.80925666199158,0.10005125051250505,6.3546065612368988E-2,1.130095693779906E-2,1]
[null,"PR CORRAL VIEJO","Florida","Orange",null,"Florida-Orange",52.31,95.4,10.833,59.1,"PR CORRAL VIEJO",1,1,68,350,0.10199004975124387,0.10214547949515766,3.0571324334184632E-2,1]
[null,"PR DORADO 2 WNW","Florida","Osceola",null,"Florida-Osceola",52.65,97.8,11.8,59.87,"PR DORADO 2 WNW",1,1,91,350,0.10063243106501414,7.5395543425455916E-2,1.2910222369731191E-2,1]
[null,"PR DOS BOCAS","Florida","Palm Beach",null,"Florida-Palm Beach",56.6,109.5,12.75,71.34,"PR DOS BOCAS",1,1,85,450,0.10044043815609305,7.7502013731170619E-2,0.23229280479680262,1]
[null,"PR ENSENADA 1 W","Florida","Pasco",null,"Florida-Pasco",59.83,99.3,9,32.24,"PR ENSENADA 1 W",1,1,38,400,0.1017476168860645,0.19109562789684648,3.0353441295546547E-2,1]
[null,"PR GUAJATACA DAM","Florida","Pinellas",null,"Florida-Pinellas",52.77,97.8,12.667,71.510000000000005,"PR GUAJATACA DAM",1,1,84,400,9.996090695856133E-2,0.12374969617776563,2.8734375E-2,1]
[null,"PR GUAYABAL","Florida","Polk",null,"Florida-Polk",46.97,98.8,10,44.52,"PR GUAYABAL",1,1,57,350,0.11396786809005385,0.25907578842076873,9.6145654834761327E-2,1]
[null,"PR GUAYAMA 2 E","Florida","Putnam",null,"Florida-Putnam",60,112.5,11,48.3,"PR GUAYAMA 2 E",1,1,62,349.86221786064772,0.10180158730158724,0.1671154441043346,0.1285776595744681,1]
[null,"PR GURABO SUBSTATION","Florida","Santa Rosa",null,"Florida-Santa Rosa",60,99.6,29.667000000000002,57.13,"PR GURABO SUBSTATION",1,1,76,400,0.11323521395475593,5.7898120078489275E-2,0.24633022388059705,1]
[null,"PR JAJOME ALTO","Florida","Sarasota",null,"Florida-Sarasota",57.98,97.8,15,68.239999999999995,"PR JAJOME ALTO",1,1,91,400,0.10220907297830381,8.4094148860616669E-2,1.9254837381638582E-2,1]
[null,"PR MAYAGUEZ AIRPORT","Florida","Seminole",null,"Florida-Seminole",50.24,94.8,10.833,77.150000000000006,"PR MAYAGUEZ AIRPORT",1,1,89,549.71198975963591,0.14466596528143097,0.31379267906097336,0.16067408041060741,0.91146278870829767]
[null,"PR MORA CAMP","Florida","St. Johns",null,"Florida-St. Johns",55.36,105.6,12,54.47,"PR MORA CAMP",1,1,74,400,9.9874756470915871E-2,9.7641347760744082E-2,1.8384259259259288E-2,1]
[null,"PR MOROVIS 1 N","Florida","St. Lucie",null,"Florida-St. Lucie",56.7,119.3,17.5,68.78,"PR MOROVIS 1 N",1,1,85,350,9.9999999999999839E-2,0.105004228705612,4.4915074309978771E-2,1]
[null,"PR NEGRO-COROZAL","Florida","Sumter",null,"Florida-Sumter",57.57,97.8,8,71.739999999999995,"PR NEGRO-COROZAL",1,1,92,350,0.10058081646199803,0.15605482496817649,1.8166421928536465E-2,1]
[null,"PR PARAISO","Florida","Suwannee",null,"Florida-Suwannee",60,97.8,11,93.56,"PR PARAISO",1,1,132,350,0.10433119560238217,0.19952630103215466,0.10656489262371593,1]
[null,"PR PENUELAS 1 NE","Florida","Taylor",null,"Florida-Taylor",60,99.9,13.667,52.27,"PR PENUELAS 1 NE",1,1,66,400,9.926798217695762E-2,8.2332625270611262E-2,8.9760147601476006E-2,1]
[null,"PR SAN JUAN INTL AP","Florida","Union",null,"Florida-Union",60,98,14,49.59,"PR SAN JUAN INTL AP",1,1,73,350,0.10203579418344513,0.1474644416354485,4.6979094076655022E-2,1]
[null,"PR SAN LORENZO 3 S","Florida","Volusia",null,"Florida-Volusia",56.68,103.2,11.8,81.040000000000006,"PR SAN LORENZO 3 S",1,1,117,400,0.10350844277673546,0.10589925110422835,7.6848137535816624E-2,1]
[null,"RI BLOCK IS STATE AP","Florida","Wakulla",null,"Florida-Wakulla",60,102.8,20,null,"RI BLOCK IS STATE AP","0.884","0.460",null,449.69384692346171,0.1006909788867564,0.22675631519408398,6.0106194690265492E-2,1]
[null,"RI NEWPORT ROSE","Florida","Walton",null,"Florida-Walton",60,106.7,28.832999999999998,null,"RI NEWPORT ROSE","0.876","0.543",null,550,0.14314965694682671,0.3711612256839249,4.1683083511777311E-2,0.97216274089935761]
[null,"RI PROVIDENCE GREEN ST","Florida","Washington",null,"Florida-Washington",60,99.5,26.6,null,"RI PROVIDENCE GREEN ST","0.898","0.454",null,525,0.12885955362003285,0.33285974580430022,6.2109149277688597E-2,1]
[null,"SC BISHOPVILLE 8 NNW","Georgia","Appling",null,"Georgia-Appling",45,97.2,11.5,null,"SC BISHOPVILLE 8 NNW","0.887","0.565",null,350,0.12282803334362453,0.26132237680967557,0.25931271091113606,0.99100112485939262]
[null,"SC CHARLESTON INTL ARPT","Georgia","Atkinson",null,"Georgia-Atkinson",53.92,97.8,12,null,"SC CHARLESTON INTL ARPT","0.921","0.517",null,325,0.11975109809663248,0.24757594028832153,0.27868025751072956,0.98283261802575106]
[null,"SC CLARK HILL 1 W","Georgia","Bacon",null,"Georgia-Bacon",45,97.8,11,null,"SC CLARK HILL 1 W","0.894","0.541",null,350,0.12113486842105253,0.23094232223353642,0.25616436251920138,1]
[null,"SC COLUMBIA METRO AP","Georgia","Baker",null,"Georgia-Baker",60,97.7,15.5,null,"SC COLUMBIA METRO AP","0.920","0.513",null,354.29020664869722,0.14347924187725627,0.29319993211574197,0.23818884540117405,1]
[null,"SC GEORGETOWN 2 E","Georgia","Baldwin",null,"Georgia-Baldwin",45,97.8,14,null,"SC GEORGETOWN 2 E","0.900","0.557",null,275,0.22488029465930015,0.54593250068163179,9.0923705722070841E-2,1]
[null,"SC GREER GREENV'L-SPART","Georgia","Banks",null,"Georgia-Banks",60,100.3,23.5,null,"SC GREER GREENV'L-SPART","0.916","0.507",null,300,0.2495718232044199,1.4345440781446503,2.6214046822742462E-2,1]
[null,"SC JOCASSEE 8 WNW","Georgia","Barrow",null,"Georgia-Barrow",60,97.8,22.75,null,"SC JOCASSEE 8 WNW","0.940","0.644",null,275.67049808429118,0.26491739552964055,1.0224842449203757,2.8432132963988912E-2,1]
[null,"SC LAURENS","Georgia","Bartow",null,"Georgia-Bartow",60,95.7,21,null,"SC LAURENS","0.884","0.553",null,300,0.30172878949236803,0.48606357766881858,0.21263706563706566,0.97992277992277999]
[null,"SC MULLINS 4 W","Georgia","Ben Hill",null,"Georgia-Ben Hill",45,97.8,11,null,"SC MULLINS 4 W","0.892","0.568",null,325.56958128078816,0.13465528146742564,0.43829446436854025,0.21615291750503032,0.97384305835010065]
[null,"SC SANTEE COOP SPLWY","Georgia","Berrien",null,"Georgia-Berrien",49.66,97.8,11,null,"SC SANTEE COOP SPLWY","0.913","0.560",null,350,0.12848369188063846,0.26836881097569848,0.26882529572338476,0.98607825295723384]
[null,"SD BUFFALO","Georgia","Bibb",null,"Georgia-Bibb",45,97.8,14.5,null,"SD BUFFALO","0.690","0.273",null,300,0.25091269841269814,0.59492641314881023,8.8907949790794971E-2,0.9853556485355649]
[null,"SD EDGEMONT","Georgia","Bleckley",null,"Georgia-Bleckley",45,89.5,12,null,"SD EDGEMONT","0.678","0.317",null,300,0.16908045977011504,0.38421970479371387,0.23802228826151572,0.8789004457652303]
[null,"SD HURON AP","Georgia","Brantley",null,"Georgia-Brantley",59.83,96.8,12.5,null,"SD HURON AP","0.814","0.318",null,374.3582981715893,0.12495081967213126,0.23688630589642207,0.14929655172413797,1]
[null,"SD ISABEL","Georgia","Brooks",null,"Georgia-Brooks",60,88.4,11,null,"SD ISABEL","0.735","0.319",null,358.90894819466246,0.12817419354838719,0.30937060422779578,0.22358626198083054,0.90969116080937173]
[null,"SD LA CREEK NATL WILDLI","Georgia","Bryan",null,"Georgia-Bryan",45.53,97.8,11,null,"SD LA CREEK NATL WILDLI","0.751","0.333",null,350,0.14404664723032065,0.10847999302804227,0.16296460176991151,1]
[null,"SD OAHE DAM","Georgia","Bulloch",null,"Georgia-Bulloch",45,91.2,12,null,"SD OAHE DAM","0.731","0.334",null,308.75113430127044,0.13963972286374141,0.31182636342066195,0.35616592592592589,0.92780246913580244]
[null,"SD PICKSTOWN","Georgia","Burke",null,"Georgia-Burke",45,85.1,13.667,null,"SD PICKSTOWN","0.796","0.411",null,255.67159985013114,0.14656918960244653,0.43406033179388809,0.24881885488647584,0.99308983218163871]
[null,"SD RAPID CITY WSO AP","Georgia","Butts",null,"Georgia-Butts",46.62,97.8,16,null,"SD RAPID CITY WSO AP","0.721","0.229",null,300,0.25634548611111113,0.47293137033965266,3.747777777777779E-2,1]
[null,"SD SIOUX FALLS WSFO","Georgia","Calhoun",null,"Georgia-Calhoun",60,93.6,22,null,"SD SIOUX FALLS WSFO","0.827","0.313",null,357.15071507150714,0.17189894503053857,0.31999492236613519,0.27766628571428587,0.98057142857142854]
[null,"SD WAUBAY NATL WILDLIFE","Georgia","Camden",null,"Georgia-Camden",60,97.8,11.5,null,"SD WAUBAY NATL WILDLIFE","0.754","0.372",null,400,0.20770684931506878,0.12212265655834037,1.6428571428571427E-3,1]
[null,"TN BRISTOL WSO AIRPORT","Georgia","Candler",null,"Georgia-Candler",45,91.1,13,null,"TN BRISTOL WSO AIRPORT","0.860","0.454",null,300,0.12358199356913184,0.44363284000665337,0.18753115264797507,0.95545171339563861]
[null,"TN BROWNSVILLE SEWAGE P","Georgia","Carroll",null,"Georgia-Carroll",60,97.8,22,null,"TN BROWNSVILLE SEWAGE P","0.894","0.565",null,325,0.18403093434343434,0.92386870739648086,3.4491091314031178E-2,1]
[null,"TN CHATTANOOGA WSO AP","Georgia","Catoosa",null,"Georgia-Catoosa",60,99.4,26,null,"TN CHATTANOOGA WSO AP","0.919","0.529",null,275,0.32067622950819658,0.62353540866571489,9.7506849315068395E-3,1]
[null,"TN KNOXVILLE WSO AIRPOR","Georgia","Charlton",null,"Georgia-Charlton",60,97.8,13,null,"TN KNOXVILLE WSO AIRPOR","0.898","0.505",null,375,0.13110594486881422,0.24286539640831079,0.14943382352941176,1]
[null,"TN LEWISBURG EXP STN","Georgia","Chatham",null,"Georgia-Chatham",49.83,97.8,11,null,"TN LEWISBURG EXP STN","0.893","0.554",null,350,0.19639391447368423,9.0738816213620857E-2,4.3432835820895521E-2,1]
[null,"TN MEMPHIS WSCMO AP","Georgia","Chattahoochee",null,"Georgia-Chattahoochee",53.3,97.8,19,null,"TN MEMPHIS WSCMO AP","0.930","0.544",null,350,0.20720338983050851,1.3137819875777734,3.0000000000000001E-3,1]
[null,"TN MONTEREY","Georgia","Chattooga",null,"Georgia-Chattooga",60,97.8,25,null,"TN MONTEREY","0.883","0.552",null,300,0.29209978070175446,0.49219281761185463,5.0158878504672905E-2,0.98224299065420562]
[null,"TN NASHVILLE NWSCMO AP","Georgia","Cherokee",null,"Georgia-Cherokee",60,106.8,22.75,null,"TN NASHVILLE NWSCMO AP","0.909","0.496",null,300,0.23103956555469315,0.61731527374241479,0.13311221945137158,1]
[null,"TN PORTLAND SEWAGE PLAN","Georgia","Clarke",null,"Georgia-Clarke",48.88,97.8,18,null,"TN PORTLAND SEWAGE PLAN","0.881","0.538",null,275,0.26346858638743476,0.87529441149823983,9.5248322147650999E-2,0.88523489932885913]
[null,"TN SAMBURG WILDLIFE REF","Georgia","Clay",null,"Georgia-Clay",60,85.7,18,null,"TN SAMBURG WILDLIFE REF","0.888","0.547",null,357.10372534696859,0.1811500815660684,0.49251255305684188,0.23443790849673213,0.96601307189542496]
[null,"TX ABILENE WSO AIRPORT","Georgia","Clayton",null,"Georgia-Clayton",60,97.8,22.75,null,"TX ABILENE WSO AIRPORT","0.893","0.424",null,300,0.26201535508637236,0.32696761573011457,1.9867924528301887E-2,1]
[null,"TX AMARILLO WSO AIRPORT","Georgia","Clinch",null,"Georgia-Clinch",60,97.8,11,null,"TX AMARILLO WSO AIRPORT","0.835","0.356",null,350,0.12153564154786167,0.13784127631655649,0.18288271604938269,1]
[null,"TX BROWNSVILLE WSO AP","Georgia","Cobb",null,"Georgia-Cobb",60,99.6,21,null,"TX BROWNSVILLE WSO AP","0.894","0.369",null,300,0.24412573673870344,1.1056942677631236,3.4599999999999999E-2,1]
[null,"TX CORPUS CHRISTI WSFO","Georgia","Coffee",null,"Georgia-Coffee",48.94,93.5,11,null,"TX CORPUS CHRISTI WSFO","0.910","0.411",null,325,0.15066235864297245,0.26530022813721199,0.25392913907284759,0.980794701986755]
[null,"TX EL PASO AP","Georgia","Colquitt",null,"Georgia-Colquitt",57.93,100,13,null,"TX EL PASO AP","0.726","0.255",null,350,0.12568028210402582,0.4052415075551854,0.28826127104834326,0.89923954372623571]
[null,"TX HOUSTON WSCMO AP","Georgia","Columbia",null,"Georgia-Columbia",45,97.8,14.667,null,"TX HOUSTON WSCMO AP","0.908","0.581",null,250,0.24208037825059084,0.54617406222986808,1.555958549222798E-2,1]
[null,"TX SAN ANGELO WSO AP","Georgia","Cook",null,"Georgia-Cook",55.63,97.8,11,null,"TX SAN ANGELO WSO AP","0.892","0.433",null,350,0.12749658002735961,0.20675466263284903,0.2656226912928758,0.95448548812664913]
[null,"TX SAN ANTONIO INTL AP","Georgia","Coweta",null,"Georgia-Coweta",60,98.1,20,null,"TX SAN ANTONIO INTL AP","0.903","0.407",null,324.75421348314609,0.23383333333333348,0.56849422110954695,0.10627881040892194,1]
[null,"TX WACO WSO AP","Georgia","Crawford",null,"Georgia-Crawford",45,88.3,14.25,null,"TX WACO WSO AP","0.911","0.454",null,300,0.22465451055662211,0.33322943060733129,0.13243958333333336,0.94]
[null,"TX WICHITA FALLS WSO AP","Georgia","Crisp",null,"Georgia-Crisp",45,97.8,12,null,"TX WICHITA FALLS WSO AP","0.909","0.460",null,342.4040066777963,0.12454545454545463,0.36750816316688606,0.28702078774617057,0.9547045951859956]
[null,"UT BLANDING","Georgia","Dade",null,"Georgia-Dade",60,113.8,26,null,"UT BLANDING","0.698","0.322",null,275,0.2541996402877697,0.58304105991102717,2.0702811244979916E-2,0.99598393574297184]
[null,"UT DUGWAY","Georgia","Dawson",null,"Georgia-Dawson",62,112.1,30,null,"UT DUGWAY","0.600","0.207",null,275.69496619083395,0.24930103256552838,2.2124913100446433,6.5784313725490203E-3,1]
[null,"UT EPHRAIM SORENSENS FL","Georgia","De Kalb",null,"Georgia-De Kalb",60,99.8,22.75,null,"UT EPHRAIM SORENSENS FL","0.512","0.204",null,404.43609022556393,0.13773039889958738,0.27846018779811182,0.29020885200553248,0.96957123098201936]
[null,"UT HANKSVILLE","Georgia","Decatur",null,"Georgia-Decatur",60,97.8,19,null,"UT HANKSVILLE","0.506","0.188",null,300,0.23482269503546088,0.98424479686934341,2.2682352941176466E-2,1]
[null,"UT LOGAN UTAH STATE UNI","Georgia","Dodge",null,"Georgia-Dodge",45,96.9,15,null,"UT LOGAN UTAH STATE UNI","0.658","0.325",null,300,0.15607511737089205,0.42873500560389688,0.19314066985645945,0.92153110047846887]
[null,"UT MILFORD","Georgia","Dooly",null,"Georgia-Dooly",45,96.7,14.5,null,"UT MILFORD","0.631","0.225",null,325,0.17479674796747971,0.32278124523254909,0.28207050889025148,0.93041079092581236]
[null,"UT OGDEN PIONEER P H","Georgia","Dougherty",null,"Georgia-Dougherty",59.95,97.8,15,null,"UT OGDEN PIONEER P H","0.761","0.418",null,349.98576174655909,0.17678779069767436,0.26285999438180663,0.13432203389830516,1]
[null,"UT ROOSEVELT RADIO","Georgia","Douglas",null,"Georgia-Douglas",60,97.2,20,null,"UT ROOSEVELT RADIO","0.537","0.223",null,300,0.20791208791208804,1.3802170835148226,4.7570093457943927E-3,1]
[null,"UT SALT LAKE CITY NWSFO","Georgia","Early",null,"Georgia-Early",60,97.6,18,null,"UT SALT LAKE CITY NWSFO","0.714","0.278",null,400,0.15953545232273839,0.32805542540003846,0.24056706281833623,1]
[null,"UT ST GEORGE","Georgia","Echols",null,"Georgia-Echols",60,97.8,11,null,"UT ST GEORGE","0.630","0.324",null,350,0.11335072679835996,0.20191514225797957,0.24479816513761468,1]
[null,"VT BALL MOUNTAIN LAKE","Georgia","Effingham",null,"Georgia-Effingham",45,93.4,12,null,"VA HURLEY","0.840","0.504",null,348.97926117952039,0.13369261477045899,0.20935613284053367,0.32372850678733028,1]
[null,"VT BURLINGTON INTL AP","Georgia","Elbert",null,"Georgia-Elbert",45,97.8,14.333,null,"VA JOHN H KERR DAM","0.858","0.513",null,250,0.26269657501205984,0.98309777913982022,5.2849264705882346E-2,0.96415441176470584]
[null,"VT CORINTH","Georgia","Emanuel",null,"Georgia-Emanuel",45,83,12,null,"VA LYNCHBURG MUNI AP","0.899","0.477",null,300,0.13131941257457549,0.39299232111204652,0.14621886249100055,0.91252699784017277]
[null,"VT HIGHGATE FALLS","Georgia","Evans",null,"Georgia-Evans",45,97.8,13.333,null,"VA NORFOLK INTL ARPT","0.907","0.497",null,307.91223404255317,0.11776251226692831,0.27148756123103956,0.23082133995037235,0.97096774193548385]
[null,"VT MORRISVILLE","Georgia","Fannin",null,"Georgia-Fannin",63.48,134.9,35,null,"VA PIEDMONT RESEARCH ST","0.868","0.530",null,275,0.22038211968276861,1.1395555219376778,2.0376623376623375E-2,1]
[null,"VT NEWPORT","Georgia","Fayette",null,"Georgia-Fayette",60,97.8,22.2,null,"VA RICHMOND BYRD AP","0.902","0.491",null,300,0.26574074074074078,0.5908315732212206,8.6604060913705636E-2,0.96192893401015234]
[null,"VT NORTH HARTLAND LAKE","Georgia","Floyd",null,"Georgia-Floyd",60,98.3,22.428999999999998,null,"VA ROANOKE WOODRUM AP","0.892","0.465",null,300,0.30198572758299719,0.53975389389486017,0.17236579275905117,0.97777777777777786]
[null,"VT NORTH SPRINGFIELD LA","Georgia","Forsyth",null,"Georgia-Forsyth",60,112.5,27.5,null,"VA THE PLAINS 2 NNE","0.855","0.507",null,275,0.24624011502516163,1.6205890741949558,1.7346473029045646E-2,0.9885892116182573]
[null,"VT SAINT JOHNSBURY","Georgia","Franklin",null,"Georgia-Franklin",60,95.1,23,null,"VA WASHINGTN DC NATL AP","0.896","0.471",null,300,0.26075301204819268,1.3674812170200996,1.942521367521368E-2,0.98824786324786329]
[null,"VT SEARSBURG STATION","Georgia","Fulton",null,"Georgia-Fulton",60,102.7,22.2,null,"VA WYTHEVILLE 1 S","0.834","0.462",null,300,0.23084481508339383,0.75830697666100599,4.7241379310344868E-2,0.99245689655172409]
[null,"VA HURLEY","Georgia","Gilmer",null,"Georgia-Gilmer",62.03,123.5,27.5,null,"VT BALL MOUNTAIN LAKE","0.842","0.492",null,275,0.22735637552545535,0.97270072374382077,7.6562499999999999E-3,1]
[null,"VA JOHN H KERR DAM","Georgia","Glascock",null,"Georgia-Glascock",45,97.8,13.667,null,"VT BURLINGTON INTL AP","0.802","0.332",null,250,0.17166482910694603,0.49687799637180258,0.20634224598930484,0.89572192513368987]
[null,"VA LYNCHBURG MUNI AP","Georgia","Glynn",null,"Georgia-Glynn",58.97,97.8,12.5,null,"VT CORINTH","0.809","0.449",null,400,0.2132509120389138,0.87070885743471571,2.1305882352941174E-2,1]
[null,"VA NORFOLK INTL ARPT","Georgia","Gordon",null,"Georgia-Gordon",60,97.1,22.75,null,"VT HIGHGATE FALLS","0.764","0.407",null,300,0.30369825206991702,0.64250628369727991,9.5802758620689682E-2,0.94413793103448274]
[null,"VA PIEDMONT RESEARCH ST","Georgia","Grady",null,"Georgia-Grady",60,97.8,15.5,null,"VT MORRISVILLE","0.809","0.435",null,400,0.13687972508591068,0.24701569354749578,0.33461214165261388,0.75514333895446872]
[null,"VA RICHMOND BYRD AP","Georgia","Greene",null,"Georgia-Greene",45,97.1,15,null,"VT NEWPORT","0.773","0.379",null,250,0.26425182481751824,0.50781167823210149,6.848039215686272E-3,1]
[null,"VA ROANOKE WOODRUM AP","Georgia","Gwinnett",null,"Georgia-Gwinnett",60,100.5,22.75,null,"VT NORTH HARTLAND LAKE","0.791","0.441",null,300,0.24837857666911248,0.87355949492293117,2.5482352941176463E-2,0.9882352941176471]
[null,"VA THE PLAINS 2 NNE","Georgia","Habersham",null,"Georgia-Habersham",62.85,115.3,35,null,"VT NORTH SPRINGFIELD LA","0.864","0.464",null,300,0.23595905989385882,1.687891032305995,1.1641975308641975E-2,1]
[null,"VA WASHINGTN DC NATL AP","Georgia","Hall",null,"Georgia-Hall",60,109.7,30,null,"VT SAINT JOHNSBURY","0.783","0.400",null,275.71219868517164,0.24694756554307112,1.4106937960209047,2.3970380818053597E-2,0.98533145275035261]
[null,"VA WYTHEVILLE 1 S","Georgia","Hancock",null,"Georgia-Hancock",45,84.5,14,null,"VT SEARSBURG STATION","0.871","0.497",null,250,0.2674290484140236,0.6190575907517708,6.9468553459119495E-2,1]
[null,"WA COUGAR 4 SW","Georgia","Haralson",null,"Georgia-Haralson",60,98,21,null,"WA COUGAR 4 SW","0.935","0.675",null,324.26836002208722,0.21208637128435243,1.4501237601829853,1.8551546391752584E-2,0.95489690721649489]
[null,"WA FRANCES","Georgia","Harris",null,"Georgia-Harris",60,96.6,22.2,null,"WA FRANCES","0.881","0.541",null,325,0.24140555365101127,0.48377609925992382,1.9984126984126993E-2,1]
[null,"WA MARBLEMOUNT RANGER S","Georgia","Hart",null,"Georgia-Hart",57.59,97.8,19.600000000000001,null,"WA MARBLEMOUNT RANGER S","0.886","0.572",null,275,0.25003503854239667,1.0032091887379679,0.11294444444444446,0.90059101654846352]
[null,"WA OLYMPIA AIRPORT","Georgia","Heard",null,"Georgia-Heard",60,97.8,20,null,"WA OLYMPIA AIRPORT","0.867","0.468",null,326.95663670015864,0.22414228341939171,0.78295159110844559,0.1067889908256881,1]
[null,"WA QUILLAYUTE WSCMO AP","Georgia","Henry",null,"Georgia-Henry",58.55,97.8,18,null,"WA QUILLAYUTE WSCMO AP","0.933","0.555",null,300,0.25258663987945762,0.63086559926939512,6.3418719211822655E-2,0.97413793103448276]
[null,"WA SEATTLE TACOMA AIRPO","Georgia","Houston",null,"Georgia-Houston",45,91.8,11.5,null,"WA SEATTLE TACOMA AIRPO","0.804","0.391",null,300,0.19767685589519648,0.36040664644392861,0.17218671799807503,0.98604427333974976]
[null,"WA SNOQUALMIE PASS","Georgia","Irwin",null,"Georgia-Irwin",45,97.8,11,null,"WA SNOQUALMIE PASS","0.915","0.617",null,325,0.12016777041942597,0.29534004669765729,0.30041804407713474,0.96728650137741046]
[null,"WA SPOKANE WSO AIRPORT","Georgia","Jackson",null,"Georgia-Jackson",60,97.8,22.75,null,"WA SPOKANE WSO AIRPORT","0.657","0.256",null,275,0.26144960883571133,0.66707186765944027,3.2422584400465665E-2,0.98195576251455186]
[null,"WA WHITMAN MISSION","Georgia","Jasper",null,"Georgia-Jasper",45,87.2,15.5,null,"WA WHITMAN MISSION","0.583","0.242",null,275,0.2687004515805318,0.4961469452382406,1.3823244552058111E-2,1]
[null,"WA YAKIMA WSO AP","Georgia","Jeff Davis",null,"Georgia-Jeff Davis",45,96,12,null,"WA YAKIMA WSO AP","0.581","0.178",null,325.58193668528867,0.13651140684410631,0.19504086329905984,0.26532589285714281,1]
[null,"WV BECKLEY WSO AP","Georgia","Jefferson",null,"Georgia-Jefferson",45,86.4,13,null,"WI ASHLAND EXP FARM","0.767","0.396",null,257.46543100912032,0.19314764079147648,0.38170560462085878,0.23474439102564096,0.94190705128205132]
[null,"WV CHARLESTON AP","Georgia","Jenkins",null,"Georgia-Jenkins",45,83,12,null,"WI CHIPPEWA FALLS","0.792","0.423",null,300,0.160085278276481,0.36579818985406398,0.20228666666666675,0.89066666666666672]
[null,"WV ELKINS WSO AIRPORT","Georgia","Johnson",null,"Georgia-Johnson",45,88.2,12,null,"WI GREEN BAY WSO","0.818","0.339",null,300,0.17284172661870512,0.41065738281300229,0.14544640434192677,1]
[null,"WV HUNTINGTON WSO AP","Georgia","Jones",null,"Georgia-Jones",45,97.7,14.5,null,"WI LA FARGE","0.845","0.452",null,275.99239864864865,0.22342743932639916,0.92242457435596925,6.6055343511450385E-2,1]
[null,"WV LAKE LYNN","Georgia","Lamar",null,"Georgia-Lamar",54.92,97.8,16,null,"WI LANCASTER 4 WSW","0.859","0.477",null,300,0.2688812980358668,0.60083412754299081,4.0662538699690401E-2,1]
[null,"WV LIVERPOOL","Georgia","Lanier",null,"Georgia-Lanier",60,97.8,13,null,"WI MADISON WSO AIRPORT","0.840","0.355",null,350,0.12606956521739124,0.20978146509955217,0.19685849056603777,0.98113207547169812]
[null,"WV MOOREFIELD 2 SSE","Georgia","Laurens",null,"Georgia-Laurens",45,92.2,12,null,"WI MARSHFIELD EXP FARM","0.806","0.438",null,300,0.16844814241486056,0.42421358194899317,0.2708724696356275,0.95192307692307687]
[null,"WV TERRA ALTA NO 1","Georgia","Lee",null,"Georgia-Lee",49.07,97.8,14.5,null,"WI MILWAUKEE WSO AIRPOR","0.842","0.359",null,350,0.16743195785776985,0.29811307193250086,0.2079981751824817,1]
[null,"WV TYGART DAM","Georgia","Liberty",null,"Georgia-Liberty",46.47,98.2,11.333,null,"WI PHELPS","0.803","0.410",null,350,0.18132805219012113,9.179218121960829E-2,0.31594285714285714,1]
[null,"WV VALLEY HEAD","Georgia","Lincoln",null,"Georgia-Lincoln",45,97.8,13,null,"WI SPOONER EXPERMNT FAR","0.768","0.395",null,243.92059553349876,0.3484477611940302,0.75389599548529307,5.16018237082067E-2,0.97264437689969607]
[null,"WI ASHLAND EXP FARM","Georgia","Long",null,"Georgia-Long",45.19,99.2,12.5,null,"WV BECKLEY WSO AP","0.828","0.379",null,350,0.14230633023461717,0.27715192529311983,0.38752898550724635,1]
[null,"WI CHIPPEWA FALLS","Georgia","Lowndes",null,"Georgia-Lowndes",60,97.5,11,null,"WV CHARLESTON AP","0.851","0.416",null,350,0.12652564102564104,0.23075907242248062,0.18368721973094168,0.98654708520179368]
[null,"WI GREEN BAY WSO","Georgia","Lumpkin",null,"Georgia-Lumpkin",66,123.8,35,null,"WV ELKINS WSO AIRPORT","0.823","0.391",null,275,0.23512096774193539,2.8236713114661267,6.5650205761316874E-2,0.98024691358024685]
[null,"WI LA FARGE","Georgia","Macon",null,"Georgia-Macon",45,87.8,16.888999999999999,null,"WV HUNTINGTON WSO AP","0.860","0.426",null,250,0.26688372093023249,0.5169247253971273,6.0734693877551024E-2,1]
[null,"WI LANCASTER 4 WSW","Georgia","Madison",null,"Georgia-Madison",51.97,97.8,18,null,"WV LAKE LYNN","0.798","0.448",null,400,0.20535815459328211,0.10629978843291601,7.8000000000000005E-3,1]
[null,"WI MADISON WSO AIRPORT","Georgia","Marion",null,"Georgia-Marion",47.7,96.3,22,null,"WV LIVERPOOL","0.824","0.481",null,324.49768160741888,0.174112554112554,0.41421080244514286,0.25283296213808459,1]
[null,"WI MARSHFIELD EXP FARM","Georgia","McDuffie",null,"Georgia-McDuffie",45,97,14,null,"WV MOOREFIELD 2 SSE","0.809","0.453",null,275,0.24813503043718871,0.78404080444062429,2.5219834710743804E-2,0.96363636363636362]
[null,"WI MILWAUKEE WSO AIRPOR","Georgia","McIntosh",null,"Georgia-McIntosh",57.75,97.8,12,null,"WV TERRA ALTA NO 1","0.857","0.508",null,326.32309005548444,0.13841880341880339,0.53902113511079686,0.10854177897574126,1]
[null,"WI PHELPS","Georgia","Meriwether",null,"Georgia-Meriwether",60,94.8,18,null,"WV TYGART DAM","0.805","0.464",null,325,0.25232370301335816,0.51556628684006434,3.452611218568664E-3,1]
[null,"WI SPOONER EXPERMNT FAR","Georgia","Miller",null,"Georgia-Miller",60,97.8,18,null,"WV VALLEY HEAD","0.805","0.472",null,400,0.17919113573407205,0.21387394683696387,0.31387172774869104,1]
[null,"WY CASPER WSCMO","Georgia","Mitchell",null,"Georgia-Mitchell",60,97.4,15.5,null,"WY CASPER WSCMO","0.636","0.185",null,357.81392520522957,0.15090073529411768,0.24255200483610911,0.18533732970027245,0.97722070844686648]
[null,"WY CHEYENNE WSFO AP","Georgia","Monroe",null,"Georgia-Monroe",45.04,97.8,15.5,null,"WY CHEYENNE WSFO AP","0.689","0.210",null,300,0.27206143896523866,0.57846823202706144,5.1666666666666684E-3,1]
[null,"WY ENCAMPMENT","Georgia","Montgomery",null,"Georgia-Montgomery",45,82.8,11,null,"WY ENCAMPMENT","0.477","0.178",null,300,0.13844660194174752,0.46112258265848594,0.22478982300884959,0.96039823008849567]
[null,"WY JACKSON","Georgia","Morgan",null,"Georgia-Morgan",45,89.5,15.5,null,"WY JACKSON","0.517","0.232",null,275,0.27623807360290786,0.81591416326360389,6.022958579881664E-2,0.99408284023668636]
[null,"WY LAKE YELLOWSTONE","Georgia","Murray",null,"Georgia-Murray",60.7,110.6,30,null,"WY LAKE YELLOWSTONE","0.495","0.229",null,275,0.3004716417910448,0.24334203857348535,6.4497959183673473E-2,1]
[null,"WY LANDER AP","Georgia","Muscogee",null,"Georgia-Muscogee",60,97.2,18,null,"WY LANDER AP","0.748","0.282",null,325.54918815663802,0.20429638854296384,0.53358973631012785,4.2769230769230768E-2,1]
[null,"WY MORAN 5 WNW","Georgia","Newton",null,"Georgia-Newton",47.42,99.8,18,null,"WY MORAN 5 WNW","0.673","0.323",null,300,0.2547619047619048,0.69961085014711044,4.0254205607476674E-2,1]
[null,"WY MOUNTAIN VIEW","Georgia","Oconee",null,"Georgia-Oconee",48.09,97.8,17,null,"WY MOUNTAIN VIEW","0.421","0.169",null,273.04621848739498,0.25538860103626931,1.0167548102773392,0.12908000000000003,0.94363636363636361]
[null,"WY OSAGE","Georgia","Oglethorpe",null,"Georgia-Oglethorpe",45,92.2,15.667,null,"WY OSAGE","0.638","0.250",null,250,0.27645032632342281,0.85242084501299031,3.9149046793760828E-2,1]
[null,"WY SHERIDAN AP","Georgia","Paulding",null,"Georgia-Paulding",60,99.2,20,null,"WY SHERIDAN AP","0.641","0.197",null,300,0.23752769385699904,1.1043538267690491,2.1213483146067413E-2,1]
[null,null,"Georgia","Peach",null,"Georgia-Peach",45,83.9,12.333,null,null,null,null,null,300,0.18725239616613429,0.34107630520741905,0.11518625277161869,0.91884700665188468]
[null,null,"Georgia","Pickens",null,"Georgia-Pickens",60.35,105.1,22.75,null,"VI BETH UPPER NEW WORKS","0.781","0.364",null,275,0.23365554799183152,0.77905695033977085,4.5999999999999999E-3,1]
[null,null,"Georgia","Pierce",null,"Georgia-Pierce",47.17,89.5,12,null,"VI CANEEL BAY PLANTATIO","0.764","0.345",null,350,0.12604109589041088,0.16311040122401385,0.23736815181518153,1]
[null,null,"Georgia","Pike",null,"Georgia-Pike",60,97.8,18,null,null,null,null,null,323.71794871794873,0.24104347826086964,0.51938097930605831,9.2434482758620748E-2,0.9905172413793103]
[null,null,"Georgia","Polk",null,"Georgia-Polk",60,96.3,28,null,null,null,null,null,300,0.28015930113052417,0.87923638381653457,0.10586509635974313,0.98822269807280516]
[null,null,"Georgia","Pulaski",null,"Georgia-Pulaski",45,97.8,12,null,null,null,null,null,300,0.18207189542483662,0.3814331620007973,0.27835504885993495,1]
[null,null,"Georgia","Putnam",null,"Georgia-Putnam",45,86.1,15,null,null,null,null,null,274.33497536945811,0.26317829457364333,1.1700499403699416,9.3727272727272729E-2,1]
[null,null,"Georgia","Quitman",null,"Georgia-Quitman",60,92.9,18,null,null,null,null,null,359.32038834951459,0.18893362350380852,0.39697312892644077,0.31317441860465123,0.88372093023255816]
[null,null,"Georgia","Rabun",null,"Georgia-Rabun",80.37,131.1,45,null,null,null,null,null,300,0.2191486946651533,0.41965430023670824,5.604651162790698E-3,1]
[null,null,"Georgia","Randolph",null,"Georgia-Randolph",59.23,97,21,null,null,null,null,null,350,0.18573401162790698,0.35128757359483731,0.22779177718832891,0.9496021220159151]
[null,null,"Georgia","Richmond",null,"Georgia-Richmond",45,97.8,15,null,null,null,null,null,250,0.16918449197860969,0.42498815445793586,0.28008219178082189,0.91095890410958902]
[null,null,"Georgia","Rockdale",null,"Georgia-Rockdale",60,97.8,18,null,null,null,null,null,300,0.25731113956466078,0.5701910517615828,0.21784057971014498,0.97101449275362317]
[null,null,"Georgia","Schley",null,"Georgia-Schley",45,97.8,23,null,null,null,null,null,325,0.16049256505576198,0.6153275430653381,0.14678846153846159,0.88012820512820522]
[null,null,"Georgia","Screven",null,"Georgia-Screven",45,83.3,13.333,null,null,null,null,null,300,0.15592611083374935,0.4133479234644728,0.20382870683818544,0.9528774542992553]
[null,null,"Georgia","Seminole",null,"Georgia-Seminole",60,97.8,20,null,null,null,null,null,425,0.14452954048140043,0.25329799360427752,0.27871000000000007,0.95077777777777783]
[null,null,"Georgia","Spalding",null,"Georgia-Spalding",60,103.8,18,null,null,null,null,null,300,0.26512489927477828,0.51667523540959492,1.62360248447205E-2,1]
[null,null,"Georgia","Stephens",null,"Georgia-Stephens",60,103.5,27.25,null,null,null,null,null,300,0.25618510158013547,1.0785590141856247,1.4983333333333333E-2,1]
[null,null,"Georgia","Stewart",null,"Georgia-Stewart",47.85,86.9,18,null,null,null,null,null,350,0.17843074743181017,0.98603265349720548,0.26252500000000001,0.97499999999999998]
[null,null,"Georgia","Sumter",null,"Georgia-Sumter",45,97.8,16.600000000000001,null,null,null,null,null,325.62698412698415,0.19273708306082418,0.31067283809201029,0.22037527593818981,0.99116997792494477]
[null,null,"Georgia","Talbot",null,"Georgia-Talbot",59.95,83.4,21,null,null,null,null,null,325,0.21724829522663464,0.52943041114857459,3.0000000000000001E-3,1]
[null,null,"Georgia","Taliaferro",null,"Georgia-Taliaferro",45,97.8,20,null,null,null,null,null,250,0.28312199036918134,0.60390957521537314,3.1666666666666669E-2,1]
[null,null,"Georgia","Tattnall",null,"Georgia-Tattnall",45,96.3,12.5,null,null,null,null,null,306.72920065252856,0.12987671232876713,0.39425789153957452,0.19899806201550396,0.94379844961240311]
[null,null,"Georgia","Taylor",null,"Georgia-Taylor",45.28,84.2,19.167000000000002,null,null,null,null,null,325,0.15683007893643547,0.45187788752572028,0.12407822410147998,0.93657505285412257]
[null,null,"Georgia","Telfair",null,"Georgia-Telfair",45,94.2,11,null,null,null,null,null,325,0.16336479128856624,0.44589390940795881,0.22660583941605839,0.93613138686131392]
[null,null,"Georgia","Terrell",null,"Georgia-Terrell",51.91,97.8,16,null,null,null,null,null,350,0.21211977186311792,0.32079418595445625,0.20179024767801854,1]
[null,null,"Georgia","Thomas",null,"Georgia-Thomas",60,97.8,13.667,null,null,null,null,null,400,0.13954885057471267,0.31426158507673008,0.28902874617736996,0.82917431192660551]
[null,null,"Georgia","Tift",null,"Georgia-Tift",45,97.8,12,null,null,null,null,null,350,0.12032777115613816,0.3130303463461907,0.30422493003229251,0.86157158234660935]
[null,null,"Georgia","Toombs",null,"Georgia-Toombs",45,86.3,11,null,null,null,null,null,313.50188837599666,0.1268253293667658,0.33392050927807043,0.16322255192878338,0.97725024727992083]
[null,null,"Georgia","Towns",null,"Georgia-Towns",70.55,133.5,40,null,null,null,null,null,300,0.23540880503144659,1.1370783392153159,5.7838709677419373E-2,1]
[null,null,"Georgia","Treutlen",null,"Georgia-Treutlen",45,83,13,null,null,null,null,null,300,0.14391613924050631,0.35045513552376978,0.29289242053789732,0.84841075794621024]
[null,null,"Georgia","Troup",null,"Georgia-Troup",60,97.8,20,null,null,null,null,null,325,0.24532627118644065,0.78430415771427742,3.4819277108433739E-3,1]
[null,null,"Georgia","Turner",null,"Georgia-Turner",45,97.8,12,null,null,null,null,null,339.93524015110631,0.13043526170798878,0.45584663056507457,0.255564650059312,0.93736654804270469]
[null,null,"Georgia","Twiggs",null,"Georgia-Twiggs",45,90.4,15,null,null,null,null,null,300,0.17805506216696285,0.54608319507730818,0.42213740458015286,0.94847328244274809]
[null,null,"Georgia","Union",null,"Georgia-Union",68.56,134.69999999999999,35,null,null,null,null,null,300,0.20610905730129406,1.2291648446497052,0.13028783382789325,0.98664688427299707]
[null,null,"Georgia","Upson",null,"Georgia-Upson",57.83,97.3,18,null,null,null,null,null,325,0.26253898635477574,0.48041103354563475,3.9377551020408165E-2,1]
[null,null,"Georgia","Walker",null,"Georgia-Walker",60,106.7,28,null,null,null,null,null,275,0.2871136801541424,0.66724245796891668,2.0511041009463726E-2,0.97949526813880128]
[null,null,"Georgia","Walton",null,"Georgia-Walton",55.18,97.8,18,null,null,null,null,null,275,0.22908284023668621,0.85040855240975577,0.14946436525612483,0.97995545657015593]
[null,null,"Georgia","Ware",null,"Georgia-Ware",55.03,98.1,11.5,null,null,null,null,null,350,0.11436501901140673,0.21286233787459302,0.1292752293577982,1]
[null,null,"Georgia","Warren",null,"Georgia-Warren",45,88,14,null,null,null,null,null,250,0.24369054441260748,0.72153475452761962,0.15950735294117649,0.93382352941176472]
[null,null,"Georgia","Washington",null,"Georgia-Washington",45,95.9,14.25,null,null,null,null,null,256.48401826484019,0.17751104908118165,0.44263221962089466,0.25393126177024489,0.94020715630885121]
[null,null,"Georgia","Wayne",null,"Georgia-Wayne",53.21,98.2,13,null,null,null,null,null,375,0.13293643031784835,0.21920507841479808,0.29550074294205064,1]
[null,null,"Georgia","Webster",null,"Georgia-Webster",45,97.8,19,null,null,null,null,null,350,0.14356123215627339,0.59577361622857905,0.29491721854304637,0.94039735099337751]
[null,null,"Georgia","Wheeler",null,"Georgia-Wheeler",45,81.2,11,null,null,null,null,null,300,0.13161919831223637,0.34201577674595879,0.17086235489220558,0.94610281923714756]
[null,null,"Georgia","White",null,"Georgia-White",66.099999999999994,123.2,35,null,null,null,null,null,300,0.24266606822262118,0.76288203791483356,5.6615969581749061E-2,0.9486692015209125]
[null,null,"Georgia","Whitfield",null,"Georgia-Whitfield",60,109.3,28,null,null,null,null,null,276.92853091321609,0.28791329479768746,0.91989231726203813,0.06,1]
[null,null,"Georgia","Wilcox",null,"Georgia-Wilcox",45,97.8,12,null,null,null,null,null,325,0.15652702136573104,0.34952559179085918,0.21627529923830252,1]
[null,null,"Georgia","Wilkes",null,"Georgia-Wilkes",45,97.8,13.667,null,null,null,null,null,250,0.30342024013722119,0.64658931716807233,5.6199637023593471E-2,0.95644283121597096]
[null,null,"Georgia","Wilkinson",null,"Georgia-Wilkinson",45,93.8,15.5,null,null,null,null,null,293.42605390463029,0.15662438336856918,0.71560840131770742,0.40874626865671637,0.90328358208955228]
[null,null,"Georgia","Worth",null,"Georgia-Worth",47.33,97.8,13,null,null,null,null,null,350,0.1396905222437137,0.40063435177043133,0.29384399756246188,0.95332114564290071]
[null,null,"Hawaii","Hawaii",null,"Hawaii-Hawaii",null,null,null,null,null,null,null,null,276.41585660965507,6.6697232127695821E-2,1.511120894927152,0.14906329893731707,0.98657785307253976]
[null,null,"Hawaii","Honolulu",null,"Hawaii-Honolulu",null,null,null,null,null,null,null,null,283.29341317365271,0.15816339257873396,6.1588402283356274,0.101045690936107,0.97176820208023773]
[null,null,"Hawaii","Kauai",null,"Hawaii-Kauai",null,null,null,null,null,null,null,null,358.02227234282492,0.14020188425302824,6.1280282919424129,0.12016956920256644,0.79729605866177833]
[null,null,"Hawaii","Maui",null,"Hawaii-Maui",null,null,null,null,null,null,null,null,234.34079601990049,0.12484913463011175,4.9242458959258402,8.2320306513409811E-2,0.95486111111111138]
[null,null,"Idaho","Ada",null,"Idaho-Ada",11.38,68.2,2.125,null,null,null,null,null,21.775337837837839,0.36010594467333673,2.8276013241457156,6.0663258350375109E-2,1]
[null,null,"Idaho","Adams",null,"Idaho-Adams",32.49,108.4,22.5,null,null,null,null,null,42.879114642451761,0.22331862590608254,5.4650977053405958,2.065485829959517E-2,1]
[null,null,"Idaho","Bannock",null,"Idaho-Bannock",19.79,87.8,2.125,null,null,null,null,null,45.731418312387788,0.33643912175648744,4.1683800316749107,8.3703231894314611E-2,1]
[null,null,"Idaho","Bear Lake",null,"Idaho-Bear Lake",22.92,94.2,17.222000000000001,null,null,null,null,null,41.692893850788586,0.29672117516629715,3.2943135175003353,3.2959723474601736E-2,1]
[null,null,"Idaho","Benewah",null,"Idaho-Benewah",30.96,119.6,17.5,null,null,null,null,null,69.170097733416512,0.34637531543932082,1.7197782513165705,0.14586510886882637,0.96675517790759424]
[null,null,"Idaho","Bingham",null,"Idaho-Bingham",12.66,76.400000000000006,0.76,null,null,null,null,null,30.595644032719029,0.34430463576158915,1.6416970228466561,0.1044652189141856,0.99955633391710463]
[null,null,"Idaho","Blaine",null,"Idaho-Blaine",19.96,76.099999999999994,5.4,null,null,null,null,null,44.695379165995817,0.2492847091932458,6.6006031402759184,1.7197763229678101E-2,1]
[null,null,"Idaho","Boise",null,"Idaho-Boise",32.590000000000003,101.4,20.832999999999998,null,null,null,null,null,39.49380477485645,0.20393016090380017,14.573438713200062,5.1471104608632072E-2,1]
[null,null,"Idaho","Bonner",null,"Idaho-Bonner",38.43,137.80000000000001,24.545000000000002,null,null,null,null,null,70,0.32250200867748696,1.1452910588935492,3.218693693693693E-2,1]
[null,null,"Idaho","Bonneville",null,"Idaho-Bonneville",18.88,95.6,6.38,null,null,null,null,null,33.420889027043827,0.36533101682516494,2.3185128477154717,0.16522751540041086,0.9932546201232032]
[null,null,"Idaho","Boundary",null,"Idaho-Boundary",39.380000000000003,136.80000000000001,29.167000000000002,null,null,null,null,null,69.07692307692308,0.32398076923076896,4.1412333304692988,0.16453720112517578,1]
[null,null,"Idaho","Butte",null,"Idaho-Butte",12.63,64.2,2.6859999999999999,null,null,null,null,null,17.258091635140815,0.29900729108244539,8.8268282521646704,8.3255124056094976E-2,1]
[null,null,"Idaho","Camas",null,"Idaho-Camas",24.02,81.8,9,null,null,null,null,null,41.976590834157598,0.2612978030919445,2.5954670066252534,2.2437499999999996E-2,1]
[null,null,"Idaho","Canyon",null,"Idaho-Canyon",8.56,68.7,1.167,null,null,null,null,null,13.071540880503145,0.38331291759465519,0.48358528174954085,0.17036242826940504,1]
[null,null,"Idaho","Caribou",null,"Idaho-Caribou",23.48,100.6,11.429,null,null,null,null,null,48.130365659777425,0.35075548212676483,1.9943700411843133,0.10054327543424317,1]
[null,null,"Idaho","Cassia",null,"Idaho-Cassia",14.49,74.3,2.0830000000000002,null,null,null,null,null,31.493913249024938,0.36285378590078349,1.9562353020413172,0.10161144151798363,0.99184367034834331]
[null,null,"Idaho","Clark",null,"Idaho-Clark",17.96,82.4,2.125,null,null,null,null,null,42.159184436962214,0.28031514581373507,1.048658821674928,2.1674494811578369E-2,1]
[null,null,"Idaho","Clearwater",null,"Idaho-Clearwater",48.69,151,23.332999999999998,null,null,null,null,null,69.856935285570586,0.36939040728831724,8.1305347137813051,0.11965145038167933,0.99389312977099231]
[null,null,"Idaho","Custer",null,"Idaho-Custer",25.59,89.9,11.8,null,null,null,null,null,15.671323437694898,0.24624937903626418,0.79194737556589212,4.7895161290322591E-2,1]
[null,null,"Idaho","Elmore",null,"Idaho-Elmore",21.34,80.5,10.37,null,null,null,null,null,25.263920071845533,0.30728457071103499,4.7592170684812389,6.1884296091317861E-2,1]
[null,null,"Idaho","Franklin",null,"Idaho-Franklin",22.79,94.1,20.556000000000001,null,null,null,null,null,44.867936309709648,0.29700246565692195,3.8972185498783429,8.7026151444184227E-2,0.99773614363778296]
[null,null,"Idaho","Fremont",null,"Idaho-Fremont",27.86,112.6,15.269,null,null,null,null,null,50.79651941097724,0.28704819277108395,0.58809412776496128,9.9140063665302258E-2,0.99909049567985453]
[null,null,"Idaho","Gem",null,"Idaho-Gem",20.89,87.5,10,null,null,null,null,null,30.794254330376003,0.24138876199177731,8.5238497739416843,2.6076959174096671E-2,1]
[null,null,"Idaho","Gooding",null,"Idaho-Gooding",10.15,68,0.78,null,null,null,null,null,18.318884510457714,0.25004136504653568,0.63845140393972311,0.13724392764857901,1]
[null,null,"Idaho","Idaho",null,"Idaho-Idaho",39.03,136.1,27.762,null,null,null,null,null,58.153547040971169,0.28218365309970034,8.6511968245995057,9.3875930057280635E-2,0.99767862526379258]
[null,null,"Idaho","Jefferson",null,"Idaho-Jefferson",9.2200000000000006,70.7,0.66700000000000004,null,null,null,null,null,14.540712468193384,0.28000287438919225,0.2432932590695038,0.14800884433962258,1]
[null,null,"Idaho","Jerome",null,"Idaho-Jerome",8.5,68,0.26700000000000002,null,null,null,null,null,23.019237039452232,0.40395103706222418,0.43614585227862007,0.16596836555360284,1]
[null,null,"Idaho","Kootenai",null,"Idaho-Kootenai",32.15,122.7,17.5,null,null,null,null,null,68.708867077025459,0.31898091603053458,1.2148146710203314,8.4789329685362652E-2,1]
[null,null,"Idaho","Latah",null,"Idaho-Latah",31.28,124.5,17.5,null,null,null,null,null,66.980113177041233,0.37563363465802491,3.1475863111226028,0.11982555519794007,0.93513035082072793]
[null,null,"Idaho","Lemhi",null,"Idaho-Lemhi",22.48,94.9,11.667,null,null,null,null,null,13.543297380585516,0.26866841710427591,3.3158063544775991,3.718355640535375E-2,1]
[null,null,"Idaho","Lewis",null,"Idaho-Lewis",24.76,121.8,7.5,null,null,null,null,null,67.630739172907852,0.33781848739495796,2.8128586821506736,0.11125555007400101,0.97064627528367042]
[null,null,"Idaho","Lincoln",null,"Idaho-Lincoln",10.51,67.8,0.76,null,null,null,null,null,22.154267457781835,0.36666844919786046,0.48256799765025005,0.11283138918345707,1]
[null,null,"Idaho","Madison",null,"Idaho-Madison",17.399999999999999,91.2,5.5830000000000002,null,null,null,null,null,34.829846032372679,0.34439014202172058,1.0090823381491403,0.21752013752455798,0.99607072691552068]
[null,null,"Idaho","Minidoka",null,"Idaho-Minidoka",9.0399999999999991,68,0.15,null,null,null,null,null,15.009496676163343,0.39737253675320633,0.42039453549542477,0.20551164360445501,1]
[null,null,"Idaho","Nez Perce",null,"Idaho-Nez Perce",20.51,106.2,7.5,null,null,null,null,null,58.746118721461187,0.32629315332690423,6.5119507187222476,0.11405693132499373,0.98583099310696964]
[null,null,"Idaho","Oneida",null,"Idaho-Oneida",19.309999999999999,84,5,null,null,null,null,null,39.679860592481951,0.31513143776824032,3.7580126808333958,9.7841954844241269E-2,0.98847384967133478]
[null,null,"Idaho","Owyhee",null,"Idaho-Owyhee",12.16,63.8,1.8480000000000001,null,null,null,null,null,26.906320382882882,0.28209096329103139,2.790680191235654,4.0825987219400194E-2,1]
[null,null,"Idaho","Payette",null,"Idaho-Payette",12.43,72.5,3,null,null,null,null,null,25.445716903344021,0.34580240460010447,3.7632022809838794,8.1980967917346589E-2,1]
[null,null,"Idaho","Power",null,"Idaho-Power",16.690000000000001,81.8,2.6859999999999999,null,null,null,null,null,33.350449101796407,0.40107518189167318,3.7521235521410476,0.11817475728155336,0.99516296809986138]
[null,null,"Idaho","Shoshone",null,"Idaho-Shoshone",47.97,151.6,31.875,null,null,null,null,null,70,0.25523489932885923,21.332364253865684,3.6332499999999997E-2,1]
[null,null,"Idaho","Teton",null,"Idaho-Teton",23.35,104.8,24.167000000000002,null,null,null,null,null,49.790947270181988,0.3253545359749746,1.2518838196380506,0.11426273787599756,0.98492940454266442]
[null,null,"Idaho","Twin Falls",null,"Idaho-Twin Falls",10.41,69.099999999999994,1.988,null,null,null,null,null,24.512790084388186,0.41470042194092771,0.69946088625094793,0.13507391763463569,1]
[null,null,"Idaho","Valley",null,"Idaho-Valley",37.67,121.8,26.667000000000002,null,null,null,null,null,50.855715178013739,0.1841234567901234,0.5135256939941456,3.6083231334149313E-2,1]
[null,null,"Idaho","Washington",null,"Idaho-Washington",24.25,89.1,8.6669999999999998,null,null,null,null,null,37.393353941267385,0.22502566735112925,6.7887547532550254,2.5856507823613133E-2,0.99930654338549085]
[null,null,"Illinois","Adams",null,"Illinois-Adams",35.01,94.9,9,null,null,null,null,null,200,0.35280814172634761,0.79652394314367103,0.16224877821736094,0.97754247149173845]
[null,null,"Illinois","Alexander",null,"Illinois-Alexander",45,97.8,16,null,null,null,null,null,220,0.32941739824421368,0.3232967041030721,0.22405764705882358,1]
[null,null,"Illinois","Bond",null,"Illinois-Bond",35.01,96.2,9,null,null,null,null,null,200,0.36058601925491829,0.31262968023603099,0.14856328451882825,1]
[null,null,"Illinois","Boone",null,"Illinois-Boone",35.01,97.8,9,null,null,null,null,null,160,0.31825423728813595,0.26937998451890915,0.24320745341614927,0.98493788819875772]
[null,null,"Illinois","Brown",null,"Illinois-Brown",35.01,83.2,9,null,null,null,null,null,199.92897006595638,0.35800514138817485,0.93278643900482638,0.14156240928882444,0.97997097242380271]
[null,null,"Illinois","Bureau",null,"Illinois-Bureau",35.01,94.8,9,null,null,null,null,null,180,0.30056803652967962,0.28962771808481569,0.18061467702371245,0.98957481602616515]
[null,null,"Illinois","Calhoun",null,"Illinois-Calhoun",35.01,97.8,9,null,null,null,null,null,200,0.35595714285714414,1.8364655802007412,0.1501464751958225,1]
[null,null,"Illinois","Carroll",null,"Illinois-Carroll",35.01,97.8,9,null,null,null,null,null,180,0.31293989862418536,0.96655235183336285,0.15056735410267649,0.95906099166301007]
[null,null,"Illinois","Cass",null,"Illinois-Cass",35.01,93.2,9,null,null,null,null,null,180,0.2958557405036279,0.28672935319779908,0.23339834881320942,0.99393704850361198]
[null,null,"Illinois","Champaign",null,"Illinois-Champaign",35.01,97.5,11,null,null,null,null,null,180,0.29029909795853692,0.16714611659142539,0.29466914819944606,1]
[null,null,"Illinois","Christian",null,"Illinois-Christian",35.340000000000003,97.7,9,null,null,null,null,null,180,0.29873026462085756,0.21115930571188701,0.28072744907856484,0.99066440349175555]
[null,null,"Illinois","Clark",null,"Illinois-Clark",44.81,98,12,null,null,null,null,null,200,0.3852915360501562,0.25152406534315064,0.20021205643437337,0.99946558358272763]
[null,null,"Illinois","Clay",null,"Illinois-Clay",45,97.8,10,null,null,null,null,null,200,0.39208207198116374,0.21219402377846461,0.22115490457168216,1]
[null,null,"Illinois","Clinton",null,"Illinois-Clinton",36.75,97,9,null,null,null,null,null,200,0.3918895747599449,0.23181565022443712,0.18884956896551719,0.99816810344827589]
[null,null,"Illinois","Coles",null,"Illinois-Coles",35.020000000000003,97.8,10,null,null,null,null,null,180,0.31355638166047123,0.27496487275794529,0.26816511019798295,0.98804632050803143]
[null,null,"Illinois","Cook",null,"Illinois-Cook",35.01,109.7,11,null,null,null,null,null,160.50316507060543,0.32699322799097047,0.29677012292777855,0.18878420038535651,1]
[null,null,"Illinois","Crawford",null,"Illinois-Crawford",45,97.9,12,null,null,null,null,null,200,0.36850911691097676,0.28049391468957302,0.23061956034095979,0.9925975773889637]
[null,null,"Illinois","Cumberland",null,"Illinois-Cumberland",35.549999999999997,97.8,10,null,null,null,null,null,200,0.36848222424795013,0.19587769537440922,0.28444394110985322,1]
[null,null,"Illinois","De Kalb",null,"Illinois-De Kalb",35.01,103,11,null,null,null,null,null,180,0.30229296194976379,0.24930519590731129,0.28993583176058152,0.99414936640603946]
[null,null,"Illinois","De Witt",null,"Illinois-De Witt",35.01,96.5,9,null,null,null,null,null,180,0.30382317801672604,0.30269210546558223,0.26033852140077846,0.99816255944660615]
[null,null,"Illinois","Douglas",null,"Illinois-Douglas",35.01,97.8,10,null,null,null,null,null,180,0.29362711864406771,0.15921850877144392,0.28133443163097188,0.98867380560131801]
[null,null,"Illinois","Du Page",null,"Illinois-Du Page",35.01,99.7,10,null,null,null,null,null,160.72389791183295,0.31442448436460413,0.41234897437183915,0.21524352331606214,1]
[null,null,"Illinois","Edgar",null,"Illinois-Edgar",42.06,104,10,null,null,null,null,null,180,0.3174346076458755,0.2149217586197939,0.27797592272203031,0.99927912341407155]
[null,null,"Illinois","Edwards",null,"Illinois-Edwards",45,97.8,12,null,null,null,null,null,200,0.3859491884262527,0.50976424039726698,0.16230199203187257,0.9950199203187251]
[null,null,"Illinois","Effingham",null,"Illinois-Effingham",41.45,97.8,10,null,null,null,null,null,199.8046875,0.38745812807881724,0.24956809528054269,0.19479577750710514,0.99868047097036139]
[null,null,"Illinois","Fayette",null,"Illinois-Fayette",38.18,97.8,9.5,null,null,null,null,null,200,0.38656679982245873,0.24100919761319672,0.16383471717695924,0.99753502854177478]
[null,null,"Illinois","Ford",null,"Illinois-Ford",35.01,99.9,11,null,null,null,null,null,180,0.29780977030087297,0.19831694264347605,0.26031605520026946,0.99360484685291151]
[null,null,"Illinois","Franklin",null,"Illinois-Franklin",45,97.8,12,null,null,null,null,null,219.53727506426736,0.40118436636399502,0.39130786763298953,0.16442583120204601,1]
[null,null,"Illinois","Fulton",null,"Illinois-Fulton",35.01,90.6,9,null,null,null,null,null,180,0.33708895370032782,0.44754588458794353,0.17758274775866259,1]
[null,null,"Illinois","Gallatin",null,"Illinois-Gallatin",45,98.6,14,null,null,null,null,null,219.82857142857142,0.34788283658787272,0.27173385513981474,0.2219922940130408,1]
[null,null,"Illinois","Greene",null,"Illinois-Greene",35.01,97.8,9,null,null,null,null,null,200,0.32904858299595158,0.51632633718927712,0.19731279461279469,0.98392255892255898]
[null,null,"Illinois","Grundy",null,"Illinois-Grundy",35.01,99,11,null,null,null,null,null,180,0.28065579984837014,0.15041060684262983,0.2872008385744238,0.99664570230607963]
[null,null,"Illinois","Hamilton",null,"Illinois-Hamilton",45,97.9,12,null,null,null,null,null,220,0.39816642651296796,0.28520584618472927,0.17467067927772986,1]
[null,null,"Illinois","Hancock",null,"Illinois-Hancock",35.01,96.3,9,null,null,null,null,null,200,0.32840962904498833,0.45934987400803773,0.16882012696919829,0.99623794968257695]
[null,null,"Illinois","Hardin",null,"Illinois-Hardin",45,97.8,15.5,null,null,null,null,null,220,0.3722605790645882,1.6379196308177562,4.1886104783599123E-2,0.99658314350797261]
[null,null,"Illinois","Henderson",null,"Illinois-Henderson",35.01,97.8,9,null,null,null,null,null,180,0.29930579216354364,0.45277777731081209,0.19707113821138186,0.97301829268292683]
[null,null,"Illinois","Henry",null,"Illinois-Henry",35.01,97.8,9,null,null,null,null,null,180,0.30926459293394776,0.58818986645602966,0.19161942148760314,1]
[null,null,"Illinois","Iroquois",null,"Illinois-Iroquois",35.01,101.3,10,null,null,null,null,null,180,0.27044788732394398,0.1863152907431114,0.29410684273709486,1]
[null,null,"Illinois","Jackson",null,"Illinois-Jackson",45,96.5,13,null,null,null,null,null,220,0.38264524103831798,0.62310439501609627,0.14330592255125274,0.99794988610478363]
[null,null,"Illinois","Jasper",null,"Illinois-Jasper",44.56,97.8,10,null,null,null,null,null,200,0.38195582586427607,0.21418436316128256,0.23864384559359081,0.99681354697742175]
[null,null,"Illinois","Jefferson",null,"Illinois-Jefferson",45,97.8,10,null,null,null,null,null,199.1068065644337,0.39517997750281175,0.37808766069915029,0.14782062298603643,0.99829931972789121]
[null,null,"Illinois","Jersey",null,"Illinois-Jersey",35.01,97.8,9,null,null,null,null,null,200,0.34665080051925623,0.84609439286422083,0.1803135543920884,0.99447353112274584]
[null,null,"Illinois","Jo Daviess",null,"Illinois-Jo Daviess",35.01,97.8,9,null,null,null,null,null,180,0.3432255434782614,1.5404256574315565,8.7616146788990587E-2,0.95200000000000007]
[null,null,"Illinois","Johnson",null,"Illinois-Johnson",45,97.8,15.5,null,null,null,null,null,220,0.38296812749004033,0.66370254301081244,7.6154529914529881E-2,1]
[null,null,"Illinois","Kane",null,"Illinois-Kane",35.01,99.2,10,null,null,null,null,null,160,0.30494017632241827,0.29039581636072237,0.2019574187884102,0.99714661984196662]
[null,null,"Illinois","Kankakee",null,"Illinois-Kankakee",35.01,101.7,11.333,null,null,null,null,null,180,0.26493916705662146,0.18027083157446963,0.29291908602150529,1]
[null,null,"Illinois","Kendall",null,"Illinois-Kendall",35.01,100.1,10,null,null,null,null,null,180,0.30295341922695695,0.15332126714948485,0.29519076086956497,0.98831521739130435]
[null,null,"Illinois","Knox",null,"Illinois-Knox",35.01,96.6,9,null,null,null,null,null,180,0.32323314917127016,0.52592123756019493,0.17413710958178916,0.98803599788247753]
[null,null,"Illinois","La Salle",null,"Illinois-La Salle",35.01,97.9,9,null,null,null,null,null,160,0.32889150943396295,0.30818123922943674,0.13163944223107565,1]
[null,null,"Illinois","Lake",null,"Illinois-Lake",35.01,99.4,9.5,null,null,null,null,null,180,0.30188694929343285,0.25866740439680347,0.28245328501654332,0.99692768236962348]
[null,null,"Illinois","Lawrence",null,"Illinois-Lawrence",45,106.3,12,null,null,null,null,null,200,0.34938870151770679,0.25372639664763497,0.21921078921078915,0.97864635364635366]
[null,null,"Illinois","Lee",null,"Illinois-Lee",35.01,97.3,9,null,null,null,null,null,180,0.27271817192600628,0.27401594694457337,0.20516081015129362,0.98767691556857007]
[null,null,"Illinois","Livingston",null,"Illinois-Livingston",35.01,97.9,11,null,null,null,null,null,180,0.29435523114355144,0.18493137623942352,0.22683211446740831,0.99574721780604136]
[null,null,"Illinois","Logan",null,"Illinois-Logan",35.01,97.1,9,null,null,null,null,null,180,0.29501270325203266,0.17007566023814305,0.29437703141928467,0.97501354279523289]
[null,null,"Illinois","Macon",null,"Illinois-Macon",35.01,97,9,null,null,null,null,null,180,0.3158062799361358,0.39171630247277167,0.22923485526708451,0.98821247388839151]
[null,null,"Illinois","Macoupin",null,"Illinois-Macoupin",35.01,96.3,9,null,null,null,null,null,160,0.31416086835513563,0.33642678567734519,0.17171340802312934,1]
[null,null,"Illinois","Madison",null,"Illinois-Madison",35.01,96.2,9,null,null,null,null,null,180,0.29352008456659634,0.27609291065019648,0.24379504893494516,0.98326856649395511]
[null,null,"Illinois","Marion",null,"Illinois-Marion",44.99,97.8,10,null,null,null,null,null,180,0.29370045300113301,0.22607847070688616,0.29203692810457516,0.99362745098039218]
[null,null,"Illinois","Marshall",null,"Illinois-Marshall",35.01,97.8,9,null,null,null,null,null,200,0.33202265667823844,0.45028354386027752,0.1977087462300732,1]
[null,null,"Illinois","Mason",null,"Illinois-Mason",35.01,97.7,9,null,null,null,null,null,200,0.35119699042407576,0.56596763958321006,0.17888760806916415,0.98661543387768169]
[null,null,"Illinois","Massac",null,"Illinois-Massac",45,100.7,16,null,null,null,null,null,200,0.38397786998616845,0.2788218859707024,0.18507802159526296,0.99634273772204807]
[null,null,"Illinois","McDonough",null,"Illinois-McDonough",35.01,91.9,9,null,null,null,null,null,180,0.31124135124135127,0.56098589755209027,0.25870716945996292,0.98289106145251393]
[null,null,"Illinois","McHenry",null,"Illinois-McHenry",35.01,100.6,9,null,null,null,null,null,180,0.23438638399522249,0.27000450654369529,0.21418563497571111,0.9776197085357391]
[null,null,"Illinois","McLean",null,"Illinois-McLean",35.01,97.6,11,null,null,null,null,null,219.65093729799611,0.39294117647058813,0.68276321731719025,0.13870060396893866,1]
[null,null,"Illinois","Menard",null,"Illinois-Menard",35.01,97.8,9,null,null,null,null,null,180,0.31741645885286757,0.49480007476056126,0.20834484649122809,1]
[null,null,"Illinois","Mercer",null,"Illinois-Mercer",35.01,97.8,9,null,null,null,null,null,180,0.32268452550584215,1.0179118551354913,0.19152061855670088,0.99701997422680411]
[null,null,"Illinois","Monroe",null,"Illinois-Monroe",41.04,92.1,9,null,null,null,null,null,220,0.34393877551020507,0.72429992811758459,0.18411712772218958,0.9952913478516775]
[null,null,"Illinois","Montgomery",null,"Illinois-Montgomery",36.17,95.5,9,null,null,null,null,null,200,0.3216625753180094,0.19867374935046508,0.21338506355932194,0.99344544491525422]
[null,null,"Illinois","Morgan",null,"Illinois-Morgan",35.01,97.5,9,null,null,null,null,null,180,0.31816320885200533,0.55831678213150737,0.22116329074478031,0.98423184792770335]
[null,null,"Illinois","Moultrie",null,"Illinois-Moultrie",35.01,97.8,9.5,null,null,null,null,null,180,0.28854010961634247,0.17338444659873639,0.25345263157894682,0.99663157894736842]
[null,null,"Illinois","Ogle",null,"Illinois-Ogle",35.01,98,9,null,null,null,null,null,180,0.30062107904642432,0.47659340479702217,0.23688008720930212,0.97510901162790697]
[null,null,"Illinois","Peoria",null,"Illinois-Peoria",35.01,97.8,9,null,null,null,null,null,180,0.32733661825726124,0.63396373651368387,0.1830006988120195,0.96222921034241793]
[null,null,"Illinois","Perry",null,"Illinois-Perry",45,97.8,10,null,null,null,null,null,220,0.37125995655322214,0.53701423545459603,0.11472232734153255,0.99822611163670771]
[null,null,"Illinois","Piatt",null,"Illinois-Piatt",35.01,97.6,9,null,null,null,null,null,180,0.29323984178353085,0.20136358671543989,0.24928268414963328,0.98823756266872353]
[null,null,"Illinois","Pike",null,"Illinois-Pike",35.01,97.7,9,null,null,null,null,null,200,0.34286682152535797,0.55444224147874988,0.1519611984282907,0.97132858546168954]
[null,null,"Illinois","Pope",null,"Illinois-Pope",45,97.8,15.667,null,null,null,null,null,219.22435362802335,0.38473755047106351,0.86175460378852653,6.8767091541135597E-2,0.99768250289687133]
[null,null,"Illinois","Pulaski",null,"Illinois-Pulaski",45,97.8,16,null,null,null,null,null,220,0.37215610510046365,0.43971791423201317,0.1926729362591432,0.99764890282131657]
[null,null,"Illinois","Putnam",null,"Illinois-Putnam",35.01,95,9,null,null,null,null,null,180,0.28987204724409477,0.61635350608637807,0.16204527813712813,0.99547218628719281]
[null,null,"Illinois","Randolph",null,"Illinois-Randolph",45,92.7,10,null,null,null,null,null,220,0.37482843137254873,0.53743224457568528,0.15813472070098566,0.9910551296093465]
[null,null,"Illinois","Richland",null,"Illinois-Richland",45,97.8,12,null,null,null,null,null,198.83369330453564,0.38237140366172701,0.32974321962518505,0.21536084059456673,0.98885187083546899]
[null,null,"Illinois","Rock Island",null,"Illinois-Rock Island",35.01,97.8,9,null,null,null,null,null,180,0.3157587399154827,0.71955723200866784,0.18528399999999987,0.99514285714285711]
[null,null,"Illinois","Saline",null,"Illinois-Saline",45,97.8,14,null,null,null,null,null,199.61753731343285,0.36276963728080641,0.60374459922546675,0.14182047872340425,0.99268617021276595]
[null,null,"Illinois","Sangamon",null,"Illinois-Sangamon",35.01,97.8,9,null,null,null,null,null,220,0.38248700173310218,0.41800945833294079,0.20958203799654571,0.99640184225676454]
[null,null,"Illinois","Schuyler",null,"Illinois-Schuyler",35.01,83.3,9,null,null,null,null,null,180,0.29549083650880043,0.33258437452271628,0.21760875449355047,0.94211249735673508]
[null,null,"Illinois","Scott",null,"Illinois-Scott",35.01,97.8,9,null,null,null,null,null,200,0.34695605187319811,0.77277735165964845,0.14238713010803178,0.93900892437764216]
[null,null,"Illinois","Shelby",null,"Illinois-Shelby",35.1,97.4,9.5,null,null,null,null,null,200,0.32930320150659115,0.34885506588835985,0.21665404996214979,0.98637395912187742]
[null,null,"Illinois","St. Clair",null,"Illinois-St. Clair",36.369999999999997,88.8,9,null,null,null,null,null,180,0.34344104429702549,0.33416592024706993,0.22567422096317266,0.98996694995278567]
[null,null,"Illinois","Stark",null,"Illinois-Stark",35.01,97.8,9,null,null,null,null,null,180,0.30718715995647428,0.56562484889240383,0.20838776687824587,0.9985574148874784]
[null,null,"Illinois","Stephenson",null,"Illinois-Stephenson",35.01,97.8,9,null,null,null,null,null,180,0.31698717948717919,0.61016676376469525,0.18219162819329035,0.87361649738381042]
[null,null,"Illinois","Tazewell",null,"Illinois-Tazewell",35.01,97.9,9,null,null,null,null,null,180,0.29327836081959019,0.33280336505450725,0.23135184620079347,0.97558742752517547]
[null,null,"Illinois","Union",null,"Illinois-Union",45,97.8,14.5,null,null,null,null,null,220,0.36344368013757483,0.66899783193125539,0.13097001394700139,0.98988842398884236]
[null,null,"Illinois","Vermilion",null,"Illinois-Vermilion",35.03,101.6,10,null,null,null,null,null,180,0.30568630879524383,0.2331909946306101,0.25994850465438712,0.99019607843137258]
[null,null,"Illinois","Wabash",null,"Illinois-Wabash",45,97.8,14,null,null,null,null,null,200,0.35805185704274678,0.22837770575140376,0.20653069806560151,0.99369217830109335]
[null,null,"Illinois","Warren",null,"Illinois-Warren",35.01,97.2,9,null,null,null,null,null,180,0.29969881262670101,0.33345261280105343,0.20856745524296658,0.97546355498721227]
[null,null,"Illinois","Washington",null,"Illinois-Washington",40.61,97.8,10,null,null,null,null,null,200,0.38394413407821182,0.25804463754734713,0.19060132231404969,0.99884297520661158]
[null,null,"Illinois","Wayne",null,"Illinois-Wayne",45,97.6,11,null,null,null,null,null,200.0349497597204,0.41111749116607754,0.1936134414166068,0.15813816127375455,0.98947098099640474]
[null,null,"Illinois","White",null,"Illinois-White",45,97.8,13.333,null,null,null,null,null,220,0.36267959313413839,0.27337641170681926,0.16272941176470571,0.99750445632798579]
[null,null,"Illinois","Whiteside",null,"Illinois-Whiteside",35.01,97.9,9,null,null,null,null,null,180,0.29641086186540722,0.47234617127346107,0.19719678922837938,0.9903547384774728]
[null,null,"Illinois","Will",null,"Illinois-Will",35.01,103.5,11,null,null,null,null,null,160,0.30134107285828654,0.27801550050093887,0.23068233695652199,0.99877717391304344]
[null,null,"Illinois","Williamson",null,"Illinois-Williamson",45,97.8,13,null,null,null,null,null,220,0.40952582557154921,1.0199566446934905,0.10900710135571332,1]
[null,null,"Illinois","Winnebago",null,"Illinois-Winnebago",35.01,99.2,9,null,null,null,null,null,179.90969295605058,0.29038528896672533,0.42898927164725553,0.16619832155476996,0.94770318021201405]
[null,null,"Illinois","Woodford",null,"Illinois-Woodford",35.01,97.8,9,null,null,null,null,null,180,0.30029227557411281,0.31173267761250567,0.28003817045080615,0.98116156630470552]
[null,null,"Indiana","Adams",null,"Indiana-Adams",35.01,111.9,10,null,null,null,null,null,160,0.35760517799352803,0.12137345658161484,0.25997477295660959,1]
[null,null,"Indiana","Allen",null,"Indiana-Allen",35.01,110.2,10,null,null,null,null,null,160,0.35882294757665661,0.19425202771444108,0.20388601398601419,1]
[null,null,"Indiana","Bartholomew",null,"Indiana-Bartholomew",45,112.5,14.5,null,null,null,null,null,180,0.35931079894644391,0.29764380846568111,0.20993515764425935,1]
[null,null,"Indiana","Benton",null,"Indiana-Benton",35.01,112.5,11,null,null,null,null,null,180,0.28852281515854616,0.19029542049724846,0.24760144927536279,0.99355877616747179]
[null,null,"Indiana","Blackford",null,"Indiana-Blackford",35.01,112.5,12,null,null,null,null,null,160,0.37362249761677796,0.22768381847465383,0.13149835345773878,1]
[null,null,"Indiana","Boone",null,"Indiana-Boone",39.76,112.5,12,null,null,null,null,null,180,0.34459217877094989,0.16087770542533486,0.19871892594196608,1]
[null,null,"Indiana","Brown",null,"Indiana-Brown",45,112.2,14.5,null,null,null,null,null,180,0.29519151443724229,2.0204967431547263,6.4194174757281536E-2,1]
[null,null,"Indiana","Carroll",null,"Indiana-Carroll",35.01,112.5,12,null,null,null,null,null,180,0.3338242894056847,0.23553984670489819,0.21860737419033391,1]
[null,null,"Indiana","Cass",null,"Indiana-Cass",35.01,112.5,12,null,null,null,null,null,180,0.29712806748466253,0.23314235217308768,0.19686757215619702,1]
[null,null,"Indiana","Clark",null,"Indiana-Clark",45,108.1,18,null,null,null,null,null,180,0.37946946054391512,0.65753057123925196,0.12404980544747081,0.98529182879377419]
[null,null,"Indiana","Clay",null,"Indiana-Clay",45,97.8,13,null,null,null,null,null,200,0.37334217506631306,0.55678692744577607,0.14239472105578885,1]
[null,null,"Indiana","Clinton",null,"Indiana-Clinton",35.01,112.5,12,null,null,null,null,null,180,0.33143244289585755,0.26500221299126542,0.23222748414376315,1]
[null,null,"Indiana","Crawford",null,"Indiana-Crawford",45,112.5,18,null,null,null,null,null,200,0.34742591516560123,1.0949557271434258,3.234519104084322E-2,1]
[null,null,"Indiana","Daviess",null,"Indiana-Daviess",45,100.6,15,null,null,null,null,null,200,0.36246545454545465,0.62382313096865305,8.6435365326415922E-2,0.99113705144833553]
[null,null,"Indiana","De Kalb",null,"Indiana-De Kalb",35.01,112.5,10,null,null,null,null,null,180,0.34298515104966742,1.4723531632178712,0.10311169652265541,1]
[null,null,"Indiana","Dearborn",null,"Indiana-Dearborn",45,112.5,15,null,null,null,null,null,180,0.36634927412467966,0.30988781987312486,0.1868384615384614,1]
[null,null,"Indiana","Decatur",null,"Indiana-Decatur",45,112.5,14,null,null,null,null,null,140,0.36630989699955269,0.24703445132607965,0.12826576341844712,0.99817613340281397]
[null,null,"Indiana","Delaware",null,"Indiana-Delaware",35.01,112.5,12,null,null,null,null,null,160,0.35260958623514971,0.20084625981276649,0.22818451711803794,1]
[null,null,"Indiana","Dubois",null,"Indiana-Dubois",45,111.6,15.5,null,null,null,null,null,200,0.37963410033949441,1.4884158058366759,6.7322977725674069E-2,0.99718640093786637]
[null,null,"Indiana","Elkhart",null,"Indiana-Elkhart",35.01,114.4,12,null,null,null,null,null,160,0.29463449765934457,0.26239213468029521,0.17766229985443974,1]
[null,null,"Indiana","Fayette",null,"Indiana-Fayette",45,112.5,13.5,null,null,null,null,null,180,0.37194444444444591,0.5418139263015106,0.1300031023784903,0.99234746639089977]
[null,null,"Indiana","Floyd",null,"Indiana-Floyd",45,112.3,15,null,null,null,null,null,180,0.34249734325185949,1.2568479921594633,5.5644808743169419E-2,0.95846994535519126]
[null,null,"Indiana","Fountain",null,"Indiana-Fountain",36.880000000000003,103.9,12,null,null,null,null,null,180,0.32648038049940548,0.27712779231159451,0.33356617647058828,0.98294117647058821]
[null,null,"Indiana","Franklin",null,"Indiana-Franklin",45,117.2,14,null,null,null,null,null,180,0.36163598326359908,0.711486014014448,0.13863660302830824,1]
[null,null,"Indiana","Fulton",null,"Indiana-Fulton",35.01,112.5,12,null,null,null,null,null,160,0.25023298309730468,0.33329269969434477,0.19876976976976987,1]
[null,null,"Indiana","Gibson",null,"Indiana-Gibson",45,98.3,14.333,null,null,null,null,null,220,0.37020335700451851,0.36677009837663904,0.2028658724058417,0.98870099923136046]
[null,null,"Indiana","Grant",null,"Indiana-Grant",35.01,112.5,12,null,null,null,null,null,160,0.34337722695584821,0.14714256007047991,0.22910642201834869,1]
[null,null,"Indiana","Greene",null,"Indiana-Greene",45,100.5,14,null,null,null,null,null,200,0.35466627288836367,1.2446565941435213,0.10537662988966894,0.99849548645937813]
[null,null,"Indiana","Hamilton",null,"Indiana-Hamilton",35.799999999999997,110.6,13,null,null,null,null,null,180,0.36160047188360184,0.20122676576858445,0.17490048939641104,1]
[null,null,"Indiana","Hancock",null,"Indiana-Hancock",44.35,112.4,12,null,null,null,null,null,180,0.35448506694129761,0.14140702253046353,0.26633028083028071,1]
[null,null,"Indiana","Harrison",null,"Indiana-Harrison",45,112.5,18,null,null,null,null,null,180,0.31322107369123037,1.4063564650061706,7.4997101449275433E-2,0.99623188405797103]
[null,null,"Indiana","Hendricks",null,"Indiana-Hendricks",45,112.5,12,null,null,null,null,null,180,0.36918555512869755,0.28224682629768838,0.18545652173913052,1]
[null,null,"Indiana","Henry",null,"Indiana-Henry",38.770000000000003,111.3,13,null,null,null,null,null,160,0.35118232484076423,0.28849358591601187,0.21803277931671267,0.97899353647276088]
[null,null,"Indiana","Howard",null,"Indiana-Howard",35.01,112.5,12,null,null,null,null,null,180,0.35348698481561819,0.14158573069915872,0.29877924528301902,1]
[null,null,"Indiana","Huntington",null,"Indiana-Huntington",35.01,112.5,10,null,null,null,null,null,160,0.36431336405529907,0.18724990946579959,0.12388188976377945,1]
[null,null,"Indiana","Jackson",null,"Indiana-Jackson",45,112.5,15,null,null,null,null,null,180,0.3508476286579213,0.30394603987352298,0.1659752720079129,0.99307616221562811]
[null,null,"Indiana","Jasper",null,"Indiana-Jasper",35.01,108.6,12,null,null,null,null,null,160,0.21459908361970276,0.10237950194371766,0.15521597633136108,1]
[null,null,"Indiana","Jay",null,"Indiana-Jay",35.01,112.5,12,null,null,null,null,null,160,0.38588042588042581,0.23553305617238099,0.23305230622919648,1]
[null,null,"Indiana","Jefferson",null,"Indiana-Jefferson",45,112.5,16,null,null,null,null,null,180,0.36881086142322161,0.54288743951823748,0.10397037630104079,1]
[null,null,"Indiana","Jennings",null,"Indiana-Jennings",45,112.5,15,null,null,null,null,null,180,0.39721640488656168,0.60717851989673599,0.18568836879432626,1]
[null,null,"Indiana","Johnson",null,"Indiana-Johnson",44.7,112.5,14,null,null,null,null,null,180,0.35777611940298526,0.338903192154348,0.18946808510638288,1]
[null,null,"Indiana","Knox",null,"Indiana-Knox",45,98.1,14,null,null,null,null,null,200,0.31948614138897613,0.57097606978028181,0.19287321363136681,0.99102235251007698]
[null,null,"Indiana","Kosciusko",null,"Indiana-Kosciusko",35.01,112,12,null,null,null,null,null,159.65614430665164,0.27278863775198542,0.32078141046307268,0.11173935202038576,1]
[null,null,"Indiana","La Porte",null,"Indiana-La Porte",35.01,122.9,11,null,null,null,null,null,140,0.24359108159392789,0.34530325688140884,0.132210302708444,1]
[null,null,"Indiana","Lagrange",null,"Indiana-Lagrange",35.01,112.5,12,null,null,null,null,null,160,0.31060940841054846,0.19682856119433711,0.15084435342305433,1]
[null,null,"Indiana","Lake",null,"Indiana-Lake",35.01,112.5,12,null,null,null,null,null,160,0.24964285714285714,0.26244836881269556,0.16272594440484681,1]
[null,null,"Indiana","Lawrence",null,"Indiana-Lawrence",45,110,15,null,null,null,null,null,200,0.35488002953119246,1.2006303040808248,7.9729083665338693E-2,0.99442231075697207]
[null,null,"Indiana","Madison",null,"Indiana-Madison",35.01,112.2,12,null,null,null,null,null,160,0.34837847222222218,0.23343022893801021,0.24977806675335937,1]
[null,null,"Indiana","Marion",null,"Indiana-Marion",39.03,112.2,12,null,null,null,null,null,180,0.36709274387313767,0.22084835108983508,0.17723655913978498,1]
[null,null,"Indiana","Marshall",null,"Indiana-Marshall",35.01,112.5,12,null,null,null,null,null,160,0.2539495798319325,0.26571789321580264,0.2073777103209021,1]
[null,null,"Indiana","Martin",null,"Indiana-Martin",45,110.4,15,null,null,null,null,null,200,0.35492641906096695,0.85145235030661059,8.4001356852103096E-2,1]
[null,null,"Indiana","Miami",null,"Indiana-Miami",35.01,112.5,12,null,null,null,null,null,160,0.34997394702561874,0.29664414704988962,0.25363209393346403,1]
[null,null,"Indiana","Monroe",null,"Indiana-Monroe",45,108.5,14.5,null,null,null,null,null,200,0.35029072681704293,1.1702522847884995,6.9436289500509715E-2,1]
[null,null,"Indiana","Montgomery",null,"Indiana-Montgomery",39,110.3,12,null,null,null,null,null,180,0.34218798630563352,0.26146136370223566,0.14799152542372893,0.98525776836158196]
[null,null,"Indiana","Morgan",null,"Indiana-Morgan",45,107.3,14,null,null,null,null,null,180,0.35334497477687221,0.40426849043826341,0.17221437823834207,1]
[null,null,"Indiana","Newton",null,"Indiana-Newton",35.01,112.5,12,null,null,null,null,null,160.33320418442463,0.23006304176516931,0.12716866219876674,0.15994962439239946,1]
[null,null,"Indiana","Noble",null,"Indiana-Noble",35.01,112.5,10,null,null,null,null,null,160,0.30398987768873881,0.46255352630587332,0.10421694417237998,0.99118511263467191]
[null,null,"Indiana","Ohio",null,"Indiana-Ohio",45,112.5,15,null,null,null,null,null,180,0.34369090909090927,2.3594050510691211,5.1350828729281747E-2,1]
[null,null,"Indiana","Orange",null,"Indiana-Orange",45,112.5,16,null,null,null,null,null,200,0.35572681125980621,1.2558349582481203,6.2448995363214847E-2,1]
[null,null,"Indiana","Owen",null,"Indiana-Owen",45,106,14,null,null,null,null,null,200,0.39067205444491704,0.65840474787653724,0.11836637931034476,1]
[null,null,"Indiana","Parke",null,"Indiana-Parke",45,97.8,12,null,null,null,null,null,180,0.34945849661560324,0.42065457574935805,0.18977044025157239,1]
[null,null,"Indiana","Perry",null,"Indiana-Perry",45,112.5,18,null,null,null,null,null,200,0.37465249856404365,1.6394429207004413,7.5241217798594814E-2,1]
[null,null,"Indiana","Pike",null,"Indiana-Pike",45,97.8,15,null,null,null,null,null,200,0.38728773584905657,0.97241598871598023,0.13514039039039033,1]
[null,null,"Indiana","Porter",null,"Indiana-Porter",35.01,110.2,11,null,null,null,null,null,160,0.2865847116674119,0.26378492471046128,0.17255534941249237,1]
[null,null,"Indiana","Posey",null,"Indiana-Posey",45,99.5,14,null,null,null,null,null,220,0.36738860906625292,0.59544869726674376,0.11429522431259045,1]
[null,null,"Indiana","Pulaski",null,"Indiana-Pulaski",35.01,112.5,12,null,null,null,null,null,160,0.21765469824293382,0.11067854057903052,0.16415821749795598,1]
[null,null,"Indiana","Putnam",null,"Indiana-Putnam",45,107.5,12,null,null,null,null,null,180,0.36099504132231353,0.49233172585813273,0.13723294434470379,0.99456912028725319]
[null,null,"Indiana","Randolph",null,"Indiana-Randolph",35.01,111.8,13,null,null,null,null,null,160,0.34795022468026299,0.24773611426729628,0.17856842923794716,1]
[null,null,"Indiana","Ripley",null,"Indiana-Ripley",45,112.5,15,null,null,null,null,null,180,0.39312717433320449,0.51740442629236783,0.17432719393282767,1]
[null,null,"Indiana","Rush",null,"Indiana-Rush",45,111.4,14,null,null,null,null,null,180,0.36077277970011545,0.17754208103210434,0.22789478223372131,0.99551530832255275]
[null,null,"Indiana","Scott",null,"Indiana-Scott",45,108.4,16,null,null,null,null,null,160,0.25405813514533798,0.29736273852471407,0.23719332627118644,1]
[null,null,"Indiana","Shelby",null,"Indiana-Shelby",45,112.5,14,null,null,null,null,null,180,0.40007792207792209,0.356375342725954,0.14112612612612618,1]
[null,null,"Indiana","Spencer",null,"Indiana-Spencer",45,105.1,18,null,null,null,null,null,180,0.36408585665005716,0.23019357600285442,0.18815269196822604,1]
[null,null,"Indiana","St. Joseph",null,"Indiana-St. Joseph",35.01,133.1,12,null,null,null,null,null,200,0.39223990208078346,0.65809175182879898,0.11489106425702802,0.9974899598393574]
[null,null,"Indiana","Starke",null,"Indiana-Starke",35.01,112.5,12,null,null,null,null,null,160,0.17126136363636357,0.12186115510538958,0.16713079365079347,1]
[null,null,"Indiana","Steuben",null,"Indiana-Steuben",35.01,112.5,10,null,null,null,null,null,140,0.34279043280182248,0.83824781549675575,0.10421904761904767,0.99972789115646254]
[null,null,"Indiana","Sullivan",null,"Indiana-Sullivan",45,98.7,12.667,null,null,null,null,null,200,0.3545598035776919,0.70300089894229389,0.1890573770491803,0.99108606557377044]
[null,null,"Indiana","Switzerland",null,"Indiana-Switzerland",45,112.5,16,null,null,null,null,null,180,0.34047585227272764,1.5871136610665644,8.2306849315068473E-2,1]
[null,null,"Indiana","Tippecanoe",null,"Indiana-Tippecanoe",35.01,112.5,12,null,null,null,null,null,180,0.3109088030398991,0.17196315442208832,0.24936345053148024,0.99803761242845457]
[null,null,"Indiana","Tipton",null,"Indiana-Tipton",35.01,112.5,12,null,null,null,null,null,180,0.34295673076923056,0.1337082217653961,0.36695946843853838,1]
[null,null,"Indiana","Union",null,"Indiana-Union",45,120.4,12,null,null,null,null,null,160,0.35538229376257607,0.36629338653963051,0.20602398989898985,0.99621212121212122]
[null,null,"Indiana","Vanderburgh",null,"Indiana-Vanderburgh",45,100,15,null,null,null,null,null,219.49702183984115,0.38247817327065153,0.48529259392100721,0.13198778998778998,0.97741147741147738]
[null,null,"Indiana","Vermillion",null,"Indiana-Vermillion",41.86,98.2,10,null,null,null,null,null,180,0.31897255902999344,0.2886328877798745,0.1743037225042301,0.99695431472081231]
[null,null,"Indiana","Vigo",null,"Indiana-Vigo",45,105,12,null,null,null,null,null,199.779299847793,0.32661346827559395,0.38402972024552867,0.26890252100840328,1]
[null,null,"Indiana","Wabash",null,"Indiana-Wabash",35.01,112.5,12,null,null,null,null,null,160,0.34504954419342071,0.2530094677650504,0.17681106194690258,0.99446902654867253]
[null,null,"Indiana","Warren",null,"Indiana-Warren",35.01,111.2,12,null,null,null,null,null,180,0.31532015470562985,0.32618704530344289,0.21012911266201392,1]
[null,null,"Indiana","Warrick",null,"Indiana-Warrick",45,101.3,16.600000000000001,null,null,null,null,null,200,0.37451747088186338,0.97940383925139707,9.848155339805828E-2,1]
[null,null,"Indiana","Washington",null,"Indiana-Washington",45,112.5,17,null,null,null,null,null,180,0.35939939024390288,0.84995462479599615,7.048450319051959E-2,0.99466727438468561]
[null,null,"Indiana","Wayne",null,"Indiana-Wayne",38.159999999999997,112.5,13,null,null,null,null,null,160,0.36694935217903518,0.5536371556291777,0.15508772794480025,1]
[null,null,"Indiana","Wells",null,"Indiana-Wells",35.01,112.5,10,null,null,null,null,null,160,0.37840461933276281,0.13802816185614225,0.27253550863723613,1]
[null,null,"Indiana","White",null,"Indiana-White",35.01,112.5,12,null,null,null,null,null,180,0.24557861635220107,0.12072547447605066,0.22538164251207751,1]
[null,null,"Indiana","Whitley",null,"Indiana-Whitley",35.01,113.6,10,null,null,null,null,null,160,0.32375976562499997,0.47663928352945867,9.1470394736842209E-2,1]
[null,null,"Iowa","Adair",null,"Iowa-Adair",35.01,83,6,null,null,null,null,null,175,0.31555001385425335,1.1612891005640411,0.14130427574171006,0.90175974403723136]
[null,null,"Iowa","Adams",null,"Iowa-Adams",35.01,83,5,null,null,null,null,null,175,0.31022542498152295,0.91969804917847975,0.11039785390012377,0.92014032191498119]
[null,null,"Iowa","Allamakee",null,"Iowa-Allamakee",35.01,88.2,6,null,null,null,null,null,175,0.33533249370277068,2.1532146816606548,9.0258292166549015E-2,0.77872618207480593]
[null,null,"Iowa","Appanoose",null,"Iowa-Appanoose",35.01,84.9,7,null,null,null,null,null,175,0.34437086092715252,0.8573273002826346,8.2820146818923385E-2,0.97887438825448625]
[null,null,"Iowa","Audubon",null,"Iowa-Audubon",35.01,83,4,null,null,null,null,null,175,0.31646371681415947,1.4152963926901043,0.1752455882352941,0.8174632352941178]
[null,null,"Iowa","Benton",null,"Iowa-Benton",35.01,97.7,8,null,null,null,null,null,175,0.27912638580931259,0.58846288656104861,0.18195947242206223,0.92714628297362101]
[null,null,"Iowa","Black Hawk",null,"Iowa-Black Hawk",35.01,97.8,7,null,null,null,null,null,175,0.24081775048841747,0.33947755396781593,0.18687943027492535,0.94392845313017548]
[null,null,"Iowa","Boone",null,"Iowa-Boone",35.01,90.6,6,null,null,null,null,null,175,0.256056179775281,0.27282605430911355,0.1963618652187798,0.99750878313637814]
[null,null,"Iowa","Bremer",null,"Iowa-Bremer",35.01,97.8,8,null,null,null,null,null,175,0.24238611713665942,0.23669533175191432,0.201545239035954,0.95943500592651121]
[null,null,"Iowa","Buchanan",null,"Iowa-Buchanan",35.01,97.8,8,null,null,null,null,null,175,0.24385940539038606,0.3120149775144398,0.17374553846153817,0.92858461538461545]
[null,null,"Iowa","Buena Vista",null,"Iowa-Buena Vista",30.96,84.5,4,null,null,null,null,null,150,0.26383901773533491,0.27140974219566055,0.23254864709268869,0.98736327000575708]
[null,null,"Iowa","Butler",null,"Iowa-Butler",35.01,84.4,7,null,null,null,null,null,150,0.26044755998921532,0.32995282281559424,0.17851012838801711,0.98781740370898719]
[null,null,"Iowa","Calhoun",null,"Iowa-Calhoun",35.01,83,5,null,null,null,null,null,150,0.25923119165293829,0.19140596325294479,0.24870510990579497,0.9983728232943192]
[null,null,"Iowa","Carroll",null,"Iowa-Carroll",35.01,83,5,null,null,null,null,null,175,0.28347000550357737,0.63018432669430913,0.21693366452367033,0.85831092928112229]
[null,null,"Iowa","Cass",null,"Iowa-Cass",35.01,83,6,null,null,null,null,null,175,0.30477545327754518,1.0421865457260546,0.1754179016004743,0.81282454060462384]
[null,null,"Iowa","Cedar",null,"Iowa-Cedar",35.01,96.9,9,null,null,null,null,null,175,0.30045995670995629,0.57089037621864525,0.22391518796992488,0.98661654135338328]
[null,null,"Iowa","Cerro Gordo",null,"Iowa-Cerro Gordo",35.01,83,5,null,null,null,null,null,150,0.25950851717397422,0.31845572985157505,0.19733602875112322,0.99329140461215926]
[null,null,"Iowa","Cherokee",null,"Iowa-Cherokee",25.66,83,4,null,null,null,null,null,150,0.29939628911658817,0.70274690805916029,0.15929203539823003,0.75557522123893772]
[null,null,"Iowa","Chickasaw",null,"Iowa-Chickasaw",35.01,96,8,null,null,null,null,null,150,0.251691823899371,0.29736792208880874,0.19263665142455144,0.97690467815687676]
[null,null,"Iowa","Clarke",null,"Iowa-Clarke",35.01,82.7,7,null,null,null,null,null,175,0.33329201604083142,1.6247125646141214,7.9391897654584279E-2,0.99692963752665253]
[null,null,"Iowa","Clay",null,"Iowa-Clay",25.01,83,4,null,null,null,null,null,150,0.2637028824833707,0.27122228121220271,0.22092848769050394,0.99692262602579129]
[null,null,"Iowa","Clayton",null,"Iowa-Clayton",35.01,88.9,9,null,null,null,null,null,175,0.3356210354000404,1.7297848535670266,8.9385895404120341E-2,0.82701796090861135]
[null,null,"Iowa","Clinton",null,"Iowa-Clinton",35.01,97.8,9,null,null,null,null,null,175,0.32298145179757243,1.5426304134739224,0.18698103792415161,0.97801896207584837]
[null,null,"Iowa","Crawford",null,"Iowa-Crawford",33.32,83,5,null,null,null,null,null,162.88541438880384,0.31847390442633755,1.5605965592212845,0.15162965533194536,0.7583761276891049]
[null,null,"Iowa","Dallas",null,"Iowa-Dallas",35.01,83.7,6,null,null,null,null,null,175,0.26307651006711458,0.47168362327917385,0.19849232158988259,0.9861487503763926]
[null,null,"Iowa","Davis",null,"Iowa-Davis",35.01,97.5,8,null,null,null,null,null,175,0.33497959183673448,1.0768167199200744,7.6608912792931222E-2,0.98079139454475606]
[null,null,"Iowa","Decatur",null,"Iowa-Decatur",35.01,83.6,7,null,null,null,null,null,175,0.33141639729650335,1.2282138876081632,5.6347060894051469E-2,0.99771207321365718]
[null,null,"Iowa","Delaware",null,"Iowa-Delaware",35.01,97.8,8,null,null,null,null,null,175,0.26147354138398926,0.60779027824067167,0.1531199628022317,0.99321140731556101]
[null,null,"Iowa","Des Moines",null,"Iowa-Des Moines",35.01,97.8,9,null,null,null,null,null,175,0.30870622167284717,0.56192650232726238,0.1542815189873418,0.96855696202531638]
[null,null,"Iowa","Dickinson",null,"Iowa-Dickinson",25.01,83,4,null,null,null,null,null,150,0.25624535315985147,0.3178885272530117,0.17049286700414162,1]
[null,null,"Iowa","Dubuque",null,"Iowa-Dubuque",35.01,98.9,9,null,null,null,null,null,175,0.32929125711329504,1.7053164989613763,8.8630769230769069E-2,0.87591025641025655]
[null,null,"Iowa","Emmet",null,"Iowa-Emmet",25.01,83,4,null,null,null,null,null,150,0.24924071082390994,0.378276281823335,0.22813479359730426,0.9974726200505476]
[null,null,"Iowa","Fayette",null,"Iowa-Fayette",35.01,94.4,8,null,null,null,null,null,175,0.26991639871382628,0.64604470965568983,0.1620763838530335,0.94770606719845307]
[null,null,"Iowa","Floyd",null,"Iowa-Floyd",35.01,91.4,7,null,null,null,null,null,150,0.26288840262582069,0.29742808404920146,0.20356545690213856,0.98489954633830201]
[null,null,"Iowa","Franklin",null,"Iowa-Franklin",35.01,83,5,null,null,null,null,null,150,0.26051157781367823,0.41228931276745195,0.19369005353620752,0.98590025359256128]
[null,null,"Iowa","Fremont",null,"Iowa-Fremont",35.01,83.1,6,null,null,null,null,null,175,0.30819070904645501,0.69947063196163728,0.22615909090909073,0.77855371900826398]
[null,null,"Iowa","Greene",null,"Iowa-Greene",35.01,83,5,null,null,null,null,null,175,0.25753778510579817,0.24081963275426385,0.23098029411764714,0.99752941176470589]
[null,null,"Iowa","Grundy",null,"Iowa-Grundy",35.01,95.7,7,null,null,null,null,null,175,0.2788261005307523,0.31849530512422541,0.23899999999999988,0.96545278762487907]
[null,null,"Iowa","Guthrie",null,"Iowa-Guthrie",35.01,83,6,null,null,null,null,null,175,0.28909649826249673,0.99656386801287611,0.12572104644326873,0.89839800117577906]
[null,null,"Iowa","Hamilton",null,"Iowa-Hamilton",35.01,84.7,6,null,null,null,null,null,150,0.26435056056877193,0.24795144779030381,0.25724233661075752,1]
[null,null,"Iowa","Hancock",null,"Iowa-Hancock",35.01,83,6,null,null,null,null,null,150,0.2509299688120214,0.25838655258990845,0.26342462968341568,0.98338658146964864]
[null,null,"Iowa","Hardin",null,"Iowa-Hardin",35.01,87.2,7,null,null,null,null,null,175,0.26929897478525883,0.3076948753940239,0.20949762187871582,0.96266349583828781]
[null,null,"Iowa","Harrison",null,"Iowa-Harrison",32.14,82.8,5,null,null,null,null,null,175,0.31407930720145838,1.0034267698348518,0.19408027104508738,0.81236382590565526]
[null,null,"Iowa","Henry",null,"Iowa-Henry",35.01,97.8,9,null,null,null,null,null,175,0.32615050651230165,0.57528833258935463,0.15917940920938325,0.96043440486533449]
[null,null,"Iowa","Howard",null,"Iowa-Howard",35.01,97.6,6,null,null,null,null,null,150,0.26921999999999985,0.35641089860685582,0.17007229344729324,0.94889601139601143]
[null,null,"Iowa","Humboldt",null,"Iowa-Humboldt",35.01,83,5,null,null,null,null,null,150,0.26645560407569163,0.14268748327037775,0.2637930769230768,0.99692307692307691]
[null,null,"Iowa","Ida",null,"Iowa-Ida",33.729999999999997,83,4,null,null,null,null,null,150,0.31668847691748453,1.2751731060153517,0.22118376550169111,0.70248402856069159]
[null,null,"Iowa","Iowa",null,"Iowa-Iowa",35.01,88.7,8,null,null,null,null,null,175,0.31221804511278195,1.1550253959586436,0.13514164391871394,0.948619957537155]
[null,null,"Iowa","Jackson",null,"Iowa-Jackson",35.01,98,9,null,null,null,null,null,175,0.33671534716884427,2.2154141901311228,7.5096374341493577E-2,0.84064146265881601]
[null,null,"Iowa","Jasper",null,"Iowa-Jasper",35.01,92.4,7,null,null,null,null,null,175,0.30490963855421643,1.0622919569381686,0.13653250547845142,0.95700998295592887]
[null,null,"Iowa","Jefferson",null,"Iowa-Jefferson",35.01,97.8,8,null,null,null,null,null,175,0.34410586552217409,0.74889001604257333,0.14304993429697765,0.94344283837056486]
[null,null,"Iowa","Johnson",null,"Iowa-Johnson",35.01,97.8,8,null,null,null,null,null,175,0.30864769647696494,0.76733702026576167,0.15234642497482323,0.97813024504867407]
[null,null,"Iowa","Jones",null,"Iowa-Jones",35.01,97.8,9,null,null,null,null,null,175,0.30349535772801739,0.99691262161260208,0.13281341107871714,0.87044379656624582]
[null,null,"Iowa","Keokuk",null,"Iowa-Keokuk",35.01,96.9,8,null,null,null,null,null,175,0.32301410743353232,0.91277614799018281,0.13532187112763308,0.96883519206939295]
[null,null,"Iowa","Kossuth",null,"Iowa-Kossuth",30.36,82.4,5,null,null,null,null,null,150,0.25755851755526671,0.21976667855673046,0.24942668918918912,1]
[null,null,"Iowa","Lee",null,"Iowa-Lee",35.01,97.8,9,null,null,null,null,null,175,0.33140781108083534,0.71503890964967187,0.16029297173414814,0.97807486631016038]
[null,null,"Iowa","Linn",null,"Iowa-Linn",35.01,97.8,8.5,null,null,null,null,null,175,0.26744978165938876,0.70519236934301655,0.15131752912489851,0.95859658629097777]
[null,null,"Iowa","Louisa",null,"Iowa-Louisa",35.01,100,9,null,null,null,null,null,175,0.30335619201290848,0.51011730317343174,0.16189491362763903,0.98685220729366596]
[null,null,"Iowa","Lucas",null,"Iowa-Lucas",35.01,93.9,7,null,null,null,null,null,175,0.34480769230769215,1.1605920711264983,5.5164019138755994E-2,0.9750717703349282]
[null,null,"Iowa","Lyon",null,"Iowa-Lyon",25.01,79.8,2.6669999999999998,null,null,null,null,null,150,0.30320437566702213,0.52756302288280965,0.16769699476151106,0.80912599944858032]
[null,null,"Iowa","Madison",null,"Iowa-Madison",35.01,83.3,7,null,null,null,null,null,175,0.32496837262794731,0.89943265692713448,0.13171571072319199,0.92369077306733172]
[null,null,"Iowa","Mahaska",null,"Iowa-Mahaska",35.01,97.8,7.5,null,null,null,null,null,175,0.31458123953098827,0.93059032631844574,0.14335750474984166,0.90031032298923375]
[null,null,"Iowa","Marion",null,"Iowa-Marion",35.01,92.9,6,null,null,null,null,null,175,0.33513830133420114,1.6906498344867633,0.14364128787878766,0.90969318181818204]
[null,null,"Iowa","Marshall",null,"Iowa-Marshall",35.01,86.1,7,null,null,null,null,null,175,0.2973902305159169,0.75874269500748548,0.17352790211877067,0.98519844822441061]
[null,null,"Iowa","Mills",null,"Iowa-Mills",35.01,82.6,4,null,null,null,null,null,175,0.31224187725631758,0.92337657782247706,0.20724472922695336,0.74466308391897451]
[null,null,"Iowa","Mitchell",null,"Iowa-Mitchell",35.01,91.9,7,null,null,null,null,null,150,0.26954180602006717,0.28671124575878226,0.23563462922966144,0.99118070554355653]
[null,null,"Iowa","Monona",null,"Iowa-Monona",25.14,82.8,4,null,null,null,null,null,150,0.29943202554744497,1.3739495805000479,0.19078725058305271,0.9477403472402175]
[null,null,"Iowa","Monroe",null,"Iowa-Monroe",35.01,97.2,7.5,null,null,null,null,null,175,0.34773124544792433,1.4530623065309447,4.7610640301318286E-2,0.97748587570621459]
[null,null,"Iowa","Montgomery",null,"Iowa-Montgomery",35.01,83,6,null,null,null,null,null,175,0.3121902985074626,0.91231104301349675,0.14768930122384535,0.80457954994078185]
[null,null,"Iowa","Muscatine",null,"Iowa-Muscatine",35.01,97.8,9,null,null,null,null,null,175,0.29574498567335267,0.44774622666228758,0.17867413715822505,0.89516808606006282]
[null,null,"Iowa","O'Brien",null,"Iowa-O'Brien",25.01,82.6,2,null,null,null,null,null,150,0.29482372232850518,0.26576968090100667,0.22297165991902826,0.9669519953730481]
[null,null,"Iowa","Osceola",null,"Iowa-Osceola",25.01,83,3,null,null,null,null,null,150,0.26719235364396676,0.23200036566215765,0.22929853862212976,0.98819206680584548]
[null,null,"Iowa","Page",null,"Iowa-Page",35.01,83,6,null,null,null,null,null,175,0.30119811598469243,0.80782429925243415,0.16002156676181392,0.81569933396764949]
[null,null,"Iowa","Palo Alto",null,"Iowa-Palo Alto",27.75,83,5,null,null,null,null,null,150,0.25257046223224322,0.20323867691108966,0.22050625372245378,1]
[null,null,"Iowa","Plymouth",null,"Iowa-Plymouth",25.01,83,2.5,null,null,null,null,null,150,0.33491275899672845,1.166093253468178,0.16398770176787078,0.71711183704842452]
[null,null,"Iowa","Pocahontas",null,"Iowa-Pocahontas",34.72,83,5,null,null,null,null,null,150,0.25327346938775513,0.17995110294535538,0.25334431486880482,0.99244897959183676]
[null,null,"Iowa","Polk",null,"Iowa-Polk",35.01,90,7,null,null,null,null,null,173.48378378378379,0.26433888344760043,0.30790827056658726,0.18725170888620804,0.96325693606755125]
[null,null,"Iowa","Pottawattamie",null,"Iowa-Pottawattamie",33.92,83,5,null,null,null,null,null,175,0.31952404561229542,1.0989663207132445,0.16437217235188506,0.66802154398563718]
[null,null,"Iowa","Poweshiek",null,"Iowa-Poweshiek",35.01,97.8,7.5,null,null,null,null,null,175,0.30618010752688196,1.0658760759428245,0.14207203513909214,0.93508052708638356]
[null,null,"Iowa","Ringgold",null,"Iowa-Ringgold",35.01,83,7,null,null,null,null,null,175,0.330245126993503,1.1762607147329784,7.0584832904884445E-2,0.97270565552699229]
[null,null,"Iowa","Sac",null,"Iowa-Sac",35.01,83.5,5,null,null,null,null,null,150,0.28440239586169347,0.5156464558901328,0.18279495990836192,0.9331701030927837]
[null,null,"Iowa","Scott",null,"Iowa-Scott",35.01,97.8,9,null,null,null,null,null,175,0.30607541899441321,0.95608786427166148,0.17184474272930633,0.98281879194630872]
[null,null,"Iowa","Shelby",null,"Iowa-Shelby",35.01,88,5,null,null,null,null,null,175,0.35839745290528058,1.5589078796362923,0.17237917808219169,0.716693150684931]
[null,null,"Iowa","Sioux",null,"Iowa-Sioux",25.01,83,2.5,null,null,null,null,null,150,0.30539901275195286,0.56068669300268414,0.20244178525226342,0.8373350582147483]
[null,null,"Iowa","Story",null,"Iowa-Story",35.01,83,6.5,null,null,null,null,null,175,0.24794935315166552,0.27616016163448315,0.21980252230083053,0.97474623192863741]
[null,null,"Iowa","Tama",null,"Iowa-Tama",35.01,96.6,8,null,null,null,null,null,175,0.30694130434782635,0.78768559052954701,0.15293429974281011,0.96455459434182833]
[null,null,"Iowa","Taylor",null,"Iowa-Taylor",35.01,83,6,null,null,null,null,null,175,0.31958738579428225,0.9244126363286006,0.11820850523643285,0.89231037765788646]
[null,null,"Iowa","Union",null,"Iowa-Union",35.01,84,7,null,null,null,null,null,175,0.31880934718100906,1.0077960300117053,7.845869655458701E-2,0.95080946450809467]
[null,null,"Iowa","Van Buren",null,"Iowa-Van Buren",35.01,97.2,8,null,null,null,null,null,175,0.34541748206131784,0.72775024130085297,0.11932214194645131,0.97620059498512535]
[null,null,"Iowa","Wapello",null,"Iowa-Wapello",35.01,97.8,8,null,null,null,null,null,175,0.33441572624681459,1.0024195818771715,0.15108108108108095,0.96062441752096928]
[null,null,"Iowa","Warren",null,"Iowa-Warren",35.01,93.5,7,null,null,null,null,null,175,0.33252372975991062,0.79352587402043373,0.12234751542708654,0.95571289379668722]
[null,null,"Iowa","Washington",null,"Iowa-Washington",35.01,97.7,8,null,null,null,null,null,175,0.32278025655326265,0.8140821949354683,0.1582122156435028,0.95964474914303521]
[null,null,"Iowa","Wayne",null,"Iowa-Wayne",35.01,89.6,7,null,null,null,null,null,175,0.33610338573155984,0.97618837713238571,7.2007023411371315E-2,0.98806020066889622]
[null,null,"Iowa","Webster",null,"Iowa-Webster",35.01,87.4,5,null,null,null,null,null,150,0.2605809780170481,0.21120945524914497,0.21712703175793951,0.9960840210052514]
[null,null,"Iowa","Winnebago",null,"Iowa-Winnebago",35.01,84,6,null,null,null,null,null,150,0.25837515425750701,0.2472284133617019,0.21437620967741922,0.99733870967741944]
[null,null,"Iowa","Winneshiek",null,"Iowa-Winneshiek",35.01,84.6,8,null,null,null,null,null,150,0.31558763355308045,1.2950971047454125,0.1028165950590762,0.90229591836734668]
[null,null,"Iowa","Woodbury",null,"Iowa-Woodbury",25.05,83,2.75,null,null,null,null,null,150,0.34483215387407018,1.2202865663208264,0.14308042789223449,0.89570919175911212]
[null,null,"Iowa","Worth",null,"Iowa-Worth",35.01,83.3,6,null,null,null,null,null,150,0.2574091627172197,0.25311272434318233,0.22165322580645144,0.997962648556876]
[null,null,"Iowa","Wright",null,"Iowa-Wright",35.01,83,6,null,null,null,null,null,150,0.25954706684856743,0.19254587606580573,0.24443197955126406,0.99304174950298207]
[null,null,"Kansas","Allen",null,"Kansas-Allen",42.71,81,9,null,null,null,null,null,225,0.36875478927203031,0.22158495220431268,0.10733868092691615,0.92057040998217476]
[null,null,"Kansas","Anderson",null,"Kansas-Anderson",35.880000000000003,82.4,9,null,null,null,null,null,225,0.37683769916284082,0.28003549183909748,0.11005340095465389,0.90862171837708816]
[null,null,"Kansas","Atchison",null,"Kansas-Atchison",35.01,80.5,8,null,null,null,null,null,200,0.33895833333333342,0.84430277146706922,0.13790386266094404,0.79867811158798074]
[null,null,"Kansas","Barber",null,"Kansas-Barber",25.01,53.4,2,null,null,null,null,null,175,0.30479201798763356,0.62120523724903809,6.1929010141408322E-2,0.91314097986002007]
[null,null,"Kansas","Barton",null,"Kansas-Barton",25.01,62.4,1,null,null,null,null,null,150,0.31618457049060716,0.20865026502368475,0.15382619502868067,0.88608030592734277]
[null,null,"Kansas","Bourbon",null,"Kansas-Bourbon",45,83,9,null,null,null,null,null,225,0.34241422178020992,0.28978205158090475,9.0112616681722324E-2,0.9738030713640472]
[null,null,"Kansas","Brown",null,"Kansas-Brown",35.01,83,7,null,null,null,null,null,200,0.32640533778148551,0.54650008093129909,0.17012309567336989,0.63625837903717208]
[null,null,"Kansas","Butler",null,"Kansas-Butler",35.01,70.3,6.5,null,null,null,null,null,225,0.33857613636363659,0.28505214794178807,6.6088998318520192E-2,0.9765313475858759]
[null,null,"Kansas","Chase",null,"Kansas-Chase",35.01,70.599999999999994,7,null,null,null,null,null,225,0.31213262382316842,0.57731572099366268,3.5761675392670181E-2,0.99660732984293199]
[null,null,"Kansas","Chautauqua",null,"Kansas-Chautauqua",35.01,78.400000000000006,7.5,null,null,null,null,null,250,0.30845264452644655,0.83807913264904588,4.5215477560414323E-2,0.99631760644418876]
[null,null,"Kansas","Cherokee",null,"Kansas-Cherokee",45,83.1,9,null,null,null,null,null,250,0.39384702549575051,0.27149830365753952,0.16674593892137748,0.95730994152046778]
[null,null,"Kansas","Cheyenne",null,"Kansas-Cheyenne",16.43,56.1,0.2,null,null,null,null,null,100,0.34633379352661414,0.76093288220621813,9.8557189798154213E-2,0.94623689563448621]
[null,null,"Kansas","Clark",null,"Kansas-Clark",25.01,45,0.5,null,null,null,null,null,125,0.28946912590216595,0.69756104983325451,7.6089935064935027E-2,0.94555194805194875]
[null,null,"Kansas","Clay",null,"Kansas-Clay",34.46,69.2,4.5,null,null,null,null,null,175,0.34522698127725121,0.42780222491700826,0.1470877955966291,0.75911932590378084]
[null,null,"Kansas","Cloud",null,"Kansas-Cloud",26.76,72.3,3,null,null,null,null,null,175,0.31928602908770382,0.52310830958307375,0.14326694139194149,0.88832417582417578]
[null,null,"Kansas","Coffey",null,"Kansas-Coffey",35.01,69.900000000000006,8,null,null,null,null,null,225.35288391336093,0.38115814696485534,0.27416505208715353,0.12852343274497885,0.88158855751673781]
[null,null,"Kansas","Comanche",null,"Kansas-Comanche",25.01,45,1,null,null,null,null,null,150,0.28830579335058976,0.50135623384064276,6.8584665183087076E-2,0.93097309326320066]
[null,null,"Kansas","Cowley",null,"Kansas-Cowley",35.01,68.5,6,null,null,null,null,null,225,0.33927454571066362,0.49564031278957271,8.9549545454545826E-2,0.92033333333333289]
[null,null,"Kansas","Crawford",null,"Kansas-Crawford",45,82.4,9,null,null,null,null,null,250,0.38786037836397497,0.48101972333337961,0.14803193076693519,0.90319307669352433]
[null,null,"Kansas","Decatur",null,"Kansas-Decatur",24.99,60.2,0.5,null,null,null,null,null,125,0.34018076518076484,0.65699695483556664,9.6144677795727912E-2,0.76826422545323969]
[null,null,"Kansas","Dickinson",null,"Kansas-Dickinson",34.93,75,5,null,null,null,null,null,200,0.32579729221511755,0.33888921418078521,0.14703618354558334,0.79480493228219296]
[null,null,"Kansas","Doniphan",null,"Kansas-Doniphan",35.01,83,7.3330000000000002,null,null,null,null,null,200,0.31132750728256248,1.4080067843925779,0.19081757081132955,0.79798367738838338]
[null,null,"Kansas","Douglas",null,"Kansas-Douglas",35.01,83,8,null,null,null,null,null,200,0.3332296179598272,0.4517213579604285,0.12211377820451251,0.94387902064330342]
[null,null,"Kansas","Edwards",null,"Kansas-Edwards",25.01,67.8,1,null,null,null,null,null,150,0.25455300931755265,0.21414104923100291,0.11935098140495812,0.96895661157024826]
[null,null,"Kansas","Elk",null,"Kansas-Elk",35.01,81.5,8,null,null,null,null,null,250,0.33500245098039405,0.60587772111856053,5.5830183657173411E-2,0.98977907905243578]
[null,null,"Kansas","Ellis",null,"Kansas-Ellis",25.01,62.8,1,null,null,null,null,null,150,0.30708927628103549,0.54298977670255189,0.11226982120281735,0.87709951237132022]
[null,null,"Kansas","Ellsworth",null,"Kansas-Ellsworth",25.01,62.7,2,null,null,null,null,null,174.87530616789132,0.31209259683703916,0.62549289632954286,8.522407945736335E-2,0.88883236434108626]
[null,null,"Kansas","Finney",null,"Kansas-Finney",17.48,45.6,0.2,null,null,null,null,null,125,0.2684311802917026,0.30045499956315275,0.14181684290030225,0.92905337361530738]
[null,null,"Kansas","Ford",null,"Kansas-Ford",25.01,57.8,0.5,null,null,null,null,null,125,0.30744099021301075,0.26831818568560978,0.15493714793951965,0.88820041506077652]
[null,null,"Kansas","Franklin",null,"Kansas-Franklin",35.01,82.4,8,null,null,null,null,null,225.14158094206823,0.37443741403026243,0.32799828066551329,0.11875776196636419,0.87736093143596372]
[null,null,"Kansas","Geary",null,"Kansas-Geary",35.01,83,5.5,null,null,null,null,null,200,0.33264141898370092,1.1162407510099481,6.6460242232754138E-2,0.92343338599262781]
[null,null,"Kansas","Gove",null,"Kansas-Gove",24.04,48.3,0.35,null,null,null,null,null,125,0.31412887127550304,0.35454462251155533,0.13175180072028808,0.80438175270108037]
[null,null,"Kansas","Graham",null,"Kansas-Graham",25.01,48.7,0.5,null,null,null,null,null,125,0.31722251263286272,0.57183508403655114,9.8751030650654228E-2,0.80236601541494901]
[null,null,"Kansas","Grant",null,"Kansas-Grant",16,45,0.1,null,null,null,null,null,100,0.29401700027419791,0.21059670265519609,0.16381360697216757,0.97908349732920985]
[null,null,"Kansas","Gray",null,"Kansas-Gray",24.15,45,0.15,null,null,null,null,null,125,0.29053946415640852,0.25459040241757247,0.15353523738872418,0.92737388724035597]
[null,null,"Kansas","Greeley",null,"Kansas-Greeley",16,45,0.2,null,null,null,null,null,100,0.32205941389000459,0.16983522707631163,0.14683645240032547,0.96285598047192833]
[null,null,"Kansas","Greenwood",null,"Kansas-Greenwood",35.01,74.400000000000006,8,null,null,null,null,null,225,0.34211695248805174,0.58588121307019969,3.1684625891637619E-2,0.99547731066929723]
[null,null,"Kansas","Hamilton",null,"Kansas-Hamilton",16,45,0.13300000000000001,null,null,null,null,null,100,0.32904216961906163,0.31435744775722507,0.10300781499202574,0.94886762360446519]
[null,null,"Kansas","Harper",null,"Kansas-Harper",25.19,59.8,3,null,null,null,null,null,200.09252045188936,0.31181443703413397,0.24951653759651488,0.14727220863895757,0.82595762021189822]
[null,null,"Kansas","Harvey",null,"Kansas-Harvey",35.01,68,4.5,null,null,null,null,null,200,0.31867534003548176,0.18568396264655931,0.16515872020075281,0.89698870765370131]
[null,null,"Kansas","Haskell",null,"Kansas-Haskell",16,45,0.2,null,null,null,null,null,125,0.30640519340005423,0.134384719894902,0.17719051580698764,0.98657792567942315]
[null,null,"Kansas","Hodgeman",null,"Kansas-Hodgeman",25,49.3,0.5,null,null,null,null,null,125,0.31013160299762427,0.28298929901627778,0.14067265581134147,0.84693992139247698]
[null,null,"Kansas","Jackson",null,"Kansas-Jackson",35.01,82.2,7,null,null,null,null,null,200,0.3406960057402541,0.67996659776749191,7.7815376285868959E-2,0.90898754737412069]
[null,null,"Kansas","Jefferson",null,"Kansas-Jefferson",35.01,83,8,null,null,null,null,null,200,0.33438401048492911,0.55875468074989687,0.13531745426829261,0.84695121951219499]
[null,null,"Kansas","Jewell",null,"Kansas-Jewell",25.01,68.8,2,null,null,null,null,null,150,0.31324277255311722,0.56363249415934402,0.13105795768169282,0.85676172953081897]
[null,null,"Kansas","Johnson",null,"Kansas-Johnson",35.01,82.1,9,null,null,null,null,null,200,0.3524732069249803,0.44905667693472384,0.12656559766763839,0.93224489795918375]
[null,null,"Kansas","Kearny",null,"Kansas-Kearny",16,45,0.1,null,null,null,null,null,100,0.26841944194419404,0.26506864002247665,0.12224384461061449,0.93926682473098655]
[null,null,"Kansas","Kingman",null,"Kansas-Kingman",25.02,65.7,3,null,null,null,null,null,175,0.25080131123656901,0.31561540649865949,0.11712856333773833,0.85697564659241088]
[null,null,"Kansas","Kiowa",null,"Kansas-Kiowa",25.01,61.4,1,null,null,null,null,null,150.04107220060527,0.26526007802340701,0.47902415836575707,9.44269187986648E-2,0.94976640711902127]
[null,null,"Kansas","Labette",null,"Kansas-Labette",45,83,9,null,null,null,null,null,250,0.3744250960307311,0.25507041101112077,0.12322296173044878,0.96389351081530861]
[null,null,"Kansas","Lane",null,"Kansas-Lane",24.73,45.3,0.2,null,null,null,null,null,125,0.31551513831409278,0.31305792151810541,0.1526718334809565,0.82661647475642175]
[null,null,"Kansas","Leavenworth",null,"Kansas-Leavenworth",35.01,83,8,null,null,null,null,null,200,0.33553980370774333,0.84014509201532717,0.11811474632527259,0.95912754860123228]
[null,null,"Kansas","Lincoln",null,"Kansas-Lincoln",25.01,65.2,2,null,null,null,null,null,150,0.30851472191930257,0.65492656454968368,0.11083941441441442,0.83148648648648682]
[null,null,"Kansas","Linn",null,"Kansas-Linn",43.5,81.900000000000006,9,null,null,null,null,null,225,0.36444298130102681,0.32082255160983836,0.11663400673400666,0.92303030303030309]
[null,null,"Kansas","Logan",null,"Kansas-Logan",16,47.6,0.15,null,null,null,null,null,100,0.33230231542158151,0.51447731930486607,0.11501099881093939,0.80564060642092739]
[null,null,"Kansas","Lyon",null,"Kansas-Lyon",35.01,77.599999999999994,7.5,null,null,null,null,null,225,0.36890657570589347,0.32954339706581171,0.10287704071089074,0.93068815871047728]
[null,null,"Kansas","Marion",null,"Kansas-Marion",35.01,69.099999999999994,5.5,null,null,null,null,null,200,0.3410095473833103,0.25929163814055212,0.14693253597458447,0.93333956269856089]
[null,null,"Kansas","Marshall",null,"Kansas-Marshall",35.01,71.2,5.5,null,null,null,null,null,200,0.3226442794465072,0.32404429723814887,0.14223903203342628,0.95362116991643464]
[null,null,"Kansas","McPherson",null,"Kansas-McPherson",29.56,68.099999999999994,3.5,null,null,null,null,null,175,0.34861568419188987,0.53886611473296409,0.15918852304797793,0.74164628410160216]
[null,null,"Kansas","Meade",null,"Kansas-Meade",24.99,45,0.5,null,null,null,null,null,125,0.2863110539845754,0.31543563371159639,0.10801961738002595,0.94690337224383914]
[null,null,"Kansas","Miami",null,"Kansas-Miami",36.869999999999997,82.4,9,null,null,null,null,null,225,0.36990354609929083,0.45726795116659352,8.9556894243641022E-2,0.94728915662650637]
[null,null,"Kansas","Mitchell",null,"Kansas-Mitchell",25.01,65.7,2,null,null,null,null,null,150,0.31791521080829221,0.45827025031326563,0.17223887814313341,0.9113152804642165]
[null,null,"Kansas","Montgomery",null,"Kansas-Montgomery",40.01,83,8,null,null,null,null,null,250,0.34516103692066047,0.34577278942536882,0.11443978102189764,0.95425790754257944]
[null,null,"Kansas","Morris",null,"Kansas-Morris",35.01,81.900000000000006,4,null,null,null,null,null,200,0.33219740141326798,0.43976480797836531,8.795796722868697E-2,0.93443362621705162]
[null,null,"Kansas","Morton",null,"Kansas-Morton",16,45,0.1,null,null,null,null,null,100,0.2778027535824672,0.18481347817397889,0.1341774101540219,0.96525955504848804]
[null,null,"Kansas","Nemaha",null,"Kansas-Nemaha",35.01,79.8,6,null,null,null,null,null,200,0.33476169461606464,0.57982114092434955,0.12866848470476619,0.78119516243775522]
[null,null,"Kansas","Neosho",null,"Kansas-Neosho",45,83,7,null,null,null,null,null,250,0.36953098351335956,0.27915355464250963,0.12075337186897865,0.95199100834938966]
[null,null,"Kansas","Ness",null,"Kansas-Ness",25.01,45.8,0.5,null,null,null,null,null,125,0.32308888237019978,0.27942638669377579,0.11398565236885394,0.82315050067254536]
[null,null,"Kansas","Norton",null,"Kansas-Norton",25.01,61.8,1.167,null,null,null,null,null,125,0.32149563318777308,1.0560767795628083,0.11551640432391423,0.80219988621278437]
[null,null,"Kansas","Osage",null,"Kansas-Osage",35.01,78.2,7,null,null,null,null,null,225,0.36099903006789597,0.4248830704206516,8.7560416110962588E-2,0.90586823152840878]
[null,null,"Kansas","Osborne",null,"Kansas-Osborne",25.01,56.3,2,null,null,null,null,null,150,0.30688920204333237,0.94845861199879222,0.11847017929015725,0.90504939626783754]
[null,null,"Kansas","Ottawa",null,"Kansas-Ottawa",25.63,66.3,3.5,null,null,null,null,null,175,0.32447102721685817,0.46595861636272928,0.11234385803180397,0.91417377275870115]
[null,null,"Kansas","Pawnee",null,"Kansas-Pawnee",25.01,62.6,1,null,null,null,null,null,150,0.28988512949039336,0.23298725518389199,0.14929727993146275,0.87217819661597928]
[null,null,"Kansas","Phillips",null,"Kansas-Phillips",25.01,67.900000000000006,1,null,null,null,null,null,125,0.31820403067594066,0.59416672665073089,0.10572171028381856,0.80954662734979754]
[null,null,"Kansas","Pottawatomie",null,"Kansas-Pottawatomie",35.01,75.400000000000006,6,null,null,null,null,null,200,0.33416539343009832,0.94687723734824292,6.5414196242170888E-2,0.94459290187891509]
[null,null,"Kansas","Pratt",null,"Kansas-Pratt",25.01,68,2,null,null,null,null,null,150,0.24560887182768271,0.38843288392036335,0.15794349656547732,0.88242853977398683]
[null,null,"Kansas","Rawlins",null,"Kansas-Rawlins",24.02,67.5,0.2,null,null,null,null,null,100,0.35443681519357173,1.0692521111677777,0.10599955303933249,0.83733611442193101]
[null,null,"Kansas","Reno",null,"Kansas-Reno",26.65,68,2.5,null,null,null,null,null,175,0.25843190310526926,0.19923674843472353,0.14623958896700925,0.95370470524607864]
[null,null,"Kansas","Republic",null,"Kansas-Republic",27.67,70.8,3,null,null,null,null,null,175,0.33749452474813924,0.56482288485585297,0.16084723827131955,0.9146752946614285]
[null,null,"Kansas","Rice",null,"Kansas-Rice",25.01,60.9,2,null,null,null,null,null,175,0.30544133832269416,0.22959340788390561,0.1804419289110254,0.91618745755037345]
[null,null,"Kansas","Riley",null,"Kansas-Riley",35.01,77,5.5,null,null,null,null,null,200,0.34951312154696301,1.0019266640715319,7.6264129615673998E-2,0.89856819894498829]
[null,null,"Kansas","Rooks",null,"Kansas-Rooks",25.01,65,1,null,null,null,null,null,125,0.30945217701641664,0.51313052421197425,0.11540473986298834,0.77852249583410471]
[null,null,"Kansas","Rush",null,"Kansas-Rush",25.01,59.9,1,null,null,null,null,null,150,0.32296885210193865,0.26954322124834845,0.14639032620922368,0.77487064116985394]
[null,null,"Kansas","Russell",null,"Kansas-Russell",25.01,66.900000000000006,1,null,null,null,null,null,150,0.31189238653001466,0.75678321247413138,9.2939481268011534E-2,0.92167146974063408]
[null,null,"Kansas","Saline",null,"Kansas-Saline",27.4,67.599999999999994,3.5,null,null,null,null,null,175,0.32075036425449216,0.4326194249502085,0.14956583629893228,0.907473309608541]
[null,null,"Kansas","Scott",null,"Kansas-Scott",18.62,50.9,0.15,null,null,null,null,null,125,0.31375246440306664,0.19724633457946636,0.1634538098449089,0.95599011013710966]
[null,null,"Kansas","Sedgwick",null,"Kansas-Sedgwick",33.69,68.099999999999994,4.5,null,null,null,null,null,200,0.32526147479307849,0.18871230004388959,0.17739888337468995,0.83134822167080236]
[null,null,"Kansas","Seward",null,"Kansas-Seward",16.739999999999998,45,0.2,null,null,null,null,null,125,0.24406194913120074,0.44135136334083297,0.11726445423904543,0.99911848586984697]
[null,null,"Kansas","Shawnee",null,"Kansas-Shawnee",35.01,83,7,null,null,null,null,null,200,0.34429284525790466,0.50924403842266919,9.9581659719590529E-2,0.9315649867374004]
[null,null,"Kansas","Sheridan",null,"Kansas-Sheridan",23.57,58.1,0.5,null,null,null,null,null,125,0.32279252532308739,0.34558236725389374,0.14184490740740746,0.83438390313390309]
[null,null,"Kansas","Sherman",null,"Kansas-Sherman",16,60.1,0.1,null,null,null,null,null,100,0.33132613837965719,0.31202545814135235,0.15608951406649621,0.91752670377613954]
[null,null,"Kansas","Smith",null,"Kansas-Smith",25.01,64.8,2,null,null,null,null,null,150,0.31374584862786215,0.5261669695598854,0.12466475379489071,0.77004813032210284]
[null,null,"Kansas","Stafford",null,"Kansas-Stafford",25.01,68,1.5,null,null,null,null,null,150,0.22761215932914033,0.21599139609628232,0.15680705482362944,1]
[null,null,"Kansas","Stanton",null,"Kansas-Stanton",16,45,0.1,null,null,null,null,null,100,0.31107035755478674,0.19525201411752582,0.15642930711610489,0.98361423220973787]
[null,null,"Kansas","Stevens",null,"Kansas-Stevens",16,45,0.2,null,null,null,null,null,100.09452201933405,0.22468634686346778,0.23129832382184257,0.14695547186530766,0.99849357554275586]
[null,null,"Kansas","Sumner",null,"Kansas-Sumner",34.21,67.900000000000006,4.5,null,null,null,null,null,200,0.36740076994557258,0.22025215451742766,0.18711872017962283,0.90296098793151847]
[null,null,"Kansas","Thomas",null,"Kansas-Thomas",16,61.9,0.15,null,null,null,null,null,100,0.32570908030899631,0.25980202162803778,0.15011469696969676,0.91321212121212103]
[null,null,"Kansas","Trego",null,"Kansas-Trego",25.01,49.9,0.5,null,null,null,null,null,125,0.29937522186723431,0.46561241474094223,0.11321833180568308,0.80227314390467253]
[null,null,"Kansas","Wabaunsee",null,"Kansas-Wabaunsee",35.01,81,4,null,null,null,null,null,200,0.32608041196276477,0.93955878310490115,3.9253743935878528E-2,0.98424383041552421]
[null,null,"Kansas","Wallace",null,"Kansas-Wallace",16,46.9,0.2,null,null,null,null,null,100,0.3322937350222519,0.40746106736591742,0.11810476685734074,0.95226209048361976]
[null,null,"Kansas","Washington",null,"Kansas-Washington",34.619999999999997,70.7,4,null,null,null,null,null,175,0.3427280748191277,0.56599173783111922,0.13428693505507031,0.78514052411697621]
[null,null,"Kansas","Wichita",null,"Kansas-Wichita",16,45,0.13300000000000001,null,null,null,null,null,100,0.31690750816104529,0.14767972521751219,0.13705027808676343,0.9681868743047829]
[null,null,"Kansas","Wilson",null,"Kansas-Wilson",37.36,81.5,7,null,null,null,null,null,250,0.35504417448923187,0.34106915648774089,0.11698942457231692,0.96242612752721624]
[null,null,"Kansas","Woodson",null,"Kansas-Woodson",38.83,78.599999999999994,8,null,null,null,null,null,225,0.37966112531969365,0.28023724025661889,8.9406624383368452E-2,0.92011980267794169]
[null,null,"Kansas","Wyandotte",null,"Kansas-Wyandotte",35.01,82.2,9,null,null,null,null,null,200,0.32646502835538738,0.78964895335807028,0.15971864406779668,0.98576271186440678]
[null,null,"Kentucky","Adair",null,"Kentucky-Adair",60,112.1,22,null,null,null,null,null,200,0.3248790487904884,2.0387505975782387,3.6162952646239567E-2,0.98161559888579386]
[null,null,"Kentucky","Allen",null,"Kentucky-Allen",60,112.3,21,null,null,null,null,null,175,0.30933147632311958,1.3576998886605729,3.6277689873417764E-2,0.997626582278481]
[null,null,"Kentucky","Anderson",null,"Kentucky-Anderson",45,112.5,16,null,null,null,null,null,175,0.29378442171518476,2.9865257358515103,3.743908969210176E-2,0.99263721552878181]
[null,null,"Kentucky","Ballard",null,"Kentucky-Ballard",45,97.8,18,null,null,null,null,null,250,0.45791072535647853,0.81837823772891383,0.14623193277310928,1]
[null,null,"Kentucky","Barren",null,"Kentucky-Barren",60,112.5,21,null,null,null,null,null,200,0.33274991805965237,1.4648002482332179,3.4981007431874524E-2,0.92213047068538401]
[null,null,"Kentucky","Bath",null,"Kentucky-Bath",45,112.5,15.5,null,null,null,null,null,175,0.34412337662337666,2.7178792012402084,6.908283898305087E-2,1]
[null,null,"Kentucky","Bell",null,"Kentucky-Bell",60,135,25.5,null,null,null,null,null,150,0.25907795100222714,11.922328317433456,0.51784158415841586,1]
[null,null,"Kentucky","Boone",null,"Kentucky-Boone",45,112.2,15,null,null,null,null,null,175,0.40012140575079874,2.2550286050597119,3.6063356164383553E-2,0.9845890410958904]
[null,null,"Kentucky","Bourbon",null,"Kentucky-Bourbon",45,112.5,18,null,null,null,null,null,175,0.36322984749455361,1.1789848130002105,4.5269207861822543E-2,0.96173317450863605]
[null,null,"Kentucky","Boyd",null,"Kentucky-Boyd",45,134.4,15.667,null,null,null,null,null,150.8678881388621,0.3846862745098043,5.4844566103600432,2.4606299212598413E-2,0.9826771653543307]
[null,null,"Kentucky","Boyle",null,"Kentucky-Boyle",45.97,112.4,20,null,null,null,null,null,199.82905982905982,0.34255834053586942,1.6792836219158507,5.8715189873417735E-2,0.95658227848101274]
[null,null,"Kentucky","Bracken",null,"Kentucky-Bracken",45,113.3,16,null,null,null,null,null,175.05680119581464,0.20986852281515864,3.4414753248824375,3.2931547619047624E-2,0.99144345238095233]
[null,null,"Kentucky","Breathitt",null,"Kentucky-Breathitt",45,112.5,19,null,null,null,null,null,150,0.30675761421319764,5.743223393836538,3.1371607515657617E-2,0.97077244258872653]
[null,null,"Kentucky","Breckinridge",null,"Kentucky-Breckinridge",45.07,111.7,15,null,null,null,null,null,175,0.37960261141072904,1.6257053414181417,3.5082185039370148E-2,0.99084645669291338]
[null,null,"Kentucky","Bullitt",null,"Kentucky-Bullitt",45,113.1,15,null,null,null,null,null,175,0.39141420911528141,0.8212023457843689,6.3417298937784528E-2,1]
[null,null,"Kentucky","Butler",null,"Kentucky-Butler",49.19,112.5,18,null,null,null,null,null,175,0.36904727272727267,1.1966880179011818,0.10375469075747022,0.99739402362751906]
[null,null,"Kentucky","Caldwell",null,"Kentucky-Caldwell",48.77,103.2,18,null,null,null,null,null,200,0.37754217966256237,0.93872961548233402,4.7717391304347843E-2,0.9853823088455772]
[null,null,"Kentucky","Calloway",null,"Kentucky-Calloway",60,103.6,15.5,null,null,null,null,null,200,0.41259877800407341,0.59792383899797596,9.6585365853658497E-2,1]
[null,null,"Kentucky","Campbell",null,"Kentucky-Campbell",45,112.5,15,null,null,null,null,null,175,0.40009646302250823,3.5866192035962587,2.841330645161292E-2,1]
[null,null,"Kentucky","Carlisle",null,"Kentucky-Carlisle",51.67,97.8,18.667000000000002,null,null,null,null,null,250,0.44496362166531955,0.64983050768497541,0.13963824884792633,1]
[null,null,"Kentucky","Carroll",null,"Kentucky-Carroll",45,112.5,16,null,null,null,null,null,175,0.32297029702970315,2.3705414562881906,7.9093676814988245E-2,0.95597189695550344]
[null,null,"Kentucky","Carter",null,"Kentucky-Carter",45,118.7,16,null,null,null,null,null,150,0.37904799682665707,3.2028068138316907,5.2320113314447594E-2,0.9872521246458924]
[null,null,"Kentucky","Casey",null,"Kentucky-Casey",59.94,112.5,18,null,null,null,null,null,200,0.34257939308397994,1.1928635620704713,5.8520849128127363E-2,0.95117513267626985]
[null,null,"Kentucky","Christian",null,"Kentucky-Christian",53.47,108.9,16.600000000000001,null,null,null,null,null,176.86087727071333,0.37194023193577158,0.70413980915531682,0.1080028901734104,0.98780708092485547]
[null,null,"Kentucky","Clark",null,"Kentucky-Clark",45,111.9,18,null,null,null,null,null,175,0.34996905940594059,1.5479266964229836,5.8911296436694446E-2,0.96944655041698258]
[null,null,"Kentucky","Clay",null,"Kentucky-Clay",46.79,114.8,23,null,null,null,null,null,175,0.28709312839059675,2.8342659720611367,2.4386503067484664E-2,1]
[null,null,"Kentucky","Clinton",null,"Kentucky-Clinton",60,101.3,24,null,null,null,null,null,200,0.35086846543001693,1.6463098549682327,6.6372742200328419E-2,0.96683087027914605]
[null,null,"Kentucky","Crittenden",null,"Kentucky-Crittenden",45,97.8,16.667000000000002,null,null,null,null,null,200,0.41882117437722433,0.75750148200449618,0.10853749013417524,0.98855564325177581]
[null,null,"Kentucky","Cumberland",null,"Kentucky-Cumberland",60,98.4,22,null,null,null,null,null,200,0.32565747613997897,1.7860719913657686,8.0083140877598186E-2,0.96304849884526555]
[null,null,"Kentucky","Daviess",null,"Kentucky-Daviess",45,97.9,18,null,null,null,null,null,200,0.40879220327184113,0.51726477041203012,0.26789522960320988,0.99375835934016943]
[null,null,"Kentucky","Edmonson",null,"Kentucky-Edmonson",60,112.5,20,null,null,null,null,null,200,0.36332640332640309,1.775273579744074,5.2550769230769234E-2,1]
[null,null,"Kentucky","Elliott",null,"Kentucky-Elliott",45,112.5,16,null,null,null,null,null,150,0.31833333333333325,5.0872901875793088,5.8731625835189351E-2,0.93318485523385286]
[null,null,"Kentucky","Estill",null,"Kentucky-Estill",45,111.7,16,null,null,null,null,null,175,0.35134860050890576,1.8268723365735915,5.8545871559633027E-2,0.96444954128440363]
[null,null,"Kentucky","Fayette",null,"Kentucky-Fayette",45,110.8,18,null,null,null,null,null,175,0.34692699490662132,0.7180162949036154,3.3567956795679595E-2,0.98042304230423039]
[null,null,"Kentucky","Fleming",null,"Kentucky-Fleming",45,112.5,14.5,null,null,null,null,null,175,0.34772259507829961,2.3767444320182793,5.4765095003518671E-2,0.95816326530612239]
[null,null,"Kentucky","Floyd",null,"Kentucky-Floyd",45,112.5,16,null,null,null,null,null,150,0.24240066917607703,11.869940788212185,3.8373540856031126E-2,1]
[null,null,"Kentucky","Franklin",null,"Kentucky-Franklin",45,112.5,18,null,null,null,null,null,175,0.29696696696696706,1.6618433551211287,3.9139673105497798E-2,0.98142644873699847]
[null,null,"Kentucky","Fulton",null,"Kentucky-Fulton",56.93,98,20,null,null,null,null,null,250,0.43838044308632618,0.50415607752166369,0.2026516064257029,0.98684738955823292]
[null,null,"Kentucky","Gallatin",null,"Kentucky-Gallatin",45,112.5,16,null,null,null,null,null,175,0.24256451612903215,3.9335336264876486,4.9077922077922102E-2,0.97056277056277052]
[null,null,"Kentucky","Garrard",null,"Kentucky-Garrard",45,103.3,20,null,null,null,null,null,200,0.35021754385964898,2.3648911775087744,2.6412438625204631E-2,0.98453355155482802]
[null,null,"Kentucky","Grant",null,"Kentucky-Grant",45,119.6,16,null,null,null,null,null,175,0.28032569360675508,4.7087470980289385,2.8253801169590649E-2,0.99590643274853796]
[null,null,"Kentucky","Graves",null,"Kentucky-Graves",59.89,98,20,null,null,null,null,null,250,0.45311155152888033,0.44976061980109894,0.10238319907940166,1]
[null,null,"Kentucky","Grayson",null,"Kentucky-Grayson",54.66,111.9,20,null,null,null,null,null,175,0.35608934930398167,1.261254434064504,4.7134236453202E-2,0.98833128078817734]
[null,null,"Kentucky","Green",null,"Kentucky-Green",60,112.2,21,null,null,null,null,null,200,0.35944868995633211,1.1290366322224594,8.6596604688763179E-2,0.94632174616006481]
[null,null,"Kentucky","Greenup",null,"Kentucky-Greenup",43.74,118.7,16,null,null,null,null,null,150.440722785368,0.37655923740354053,1.1372848627960683,3.4349246231155761E-2,0.98894472361809049]
[null,null,"Kentucky","Hancock",null,"Kentucky-Hancock",45,107.5,15,null,null,null,null,null,200,0.39571190674437967,1.5806501487099682,8.3349480968858108E-2,1]
[null,null,"Kentucky","Hardin",null,"Kentucky-Hardin",45.56,109.6,20,null,null,null,null,null,200,0.36075455333911505,0.83590922813767876,4.6756918819188205E-2,0.8891374538745388]
[null,null,"Kentucky","Harlan",null,"Kentucky-Harlan",57.96,130,24.428999999999998,null,null,null,null,null,150,0.21611033028812354,12.804292941649402,0.74412499999999981,1]
[null,null,"Kentucky","Harrison",null,"Kentucky-Harrison",45,112.5,15.5,null,null,null,null,null,175,0.31242639593908661,2.359352719696544,4.3998577524893251E-2,0.97027027027027035]
[null,null,"Kentucky","Hart",null,"Kentucky-Hart",59.77,109.2,18,null,null,null,null,null,200,0.3233802816901406,2.1601903995517504,4.1819047619047561E-2,0.98769230769230776]
[null,null,"Kentucky","Henderson",null,"Kentucky-Henderson",45,99.3,15.667,null,null,null,null,null,200,0.41745155393053002,0.35899943421835689,0.21179735682819401,1]
[null,null,"Kentucky","Henry",null,"Kentucky-Henry",45,112.5,18,null,null,null,null,null,175.41621911922664,0.38692475463467829,1.1954289628960484,4.8946910356831984E-2,0.95530896431679735]
[null,null,"Kentucky","Hickman",null,"Kentucky-Hickman",59.31,97.8,20,null,null,null,null,null,250,0.46048655569782337,1.0079769376752943,0.15922085385878487,0.95771756978653533]
[null,null,"Kentucky","Hopkins",null,"Kentucky-Hopkins",45,105.2,12,null,null,null,null,null,200,0.38832085253456167,1.1530213511287,0.12330019029495709,1]
[null,null,"Kentucky","Jackson",null,"Kentucky-Jackson",45.15,112.5,20,null,null,null,null,null,175,0.31945487583282872,2.8215410266832905,5.7230046948356789E-3,1]
[null,null,"Kentucky","Jefferson",null,"Kentucky-Jefferson",45,111.6,20,null,null,null,null,null,175,0.37282559456398678,0.86316648770765303,3.2467966573816169E-2,0.98607242339832868]
[null,null,"Kentucky","Jessamine",null,"Kentucky-Jessamine",45,105.9,16,null,null,null,null,null,175,0.32500904159132021,0.89280374166057885,3.9717630853994469E-2,0.97520661157024791]
[null,null,"Kentucky","Johnson",null,"Kentucky-Johnson",45,112.9,16,null,null,null,null,null,150,0.24196028187059562,6.4916158012588721,6.7641025641025669E-3,0.98589743589743595]
[null,null,"Kentucky","Kenton",null,"Kentucky-Kenton",45,112.5,15,null,null,null,null,null,175,0.40131313131313134,2.455989104282938,2.9230107526881724E-2,1]
[null,null,"Kentucky","Knott",null,"Kentucky-Knott",45,110.9,18,null,null,null,null,null,150,0.30640886476707369,6.8597036892474081,2.9986206896551709E-2,1]
[null,null,"Kentucky","Knox",null,"Kentucky-Knox",56.57,119.8,25,null,null,null,null,null,175,0.33815235008103706,3.9346872412637608,0.15444444444444444,1]
[null,null,"Kentucky","Larue",null,"Kentucky-Larue",56.95,100.9,18,null,null,null,null,null,200,0.36838305489260154,1.0101059252928364,8.7229704797048099E-2,0.98385608856088558]
[null,null,"Kentucky","Laurel",null,"Kentucky-Laurel",45.15,117.1,23.667000000000002,null,null,null,null,null,175,0.33943500229673867,1.6493565222541708,2.5163095238095234E-2,0.98321428571428571]
[null,null,"Kentucky","Lawrence",null,"Kentucky-Lawrence",45,126.2,16,null,null,null,null,null,150,0.35463597009051478,4.6340008942268724,1.6990797546012265E-2,1]
[null,null,"Kentucky","Lee",null,"Kentucky-Lee",45,112.5,20,null,null,null,null,null,175,0.37405103668261547,5.907710033439491,7.4909090909090925E-2,0.97499999999999998]
[null,null,"Kentucky","Leslie",null,"Kentucky-Leslie",47.23,117.5,22.75,null,null,null,null,null,150,0.2693762475049904,13.592775052406969,0.35035319148936167,1]
[null,null,"Kentucky","Letcher",null,"Kentucky-Letcher",45.1,106.6,19.5,null,null,null,null,null,150,0.30544268406337349,6.6071914648704917,7.1333333333333309E-3,1]
[null,null,"Kentucky","Lewis",null,"Kentucky-Lewis",44.89,113.7,16,null,null,null,null,null,175,0.29092028515878182,1.9637923605828735,9.8712460063897736E-2,0.94376996805111812]
[null,null,"Kentucky","Lincoln",null,"Kentucky-Lincoln",55.07,107.9,18,null,null,null,null,null,198.00835654596099,0.36418963101354512,1.501226262361991,6.2224899598393585E-2,0.96760374832663987]
[null,null,"Kentucky","Livingston",null,"Kentucky-Livingston",45.03,97.9,16.667000000000002,null,null,null,null,null,200,0.40383838383838411,1.3669053297450946,5.8705065359477136E-2,1]
[null,null,"Kentucky","Logan",null,"Kentucky-Logan",58.03,112.2,20,null,null,null,null,null,175,0.36636776390465381,0.74345683829158871,8.4200159172303876E-2,0.88792280143255065]
[null,null,"Kentucky","Lyon",null,"Kentucky-Lyon",49.55,97.9,18,null,null,null,null,null,200,0.37661877394636001,1.3514746956531043,5.9820375335120642E-2,1]
[null,null,"Kentucky","Madison",null,"Kentucky-Madison",45,111.4,20,null,null,null,null,null,250,0.45523748395378688,0.37566204110033746,0.19616913580246911,1]
[null,null,"Kentucky","Magoffin",null,"Kentucky-Magoffin",45,112.5,16,null,null,null,null,null,175,0.32163202463433394,1.1206763748507345,7.5058823529411765E-3,1]
[null,null,"Kentucky","Marion",null,"Kentucky-Marion",55.37,109.6,18,null,null,null,null,null,200,0.40587399629400867,0.26242778261580763,0.30589663425579638,0.9970082273747195]
[null,null,"Kentucky","Marshall",null,"Kentucky-Marshall",57.2,97.8,18,null,null,null,null,null,200.52197802197801,0.35690305545077283,2.2868210222401171,4.4549971114962464E-2,0.97417677642980949]
[null,null,"Kentucky","Martin",null,"Kentucky-Martin",45,123.8,16,null,null,null,null,null,150,0.2273475609756099,7.0029422431991479,3.8324607329842927E-2,0.9836387434554974]
[null,null,"Kentucky","Mason",null,"Kentucky-Mason",45,126.6,16,null,null,null,null,null,200,0.35216462028194651,2.0010383578079005,6.6859936908517381E-2,0.96082018927444801]
[null,null,"Kentucky","McCracken",null,"Kentucky-McCracken",45.43,100.4,18,null,null,null,null,null,200,0.41468571428571488,0.89762777522628057,7.5630911188004663E-2,0.99723183391003467]
[null,null,"Kentucky","McCreary",null,"Kentucky-McCreary",58.96,112.5,25.667000000000002,null,null,null,null,null,150,0.22028668941979529,15.811847779529183,5.9102974828375295E-2,1]
[null,null,"Kentucky","McLean",null,"Kentucky-McLean",45,103.3,15,null,null,null,null,null,175,0.33121665582303156,2.4704742047690988,2.9273161413562558E-2,0.9827125119388731]
[null,null,"Kentucky","Meade",null,"Kentucky-Meade",45,112.5,15,null,null,null,null,null,175,0.33714285714285686,1.5524854697527206,4.8716726618705027E-2,0.94671762589928055]
[null,null,"Kentucky","Menifee",null,"Kentucky-Menifee",45.59,116.4,18,null,null,null,null,null,175,0.33671856287425178,6.8229339484886911,7.0145985401459856E-3,1]
[null,null,"Kentucky","Mercer",null,"Kentucky-Mercer",45,112.4,20,null,null,null,null,null,175,0.33470031545741313,2.1756242960906031,5.3315530569219942E-2,0.98025298664792693]
[null,null,"Kentucky","Metcalfe",null,"Kentucky-Metcalfe",60,112.3,20,null,null,null,null,null,200,0.28937465715853006,1.8963693483116766,5.1861259338313731E-2,0.99359658484525082]
[null,null,"Kentucky","Monroe",null,"Kentucky-Monroe",60,108.5,22,null,null,null,null,null,200,0.30423825344091099,1.9891651600609563,4.2587461300309624E-2,0.98026315789473684]
[null,null,"Kentucky","Montgomery",null,"Kentucky-Montgomery",45,111.9,18,null,null,null,null,null,175,0.36802694136291597,1.6404513998501546,2.4995731056563511E-2,0.98505869797225187]
[null,null,"Kentucky","Morgan",null,"Kentucky-Morgan",45,112.5,15.5,null,null,null,null,null,150,0.36845849802371516,4.401052561857016,1.6743727598566311E-2,0.98566308243727596]
[null,null,"Kentucky","Muhlenberg",null,"Kentucky-Muhlenberg",45,108.3,15.5,null,null,null,null,null,175,0.36712783994574444,2.5414279576570422,0.13995389048991355,0.97964697406340062]
[null,null,"Kentucky","Nelson",null,"Kentucky-Nelson",45.91,111.8,20,null,null,null,null,null,175.00921489126429,0.36058757485029924,1.0492908257546827,5.9478285714285734E-2,0.99154285714285717]
[null,null,"Kentucky","Nicholas",null,"Kentucky-Nicholas",45,112.5,15,null,null,null,null,null,175,0.24275559105431305,2.6939308783326061,2.8880769230769241E-2,0.97551282051282051]
[null,null,"Kentucky","Ohio",null,"Kentucky-Ohio",45.31,100.8,14,null,null,null,null,null,175,0.38846174568965475,1.281986710314921,0.10124818959842002,0.99302172481895989]
[null,null,"Kentucky","Oldham",null,"Kentucky-Oldham",45,110.6,18,null,null,null,null,null,175,0.3800171821305845,0.98601213978880864,6.7326271186440648E-2,0.97132768361581912]
[null,null,"Kentucky","Owen",null,"Kentucky-Owen",45,112.5,14,null,null,null,null,null,175,0.29259209942299147,3.2709011686722658,3.9303370786516849E-2,0.97865168539325831]
[null,null,"Kentucky","Owsley",null,"Kentucky-Owsley",45,112.5,20,null,null,null,null,null,175,0.29481380563124426,2.4054651752799869,9.6605911330049282E-2,0.9684729064039409]
[null,null,"Kentucky","Pendleton",null,"Kentucky-Pendleton",45,112.5,16,null,null,null,null,null,175,0.31023229461756435,4.4608317530076134,3.2263419913419938E-2,0.98073593073593079]
[null,null,"Kentucky","Perry",null,"Kentucky-Perry",45,116.5,21,null,null,null,null,null,150,0.28729666196520909,17.600624211287833,1.9956521739130428E-2,1]
[null,null,"Kentucky","Pike",null,"Kentucky-Pike",45,120.1,17,null,null,null,null,null,150,0.22767599835323168,18.726522178102638,3.6534090909090908E-3,1]
[null,null,"Kentucky","Powell",null,"Kentucky-Powell",45,107,18,null,null,null,null,null,175,0.31593877551020422,0.61568604003651495,3.1529197080291962E-2,0.97043795620437945]
[null,null,"Kentucky","Pulaski",null,"Kentucky-Pulaski",58.44,112.5,23.667000000000002,null,null,null,null,null,175,0.32161281917665441,1.2369668423701194,7.8786754966887362E-2,0.95231788079470203]
[null,null,"Kentucky","Robertson",null,"Kentucky-Robertson",45,112.5,15,null,null,null,null,null,175,0.22467918622848174,2.7325567703658868,6.1514970059880235E-2,0.97155688622754488]
[null,null,"Kentucky","Rockcastle",null,"Kentucky-Rockcastle",57.28,117.6,22,null,null,null,null,null,200,0.33978375527426113,1.4354499254918789,6.081401617250673E-2,0.98490566037735838]
[null,null,"Kentucky","Rowan",null,"Kentucky-Rowan",45,112.5,15.5,null,null,null,null,null,175,0.32944020356234083,2.3876985469800607,2.0787234042553192E-2,1]
[null,null,"Kentucky","Russell",null,"Kentucky-Russell",60,110.5,22,null,null,null,null,null,200,0.3390538573508004,1.7432070552349137,2.8808163265306126E-2,0.95238095238095233]
[null,null,"Kentucky","Scott",null,"Kentucky-Scott",45,107,18,null,null,null,null,null,175,0.32349584487534633,1.4660658935464057,4.3031224979983955E-2,0.97790232185748605]
[null,null,"Kentucky","Shelby",null,"Kentucky-Shelby",45,112.5,15,null,null,null,null,null,175,0.33787173202614351,1.520799458406157,0.10666429353778746,0.96829134720700982]
[null,null,"Kentucky","Simpson",null,"Kentucky-Simpson",60,100.7,20,null,null,null,null,null,175,0.35790975447909723,0.78586144699334681,0.14685518292682909,0.98990091463414631]
[null,null,"Kentucky","Spencer",null,"Kentucky-Spencer",45,106.7,16,null,null,null,null,null,175,0.36039162112932599,1.6621960766573951,3.5820069204152302E-2,0.99307958477508651]
[null,null,"Kentucky","Taylor",null,"Kentucky-Taylor",60,112.5,21,null,null,null,null,null,200,0.36399128268991293,1.2201748247088553,0.10304214559386984,0.88026819923371646]
[null,null,"Kentucky","Todd",null,"Kentucky-Todd",57.37,112.5,18,null,null,null,null,null,175,0.36969962453066296,0.635493080889869,0.10791139896373059,0.99668393782383413]
[null,null,"Kentucky","Trigg",null,"Kentucky-Trigg",54.03,96.6,15.667,null,null,null,null,null,200,0.34464968152866221,0.84291667126183112,7.1639069767441874E-2,0.99516279069767433]
[null,null,"Kentucky","Trimble",null,"Kentucky-Trimble",45,112.5,16,null,null,null,null,null,175,0.36894179894179868,1.7376445025465308,5.6349869451697156E-2,0.95078328981723248]
[null,null,"Kentucky","Union",null,"Kentucky-Union",45,98.7,15.333,null,null,null,null,null,200,0.41095988538681949,0.44241644171442024,0.27276155580608802,1]
[null,null,"Kentucky","Warren",null,"Kentucky-Warren",58.92,112.3,20,null,null,null,null,null,175,0.34074461896451358,1.0417625420299801,7.6678090103966048E-2,0.99740084713130539]
[null,null,"Kentucky","Washington",null,"Kentucky-Washington",45,102.8,20,null,null,null,null,null,175,0.32896405919661742,2.4671658830616843,4.0009560229445504E-2,0.9694710006373487]
[null,null,"Kentucky","Wayne",null,"Kentucky-Wayne",59.57,115.1,24.667000000000002,null,null,null,null,null,174.34151065203358,0.35153259626381983,1.489574581291174,0.11678048780487803,0.87103658536585371]
[null,null,"Kentucky","Webster",null,"Kentucky-Webster",45,97.8,17,null,null,null,null,null,200,0.41077285579641831,0.66852910821029665,0.15292241946088095,1]
[null,null,"Kentucky","Whitley",null,"Kentucky-Whitley",56.94,113,25.5,null,null,null,null,null,175,0.35302176696542875,2.2923262284469494,3.173507057546144E-2,1]
[null,null,"Kentucky","Wolfe",null,"Kentucky-Wolfe",45,112.5,18,null,null,null,null,null,175,0.34214622641509412,5.5329982458467208,3.8079553903345713E-2,1]
[null,null,"Kentucky","Woodford",null,"Kentucky-Woodford",45,111.1,16,null,null,null,null,null,175,0.32965573770491774,0.77087235305938739,3.9767578125000015E-2,0.97890624999999998]
[null,null,"Louisiana","Acadia",null,"Louisiana-Acadia",60,97.8,18,null,null,null,null,null,430.18315889628923,0.47534499753573112,9.7224410596037078E-2,0.15225909661229586,1]
[null,null,"Louisiana","Allen",null,"Louisiana-Allen",60,99.3,20,null,null,null,null,null,446.7836901121305,0.44103703703703845,9.5735233410379747E-2,0.11860509993108195,0.96760854583046174]
[null,null,"Louisiana","Ascension",null,"Louisiana-Ascension",60,98.2,22,null,null,null,null,null,421.77926766374418,0.41033707865168534,9.7488119240311338E-2,0.10121904761904765,1]
[null,null,"Louisiana","Assumption",null,"Louisiana-Assumption",60,99.3,20,null,null,null,null,null,415.81841432225065,0.37925306577480494,9.0063658824317105E-2,0.23622177419354831,1]
[null,null,"Louisiana","Avoyelles",null,"Louisiana-Avoyelles",60,84.9,14.5,null,null,null,null,null,381.13862280860292,0.38069803616566245,9.0322036243021334E-2,0.31368357562635346,1]
[null,null,"Louisiana","Beauregard",null,"Louisiana-Beauregard",60,96.3,15.308,null,null,null,null,null,434.91823056300268,0.42172432432432283,0.17211384489091325,5.7345454545454595E-2,1]
[null,null,"Louisiana","Bienville",null,"Louisiana-Bienville",59.66,95.6,13,null,null,null,null,null,397.82484802431611,0.32623481781376557,0.39937401432660347,5.4950184501845023E-2,0.96771217712177127]
[null,null,"Louisiana","Bossier",null,"Louisiana-Bossier",49.27,85.4,14,null,null,null,null,null,337.13796212804328,0.36572557172557196,0.13847066455536097,9.360748407643317E-2,1]
[null,null,"Louisiana","Caddo",null,"Louisiana-Caddo",45,83.1,11.2,null,null,null,null,null,336.16588940706197,0.38585517631529348,0.15049775878229943,0.12170519262981576,1]
[null,null,"Louisiana","Calcasieu",null,"Louisiana-Calcasieu",60,97.8,17.332999999999998,null,null,null,null,null,412.61537362480357,0.44191871761657986,8.8032201477527147E-2,5.4749027365644506E-2,1]
[null,null,"Louisiana","Caldwell",null,"Louisiana-Caldwell",60,97.8,14.25,null,null,null,null,null,372.18145044784745,0.35888691533451744,0.10125773671169182,0.13849171974522295,1]
[null,null,"Louisiana","Cameron",null,"Louisiana-Cameron",60,101.6,13,null,null,null,null,null,390.81165557572092,0.32618667591950046,9.3736405039375581E-2,3.1851473477406703E-2,1]
[null,null,"Louisiana","Catahoula",null,"Louisiana-Catahoula",60,97,18,null,null,null,null,null,390.73917634635694,0.37934672257779756,9.8220654048316994E-2,0.23653284416491963,1]
[null,null,"Louisiana","Claiborne",null,"Louisiana-Claiborne",60,97.8,12,null,null,null,null,null,349.45737068084236,0.2955615784908936,0.38849234742844518,5.0915492957746486E-3,0.95246478873239437]
[null,null,"Louisiana","Concordia",null,"Louisiana-Concordia",60,97.8,18,null,null,null,null,null,389.65387823185989,0.33149839375860501,9.0065099375675431E-2,0.28129935581659715,1]
[null,null,"Louisiana","De Soto",null,"Louisiana-De Soto",47.85,83,10.818,null,null,null,null,null,394.15618448637315,0.39510237068965409,0.2451498851740746,1.3595380029806255E-2,1]
[null,null,"Louisiana","East Baton Rouge",null,"Louisiana-East Baton Rouge",60,100.4,18,null,null,null,null,null,427.67981438515079,0.47065607734806769,0.12125104033753212,3.7964824120603011E-3,1]
[null,null,"Louisiana","East Carroll",null,"Louisiana-East Carroll",60,97.7,18,null,null,null,null,null,326.25700280112045,0.33668174962292602,0.11599192345441681,0.33333756012243099,1]
[null,null,"Louisiana","East Feliciana",null,"Louisiana-East Feliciana",60,103.6,20,null,null,null,null,null,498.71012006861065,0.45730635031402705,0.34298073981120514,1.6109942638623323E-2,1]
[null,null,"Louisiana","Evangeline",null,"Louisiana-Evangeline",60,97.4,20,null,null,null,null,null,448.74109809326899,0.45588277511961645,0.10445440102488963,0.15453163404642695,1]
[null,null,"Louisiana","Franklin",null,"Louisiana-Franklin",60,97.8,16,null,null,null,null,null,364.43559488692233,0.4479512317747617,0.12430629220314332,0.28117159383033435,1]
[null,null,"Louisiana","Grant",null,"Louisiana-Grant",60,97.8,16.332999999999998,null,null,null,null,null,442.80537252914343,0.37172349888806544,0.12444995117163847,0.13924579124579131,1]
[null,null,"Louisiana","Iberia",null,"Louisiana-Iberia",60,100.2,18,null,null,null,null,null,398.94567104936738,0.41653819683413623,9.7965806376980991E-2,0.18596369636963692,1]
[null,null,"Louisiana","Iberville",null,"Louisiana-Iberville",60,98.6,18,null,null,null,null,null,391.18334131163238,0.35618394648829449,9.2043706895329744E-2,0.23469652928416479,1]
[null,null,"Louisiana","Jackson",null,"Louisiana-Jackson",60,97.8,13,null,null,null,null,null,384.14239482200645,0.31467962760131418,0.24207848908312943,1.1725225225225223E-2,1]
[null,null,"Louisiana","Jefferson",null,"Louisiana-Jefferson",60,98,24,null,null,null,null,null,411.71140939597313,0.33841365461847406,9.4873950272522656E-2,3.1567164179104475E-3,1]
[null,null,"Louisiana","Jefferson Davis",null,"Louisiana-Jefferson Davis",60,97.8,20,null,null,null,null,null,410.97960151802658,0.45553628145614428,8.9567961479607203E-2,0.12663980582524284,1]
[null,null,"Louisiana","La Salle",null,"Louisiana-La Salle",60,97.7,16.332999999999998,null,null,null,null,null,413.06488991888762,0.46860927152317911,9.3055096913176955E-2,0.15536967294350848,1]
[null,null,"Louisiana","Lafayette",null,"Louisiana-Lafayette",60,97.8,18,null,null,null,null,null,414.91615393895523,0.33267605633802827,0.11730949431329991,8.9556441717791452E-2,1]
[null,null,"Louisiana","LaFourche",null,"Louisiana-LaFourche",60,98,20,null,null,null,null,null,431.4996463098326,0.38429471032745594,0.1766945741590959,4.0174157303370789E-2,1]
[null,null,"Louisiana","Lincoln",null,"Louisiana-Lincoln",60,97.8,13,null,null,null,null,null,393.31458815745947,0.24999332220367276,0.27811697119661233,2.2895299145299138E-2,0.95940170940170943]
[null,null,"Louisiana","Livingston",null,"Louisiana-Livingston",60.01,111,22,null,null,null,null,null,450.52455357142856,0.44326324412889107,0.11124474159536407,9.3674259681093414E-3,1]
[null,null,"Louisiana","Madison",null,"Louisiana-Madison",60,97.8,17,null,null,null,null,null,360.17391304347825,0.35217994858611801,9.158537956861143E-2,0.28099558873430586,1]
[null,null,"Louisiana","Morehouse",null,"Louisiana-Morehouse",60,86,16,null,null,null,null,null,328.32752275808639,0.39526536312849164,9.574578786142654E-2,0.26229732824427487,1]
[null,null,"Louisiana","Natchitoches",null,"Louisiana-Natchitoches",60,94.1,15.4,null,null,null,null,null,381.94423883543055,0.34564183123877856,0.11482042008886208,9.6768187422934596E-2,1]
[null,null,"Louisiana","Orleans",null,"Louisiana-Orleans",60,97.8,24,null,null,null,null,null,430.945885509839,0.32370689655172413,5.8345138857859732E-2,1E-3,1]
[null,null,"Louisiana","Ouachita",null,"Louisiana-Ouachita",60,95.1,14.5,null,null,null,null,null,378.8217821782178,0.36931115154665944,0.17670565967782575,0.20531256384065377,1]
[null,null,"Louisiana","Plaquemines",null,"Louisiana-Plaquemines",60,97.8,18,null,null,null,null,null,411.73074741975728,0.33364354697102733,0.10251768614399248,2.6564516129032258E-3,1]
[null,null,"Louisiana","Pointe Coupee",null,"Louisiana-Pointe Coupee",60,96.9,20,null,null,null,null,null,418.66137566137564,0.36542775393419175,0.10013325904668241,0.24651568112133149,1]
[null,null,"Louisiana","Rapides",null,"Louisiana-Rapides",60,97.4,18,null,null,null,null,null,422.32574513025111,0.39792501007929054,0.12179891554455509,0.17337980546549317,1]
[null,null,"Louisiana","Red River",null,"Louisiana-Red River",57.77,85.3,14,null,null,null,null,null,379.3859308200544,0.35159727782225808,0.14945109168574552,7.4294627383015649E-2,1]
[null,null,"Louisiana","Richland",null,"Louisiana-Richland",60,97.8,16,null,null,null,null,null,371.65234266703629,0.43722285389425791,0.13616202784574974,0.24176995645863578,1]
[null,null,"Louisiana","Sabine",null,"Louisiana-Sabine",59.9,83,12.333,null,null,null,null,null,391.4811936586882,0.36992140718562805,0.20627430823572271,2.7785854616895887E-2,1]
[null,null,"Louisiana","St. Bernard",null,"Louisiana-St. Bernard",60,97.8,22,null,null,null,null,null,415.02213788741301,0.30953043478260844,0.14506114169969805,3.0000000000000001E-3,1]
[null,null,"Louisiana","St. Charles",null,"Louisiana-St. Charles",60,97.8,22,null,null,null,null,null,461.45391438488235,0.32660786974219813,9.8101938824985455E-2,3.1830769230769218E-2,1]
[null,null,"Louisiana","St. Helena",null,"Louisiana-St. Helena",62.16,108.8,18,null,null,null,null,null,477.88931297709922,0.41919736331911583,0.19102792366352089,3.0414847161572067E-2,1]
[null,null,"Louisiana","St. James",null,"Louisiana-St. James",60,97.8,22,null,null,null,null,null,416.5353846153846,0.373525,0.10491207202057413,0.18372007722007722,1]
[null,null,"Louisiana","St. John the Baptist",null,"Louisiana-St. John the Baptist",60,97.8,24,null,null,null,null,null,447.80045351473922,0.38007894736842102,0.11706181955457488,0.20855400000000002,1]
[null,null,"Louisiana","St. Landry",null,"Louisiana-St. Landry",60,98.1,20,null,null,null,null,null,418.59733777038269,0.40076115033580079,9.4079755439238549E-2,0.18400739523418258,1]
[null,null,"Louisiana","St. Martin",null,"Louisiana-St. Martin",60,100.6,21,null,null,null,null,null,404.35755258126193,0.39817136057120184,8.8991244617421417E-2,0.22356970260223047,1]
[null,null,"Louisiana","St. Mary",null,"Louisiana-St. Mary",60,112.5,18,null,null,null,null,null,448.8980560578662,0.34285312719606459,8.7264842938591505E-2,0.26472375690607741,1]
[null,null,"Louisiana","St. Tammany",null,"Louisiana-St. Tammany",60,97.9,25,null,null,null,null,null,436.57069515748577,0.30037866905668831,0.19064980139907106,2.2095283018867908E-2,1]
[null,null,"Louisiana","Tangipahoa",null,"Louisiana-Tangipahoa",60,100.4,22,null,null,null,null,null,462.50525109795683,0.3766878680800948,0.24015217505240607,4.225089094796862E-2,0.95242337847469705]
[null,null,"Louisiana","Tensas",null,"Louisiana-Tensas",60,97.8,18,null,null,null,null,null,366.01556798832399,0.33620162932790226,0.10549348235816801,0.31496960926193912,0.9641823444283647]
[null,null,"Louisiana","Terrebonne",null,"Louisiana-Terrebonne",60,108.1,24,null,null,null,null,null,424.5401798665506,0.29775695627484383,0.10558674380979578,0.18044332493702767,1]
[null,null,"Louisiana","Union",null,"Louisiana-Union",60,89.3,14.5,null,null,null,null,null,342.44083606840559,0.29075343792368769,0.22570619584004775,4.0566115702479352E-2,1]
[null,null,"Louisiana","Vermilion",null,"Louisiana-Vermilion",60,97.8,15.4,null,null,null,null,null,401.08757734412183,0.42979825517993475,8.2275264202977427E-2,0.13429199594731508,1]
[null,null,"Louisiana","Vernon",null,"Louisiana-Vernon",60,95.4,14.875,null,null,null,null,null,441.35953715853515,0.34297475785148168,0.19907307384668266,1.8112612612612621E-2,1]
[null,null,"Louisiana","Washington",null,"Louisiana-Washington",60,106.5,22,null,null,null,null,null,484.16512488436632,0.2685257465318589,0.22802472714519886,3.9290865766481359E-2,0.98808578236695788]
[null,null,"Louisiana","Webster",null,"Louisiana-Webster",58.15,92.8,12,null,null,null,null,null,346.87211093990754,0.33825406032482619,0.21184665903448399,2.6737265415549601E-2,1]
[null,null,"Louisiana","West Baton Rouge",null,"Louisiana-West Baton Rouge",60,99.1,18,null,null,null,null,null,412.17424826522745,0.36526829268292699,0.10171038205236059,0.19185361552028216,1]
[null,null,"Louisiana","West Carroll",null,"Louisiana-West Carroll",60,95,18,null,null,null,null,null,334.62874511506732,0.45109649122806988,0.10086396421411878,0.17522063882063868,1]
[null,null,"Louisiana","West Feliciana",null,"Louisiana-West Feliciana",60,97.8,20,null,null,null,null,null,491.40241669718051,0.41118597320724976,0.27841351891125266,8.4607226107226124E-2,0.98543123543123545]
[null,null,"Louisiana","Winn",null,"Louisiana-Winn",60,99.4,13,null,null,null,null,null,382.9046184738956,0.34469408224674042,0.16586028661507851,2.9999999999999992E-3,1]
[null,null,"Maine","Androscoggin",null,"Maine-Androscoggin",45,126.6,25.5,null,null,null,null,null,100,0.24198047419804739,0.47127842024435351,0.1011735985533454,0.99005424954792043]
[null,null,"Maine","Aroostook",null,"Maine-Aroostook",38.22,135,24.25,null,null,null,null,null,75.068268392308042,0.23454732673267339,1.0057194256569308,0.12251353934374005,0.96755336094297539]
[null,null,"Maine","Cumberland",null,"Maine-Cumberland",45.13,112.9,25,null,null,null,null,null,100,0.22643541137385201,1.0391531312940734,2.9972332015810281E-2,1]
[null,null,"Maine","Franklin",null,"Maine-Franklin",47.12,137.9,25.75,null,null,null,null,null,100,0.21314574170331876,0.47305081464538812,4.8594594594594592E-3,1]
[null,null,"Maine","Hancock",null,"Maine-Hancock",45.2,115.9,26.856999999999999,null,null,null,null,null,100.0809585492228,0.20566187225743565,1.0238780916209638,0.1024709230769231,1]
[null,null,"Maine","Kennebec",null,"Maine-Kennebec",45,113.7,25.5,null,null,null,null,null,100,0.25541262580054908,0.57992366442654331,1.8982169390787524E-2,0.99420505200594356]
[null,null,"Maine","Knox",null,"Maine-Knox",45.36,112.5,25,null,null,null,null,null,100,0.22821679962458905,1.337063731471279,1.2658703071672358E-2,1]
[null,null,"Maine","Lincoln",null,"Maine-Lincoln",45,112.5,26.332999999999998,null,null,null,null,null,100,0.26133784291619705,1.3782635695625511,2.6472668810289385E-2,0.99549839228295822]
[null,null,"Maine","Oxford",null,"Maine-Oxford",45.51,133.19999999999999,28,null,null,null,null,null,99.972042698424218,0.19880215343203217,1.006403217026975,6.1986745213549334E-2,1]
[null,null,"Maine","Penobscot",null,"Maine-Penobscot",44.17,128.19999999999999,26.888999999999999,null,null,null,null,null,99.903529204940014,0.22341910048244032,0.7217670465119902,7.9544566544566528E-2,0.94206349206349205]
[null,null,"Maine","Piscataquis",null,"Maine-Piscataquis",40.71,135.4,25.832999999999998,null,null,null,null,null,100,0.23190139307393318,0.85741333404122888,6.6147465437788017E-2,0.97603686635944709]
[null,null,"Maine","Sagadahoc",null,"Maine-Sagadahoc",45,112.5,26.332999999999998,null,null,null,null,null,100,0.28074172185430474,0.45270253932953841,7.4274418604651157E-2,1]
[null,null,"Maine","Somerset",null,"Maine-Somerset",43.47,132,26.332999999999998,null,null,null,null,null,99.970798182998053,0.21850004592633407,0.39462805445456417,1.5793002915451899E-2,1]
[null,null,"Maine","Waldo",null,"Maine-Waldo",45.19,110.6,25.5,null,null,null,null,null,100,0.23887482419127987,1.4787899030075304,1.772727272727272E-2,0.99363636363636365]
[null,null,"Maine","Washington",null,"Maine-Washington",45.35,121.1,28,null,null,null,null,null,99.981337314706195,0.22203998596983529,0.63996979007361454,9.0883392226148406E-3,1]
[null,null,"Maine","York",null,"Maine-York",45.36,113,25,null,null,null,null,null,115,0.21706657173371283,0.90539629289355661,2.2475247524752461E-2,0.99834983498349839]
[null,null,"Maryland","Allegany",null,"Maryland-Allegany",35.01,118.2,19,null,null,null,null,null,125.21335807050093,0.25202609363008444,1.8321089100670054,0.13984463894967181,0.99912472647702411]
[null,null,"Maryland","Anne Arundel",null,"Maryland-Anne Arundel",45,97.8,15.5,null,null,null,null,null,205,0.29477999073645239,0.89805292275079718,0.14390476190476201,0.99206349206349209]
[null,null,"Maryland","Baltimore",null,"Maryland-Baltimore",45,110.1,16,null,null,null,null,null,185,0.34038968824940075,1.5750354888607887,5.6168455821635058E-2,0.95838150289017354]
[null,null,"Maryland","Baltimore City",null,"Maryland-Baltimore City",45,99.1,16,null,null,null,null,null,215.1630789302022,0.33791762013730009,0.71350673304202861,0.26555685131195333,0.99285714285714288]
[null,null,"Maryland","Calvert",null,"Maryland-Calvert",45,97.8,15,null,null,null,null,null,205.22398843930637,0.24827331031080388,0.1404552211900616,0.19512856099342588,1]
[null,null,"Maryland","Caroline",null,"Maryland-Caroline",45,97.8,16,null,null,null,null,null,175,0.3135525852972213,0.90087049973248323,6.2904008438818604E-2,0.8878691983122361]
[null,null,"Maryland","Carroll",null,"Maryland-Carroll",45,100.1,16,null,null,null,null,null,184.46655724251127,0.37634605597964382,0.52852949440122143,0.13259334763948494,0.96238197424892713]
[null,null,"Maryland","Cecil",null,"Maryland-Cecil",45,101.8,16.8,null,null,null,null,null,210,0.32729838709677439,0.55137668409709428,0.15333693972179283,0.98454404945904173]
[null,null,"Maryland","Charles",null,"Maryland-Charles",45,97.8,16,null,null,null,null,null,220.0756501182033,0.23570282235749848,0.1428082403449441,0.25062857142857131,1]
[null,null,"Maryland","Dorchester",null,"Maryland-Dorchester",45,99.9,16,null,null,null,null,null,161.29946148442988,0.30672027290448328,1.2416190874044315,8.2116603295310481E-2,0.88779045204900742]
[null,null,"Maryland","Frederick",null,"Maryland-Frederick",43.99,100.6,15,null,null,null,null,null,125,0.20728176527643064,2.0778676947466441,4.9218051118210912E-2,0.94301118210862622]
[null,null,"Maryland","Garrett",null,"Maryland-Garrett",45.26,151.80000000000001,26.5,null,null,null,null,null,175,0.34429949664429471,1.0273439747946964,7.4060142711518909E-2,0.96896024464831798]
[null,null,"Maryland","Harford",null,"Maryland-Harford",45,108.1,16,null,null,null,null,null,179.98150431565969,0.3266498103666241,1.2926756066337763,6.1070826306914024E-2,0.96903878583473857]
[null,null,"Maryland","Howard",null,"Maryland-Howard",45,99,16,null,null,null,null,null,195,0.37928023598820026,0.3148203484331622,0.14541333333333331,0.99286274509803929]
[null,null,"Maryland","Kent",null,"Maryland-Kent",45,98,16,null,null,null,null,null,183.05100463678517,0.33104844061048488,1.5463474335932765,6.4554580896686212E-2,0.98172514619883045]
[null,null,"Maryland","Montgomery",null,"Maryland-Montgomery",44.29,97.8,19,null,null,null,null,null,205,0.34300081433224733,0.7948767508810971,0.13609369676320274,1]
[null,null,"Maryland","Prince Georges",null,"Maryland-Prince Georges",45,98.5,15.5,null,null,null,null,null,200,0.3261128115435063,0.23332878068905971,0.1775802310654685,1]
[null,null,"Maryland","Queen Annes",null,"Maryland-Queen Annes",45,97.8,16,null,null,null,null,null,219.96865203761755,0.33435201401050729,0.26382844390196664,0.21018085106382978,1]
[null,null,"Maryland","Somerset",null,"Maryland-Somerset",43.84,97.6,16,null,null,null,null,null,234.99874791318865,0.32397408207343426,0.12508637289944061,0.13888010204081638,1]
[null,null,"Maryland","St. Marys",null,"Maryland-St. Marys",45,97.8,16,null,null,null,null,null,209.93773946360153,0.35041509433962253,0.14025485888081138,0.15737126325940201,1]
[null,null,"Maryland","Talbot",null,"Maryland-Talbot",45,101.4,16,null,null,null,null,null,150,0.2926245143058992,0.75249744735522051,0.1253618122977346,0.99676375404530748]
[null,null,"Maryland","Washington",null,"Maryland-Washington",36.11,103.1,14.2,null,null,null,null,null,225,0.25483408071748886,0.16594838315943486,0.25335960591133011,1]
[null,null,"Maryland","Wicomico",null,"Maryland-Wicomico",45,99.2,18.667000000000002,null,null,null,null,null,240.11755276516163,0.24798387096774188,0.11989516130547682,0.26634259259259274,1]
[null,null,"Maryland","Worcester",null,"Maryland-Worcester",45,97.8,18,null,null,null,null,null,185,null,""]
[null,null,"Massachusetts","Barnstable",null,"Massachusetts-Barnstable",45,105.1,22,null,null,null,null,null,135.2627450980392,0.14025876940770543,0.33574772219685178,8.9846153846153839E-2,1]
[null,null,"Massachusetts","Berkshire",null,"Massachusetts-Berkshire",49.09,128.4,24.888999999999999,null,null,null,null,null,140.18484898498102,0.22674707343029485,0.80708809422573446,5.9275177304964614E-2,0.99219858156028373]
[null,null,"Massachusetts","Bristol",null,"Massachusetts-Bristol",45,112.5,25.286000000000001,null,null,null,null,null,145,0.20160680529300562,0.2623252611368686,0.11017808219178089,0.99486301369863017]
[null,null,"Massachusetts","Dukes",null,"Massachusetts-Dukes",45,112.5,25.5,null,null,null,null,null,144.96847414880202,0.16816091954022994,0.57784282613711602,0.10947928994082842,1]
[null,null,"Massachusetts","Essex",null,"Massachusetts-Essex",44.97,112.4,22,null,null,null,null,null,125,0.22228187919463085,0.92502388869244312,0.170205,0.97750000000000004]
[null,null,"Massachusetts","Franklin",null,"Massachusetts-Franklin",45.43,118.2,25,null,null,null,null,null,140,0.2155615348619562,0.57692469207376895,7.3031818181818225E-2,0.9651515151515152]
[null,null,"Massachusetts","Hampden",null,"Massachusetts-Hampden",47.52,112.3,25.286000000000001,null,null,null,null,null,150.02969561989607,0.20946821900566409,0.50788166883813379,0.1101731601731602,0.9642857142857143]
[null,null,"Massachusetts","Hampshire",null,"Massachusetts-Hampshire",45.88,112.4,26.6,null,null,null,null,null,144.98853868194843,0.21596683250414636,0.4222030141157882,0.11243451143451146,1]
[null,null,"Massachusetts","Middlesex",null,"Massachusetts-Middlesex",45,112,23.332999999999998,null,null,null,null,null,125.12437349173938,0.21350718065003751,0.76003331522722328,0.1468103448275862,1]
[null,null,"Massachusetts","Nantucket",null,"Massachusetts-Nantucket",45,102.9,22,null,null,null,null,null,140,0.18075268817204318,0.31177341932149544,0.11565384615384616,1]
[null,null,"Massachusetts","Norfolk",null,"Massachusetts-Norfolk",45,110.6,25,null,null,null,null,null,131.48045722713863,0.24052391799544418,0.42039122409941998,0.22279487179487184,1]
[null,null,"Massachusetts","Plymouth",null,"Massachusetts-Plymouth",45,112.2,25.5,null,null,null,null,null,134.52682075883124,0.17382333333333327,0.40973727522152542,0.12255524625267668,1]
[null,null,"Massachusetts","Suffolk",null,"Massachusetts-Suffolk",45,112.5,24,null,null,null,null,null,125.14478764478764,0.20799999999999999,0,0.47,1]
[null,null,"Massachusetts","Worcester",null,"Massachusetts-Worcester",45.19,114.9,24.667000000000002,null,null,null,null,null,136.30784607696151,0.20207672955974851,0.87239574816283283,0.10461896420411278,0.99573495811119583]
[null,null,"Michigan","Alcona",null,"Michigan-Alcona",25.01,117.1,12,null,null,null,null,null,75,0.2246827204685973,0.46135572074787307,8.9116129032258087E-2,1]
[null,null,"Michigan","Alger",null,"Michigan-Alger",34.86,135,16.332999999999998,null,null,null,null,null,80,0.19595781566021411,0.59488425781284426,8.3587912087912122E-2,1]
[null,null,"Michigan","Allegan",null,"Michigan-Allegan",35.01,134.80000000000001,13.667,null,null,null,null,null,130,0.21894791666666644,0.38108922644454263,0.16351055408970969,0.99736147757255933]
[null,null,"Michigan","Alpena",null,"Michigan-Alpena",25.01,134.9,17,null,null,null,null,null,75,0.20954515050167222,0.28058710633205719,0.12174690663667044,1]
[null,null,"Michigan","Antrim",null,"Michigan-Antrim",35.01,135,14.5,null,null,null,null,null,80,0.17443185970040181,0.937238174159155,7.2678160919540172E-2,0.98087818696883855]
[null,null,"Michigan","Arenac",null,"Michigan-Arenac",25.01,103.5,10,null,null,null,null,null,75,0.19204345576823581,0.24311668936412922,0.25294668246445484,1]
[null,null,"Michigan","Baraga",null,"Michigan-Baraga",34.11,135.30000000000001,17.25,null,null,null,null,null,90,0.23587172538392057,0.2198511292766237,3.7051446945337622E-2,1]
[null,null,"Michigan","Barry",null,"Michigan-Barry",35.01,133.30000000000001,11,null,null,null,null,null,110,0.2402597819114819,0.63563878405563334,0.10349910873440278,0.99278074866310151]
[null,null,"Michigan","Bay",null,"Michigan-Bay",28.83,100.8,8,null,null,null,null,null,80,0.25520576855434413,0.14394785782305483,0.31159941662615465,1]
[null,null,"Michigan","Benzie",null,"Michigan-Benzie",35.01,135,14.5,null,null,null,null,null,80,0.15964699393270848,1.2110858735735575,4.00557103064067E-2,0.98440111420612808]
[null,null,"Michigan","Berrien",null,"Michigan-Berrien",35.01,129.5,14,null,null,null,null,null,150,0.24729479768786172,0.44962223884709263,0.250849617672047,1]
[null,null,"Michigan","Branch",null,"Michigan-Branch",35.01,127.9,10,null,null,null,null,null,130,0.22504112405757354,0.24368447922190364,0.22155607278882777,1]
[null,null,"Michigan","Calhoun",null,"Michigan-Calhoun",35.01,124.1,10,null,null,null,null,null,120.05328403653762,0.26063261752756867,0.45451194651871946,0.14351292432264068,1]
[null,null,"Michigan","Cass",null,"Michigan-Cass",35.01,126.7,13,null,null,null,null,null,150,0.25113318616629871,0.41440542749025766,0.14800296442687733,1]
[null,null,"Michigan","Charlevoix",null,"Michigan-Charlevoix",35.01,135,14.5,null,null,null,null,null,80,0.18348403152219006,0.79659410013066134,4.6290882778581802E-2,1]
[null,null,"Michigan","Cheboygan",null,"Michigan-Cheboygan",32.9,133.4,12,null,null,null,null,null,75,0.1805070422535211,0.8021888109784987,1.1480732177263964E-2,1]
[null,null,"Michigan","Chippewa",null,"Michigan-Chippewa",33.6,132.69999999999999,18,null,null,null,null,null,75,0.26818663476328825,0.24573190694080266,2.7166045769026065E-2,1]
[null,null,"Michigan","Clare",null,"Michigan-Clare",34.94,112.7,12,null,null,null,null,null,80,0.18793742017879952,0.33776811939768608,2.772131979695432E-2,1]
[null,null,"Michigan","Clinton",null,"Michigan-Clinton",35.01,112.3,8.6669999999999998,null,null,null,null,null,90,0.28700029877502231,0.35372308851713719,0.21760283922086507,1]
[null,null,"Michigan","Crawford",null,"Michigan-Crawford",34.47,135,12,null,null,null,null,null,80,0.15824395029430996,0.39603948225198127,4.3939393939393936E-3,1]
[null,null,"Michigan","Delta",null,"Michigan-Delta",31.97,123.9,14.25,null,null,null,null,null,79.939452439452438,0.21792961726175189,0.33612342699673864,7.0297402597402636E-2,1]
[null,null,"Michigan","Dickinson",null,"Michigan-Dickinson",30.28,122.2,14,null,null,null,null,null,90,0.21890807799442891,1.123131803116773,0.13237596899224807,0.99108527131782942]
[null,null,"Michigan","Eaton",null,"Michigan-Eaton",35.01,113.2,9,null,null,null,null,null,100,0.28843065693430653,0.47539148169953932,0.18776197836166916,1]
[null,null,"Michigan","Emmet",null,"Michigan-Emmet",33.42,135,13,null,null,null,null,null,75,0.18829249905767034,0.97020080321486601,3.8266117969821677E-2,1]
[null,null,"Michigan","Genesee",null,"Michigan-Genesee",32.630000000000003,113.1,10,null,null,null,null,null,80.603655603655611,0.27867275658248242,0.2622331768782683,0.17571028923660492,1]
[null,null,"Michigan","Gladwin",null,"Michigan-Gladwin",32.61,108.9,10,null,null,null,null,null,79.93943064809207,0.2036067751577548,0.29391322698231859,8.9732663316582958E-2,1]
[null,null,"Michigan","Gogebic",null,"Michigan-Gogebic",35.01,135.6,14,null,null,null,null,null,89.243748729416552,0.26028910529519184,0.57197826498887949,1.8305439330543936E-2,1]
[null,null,"Michigan","Grand Traverse",null,"Michigan-Grand Traverse",35.01,135,15.5,null,null,null,null,null,80,0.17679594055817313,0.75984529987476945,7.6667291471415266E-2,0.9486410496719776]
[null,null,"Michigan","Gratiot",null,"Michigan-Gratiot",35.01,112.5,9,null,null,null,null,null,90,0.22946116365720828,0.11641008017486215,0.28753297076818501,1]
[null,null,"Michigan","Hillsdale",null,"Michigan-Hillsdale",35.01,120.9,10,null,null,null,null,null,120,0.29015104895104954,0.53794487047765038,0.14997658862876231,0.99580081753994787]
[null,null,"Michigan","Houghton",null,"Michigan-Houghton",33.93,140.4,17.25,null,null,null,null,null,89.262981574539367,0.21056499880296858,0.46902255784624369,3.549999999999999E-2,0.99291784702549579]
[null,null,"Michigan","Huron",null,"Michigan-Huron",32.32,125.1,8,null,null,null,null,null,80,0.27633503735745146,0.13127190274022268,0.2885371140792643,1]
[null,null,"Michigan","Ingham",null,"Michigan-Ingham",35.01,110.8,8.6669999999999998,null,null,null,null,null,90.193925884647541,0.24764486614706896,0.37309303810811578,0.17815521444695251,1]
[null,null,"Michigan","Ionia",null,"Michigan-Ionia",35.01,113.2,9,null,null,null,null,null,100,0.27496781743709781,0.41042596961633881,0.19275309134423607,1]
[null,null,"Michigan","Iosco",null,"Michigan-Iosco",25.01,109.9,10,null,null,null,null,null,75,0.19826269212855152,0.33984602843377493,0.1488797101449276,1]
[null,null,"Michigan","Iron",null,"Michigan-Iron",33.369999999999997,130.9,14.5,null,null,null,null,null,89.82416591523895,0.29719514661274005,0.5068021499001607,3.8826797385620913E-2,1]
[null,null,"Michigan","Isabella",null,"Michigan-Isabella",35.01,112.5,14.5,null,null,null,null,null,80,0.2370546105640107,0.32446769906564554,0.14812170385395518,1]
[null,null,"Michigan","Jackson",null,"Michigan-Jackson",35.01,112.5,8.6669999999999998,null,null,null,null,null,100,0.22049701789264398,0.59599173624209167,0.1734614760746146,1]
[null,null,"Michigan","Kalamazoo",null,"Michigan-Kalamazoo",35.01,135,12,null,null,null,null,null,130,0.27240609137055838,0.4194938016375318,0.13652491694352162,0.99861572535991139]
[null,null,"Michigan","Kalkaska",null,"Michigan-Kalkaska",35.01,135,14.5,null,null,null,null,null,80,0.15880945075176447,0.37764730620678616,7.2244060475161978E-2,1]
[null,null,"Michigan","Kent",null,"Michigan-Kent",35.01,132.80000000000001,12,null,null,null,null,null,100,0.2494545891398369,0.81929270884239613,9.0580024559967193E-2,1]
[null,null,"Michigan","Keweenaw",null,"Michigan-Keweenaw",34.32,138.69999999999999,14,null,null,null,null,null,80,0.22969989827060011,0.17712937395805073,6.2799999999999995E-2,1]
[null,null,"Michigan","Lake",null,"Michigan-Lake",35.01,135,14.5,null,null,null,null,null,90,0.1598518518518518,0.84181848958619276,2.4306666666666671E-2,1]
[null,null,"Michigan","Lapeer",null,"Michigan-Lapeer",26.78,112.5,8,null,null,null,null,null,80,0.26849818746763343,0.47218405456918894,0.12234918959668283,1]
[null,null,"Michigan","Leelanau",null,"Michigan-Leelanau",35.01,135,16,null,null,null,null,null,80,0.18344036697247695,2.7668742948208243,5.7745742092457426E-2,1]
[null,null,"Michigan","Lenawee",null,"Michigan-Lenawee",35.01,112.5,10,null,null,null,null,null,110.01333606893722,0.32041184327693828,0.27479908460004077,0.2022319034852546,1]
[null,null,"Michigan","Livingston",null,"Michigan-Livingston",35.01,109.5,8,null,null,null,null,null,92.13561131873999,0.25059690758719882,0.31838738428225738,0.11431345353675448,1]
[null,null,"Michigan","Luce",null,"Michigan-Luce",35,135,18,null,null,null,null,null,75,0.17973428571428574,0.12142643351087105,1.9918032786885247E-2,1]
[null,null,"Michigan","Mackinac",null,"Michigan-Mackinac",34.67,135,17,null,null,null,null,null,75,0.19254508509017026,0.17255037576433735,1.9286644951140058E-2,1]
[null,null,"Michigan","Macomb",null,"Michigan-Macomb",35.01,112.5,8.6669999999999998,null,null,null,null,null,89.870633893919788,0.24443232185475622,0.19402709235360413,0.21066022304832716,1]
[null,null,"Michigan","Manistee",null,"Michigan-Manistee",35.01,135,16,null,null,null,null,null,90,0.16778968253968232,0.42394820195953015,6.4092238470191257E-2,0.99291338582677169]
[null,null,"Michigan","Marquette",null,"Michigan-Marquette",35.01,135,15,null,null,null,null,null,80.277847941399344,0.22763686035515393,0.96694703968318663,0.14294329183955745,1]
[null,null,"Michigan","Mason",null,"Michigan-Mason",35.01,127.9,15,null,null,null,null,null,90,0.18492927561080133,0.36528908588206577,0.14328584817244616,1]
[null,null,"Michigan","Mecosta",null,"Michigan-Mecosta",35.01,123.6,12,null,null,null,null,null,90,0.18208459214501513,0.69650425655207482,4.1554718875502036E-2,1]
[null,null,"Michigan","Menominee",null,"Michigan-Menominee",34.94,115.6,12,null,null,null,null,null,90,0.23762125274189644,0.66107331122827906,8.5652609006433164E-2,0.99070764832022873]
[null,null,"Michigan","Midland",null,"Michigan-Midland",32.19,106.3,9,null,null,null,null,null,80,0.1871574826859381,0.12151850730133455,0.21856750202101841,1]
[null,null,"Michigan","Missaukee",null,"Michigan-Missaukee",30.94,131.5,13,null,null,null,null,null,80,0.18161699429296133,0.28240360715362289,4.191470588235293E-2,1]
[null,null,"Michigan","Monroe",null,"Michigan-Monroe",35.01,112.4,9,null,null,null,null,null,107.50138657792569,0.25594133492966153,0.13531907452143335,0.31674573468620876,1]
[null,null,"Michigan","Montcalm",null,"Michigan-Montcalm",35.01,115.8,11,null,null,null,null,null,90,0.20208244111349025,0.46068913763822328,0.17145096753033778,1]
[null,null,"Michigan","Montmorency",null,"Michigan-Montmorency",26.29,135,12,null,null,null,null,null,75,0.18810987573577495,0.5640290263298855,3.062471910112359E-2,1]
[null,null,"Michigan","Muskegon",null,"Michigan-Muskegon",35.01,132.30000000000001,14.5,null,null,null,null,null,100,0.18688752973156647,0.2439017141733654,0.14389804325437697,1]
[null,null,"Michigan","Newaygo",null,"Michigan-Newaygo",35.01,135,14,null,null,null,null,null,90,0.17345463486599455,0.64721015625604172,0.11388066961465572,1]
[null,null,"Michigan","Oakland",null,"Michigan-Oakland",35.01,112.5,9,null,null,null,null,null,90.406406061649733,0.22137132448607855,0.87215229087416712,6.5640416047548319E-2,1]
[null,null,"Michigan","Oceana",null,"Michigan-Oceana",35.01,131.6,15,null,null,null,null,null,90,0.17142646516771126,0.55032356573742747,0.11791910828025469,1]
[null,null,"Michigan","Ogemaw",null,"Michigan-Ogemaw",25.88,112.5,12,null,null,null,null,null,75,0.1953157216494846,0.56169286225736714,4.3151919866444108E-2,1]
[null,null,"Michigan","Ontonagon",null,"Michigan-Ontonagon",34.93,138.69999999999999,17.25,null,null,null,null,null,90,0.31925747169110802,1.2484150278422517,0.21815625000000002,1]
[null,null,"Michigan","Osceola",null,"Michigan-Osceola",35.01,121.9,13,null,null,null,null,null,90,0.19876918354818923,0.71111689065803763,6.7320312500000062E-2,1]
[null,null,"Michigan","Oscoda",null,"Michigan-Oscoda",25.21,122,13,null,null,null,null,null,75,0.17939696106362774,0.7664371380943561,1.8511777301927192E-2,1]
[null,null,"Michigan","Otsego",null,"Michigan-Otsego",35.01,135.19999999999999,12,null,null,null,null,null,80,0.16480128205128211,0.40357982306266815,4.2590214067278288E-2,1]
[null,null,"Michigan","Ottawa",null,"Michigan-Ottawa",35.01,135,14.8,null,null,null,null,null,110,0.24293088104420071,0.51301288521552424,0.12020666959192622,1]
[null,null,"Michigan","Presque Isle",null,"Michigan-Presque Isle",28.86,135,17,null,null,null,null,null,75,0.18867370504783904,0.3952006144362688,0.10034179894179898,1]
[null,null,"Michigan","Roscommon",null,"Michigan-Roscommon",25.55,127.5,12,null,null,null,null,null,80,0.15737891737891735,0.12646529607938151,3.4468085106382977E-3,1]
[null,null,"Michigan","Saginaw",null,"Michigan-Saginaw",35.01,109.5,8,null,null,null,null,null,80,0.21734665611396922,0.18663005789181178,0.29747006651884728,1]
[null,null,"Michigan","Sanilac",null,"Michigan-Sanilac",27.66,114,8,null,null,null,null,null,89.92723492723492,0.27890997352162433,0.20576094546726265,0.19883820073850275,1]
[null,null,"Michigan","Schoolcraft",null,"Michigan-Schoolcraft",34.979999999999997,134.5,16.332999999999998,null,null,null,null,null,140,0.22272821219428132,0.28268232334077259,0.20972487001733089,1]
[null,null,"Michigan","Shiawassee",null,"Michigan-Shiawassee",35.01,112.5,8,null,null,null,null,null,80,0.24785902619089467,0.14526514891441217,0.15716659601526073,1]
[null,null,"Michigan","St. Clair",null,"Michigan-St. Clair",30.85,112.5,8,null,null,null,null,null,80,0.1804896313364058,0.18338038019363145,3.4722513089005244E-2,1]
[null,null,"Michigan","St. Joseph",null,"Michigan-St. Joseph",35.01,119.8,12,null,null,null,null,null,89.488439306358387,0.28150262264733134,0.25272611478798457,0.20559815242494217,1]
[null,null,"Michigan","Tuscola",null,"Michigan-Tuscola",25.55,110.7,8,null,null,null,null,null,79.850860420650093,0.24255413883829177,0.19800361809347128,0.25863592233009691,1]
[null,null,"Michigan","Van Buren",null,"Michigan-Van Buren",35.01,133.30000000000001,14.5,null,null,null,null,null,140,0.21204157175398647,0.403656350695481,0.16113009619789201,1]
[null,null,"Michigan","Washtenaw",null,"Michigan-Washtenaw",35.01,112.5,8,null,null,null,null,null,100,0.29980699948533229,0.55142423510483918,0.16840480732544819,1]
[null,null,"Michigan","Wayne",null,"Michigan-Wayne",35.01,112.5,8,null,null,null,null,null,100,0.23415405164737316,0.18166851638744219,0.21109433962264149,1]
[null,null,"Michigan","Wexford",null,"Michigan-Wexford",35.01,135,15,null,null,null,null,null,80,0.17727637384677089,0.73283651478792688,5.1011254019292615E-2,1]
[null,null,"Minnesota","Aitkin",null,"Minnesota-Aitkin",25.01,98.8,8,null,null,null,null,null,110,0.26648667601683035,0.19891174511589638,2.572460391425908E-2,1]
[null,null,"Minnesota","Anoka",null,"Minnesota-Anoka",25.15,97.8,6,null,null,null,null,null,129.94039270687236,0.17907200811359025,0.31448279864270745,0.14618646080760095,1]
[null,null,"Minnesota","Becker",null,"Minnesota-Becker",25.01,87.4,4,null,null,null,null,null,90,0.23818377712790528,0.31394339167972785,0.10156633165829147,1]
[null,null,"Minnesota","Beltrami",null,"Minnesota-Beltrami",25.01,88.1,5,null,null,null,null,null,87.098937377488909,0.22472017298397351,0.23313389587683531,6.5294527363184057E-2,1]
[null,null,"Minnesota","Benton",null,"Minnesota-Benton",25.25,94.7,6,null,null,null,null,null,120,0.24657095980311708,0.30720129662842244,0.13885565991102319,0.98171033119130002]
[null,null,"Minnesota","Big Stone",null,"Minnesota-Big Stone",25.01,77.2,3.6669999999999998,null,null,null,null,null,100,0.27710201429499653,0.17628756659803616,0.14848340395480242,1]
[null,null,"Minnesota","Blue Earth",null,"Minnesota-Blue Earth",27.14,85.5,5,null,null,null,null,null,140,0.26510554951033716,0.28658567451929834,0.35709968160666139,1]
[null,null,"Minnesota","Brown",null,"Minnesota-Brown",25.01,87.1,4,null,null,null,null,null,130,0.25079110651499503,0.1576090679947903,0.33601485148514865,0.99945544554455445]
[null,null,"Minnesota","Carlton",null,"Minnesota-Carlton",28.2,107.2,11,null,null,null,null,null,110,0.28878983730777813,0.33114816113627155,2.1506538796861385E-2,1]
[null,null,"Minnesota","Carver",null,"Minnesota-Carver",25.01,87.2,5,null,null,null,null,null,130,0.26601542416452412,0.39031797567882515,0.20646576117713619,0.97524052065647993]
[null,null,"Minnesota","Cass",null,"Minnesota-Cass",25.01,97.7,6,null,null,null,null,null,100,0.20545398317664532,0.38308903772197411,0.10232714617169374,1]
[null,null,"Minnesota","Chippewa",null,"Minnesota-Chippewa",25.01,83,2,null,null,null,null,null,110,0.29000536624631057,0.17566788740130401,0.32408639121641136,0.98743137821438887]
[null,null,"Minnesota","Chisago",null,"Minnesota-Chisago",28.87,97.1,8,null,null,null,null,null,130,0.2331591013296648,0.31016617416856712,0.13965461346633407,1]
[null,null,"Minnesota","Clay",null,"Minnesota-Clay",24.83,79.400000000000006,1.5,null,null,null,null,null,80,0.26963420210333805,0.16333718253187757,0.20063127284812221,1]
[null,null,"Minnesota","Clearwater",null,"Minnesota-Clearwater",25.01,85.7,4.5,null,null,null,null,null,90,0.26287488908606921,0.30221132775480258,7.7618051733626875E-2,1]
[null,null,"Minnesota","Cook",null,"Minnesota-Cook",29.33,103.5,12,null,null,null,null,null,80.135030864197532,0.26466303892842158,0.45421684892154546,3.0000000000000001E-3,1]
[null,null,"Minnesota","Cottonwood",null,"Minnesota-Cottonwood",25.01,83,4,null,null,null,null,null,130,0.25643700787401558,0.17031594137170619,0.25632997155417631,0.99705197827773462]
[null,null,"Minnesota","Crow Wing",null,"Minnesota-Crow Wing",25.01,89.7,7,null,null,null,null,null,110,0.23248108108108101,0.20154384206167236,9.966692546583851E-2,1]
[null,null,"Minnesota","Dakota",null,"Minnesota-Dakota",31.4,95.6,6,null,null,null,null,null,140,0.24882195049209702,0.38119660354409646,0.21093006993006982,0.99114947552447552]
[null,null,"Minnesota","Dodge",null,"Minnesota-Dodge",35.01,97.8,6,null,null,null,null,null,150,0.299273843930636,0.2324030590889217,0.2987665740373161,0.99547439460103226]
[null,null,"Minnesota","Douglas",null,"Minnesota-Douglas",25.01,92.4,4.5,null,null,null,null,null,110,0.25369011771146999,0.33292860207416008,0.17266482803374425,0.990590525632706]
[null,null,"Minnesota","Faribault",null,"Minnesota-Faribault",33.090000000000003,86,5,null,null,null,null,null,140,0.26324711316397226,0.21649825433760564,0.29597565587331587,1]
[null,null,"Minnesota","Fillmore",null,"Minnesota-Fillmore",35.01,93.4,8,null,null,null,null,null,159.82417980786659,0.30949454545454536,0.80812492292729998,0.13530866106937689,0.9327463543968183]
[null,null,"Minnesota","Freeborn",null,"Minnesota-Freeborn",34.54,91.1,6,null,null,null,null,null,150,0.26103144354454588,0.16103146840128441,0.26953543894553628,0.99696592887341462]
[null,null,"Minnesota","Goodhue",null,"Minnesota-Goodhue",34.450000000000003,96.5,6,null,null,null,null,null,150,0.31368113522537538,0.79522490730137085,0.19018679050567611,0.94629772961816305]
[null,null,"Minnesota","Grant",null,"Minnesota-Grant",25.01,83,2,null,null,null,null,null,100,0.26391265860135743,0.20926321927309258,0.19101391585760513,1]
[null,null,"Minnesota","Hennepin",null,"Minnesota-Hennepin",25.01,98.1,11,null,null,null,null,null,130,0.26498536177331594,0.49623839646411938,0.1883788546255506,1]
[null,null,"Minnesota","Houston",null,"Minnesota-Houston",35.01,97.3,8,null,null,null,null,null,159.78857770455792,0.32261821366024568,1.5897231243707555,9.1013506212857781E-2,0.73547271745002696]
[null,null,"Minnesota","Hubbard",null,"Minnesota-Hubbard",25.01,97.8,5,null,null,null,null,null,100,0.21576187875477879,0.24912111076228532,9.6594059405940583E-2,1]
[null,null,"Minnesota","Isanti",null,"Minnesota-Isanti",25.01,90,7,null,null,null,null,null,130,0.22680133277800904,0.33773926254074005,0.12576405867970647,1]
[null,null,"Minnesota","Itasca",null,"Minnesota-Itasca",25.01,104.2,7,null,null,null,null,null,99.871931696905023,0.26377839099978762,0.87205376792652922,5.8574328030718589E-2,1]
[null,null,"Minnesota","Jackson",null,"Minnesota-Jackson",25.01,83,4,null,null,null,null,null,130,0.25729925356254207,0.20163152761059774,0.26777089934194465,0.9922739458932488]
[null,null,"Minnesota","Kanabec",null,"Minnesota-Kanabec",25.01,97.8,8,null,null,null,null,null,120,0.29623633879781419,0.22121200547890671,0.10055013736263733,1]
[null,null,"Minnesota","Kandiyohi",null,"Minnesota-Kandiyohi",25.01,84,4,null,null,null,null,null,120,0.24030934767989229,0.3036803504271724,0.20859304511278201,1]
[null,null,"Minnesota","Kittson",null,"Minnesota-Kittson",16,81.3,2,null,null,null,null,null,70,0.24145727090094285,0.10449902709219719,0.22118813905930493,1]
[null,null,"Minnesota","Koochiching",null,"Minnesota-Koochiching",25.01,105.2,7,null,null,null,null,null,79.99304589707927,0.26288312264360164,0.15944001240173386,8.6437500000000014E-2,1]
[null,null,"Minnesota","Lac Qui Parle",null,"Minnesota-Lac Qui Parle",25.01,81.900000000000006,2,null,null,null,null,null,110,0.27383718509265059,0.19029398599845943,0.21338183044749273,0.97888464133123465]
[null,null,"Minnesota","Lake",null,"Minnesota-Lake",25.45,103.7,13,null,null,null,null,null,90.192473118279565,0.26776025236593054,0.19558609497705426,1.2316384180790962E-2,1]
[null,null,"Minnesota","Lake of the Woods",null,"Minnesota-Lake of the Woods",25.01,83,5,null,null,null,null,null,70,0.2332162423461166,0.10492296132620887,0.14024698795180721,1]
[null,null,"Minnesota","Le Sueur",null,"Minnesota-Le Sueur",25.79,84,5,null,null,null,null,null,140.02641135688347,0.25964363636363591,0.37301862863733753,0.24096294736842105,0.98021052631578931]
[null,null,"Minnesota","Lincoln",null,"Minnesota-Lincoln",25.01,83,1,null,null,null,null,null,110.47279977214468,0.27984452918744496,0.45502729339872827,0.16760994263862347,0.98720522625876361]
[null,null,"Minnesota","Lyon",null,"Minnesota-Lyon",25.01,83,2,null,null,null,null,null,120,0.2688453925665274,0.28713618525504953,0.22156019598693411,1]
[null,null,"Minnesota","Mahnomen",null,"Minnesota-Mahnomen",25.01,86.4,4,null,null,null,null,null,130,0.251090548578982,0.25168619656365349,0.2561270404542228,1]
[null,null,"Minnesota","Marshall",null,"Minnesota-Marshall",20.49,83.8,3,null,null,null,null,null,90,0.25509034051424601,0.28022527985359585,0.14253450671607218,1]
[null,null,"Minnesota","Martin",null,"Minnesota-Martin",26.12,84.5,4,null,null,null,null,null,70,0.25001647785787867,8.4069255505560936E-2,0.20792695336159922,1]
[null,null,"Minnesota","McLeod",null,"Minnesota-McLeod",25.01,83,6,null,null,null,null,null,140,0.24849547511312231,0.22622811835375994,0.30307562825983869,0.99004267425320058]
[null,null,"Minnesota","Meeker",null,"Minnesota-Meeker",25.01,83,4,null,null,null,null,null,120.10053294573643,0.2467051874678993,0.26054967188908357,0.2492035242290748,1]
[null,null,"Minnesota","Mille Lacs",null,"Minnesota-Mille Lacs",25.2,92.1,7,null,null,null,null,null,120,0.30985185185185188,0.19874789984617131,0.12744534412955472,1]
[null,null,"Minnesota","Morrison",null,"Minnesota-Morrison",25.01,86.1,6,null,null,null,null,null,120,0.25530732666775924,0.26321494418353791,0.125411915289737,0.98315103560623696]
[null,null,"Minnesota","Mower",null,"Minnesota-Mower",35.01,92.1,6,null,null,null,null,null,150,0.28161468701614828,0.17652280278890223,0.35379587925251454,1]
[null,null,"Minnesota","Murray",null,"Minnesota-Murray",25.01,83,2,null,null,null,null,null,120,0.26880553695021259,0.22743794088293076,0.31563383958234559,0.99888467014712867]
[null,null,"Minnesota","Nicollet",null,"Minnesota-Nicollet",25.01,87,4,null,null,null,null,null,130,0.25164321034613901,0.19723938499550989,0.23937552742616008,1]
[null,null,"Minnesota","Nobles",null,"Minnesota-Nobles",25.01,83,3,null,null,null,null,null,130,0.26376341730558789,0.22183512806653885,0.22187091578462967,0.99606534744592723]
[null,null,"Minnesota","Norman",null,"Minnesota-Norman",25.01,74.2,1.333,null,null,null,null,null,80,0.27275195917623474,0.11853863875313672,0.16026211106734942,1]
[null,null,"Minnesota","Olmsted",null,"Minnesota-Olmsted",34.76,97.9,6,null,null,null,null,null,150,0.29001930967897649,0.91119436270351473,0.18450972180676048,0.93586598863296455]
[null,null,"Minnesota","Otter Tail",null,"Minnesota-Otter Tail",25.01,86.1,3.6669999999999998,null,null,null,null,null,100,0.2254510058403634,0.48563376862607549,0.13553494391716994,0.99792924935289051]
[null,null,"Minnesota","Pennington",null,"Minnesota-Pennington",25.01,83,4,null,null,null,null,null,70,0.22651765375854191,0.10766956174088552,0.15655285259194893,1]
[null,null,"Minnesota","Pine",null,"Minnesota-Pine",31.67,97.9,11,null,null,null,null,null,120,0.28902894884766678,0.32142841111252585,8.7503210544102664E-2,1]
[null,null,"Minnesota","Pipestone",null,"Minnesota-Pipestone",25.01,83,2,null,null,null,null,null,120.07545271629779,0.2946446615021891,0.26312842538161701,0.22587905193447258,0.97533983966538862]
[null,null,"Minnesota","Polk",null,"Minnesota-Polk",22.45,82.7,3,null,null,null,null,null,74.015649452269173,0.27433489827856056,0.16431361046102008,0.21061429856115102,1]
[null,null,"Minnesota","Pope",null,"Minnesota-Pope",25.01,85,4,null,null,null,null,null,109.54693966456109,0.2596589769307926,0.4051113508143806,0.17490925214306821,1]
[null,null,"Minnesota","Ramsey",null,"Minnesota-Ramsey",32.090000000000003,97.8,7,null,null,null,null,null,140,0.22965608465608486,1.5633524451867962,3.0000000000000009E-3,1]
[null,null,"Minnesota","Red Lake",null,"Minnesota-Red Lake",25.01,83,4,null,null,null,null,null,80,0.23585347432024165,0.10634206757958994,0.19429006181645253,1]
[null,null,"Minnesota","Redwood",null,"Minnesota-Redwood",25.01,83,5.5,null,null,null,null,null,120,0.25313145707160689,0.21908134508640106,0.22223185708969101,0.99491998511350943]
[null,null,"Minnesota","Renville",null,"Minnesota-Renville",25.01,83,4,null,null,null,null,null,120,0.261010166209456,0.15116960408103444,0.33938053702753568,1]
[null,null,"Minnesota","Rice",null,"Minnesota-Rice",32.75,95.1,6,null,null,null,null,null,140.11208724628901,0.2883235485975213,0.36897321650929055,0.23411051212937961,0.99301116673084344]
[null,null,"Minnesota","Rock",null,"Minnesota-Rock",25.01,79.7,2,null,null,null,null,null,130.04076350695567,0.29701988914248395,0.30633209021172486,0.23431974176010925,0.968518518518519]
[null,null,"Minnesota","Roseau",null,"Minnesota-Roseau",22.91,83,4,null,null,null,null,null,70,0.24563302752293573,0.10650628790063764,0.11028508845829832,1]
[null,null,"Minnesota","Scott",null,"Minnesota-Scott",25.01,88,5,null,null,null,null,null,93.184047661847416,0.28671610169491513,0.2025612787021687,0.11552926569705561,1]
[null,null,"Minnesota","Sherburne",null,"Minnesota-Sherburne",25.98,91.3,6,null,null,null,null,null,140,0.26687179487179474,0.62588470685599118,0.20067959866220714,0.99117056856187302]
[null,null,"Minnesota","Sibley",null,"Minnesota-Sibley",25.01,83,4,null,null,null,null,null,130,0.16290949472515265,0.23064467371436737,0.19396882690730108,1]
[null,null,"Minnesota","St. Louis",null,"Minnesota-St. Louis",25.05,111.1,11,null,null,null,null,null,130,0.25518229891455629,0.15740685717665806,0.28241888336743642,1]
[null,null,"Minnesota","Stearns",null,"Minnesota-Stearns",25.01,92.7,4.5,null,null,null,null,null,120.04833089805553,0.22876701570680646,0.36435786210221094,0.15340417746607715,1]
[null,null,"Minnesota","Steele",null,"Minnesota-Steele",34.26,97.8,6,null,null,null,null,null,150,0.25793887147335415,0.19359890959010459,0.29609159663865514,0.99768907563025211]
[null,null,"Minnesota","Stevens",null,"Minnesota-Stevens",25.01,89.5,2,null,null,null,null,null,100,0.27686857142857152,0.20689069386790684,0.18431695331695327,1]
[null,null,"Minnesota","Swift",null,"Minnesota-Swift",25.01,87.3,2,null,null,null,null,null,110,0.26965332762679206,0.13539709308205702,0.23693844393592672,1]
[null,null,"Minnesota","Todd",null,"Minnesota-Todd",25.01,97.8,5.5,null,null,null,null,null,110,0.21530172413793106,0.36301642500630571,0.15374764848159084,0.98654931470034934]
[null,null,"Minnesota","Traverse",null,"Minnesota-Traverse",25.01,72.8,2,null,null,null,null,null,100,0.27666849917537073,0.13054236901142893,0.25878257093225254,1]
[null,null,"Minnesota","Wabasha",null,"Minnesota-Wabasha",34.9,88.5,6,null,null,null,null,null,150,0.31382096725743536,1.1435691947811686,0.12036747532894711,0.78281661184210483]
[null,null,"Minnesota","Wadena",null,"Minnesota-Wadena",25.01,97.8,5,null,null,null,null,null,100,0.18237428160919536,0.15337849864313913,8.6374841168996214E-2,1]
[null,null,"Minnesota","Waseca",null,"Minnesota-Waseca",34.51,97.7,6,null,null,null,null,null,140,0.26187449062754647,0.25524283513038037,0.28399797242497965,0.99708029197080295]
[null,null,"Minnesota","Washington",null,"Minnesota-Washington",31.95,97.8,6,null,null,null,null,null,140,0.2722884012539184,0.57643628307256123,0.12746712802768165,0.97093425605536332]
[null,null,"Minnesota","Watonwan",null,"Minnesota-Watonwan",25.01,83,4,null,null,null,null,null,130,0.25113417346182382,0.16381604740413694,0.30236270022883316,0.99752097635392833]
[null,null,"Minnesota","Wilkin",null,"Minnesota-Wilkin",25.01,79.900000000000006,1,null,null,null,null,null,90,0.26967859438611508,0.13127849310194176,0.2193221925133689,1]
[null,null,"Minnesota","Winona",null,"Minnesota-Winona",35.01,95.7,7,null,null,null,null,null,160,0.32524532119372812,1.0447185311227856,7.9532886468370242E-2,0.78016338500209492]
[null,null,"Minnesota","Wright",null,"Minnesota-Wright",25.01,90.1,5,null,null,null,null,null,130,0.26673187271778814,0.37740666100934128,0.26363853396099518,0.99731002017484871]
[null,null,"Minnesota","Yellow Medicine",null,"Minnesota-Yellow Medicine",25.01,83,2,null,null,null,null,null,107.95454545454545,0.25838842975206611,0.2233675363962454,0.31522254464285709,0.99294642857142845]
[null,null,"Mississippi","Adams",null,"Mississippi-Adams",60,97.8,18,null,null,null,null,null,450,0.46107090103397341,0.41899972507689076,6.5958098591549302E-2,0.99559859154929575]
[null,null,"Mississippi","Alcorn",null,"Mississippi-Alcorn",60,97.8,20,null,null,null,null,null,300,0.35079060665362055,0.55992847628024822,7.9187643020595042E-2,1]
[null,null,"Mississippi","Amite",null,"Mississippi-Amite",60,99.6,20,null,null,null,null,null,475,0.39284814555633374,0.52446571669264352,1.9791492910758969E-2,1]
[null,null,"Mississippi","Attala",null,"Mississippi-Attala",60,93.1,22,null,null,null,null,null,350,0.34441810805039519,0.52139805114268511,0.11244793713163069,0.96954813359528491]
[null,null,"Mississippi","Benton",null,"Mississippi-Benton",60,97.8,21,null,null,null,null,null,300,0.40745605468750001,0.53907572224762235,0.1821288888888889,1]
[null,null,"Mississippi","Bolivar",null,"Mississippi-Bolivar",60,97.8,18,null,null,null,null,null,325,0.34980413297394436,0.11025003190987127,0.25611671654553192,1]
[null,null,"Mississippi","Calhoun",null,"Mississippi-Calhoun",60,89.7,20,null,null,null,null,null,325.32327586206895,0.41380993396497207,0.24597707793445842,0.13266023166023161,0.95361279646993935]
[null,null,"Mississippi","Carroll",null,"Mississippi-Carroll",60,88.6,20,null,null,null,null,null,350,0.4281029742564359,0.89944491653329928,0.10375623800383887,0.94273832373640432]
[null,null,"Mississippi","Chickasaw",null,"Mississippi-Chickasaw",60,85.5,20,null,null,null,null,null,325.22497554613631,0.35936773752563228,0.26320715827263624,0.11311976682564921,1]
[null,null,"Mississippi","Choctaw",null,"Mississippi-Choctaw",60,83.3,22,null,null,null,null,null,350,0.35430544593528007,0.48129839584482592,6.9443037974683569E-2,0.96582278481012662]
[null,null,"Mississippi","Claiborne",null,"Mississippi-Claiborne",60,97.8,18,null,null,null,null,null,398.53399875233936,0.48009032258064444,0.55194710224032062,8.1583921015514815E-2,1]
[null,null,"Mississippi","Clarke",null,"Mississippi-Clarke",60,97.6,20,null,null,null,null,null,400,0.28245450409463174,0.64763289915505406,2.8022875816993489E-2,0.99101307189542487]
[null,null,"Mississippi","Clay",null,"Mississippi-Clay",60,84.6,20,null,null,null,null,null,350,0.34111326609775017,0.25566763632954387,6.3126063418406833E-2,1]
[null,null,"Mississippi","Coahoma",null,"Mississippi-Coahoma",60,97,20,null,null,null,null,null,325,0.33363461538461492,0.13016278159631664,0.26540013750429647,1]
[null,null,"Mississippi","Copiah",null,"Mississippi-Copiah",60,95.7,18,null,null,null,null,null,400,0.41797530864197519,0.85462998280654623,2.6949140893470794E-2,1]
[null,null,"Mississippi","Covington",null,"Mississippi-Covington",60,97.3,20,null,null,null,null,null,425,0.30166982203710713,0.49609756855406206,8.4840966921119615E-2,0.89020356234096698]
[null,null,"Mississippi","De Soto",null,"Mississippi-De Soto",60,94.1,18,null,null,null,null,null,300,0.4565598591549298,0.35002260117418255,0.19428603227601551,1]
[null,null,"Mississippi","Forrest",null,"Mississippi-Forrest",60,98.4,22,null,null,null,null,null,475,0.25516673884798596,0.54541315227593556,4.7750746268656753E-2,0.9686567164179104]
[null,null,"Mississippi","Franklin",null,"Mississippi-Franklin",60,97.8,20,null,null,null,null,null,450,0.36729455909943703,0.42808726816001197,3.9617777777777786E-2,1]
[null,null,"Mississippi","George",null,"Mississippi-George",60,106.1,24.75,null,null,null,null,null,524.20652876535235,0.22156576980568027,0.36189014308390538,7.5101827676240213E-2,1]
[null,null,"Mississippi","Greene",null,"Mississippi-Greene",60,105.6,21,null,null,null,null,null,500,0.23282262210796908,0.35408568528682133,0.13233082706766916,1]
[null,null,"Mississippi","Grenada",null,"Mississippi-Grenada",60,97.8,20,null,null,null,null,null,340.29818462726922,0.43122466216216182,0.36195586127567625,0.14873945409429282,0.95293757649938793]
[null,null,"Mississippi","Hancock",null,"Mississippi-Hancock",60,97.8,25.5,null,null,null,null,null,550,0.27609398496240589,0.57574279227138991,7.88883928571429E-2,1]
[null,null,"Mississippi","Harrison",null,"Mississippi-Harrison",60,108.6,26.75,null,null,null,null,null,550,0.22000781250000007,0.28558514551879915,1.6473684210526317E-2,1]
[null,null,"Mississippi","Hinds",null,"Mississippi-Hinds",60,97.8,18,null,null,null,null,null,400,0.47043020511889633,0.81992781948398918,8.4398622800306064E-2,0.98152257077276195]
[null,null,"Mississippi","Holmes",null,"Mississippi-Holmes",60,84.7,22,null,null,null,null,null,350,0.4205028297779706,0.41976728677991498,0.20425950668037007,0.93864337101747164]
[null,null,"Mississippi","Humphreys",null,"Mississippi-Humphreys",60,92,18,null,null,null,null,null,350,0.34980556783031402,0.13266144967425353,0.23542617801047105,1]
[null,null,"Mississippi","Issaquena",null,"Mississippi-Issaquena",60,97.6,18,null,null,null,null,null,375,0.32212657232704389,0.14048122377342909,0.25877227011494236,0.98670977011494254]
[null,null,"Mississippi","Itawamba",null,"Mississippi-Itawamba",60,99.1,22,null,null,null,null,null,324.70375722543355,0.28769898264512217,0.50652282042145602,8.6670116429495528E-2,1]
[null,null,"Mississippi","Jackson",null,"Mississippi-Jackson",60,97.3,27,null,null,null,null,null,550,0.21746603475513446,0.46556548579617746,5.2700803212851408E-2,1]
[null,null,"Mississippi","Jasper",null,"Mississippi-Jasper",60,97.8,18,null,null,null,null,null,400,0.2899442964398159,0.63849887129362615,2.8394313967861566E-2,0.99196538936959211]
[null,null,"Mississippi","Jefferson",null,"Mississippi-Jefferson",60,97.8,18,null,null,null,null,null,395.98265031408914,0.43745280099040507,0.72154459468838716,8.1139146567717979E-2,1]
[null,null,"Mississippi","Jefferson Davis",null,"Mississippi-Jefferson Davis",60,97.8,20,null,null,null,null,null,425,0.31265847099500571,0.86934744027083422,2.599207397622192E-2,0.97595772787318358]
[null,null,"Mississippi","Jones",null,"Mississippi-Jones",60,97.8,19,null,null,null,null,null,425,0.29286854577201338,0.71550973603101398,2.018615384615384E-2,1]
[null,null,"Mississippi","Kemper",null,"Mississippi-Kemper",60,97,22,null,null,null,null,null,374.89808397880148,0.33586050350804791,0.46635606733844498,2.3332982456140364E-2,0.993859649122807]
[null,null,"Mississippi","Lafayette",null,"Mississippi-Lafayette",60,97.8,22,null,null,null,null,null,324.40665524834844,0.32962994350282454,0.67160160248166001,6.8265593561368229E-2,1]
[null,null,"Mississippi","Lamar",null,"Mississippi-Lamar",60,100.5,22,null,null,null,null,null,474.13054341036855,0.25389493914157579,0.74391957283437204,5.6333333333333332E-2,0.98897535667963687]
[null,null,"Mississippi","Lauderdale",null,"Mississippi-Lauderdale",60,97.8,18,null,null,null,null,null,399.55634427684117,0.31133767172812682,0.57234538806029511,7.6883333333333326E-3,1]
[null,null,"Mississippi","Lawrence",null,"Mississippi-Lawrence",60,97,20,null,null,null,null,null,425,0.38204678362573097,0.53961967587919057,4.4621333333333325E-2,0.99133333333333329]
[null,null,"Mississippi","Leake",null,"Mississippi-Leake",60,90.1,18,null,null,null,null,null,374.31891025641028,0.42413474599293527,0.43844945498147003,4.5542355371900822E-2,0.99948347107438018]
[null,null,"Mississippi","Lee",null,"Mississippi-Lee",60,95.7,22,null,null,null,null,null,324.77586206896552,0.30803418803418753,0.43706640316081713,0.11057471943295924,0.9404607206142942]
[null,null,"Mississippi","Leflore",null,"Mississippi-Leflore",60,96.6,19,null,null,null,null,null,350,0.35094547408004284,0.13064087210294228,0.26828102429415612,1]
[null,null,"Mississippi","Lincoln",null,"Mississippi-Lincoln",60,97.8,20,null,null,null,null,null,425,0.40128634119583068,0.5223946125311929,1.8243194192377517E-2,1]
[null,null,"Mississippi","Lowndes",null,"Mississippi-Lowndes",60,95.4,20,null,null,null,null,null,349.72996037793354,0.33607640012949191,0.27451656861471241,9.765869017632238E-2,0.99624765478424016]
[null,null,"Mississippi","Madison",null,"Mississippi-Madison",60,87.1,18,null,null,null,null,null,372.67263534864122,0.45207158836689071,0.46792490646461926,0.10131692032229184,0.97025514771709909]
[null,null,"Mississippi","Marion",null,"Mississippi-Marion",60,108.6,22,null,null,null,null,null,474.29507262888069,0.2822219003476249,0.59327690790488774,3.5774165202109007E-2,0.97012302284710017]
[null,null,"Mississippi","Marshall",null,"Mississippi-Marshall",60,93.4,21,null,null,null,null,null,300,0.40351079489695879,0.43926334547403878,0.12695104895104886,1]
[null,null,"Mississippi","Monroe",null,"Mississippi-Monroe",60,97.3,22,null,null,null,null,null,325,0.29181741691207425,0.46358755612105335,0.14827984595635427,0.97618741976893464]
[null,null,"Mississippi","Montgomery",null,"Mississippi-Montgomery",60,89.8,22,null,null,null,null,null,349.65274051360677,0.36791795665634652,0.53195358308407548,0.11951601830663625,0.9372997711670481]
[null,null,"Mississippi","Neshoba",null,"Mississippi-Neshoba",60,85.7,20,null,null,null,null,null,375,0.31214582755752718,1.0209152624100866,3.423370786516855E-2,1]
[null,null,"Mississippi","Newton",null,"Mississippi-Newton",60,97.8,18,null,null,null,null,null,400,0.27028808864265924,0.39728108870764278,1.0491563554555671E-2,0.98987626546681662]
[null,null,"Mississippi","Noxubee",null,"Mississippi-Noxubee",60,95.2,20,null,null,null,null,null,349.83902774592985,0.34482550023266634,0.25901937660663654,0.10269498239436618,1]
[null,null,"Mississippi","Oktibbeha",null,"Mississippi-Oktibbeha",60,90.7,20,null,null,null,null,null,350,0.35088501994922017,0.3377899550711701,4.9106967615309187E-2,0.98626104023552508]
[null,null,"Mississippi","Panola",null,"Mississippi-Panola",60,95.7,21,null,null,null,null,null,324.50274348422499,0.44199852869053402,0.51756060846221108,0.11894212218649511,1]
[null,null,"Mississippi","Pearl River",null,"Mississippi-Pearl River",60,107.1,24,null,null,null,null,null,524.62330726683194,0.28373373373373356,0.7753326334819225,3.0571747211895921E-2,1]
[null,null,"Mississippi","Perry",null,"Mississippi-Perry",60,100.7,22,null,null,null,null,null,474.55848050649786,0.25890008058017733,0.27268769152441985,0.18624067796610169,1]
[null,null,"Mississippi","Pike",null,"Mississippi-Pike",60,100.8,22,null,null,null,null,null,475,0.32005424254165094,0.56730667499390219,3.2817034700315474E-2,0.99217665615141948]
[null,null,"Mississippi","Pontotoc",null,"Mississippi-Pontotoc",60,97.8,22,null,null,null,null,null,325,0.40651332487309672,0.24475950302049068,0.12928667113194911,0.99732083054253184]
[null,null,"Mississippi","Prentiss",null,"Mississippi-Prentiss",60,96.2,19,null,null,null,null,null,300,0.27257274119448716,0.45140554129380445,0.10288378631677614,0.98631677600749779]
[null,null,"Mississippi","Quitman",null,"Mississippi-Quitman",60,91.4,20,null,null,null,null,null,328.35706040784919,0.34383999999999953,0.12760560802906601,0.2614081814139616,1]
[null,null,"Mississippi","Rankin",null,"Mississippi-Rankin",60,94.5,18,null,null,null,null,null,398.78922898101513,0.38915469498230265,0.53500317386093543,3.0695024077046551E-2,1]
[null,null,"Mississippi","Scott",null,"Mississippi-Scott",60,96,18,null,null,null,null,null,399.28876244665719,0.34648244473341955,0.54518497752463246,4.5711257309941522E-2,0.96816520467836265]
[null,null,"Mississippi","Sharkey",null,"Mississippi-Sharkey",60,96.8,18,null,null,null,null,null,375,0.34062735849056591,0.1211926860855035,0.26176182033096917,0.99527186761229314]
[null,null,"Mississippi","Simpson",null,"Mississippi-Simpson",60,96,18,null,null,null,null,null,400,0.3149520766773159,0.45265726184480226,6.5572625698324047E-2,0.99162011173184361]
[null,null,"Mississippi","Smith",null,"Mississippi-Smith",60,95.2,18,null,null,null,null,null,400,0.28317247287264447,0.48293919745348413,2.2064044943820221E-2,1]
[null,null,"Mississippi","Stone",null,"Mississippi-Stone",60,111.5,24.5,null,null,null,null,null,524.62504686914133,0.24325000000000002,0.57028790856125833,2.2229828850855747E-2,1]
[null,null,"Mississippi","Sunflower",null,"Mississippi-Sunflower",60,97.8,18,null,null,null,null,null,350,0.35515277777777732,0.12116840076120279,0.23132968431771894,0.99877800407331974]
[null,null,"Mississippi","Tallahatchie",null,"Mississippi-Tallahatchie",60,96.1,21,null,null,null,null,null,325,0.40660665844636196,0.24399567183578574,0.19764237123420778,0.99708454810495628]
[null,null,"Mississippi","Tate",null,"Mississippi-Tate",60,97.6,21,null,null,null,null,null,300,0.46227959697733029,0.52509287149638617,8.9841849148418584E-2,1]
[null,null,"Mississippi","Tippah",null,"Mississippi-Tippah",60,97.8,22,null,null,null,null,null,300,0.35868569415081042,0.43310525723502602,0.10640333333333338,1]
[null,null,"Mississippi","Tishomingo",null,"Mississippi-Tishomingo",60,97.8,24,null,null,null,null,null,300,0.28769169008430334,0.54042119387025012,0.11181802721088439,0.91147959183673477]
[null,null,"Mississippi","Tunica",null,"Mississippi-Tunica",60,88.2,20,null,null,null,null,null,300,0.33342807625649901,9.7231469671831966E-2,0.26597389558232892,1]
[null,null,"Mississippi","Union",null,"Mississippi-Union",60,97.7,20,null,null,null,null,null,325,0.36353033268101725,0.33029725558331013,0.11551191526919692,1]
[null,null,"Mississippi","Walthall",null,"Mississippi-Walthall",60,100,22,null,null,null,null,null,475,0.31761535478867775,0.63484565404957516,5.0711727842435037E-2,0.98254252461951652]
[null,null,"Mississippi","Warren",null,"Mississippi-Warren",60,97.8,18,null,null,null,null,null,400,0.43586243668355085,0.24284630527561066,0.17823831242873425,0.99384264538198408]
[null,null,"Mississippi","Washington",null,"Mississippi-Washington",60,97.6,18,null,null,null,null,null,350,0.33914343983684586,0.13458467533184135,0.25713929424250476,1]
[null,null,"Mississippi","Wayne",null,"Mississippi-Wayne",60,97.4,19,null,null,null,null,null,425,0.2478111689540938,0.43568442581823663,4.0813804173354742E-2,0.9791332263242376]
[null,null,"Mississippi","Webster",null,"Mississippi-Webster",60,83,20,null,null,null,null,null,350,0.38239851024208615,0.48267309554392318,8.54622425629291E-2,0.97517162471395891]
[null,null,"Mississippi","Wilkinson",null,"Mississippi-Wilkinson",60,98.4,20,null,null,null,null,null,450,0.43573609059576496,0.50704998474988616,9.9459330143540664E-2,1]
[null,null,"Mississippi","Winston",null,"Mississippi-Winston",60,91.5,22,null,null,null,null,null,350,0.31071031862028631,0.45343530033782464,8.0815344603381037E-2,1]
[null,null,"Mississippi","Yalobusha",null,"Mississippi-Yalobusha",60,97.8,22,null,null,null,null,null,341.9355072463768,0.30509186351705997,0.90120427023654615,0.11632722513089008,0.99267015706806283]
[null,null,"Mississippi","Yazoo",null,"Mississippi-Yazoo",60,95.6,18,null,null,null,null,null,375,0.43932346723044385,0.2512720284079818,0.22938712838941519,0.95295655014701075]
[null,null,"Missouri","Adair",null,"Missouri-Adair",35.01,83.5,8,null,null,null,null,null,200,0.3130901050304038,1.4414283956991447,9.1534470246734417E-2,0.98802612481857766]
[null,null,"Missouri","Andrew",null,"Missouri-Andrew",35.01,83,7.5,null,null,null,null,null,200,0.31393090909090909,1.2718604926753798,0.1183316369804919,0.86980491942324001]
[null,null,"Missouri","Atchison",null,"Missouri-Atchison",35.01,80.900000000000006,6,null,null,null,null,null,200,0.31654137529137533,0.91104276252621208,0.21119840743198398,0.81280690112806919]
[null,null,"Missouri","Audrain",null,"Missouri-Audrain",35.01,94.5,9,null,null,null,null,null,225,0.40368242479077215,0.26428660064853055,0.21996861089792788,0.98672294704527996]
[null,null,"Missouri","Barry",null,"Missouri-Barry",45,86,12,null,null,null,null,null,250,0.30110309518268547,0.80162480735844843,1.2730722154222772E-2,1]
[null,null,"Missouri","Barton",null,"Missouri-Barton",45,83,9.5,null,null,null,null,null,250,0.37726937269372729,0.27394795711559122,0.12752800990405438,0.99634787991333951]
[null,null,"Missouri","Bates",null,"Missouri-Bates",45,83.1,9,null,null,null,null,null,225,0.38031740104555595,0.32015438515880651,9.4067690311418567E-2,0.97173442906574381]
[null,null,"Missouri","Benton",null,"Missouri-Benton",45,91,9.5,null,null,null,null,null,225,0.30698649951783974,0.88478574127511977,7.5879132231404939E-2,0.98186983471074374]
[null,null,"Missouri","Bollinger",null,"Missouri-Bollinger",45,92.8,14.5,null,null,null,null,null,250,0.31734605597964333,0.42859934131708111,0.1725701064322076,1]
[null,null,"Missouri","Boone",null,"Missouri-Boone",35.01,94.6,8,null,null,null,null,null,225,0.36831692451945602,0.65707256754360832,9.1913469068128403E-2,0.9579483163664837]
[null,null,"Missouri","Buchanan",null,"Missouri-Buchanan",35.01,81.900000000000006,6,null,null,null,null,null,200,0.31870370370370377,1.1647704663487186,0.16815461493239273,0.94585537918871254]
[null,null,"Missouri","Butler",null,"Missouri-Butler",45,96.9,16,null,null,null,null,null,249.28459646769505,0.39174955368528397,0.23423530794967654,0.25030989856593239,1]
[null,null,"Missouri","Caldwell",null,"Missouri-Caldwell",35.01,83,7,null,null,null,null,null,200,0.34436038011695908,0.97691206232363781,0.17084552141929893,0.89571614019904799]
[null,null,"Missouri","Callaway",null,"Missouri-Callaway",35.01,97.7,8,null,null,null,null,null,225,0.34116145133422932,0.60753233806326767,8.9177745664739835E-2,0.97899807321772625]
[null,null,"Missouri","Camden",null,"Missouri-Camden",44.99,97.8,10,null,null,null,null,null,225,0.29893950526573609,1.018728515691665,1.1486780715396577E-2,1]
[null,null,"Missouri","Cape Girardeau",null,"Missouri-Cape Girardeau",45,97.4,14.667,null,null,null,null,null,250,0.37425034387895478,0.83578845981616312,0.13486465583913379,1]
[null,null,"Missouri","Carroll",null,"Missouri-Carroll",35.35,85.7,7,null,null,null,null,null,200,0.34468259385665517,0.55323194447920854,0.18110141987829606,0.9108772819472617]
[null,null,"Missouri","Carter",null,"Missouri-Carter",45,85.5,15,null,null,null,null,null,250,0.30031622364802907,0.41219317119622984,2.4765807962529269E-2,1]
[null,null,"Missouri","Cass",null,"Missouri-Cass",36.89,82.6,8,null,null,null,null,null,225,0.35745681818181768,0.50378333146239518,0.12561329980441469,0.9781782620843813]
[null,null,"Missouri","Cedar",null,"Missouri-Cedar",45,83,8.5,null,null,null,null,null,250,0.2462555517594808,0.6814189045399246,3.5842642320085945E-2,1]
[null,null,"Missouri","Chariton",null,"Missouri-Chariton",37.83,91.8,8.5,null,null,null,null,null,200,0.33590435706694977,0.42035928187436428,0.22494629854368961,0.9558252427184466]
[null,null,"Missouri","Christian",null,"Missouri-Christian",45,77.8,12,null,null,null,null,null,250.46391752577318,0.29269492073762526,1.5655335708604547,1.8848661233993019E-2,1]
[null,null,"Missouri","Clark",null,"Missouri-Clark",35.01,96.6,9,null,null,null,null,null,200,0.33016811955168135,0.56878890629054846,0.17621934369602774,0.97875647668393795]
[null,null,"Missouri","Clay",null,"Missouri-Clay",35.01,82.3,9,null,null,null,null,null,200,0.32782662795520545,0.79639809738844713,0.11171055900621117,1]
[null,null,"Missouri","Clinton",null,"Missouri-Clinton",35.01,80.2,7,null,null,null,null,null,200,0.34380787037037086,0.92876225470218665,7.9916170407695927E-2,0.86303252404947317]
[null,null,"Missouri","Cole",null,"Missouri-Cole",35.83,90.9,8.5,null,null,null,null,null,225,0.36895306859205784,0.43090501913236329,3.5944841012329684E-2,0.990330953926022]
[null,null,"Missouri","Cooper",null,"Missouri-Cooper",37.299999999999997,89,8,null,null,null,null,null,225,0.35355362643517169,0.55745106507127984,0.13692745574453308,0.80255119750086767]
[null,null,"Missouri","Crawford",null,"Missouri-Crawford",45,83,10,null,null,null,null,null,225,0.32152829718274728,0.96034384045165333,2.7840411840411847E-2,1]
[null,null,"Missouri","Dade",null,"Missouri-Dade",45,92.3,10,null,null,null,null,null,250,0.2897040169133196,0.51897649087608122,4.201575492341364E-2,0.99737417943107221]
[null,null,"Missouri","Dallas",null,"Missouri-Dallas",45,97.8,8.5,null,null,null,null,null,250,0.29147280092592576,0.57254047954890763,2.1380763510163617E-2,1]
[null,null,"Missouri","Daviess",null,"Missouri-Daviess",35.01,83,8,null,null,null,null,null,200,0.34870833333333306,0.58718642562072609,0.17236833904643167,0.93515113742598943]
[null,null,"Missouri","De Kalb",null,"Missouri-De Kalb",35.01,83,8,null,null,null,null,null,200,0.34876957494407107,0.81885799374662993,7.2117144078666151E-2,0.95019238991021804]
[null,null,"Missouri","Dent",null,"Missouri-Dent",45,87.9,12,null,null,null,null,null,225,0.3285980392156867,0.80715949466851322,3.8062628336755652E-2,1]
[null,null,"Missouri","Douglas",null,"Missouri-Douglas",45,80.2,12,null,null,null,null,null,254.61584875301691,0.28282971619365577,1.2505043153543742,1.2845620121422371E-2,1]
[null,null,"Missouri","Dunklin",null,"Missouri-Dunklin",47.56,97.2,18,null,null,null,null,null,250,0.30242811501597455,8.8064082735902979E-2,0.30530135262661218,1]
[null,null,"Missouri","Franklin",null,"Missouri-Franklin",37.75,90.1,9,null,null,null,null,null,225.31754032258064,0.34449430445288215,0.85980990188711204,6.6707249802994514E-2,0.97679275019700551]
[null,null,"Missouri","Gasconade",null,"Missouri-Gasconade",39.909999999999997,88,9,null,null,null,null,null,225,0.35247432024169167,0.8346194868035931,2.654236111111111E-2,0.98784722222222221]
[null,null,"Missouri","Gentry",null,"Missouri-Gentry",35.01,83,6,null,null,null,null,null,200,0.33556055252168338,1.1808025651618224,9.558042461317022E-2,0.97661029147175238]
[null,null,"Missouri","Greene",null,"Missouri-Greene",45,92.5,10,null,null,null,null,null,250,0.30401541695865442,0.45958926244809306,1.3420365535248046E-2,1]
[null,null,"Missouri","Grundy",null,"Missouri-Grundy",35.01,84.5,8,null,null,null,null,null,200,0.33429764065335743,0.80257307343792816,0.17866526315789483,0.98305422647527907]
[null,null,"Missouri","Harrison",null,"Missouri-Harrison",35.01,83.8,7,null,null,null,null,null,200,0.33338699151620604,0.983247618083956,8.7849368318756005E-2,0.95473760932944607]
[null,null,"Missouri","Henry",null,"Missouri-Henry",45,83,9,null,null,null,null,null,225,0.3408360208385014,0.53836490807894177,0.12740504451038576,0.97522255192878338]
[null,null,"Missouri","Hickory",null,"Missouri-Hickory",45,86.1,10,null,null,null,null,null,225,0.29435224386113468,0.59994190040981721,1.9747005988023959E-2,1]
[null,null,"Missouri","Holt",null,"Missouri-Holt",35.01,82.3,7.6669999999999998,null,null,null,null,null,200,0.30391933815925548,0.55933823449683584,0.24938726790450899,0.91030693444486521]
[null,null,"Missouri","Howard",null,"Missouri-Howard",35.76,93.5,8,null,null,null,null,null,225,0.34424652895360647,0.7216499403233182,0.13388427057864713,0.96088019559902182]
[null,null,"Missouri","Howell",null,"Missouri-Howell",45,83.4,14,null,null,null,null,null,250,0.28923899023401517,0.79849884519616143,1.8024501796798452E-2,1]
[null,null,"Missouri","Iron",null,"Missouri-Iron",45,85.4,13,null,null,null,null,null,225,0.30070251177394031,0.71834196626601532,4.3247344461305029E-2,1]
[null,null,"Missouri","Jackson",null,"Missouri-Jackson",35.08,83,9,null,null,null,null,null,225,0.3166023579849947,0.55676045910384353,0.15033689591078064,0.9621282527881041]
[null,null,"Missouri","Jasper",null,"Missouri-Jasper",45,82.9,10,null,null,null,null,null,250,0.33328545780969515,0.36234186403096114,7.5757566001287843E-2,0.99755312298776566]
[null,null,"Missouri","Jefferson",null,"Missouri-Jefferson",35.07,87.2,9,null,null,null,null,null,225,0.31911207103431682,1.4451700572875783,4.2935096153846171E-2,1]
[null,null,"Missouri","Johnson",null,"Missouri-Johnson",44.89,83,9,null,null,null,null,null,225,0.34085321626264609,0.56189031757998487,7.2035158093440285E-2,0.92553091080698446]
[null,null,"Missouri","Knox",null,"Missouri-Knox",35.01,83.5,8,null,null,null,null,null,200,0.35082161824429881,0.62169734167255308,0.17905832721936915,0.97479823917828323]
[null,null,"Missouri","Laclede",null,"Missouri-Laclede",45,97.4,8,null,null,null,null,null,225,0.33656005221932106,0.96940566501099446,1.133401546157344E-2,1]
[null,null,"Missouri","Lafayette",null,"Missouri-Lafayette",38.68,83.4,9,null,null,null,null,null,225,0.32781900225620425,0.55637759545896615,0.14050375262683865,0.79087361152806956]
[null,null,"Missouri","Lawrence",null,"Missouri-Lawrence",45,96.1,10,null,null,null,null,null,250.18339276617422,0.31621531346351467,0.52037560808682282,3.5404631217838781E-2,1]
[null,null,"Missouri","Lewis",null,"Missouri-Lewis",35.01,93.3,8,null,null,null,null,null,200,0.35585175957645571,0.8450556996742542,0.20059341531138417,0.96255454184847278]
[null,null,"Missouri","Lincoln",null,"Missouri-Lincoln",35.01,84.8,9,null,null,null,null,null,225,0.36689820661783284,0.48276674487670584,0.17017205938332694,0.95112295393985535]
[null,null,"Missouri","Linn",null,"Missouri-Linn",35.01,92.8,9,null,null,null,null,null,200,0.33020501138952135,0.8554671967018953,0.12369117647058812,0.95998890122086578]
[null,null,"Missouri","Livingston",null,"Missouri-Livingston",35.01,83.2,8,null,null,null,null,null,200,0.34763507528786497,0.5573259529893273,0.2176671309192201,0.88889275766016718]
[null,null,"Missouri","Macon",null,"Missouri-Macon",35.01,89.3,9,null,null,null,null,null,250,0.29367382472431802,1.1758053294973996,1.90857329842932E-2,1]
[null,null,"Missouri","Madison",null,"Missouri-Madison",45,97.6,14,null,null,null,null,null,200,0.34769992082343631,0.92703577530488768,0.1475961490989878,0.98736608244877799]
[null,null,"Missouri","Maries",null,"Missouri-Maries",45,96.7,10,null,null,null,null,null,250,0.31567153011597432,0.57970530969801304,2.1891739674593243E-2,1]
[null,null,"Missouri","Marion",null,"Missouri-Marion",35.340000000000003,94.3,9,null,null,null,null,null,225,0.33925803544607991,0.97046809448939886,3.0857375271149685E-2,1]
[null,null,"Missouri","McDonald",null,"Missouri-McDonald",45,84.1,9,null,null,null,null,null,200,0.35459665697674381,0.8136731578021289,0.20579925128685073,0.96490407112774923]
[null,null,"Missouri","Mercer",null,"Missouri-Mercer",35.01,84.9,8,null,null,null,null,null,200,0.32744274809160318,1.1568520239962921,0.12394350059265113,0.9962465428684314]
[null,null,"Missouri","Miller",null,"Missouri-Miller",44.86,96.9,9.5,null,null,null,null,null,225,0.32111081081081072,1.1093098596727671,1.3143453312467393E-2,1]
[null,null,"Missouri","Mississippi",null,"Missouri-Mississippi",45.97,97.8,19.600000000000001,null,null,null,null,null,250,0.31416794478527593,8.5661177732713811E-2,0.38378902089307654,1]
[null,null,"Missouri","Moniteau",null,"Missouri-Moniteau",36.659999999999997,83.3,8,null,null,null,null,null,225,0.34891115311909271,0.77780439695144765,4.3860143442622984E-2,0.9146516393442623]
[null,null,"Missouri","Monroe",null,"Missouri-Monroe",35.380000000000003,87.6,9,null,null,null,null,null,200,0.38532180106843084,0.58880806056023549,0.14574983860555199,0.91717236927049695]
[null,null,"Missouri","Montgomery",null,"Missouri-Montgomery",35.39,95.1,9,null,null,null,null,null,225,0.35195412311265972,0.57295776988982061,0.12700402212166914,0.96108597285067876]
[null,null,"Missouri","Morgan",null,"Missouri-Morgan",44.18,92.7,9,null,null,null,null,null,225,0.30147982062780265,0.81679215468062449,5.653920570264765E-2,0.93370672097759688]
[null,null,"Missouri","New Madrid",null,"Missouri-New Madrid",45,95.2,19,null,null,null,null,null,250,0.32029065577708349,9.1384900540770295E-2,0.41276867407598949,1]
[null,null,"Missouri","Newton",null,"Missouri-Newton",45,83.3,10,null,null,null,null,null,250,0.32601323828920575,0.5721415670867438,2.9920091324200961E-2,0.99334094368340942]
[null,null,"Missouri","Nodaway",null,"Missouri-Nodaway",35.01,83,7,null,null,null,null,null,200,0.32335979790689279,0.97892855700057213,0.11586023166023159,0.92700772200772197]
[null,null,"Missouri","Oregon",null,"Missouri-Oregon",45,83,15,null,null,null,null,null,250,0.2891870714985304,1.1111437287046226,1.3044191919191917E-2,1]
[null,null,"Missouri","Osage",null,"Missouri-Osage",37.07,90.2,9,null,null,null,null,null,225,0.34103133159268939,1.5746560633896118,4.0254658385093151E-2,1]
[null,null,"Missouri","Ozark",null,"Missouri-Ozark",45,77,14,null,null,null,null,null,250,0.27067764705882302,1.2028934411011523,2.7639618753219995E-2,1]
[null,null,"Missouri","Pemiscot",null,"Missouri-Pemiscot",46.12,97.8,14.5,null,null,null,null,null,250,0.36709412123058116,8.5152256098271803E-2,0.31664993481095144,1]
[null,null,"Missouri","Perry",null,"Missouri-Perry",45,87.4,13,null,null,null,null,null,250,0.34101444407121201,0.85990322244467676,0.12384405113077687,0.97305801376597834]
[null,null,"Missouri","Pettis",null,"Missouri-Pettis",40.51,92.1,8.5,null,null,null,null,null,225,0.35225961538461492,0.49919271030477586,0.11682975679542201,0.87816881258941326]
[null,null,"Missouri","Phelps",null,"Missouri-Phelps",45,94.6,10,null,null,null,null,null,225,0.33222464558342429,0.67868399659424528,4.056763590391909E-2,1]
[null,null,"Missouri","Pike",null,"Missouri-Pike",35.01,88.7,9,null,null,null,null,null,200,0.3479894179894179,0.71250758986210627,0.16591893687707618,0.94189368770764137]
[null,null,"Missouri","Platte",null,"Missouri-Platte",35.01,81.400000000000006,7,null,null,null,null,null,200,0.31930048890560375,0.74248649265809286,0.19274306326304108,0.97325194228634837]
[null,null,"Missouri","Polk",null,"Missouri-Polk",45,95.7,10,null,null,null,null,null,250,0.29818159016804613,0.42949814089218835,3.2974768280123634E-2,1]
[null,null,"Missouri","Pulaski",null,"Missouri-Pulaski",45,99.7,8,null,null,null,null,null,225,0.32180347755762229,1.0820744495770724,1.067115902964959E-2,1]
[null,null,"Missouri","Putnam",null,"Missouri-Putnam",35.01,94.5,7,null,null,null,null,null,200,0.33048802667474986,2.0366667086924819,4.8247335538405024E-2,0.99797868430724002]
[null,null,"Missouri","Ralls",null,"Missouri-Ralls",35.409999999999997,94.5,9,null,null,null,null,null,200,0.36183226675648389,0.52096000695294709,0.20500895803866079,0.94959924563884957]
[null,null,"Missouri","Randolph",null,"Missouri-Randolph",35.67,96.1,9,null,null,null,null,null,200,0.38318520921180688,0.8222567739534038,0.14069880624426084,0.98117539026629941]
[null,null,"Missouri","Ray",null,"Missouri-Ray",35.01,83.7,9,null,null,null,null,null,200,0.33693996664813786,0.70048073333107619,0.15147918715175357,0.9657489347754834]
[null,null,"Missouri","Reynolds",null,"Missouri-Reynolds",45,81.400000000000006,14.5,null,null,null,null,null,250,0.28227085852478828,0.20812825920186601,3.5384730538922167E-2,1]
[null,null,"Missouri","Ripley",null,"Missouri-Ripley",45,92.7,11,null,null,null,null,null,250,0.31783187276858166,0.31608599815802424,0.11972727272727261,1]
[null,null,"Missouri","Saline",null,"Missouri-Saline",35.01,84.4,8,null,null,null,null,null,225,0.34851894706392822,0.2709492763138906,0.22340699904122702,0.96994247363374886]
[null,null,"Missouri","Schuyler",null,"Missouri-Schuyler",35.01,87.1,8,null,null,null,null,null,225,0.28502598366740889,0.4515895695519293,4.0789235825801164E-2,0.97847165160230065]
[null,null,"Missouri","Scotland",null,"Missouri-Scotland",35.01,83.7,8,null,null,null,null,null,225.30368098159508,0.32467845659164069,1.193205610613786,8.1858934169279002E-2,0.99310344827586206]
[null,null,"Missouri","Scott",null,"Missouri-Scott",45,97.8,16,null,null,null,null,null,221.47302904564316,0.34345346396081161,0.72479110426569371,3.0795551753635599E-2,1]
[null,null,"Missouri","Shannon",null,"Missouri-Shannon",45,78.8,14,null,null,null,null,null,225,0.33194009530292834,0.25772870095200667,0.22604360465116283,1]
[null,null,"Missouri","Shelby",null,"Missouri-Shelby",35.01,84.1,8,null,null,null,null,null,225,0.33338608912952883,0.51595991726159773,0.20292236740968506,0.77883679221111968]
[null,null,"Missouri","St. Charles",null,"Missouri-St. Charles",35.01,89.2,9,null,null,null,null,null,200,0.31751271617497467,2.0382158390909102,5.8521276595744673E-2,1]
[null,null,"Missouri","St. Clair",null,"Missouri-St. Clair",45,84.3,8,null,null,null,null,null,200,0.34711785714285709,0.8605065693682451,0.14029140832595219,0.9224534986713907]
[null,null,"Missouri","St. Francois",null,"Missouri-St. Francois",44.76,93.6,11,null,null,null,null,null,250,0.31599702380952399,0.18703099236167098,0.24311160123511233,1]
[null,null,"Missouri","St. Louis",null,"Missouri-St. Louis",35.64,92.4,9,null,null,null,null,null,250,0.28949198377438706,1.0585240831869733,2.4748449955713028E-2,1]
[null,null,"Missouri","St. Louis City",null,"Missouri-St. Louis City",35.01,97.8,9,null,null,null,null,null,200,0.39399622997172495,0.52236812944434885,0.2037489908256882,0.90623853211009175]
[null,null,"Missouri","Ste. Genevieve",null,"Missouri-Ste. Genevieve",44.82,91.8,10.667,null,null,null,null,null,250,0.3906003128666411,0.19082180308232932,0.28803998271017944,0.99922195807218495]
[null,null,"Missouri","Stoddard",null,"Missouri-Stoddard",45,96.5,17,null,null,null,null,null,250,0.28018715596330285,2.0249339166855482,2.22280442804428E-2,1]
[null,null,"Missouri","Stone",null,"Missouri-Stone",45,83,12,null,null,null,null,null,200,0.31924337349397569,1.687928981433142,7.7460225781044889E-2,0.99724337096350746]
[null,null,"Missouri","Sullivan",null,"Missouri-Sullivan",35.01,96.1,8,null,null,null,null,null,250,0.26213864306784679,2.4307111626411761,2.0353874767513956E-2,1]
[null,null,"Missouri","Taney",null,"Missouri-Taney",45,83.2,12,null,null,null,null,null,250,0.3000411055988661,0.86190303217997677,1.885692495424041E-2,0.99920683343502137]
[null,null,"Missouri","Texas",null,"Missouri-Texas",45,86.9,12,null,null,null,null,null,225,0.34430760499432406,0.28176644274684787,0.11050070389488491,0.97184420459877996]
[null,null,"Missouri","Vernon",null,"Missouri-Vernon",45,83,9,null,null,null,null,null,225,0.32989294942783326,0.62043107552858712,0.14201854599406538,0.96721068249258157]
[null,null,"Missouri","Warren",null,"Missouri-Warren",35.15,85.8,9,null,null,null,null,null,225,0.29683902190524741,0.68590353310633334,5.5753609239653515E-2,1]
[null,null,"Missouri","Washington",null,"Missouri-Washington",44.4,83.4,10.333,null,null,null,null,null,250,0.30042161856253546,0.35184579101740188,3.065155131264919E-2,1]
[null,null,"Missouri","Wayne",null,"Missouri-Wayne",45,96.7,15,null,null,null,null,null,250,0.31500396510705775,1.0029494494358242,2.224564975934841E-2,1]
[null,null,"Missouri","Webster",null,"Missouri-Webster",45,90.4,12,null,null,null,null,null,200,0.32927853341218183,1.077983212333393,8.027663798808736E-2,0.98411647915287892]
[null,null,"Missouri","Worth",null,"Missouri-Worth",35.01,83,7,null,null,null,null,null,247.89772727272728,0.30978356993251105,1.2443406349558006,2.7727242852448278E-2,1]
[null,null,"Missouri","Wright",null,"Missouri-Wright",45,85.6,12,null,null,null,null,null,225,0.32,""]
[null,null,"Montana","Beaverhead",null,"Montana-Beaverhead",20.89,89.9,10,null,null,null,null,null,17.703316171178653,0.26187112594509893,1.3499818180476753,2.7929276008339936E-2,1]
[null,null,"Montana","Big Horn",null,"Montana-Big Horn",16.829999999999998,77.7,2.125,null,null,null,null,null,35.322470089730807,0.33523548060267361,3.0973267233957205,6.3420977857860689E-2,1]
[null,null,"Montana","Blaine",null,"Montana-Blaine",14.29,61.4,1,null,null,null,null,null,35.680658534640834,0.37243714929527655,1.1761983364434607,7.3243892013498318E-2,1]
[null,null,"Montana","Broadwater",null,"Montana-Broadwater",17.170000000000002,81.400000000000006,7.5,null,null,null,null,null,15.93755042762627,0.24508190171793873,2.3189735953895694,6.7126803879820174E-2,0.99881712798675182]
[null,null,"Montana","Carbon",null,"Montana-Carbon",19.12,78.900000000000006,12.5,null,null,null,null,null,28.834480884218156,0.31693135385453541,1.9868355655521757,8.276936799889352E-2,1]
[null,null,"Montana","Carter",null,"Montana-Carter",16,63.6,0.75,null,null,null,null,null,46.011053880432897,0.34180585683297166,0.84516757583571045,5.7529976334472724E-2,1]
[null,null,"Montana","Cascade",null,"Montana-Cascade",17.98,83.3,5,null,null,null,null,null,33.299280241467379,0.28447936999394258,5.068923829935108,7.4494044112415489E-2,1]
[null,null,"Montana","Chouteau",null,"Montana-Chouteau",16.02,71,2,null,null,null,null,null,34.740371872615555,0.36927935530146355,2.0545876532281202,0.11229651107967932,1]
[null,null,"Montana","Custer",null,"Montana-Custer",15.92,67.8,0.5,null,null,null,null,null,33.181083859597592,0.34700694334022331,1.7868034134881179,7.4397570644439914E-2,1]
[null,null,"Montana","Daniels",null,"Montana-Daniels",13.26,68.5,0.5,null,null,null,null,null,36.999123959702146,0.31368957579743484,0.92416465710663376,0.18450631229235867,1]
[null,null,"Montana","Dawson",null,"Montana-Dawson",16,61.2,0.5,null,null,null,null,null,39.211629479377962,0.33289238469789106,1.8285669037742867,9.5943593915811851E-2,1]
[null,null,"Montana","Deer Lodge",null,"Montana-Deer Lodge",22.77,100.3,10,null,null,null,null,null,21.261413594859654,0.22982255520504752,4.8640822311692897,4.7029677419354821E-2,1]
[null,null,"Montana","Fallon",null,"Montana-Fallon",16,62.9,0.75,null,null,null,null,null,51.232088799192738,0.33141310174761446,1.1359322426656235,7.5544367918240388E-2,1]
[null,null,"Montana","Fergus",null,"Montana-Fergus",18.03,77.900000000000006,1.5,null,null,null,null,null,31.301445369916706,0.32474825144445918,1.3439280943164156,9.6749240738949624E-2,0.98805493761485641]
[null,null,"Montana","Flathead",null,"Montana-Flathead",40.590000000000003,137.9,23.888999999999999,null,null,null,null,null,36.851123304689928,0.24862830256967083,0.52246451344682354,0.11845874587458735,1]
[null,null,"Montana","Gallatin",null,"Montana-Gallatin",25.79,110.3,10,null,null,null,null,null,22.987406033388655,0.2717826949170235,2.5906199360869855,5.584297731328066E-2,0.99908233494774412]
[null,null,"Montana","Garfield",null,"Montana-Garfield",15.3,65.8,1.5,null,null,null,null,null,26.71755532139094,0.35085042858518722,0.71092880285675364,7.9065140614780899E-2,0.99904412134627962]
[null,null,"Montana","Glacier",null,"Montana-Glacier",29.12,95.1,35.182000000000002,null,null,null,null,null,29.784561132844786,0.30730040773378914,1.4961137268830762,0.15221741902760666,1]
[null,null,"Montana","Golden Valley",null,"Montana-Golden Valley",16.920000000000002,70.400000000000006,1.5,null,null,null,null,null,27.752479282706155,0.33478632478632436,1.034284292612041,4.9471412003479202E-2,1]
[null,null,"Montana","Granite",null,"Montana-Granite",25.28,111.4,10,null,null,null,null,null,21.600534539473685,0.29614905219423548,3.4399067348965473,3.425566072078632E-2,1]
[null,null,"Montana","Hill",null,"Montana-Hill",9.85,54.6,1.5,null,null,null,null,null,31.414498748231196,0.39326585543654974,0.92374219108212996,0.12158662355917924,1]
[null,null,"Montana","Jefferson",null,"Montana-Jefferson",18.5,90.7,7.5,null,null,null,null,null,16.173736199883788,0.20790182270091148,2.9807461289052601,4.892974976830395E-2,1]
[null,null,"Montana","Judith Basin",null,"Montana-Judith Basin",19.899999999999999,87.7,3.5,null,null,null,null,null,32.362840794345338,0.30777953467359365,1.3392380433936193,0.11946957973517548,1]
[null,null,"Montana","Lake",null,"Montana-Lake",27.62,114.7,17.5,null,null,null,null,null,38.613492779783392,0.24859633953019153,2.7614468626675612,0.14559971028488641,1]
[null,null,"Montana","Lewis and Clark",null,"Montana-Lewis and Clark",23.43,97.5,17.5,null,null,null,null,null,21.694115178852407,0.26246108161612502,2.5411148391432747,7.0667462652784063E-2,1]
[null,null,"Montana","Liberty",null,"Montana-Liberty",9.83,56.4,1.5,null,null,null,null,null,27.725457570715474,0.40120699379582581,0.91153036451407421,0.15510942637084721,1]
[null,null,"Montana","Lincoln",null,"Montana-Lincoln",32.97,132,22.273,null,null,null,null,null,45.597639893414538,0.2282154557718252,1.2864263496602515,8.9798726591760289E-2,1]
[null,null,"Montana","Madison",null,"Montana-Madison",22.52,93.1,7.5,null,null,null,null,null,35.852217702885916,0.35307659269864022,1.440041404715976,0.1283999928941946,0.99850778085696013]
[null,null,"Montana","McCone",null,"Montana-McCone",15.48,58.9,0.5,null,null,null,null,null,16.538066598210357,0.21385642487435255,4.0962602272056712,3.0821819299323861E-2,1]
[null,null,"Montana","Meagher",null,"Montana-Meagher",20.94,87.3,5,null,null,null,null,null,25.050414256682821,0.23198790055770849,2.1293056518460816,3.7826843227471638E-2,1]
[null,null,"Montana","Mineral",null,"Montana-Mineral",44.27,141.69999999999999,26,null,null,null,null,null,34.180281690140845,0.18898595943837754,0.68010023533287689,6.7269841269841243E-2,1]
[null,null,"Montana","Missoula",null,"Montana-Missoula",33.79,131.30000000000001,20.5,null,null,null,null,null,34.035990931418858,0.19997762112565742,4.0227739252226433,4.3688476562499995E-2,1]
[null,null,"Montana","Musselshell",null,"Montana-Musselshell",16,67.599999999999994,0.75,null,null,null,null,null,23.570616955170884,0.32834256217738139,1.2559720930280893,4.6359794275491958E-2,1]
[null,null,"Montana","Park",null,"Montana-Park",27.17,109.8,11,null,null,null,null,null,29.026898734177216,0.25831754365939957,2.4667319887055892,3.8079863013698548E-2,1]
[null,null,"Montana","Petroleum",null,"Montana-Petroleum",16,68,0.75,null,null,null,null,null,26.832168771835526,0.32170896785109981,0.91360866817283215,5.9911152244331321E-2,1]
[null,null,"Montana","Phillips",null,"Montana-Phillips",11.52,50.6,0.75,null,null,null,null,null,28.763182695328275,0.36730555555555555,0.88654208066901474,6.9660475675675751E-2,0.99470270270270267]
[null,null,"Montana","Pondera",null,"Montana-Pondera",16.79,76.099999999999994,20.713999999999999,null,null,null,null,null,28.499809342230694,0.35257084585659093,1.1168864844625583,0.27317767631202561,1]
[null,null,"Montana","Powder River",null,"Montana-Powder River",16,70,0.5,null,null,null,null,null,36.074558734023128,0.34553059336593162,1.9681239132282216,5.6267783575940686E-2,1]
[null,null,"Montana","Powell",null,"Montana-Powell",28.47,115.5,17.5,null,null,null,null,null,20.236124634858811,0.24225878636303827,2.8758614872352997,3.4636682546556954E-2,1]
[null,null,"Montana","Prairie",null,"Montana-Prairie",15.11,49.9,0.5,null,null,null,null,null,34.562003832466466,0.33204122442701151,1.4507575641088213,8.6439772202555026E-2,1]
[null,null,"Montana","Ravalli",null,"Montana-Ravalli",32.549999999999997,123.3,27.8,null,null,null,null,null,24.094276094276093,0.22243425995492119,1.3291674751719158,5.2593526405451445E-2,0.99897785349233392]
[null,null,"Montana","Richland",null,"Montana-Richland",16,68.099999999999994,0.5,null,null,null,null,null,35.169241253975464,0.36214291354125533,1.5947399168606946,0.1344174352393937,0.98059186783222396]
[null,null,"Montana","Roosevelt",null,"Montana-Roosevelt",15.74,68.7,0.5,null,null,null,null,null,36.056412284170293,0.37167965367965333,1.2771820565731289,0.17700960344003855,0.9951266125179169]
[null,null,"Montana","Rosebud",null,"Montana-Rosebud",14.97,70.599999999999994,0.75,null,null,null,null,null,27.299745866200205,0.34785385741166625,2.3142655334364073,6.4717265748314004E-2,1]
[null,null,"Montana","Sanders",null,"Montana-Sanders",32.880000000000003,131.6,17.856999999999999,null,null,null,null,null,38.742495360768473,0.21114661879114294,8.8779685405691087,2.7041333773522632E-2,1]
[null,null,"Montana","Sheridan",null,"Montana-Sheridan",16,58.3,0.5,null,null,null,null,null,47.878479607879406,0.36612246875302723,1.0647694195076887,0.13095465574764936,1]
[null,null,"Montana","Silver Bow",null,"Montana-Silver Bow",18.63,92.5,5,null,null,null,null,null,17.600926538716081,0.19968379446640319,3.1464562169598653,6.1313626532083623E-2,1]
[null,null,"Montana","Stillwater",null,"Montana-Stillwater",19.399999999999999,77.8,10.4,null,null,null,null,null,28.404053798067817,0.33223631367575557,2.2465227292989023,8.0514146341463436E-2,1]
[null,null,"Montana","Sweet Grass",null,"Montana-Sweet Grass",20.92,84.9,10.4,null,null,null,null,null,31.119511090991399,0.32254604672057524,1.7967685262674682,4.1456465205875259E-2,1]
[null,null,"Montana","Teton",null,"Montana-Teton",18.399999999999999,76.7,17.5,null,null,null,null,null,29.948699594368886,0.31425348995573726,1.0945507240858217,0.12911704778005156,1]
[null,null,"Montana","Toole",null,"Montana-Toole",11.5,65.400000000000006,1.5,null,null,null,null,null,28.450982003451394,0.36024210615423685,1.1177252236813289,0.22672378294839904,0.99772473598351508]
[null,null,"Montana","Treasure",null,"Montana-Treasure",16,64.400000000000006,1.5,null,null,null,null,null,27.28779946057433,0.32888132295719835,3.4230823795624885,3.7270448728885845E-2,1]
[null,null,"Montana","Valley",null,"Montana-Valley",9.5399999999999991,59.6,0.5,null,null,null,null,null,36.440853711224399,0.37144412607449789,0.62669186582999648,0.15276118155902882,1]
[null,null,"Montana","Wheatland",null,"Montana-Wheatland",17.079999999999998,77.3,3.5,null,null,null,null,null,27.854921128638079,0.31239941832283069,1.1107046040406929,3.7622235693501448E-2,0.99983026188166835]
[null,null,"Montana","Wibaux",null,"Montana-Wibaux",16,67.099999999999994,0.5,null,null,null,null,null,42.02565035473895,0.34786064568859865,1.9364891100782504,7.8715193945127687E-2,0.9931409649952696]
[null,null,"Montana","Yellowstone",null,"Montana-Yellowstone",16,71.099999999999994,2.125,null,null,null,null,null,27.732401275447632,0.31198304532116095,1.9239523478589258,7.119414965072543E-2,1]
[null,null,"Montana","Yellowstone National Park (Part)",null,"Montana-Yellowstone National Park (Part)",32.79,126.2,17.5,null,null,null,null,null,null,null,""]
[null,null,"Nebraska","Adams",null,"Nebraska-Adams",25.01,68,2,null,null,null,null,null,150,0.3207979910714292,0.37459836768216925,0.15541988653329331,0.98315616601970746]
[null,null,"Nebraska","Antelope",null,"Nebraska-Antelope",25.01,72.8,1,null,null,null,null,null,125,0.22538503649635028,0.6170275954349328,0.11633738601823723,1]
[null,null,"Nebraska","Arthur",null,"Nebraska-Arthur",16,68,1.5,null,null,null,null,null,100,0.15444102112676047,1.6694162505707217,2.328679245283018E-2,1]
[null,null,"Nebraska","Banner",null,"Nebraska-Banner",16,68,0.5,null,null,null,null,null,50,0.26276903713027061,1.311451496277348,5.8153499355946783E-2,0.96159295835122383]
[null,null,"Nebraska","Blaine",null,"Nebraska-Blaine",25.01,68,4,null,null,null,null,null,100,0.15669064748201433,2.8454907489019106,2.2835107587768962E-2,1]
[null,null,"Nebraska","Boone",null,"Nebraska-Boone",25.01,69.2,2,null,null,null,null,null,150,0.32197897623400346,1.1574138123608422,0.11279340028694408,0.98909612625538013]
[null,null,"Nebraska","Box Butte",null,"Nebraska-Box Butte",16,68.2,0.75,null,null,null,null,null,50.85556844547564,0.27458708927013631,0.57008959350164357,9.2960667461263455E-2,0.99886769964243138]
[null,null,"Nebraska","Boyd",null,"Nebraska-Boyd",25.01,68.099999999999994,2,null,null,null,null,null,100,0.28674521354933707,1.3150958772474353,5.5239302694136412E-2,0.99841521394611732]
[null,null,"Nebraska","Brown",null,"Nebraska-Brown",25.01,68.900000000000006,4,null,null,null,null,null,100,0.16640445076982796,1.4190814540248951,3.5440890688259057E-2,1]
[null,null,"Nebraska","Buffalo",null,"Nebraska-Buffalo",25.01,67.400000000000006,2,null,null,null,null,null,125,0.33909769447669569,1.1973800775515315,0.10978915769027016,0.9981635175701925]
[null,null,"Nebraska","Burt",null,"Nebraska-Burt",25.01,82.9,4,null,null,null,null,null,150,0.30647752629901165,0.89029490205725104,0.18772981987991982,0.95486991327551729]
[null,null,"Nebraska","Butler",null,"Nebraska-Butler",25.01,71.7,2,null,null,null,null,null,150,0.32188254223652446,0.60647931070869021,0.15595485519591146,0.94971607041453721]
[null,null,"Nebraska","Cass",null,"Nebraska-Cass",34.450000000000003,81.599999999999994,5,null,null,null,null,null,175,0.30766410912190961,0.67155395128018647,0.14396810157943624,0.63502942087333536]
[null,null,"Nebraska","Cedar",null,"Nebraska-Cedar",25.01,70.400000000000006,2,null,null,null,null,null,150,0.32838353839626611,1.0224500605345812,0.11936579991185535,0.98194799471132654]
[null,null,"Nebraska","Chase",null,"Nebraska-Chase",16,54.8,0.5,null,null,null,null,null,100,0.23498502202643159,1.2219803612759854,0.13120972644376905,0.986661898802074]
[null,null,"Nebraska","Cherry",null,"Nebraska-Cherry",20.39,68,3,null,null,null,null,null,74.730461765015249,0.15713281662360745,1.9048348530532089,2.2348440158820201E-2,1]
[null,null,"Nebraska","Cheyenne",null,"Nebraska-Cheyenne",16,68.3,1,null,null,null,null,null,75,0.28216544694197565,0.51127901641165119,0.1100095597145552,0.98467752793860264]
[null,null,"Nebraska","Clay",null,"Nebraska-Clay",25.01,67.099999999999994,2,null,null,null,null,null,150,0.32953941267387959,0.27193587259960172,0.13715320427236305,0.98568090787716955]
[null,null,"Nebraska","Colfax",null,"Nebraska-Colfax",25.01,72.099999999999994,2,null,null,null,null,null,150,0.31371066768994638,0.65834454806646558,0.18098687986879869,0.98081180811808111]
[null,null,"Nebraska","Cuming",null,"Nebraska-Cuming",25.01,82.1,1,null,null,null,null,null,150,0.31064675253494106,0.72787822578596362,0.16736366229321165,0.95505989731888208]
[null,null,"Nebraska","Custer",null,"Nebraska-Custer",25.01,68,1.5,null,null,null,null,null,100,0.31603786259541972,2.2976781820094807,5.6459148304035624E-2,0.9969670710571924]
[null,null,"Nebraska","Dakota",null,"Nebraska-Dakota",25.01,82.9,2,null,null,null,null,null,150,0.31783281733746105,0.82975715296218489,0.15905314685314684,0.99013986013986]
[null,null,"Nebraska","Dawes",null,"Nebraska-Dawes",16,70.2,0.75,null,null,null,null,null,50,0.31486632327691916,1.4084013842242658,3.3778386321132767E-2,0.96731231632380432]
[null,null,"Nebraska","Dawson",null,"Nebraska-Dawson",25.01,65.099999999999994,1,null,null,null,null,null,125,0.33003673534579125,1.65732194721643,7.5779649595687407E-2,1]
[null,null,"Nebraska","Deuel",null,"Nebraska-Deuel",16,54.3,1.5,null,null,null,null,null,75,0.29336789417232756,0.52485934791214361,0.12285381199111778,0.96935603256846803]
[null,null,"Nebraska","Dixon",null,"Nebraska-Dixon",25.01,73,2,null,null,null,null,null,150,0.33030072703238617,1.3478526220154767,0.11647101713452412,0.90211447320452065]
[null,null,"Nebraska","Dodge",null,"Nebraska-Dodge",25.68,79.8,4,null,null,null,null,null,150,0.30388855957320693,0.36598730223591275,0.20121809815950917,0.97386503067484664]
[null,null,"Nebraska","Douglas",null,"Nebraska-Douglas",25.08,83,5,null,null,null,null,null,150,0.2803969022265243,0.71711865233757888,0.18101463414634111,0.85580487804878069]
[null,null,"Nebraska","Dundy",null,"Nebraska-Dundy",16.73,57.5,1.5,null,null,null,null,null,100,0.21091467576791834,0.73271737043411955,8.6937252197896803E-2,0.98886398896741923]
[null,null,"Nebraska","Fillmore",null,"Nebraska-Fillmore",25.01,69.400000000000006,2,null,null,null,null,null,150,0.3551462148127903,0.26963252716659142,0.17151438336656211,1]
[null,null,"Nebraska","Franklin",null,"Nebraska-Franklin",25.01,64.8,1.5,null,null,null,null,null,125,0.32608671789242599,1.0967307268915256,8.4662705149971762E-2,0.97602150537634391]
[null,null,"Nebraska","Frontier",null,"Nebraska-Frontier",25,57.5,0.5,null,null,null,null,null,100,0.3642810510853598,1.3249085681100132,8.4274447949526765E-2,0.85854059438817865]
[null,null,"Nebraska","Furnas",null,"Nebraska-Furnas",25.01,67.599999999999994,1.5,null,null,null,null,null,125,0.34243875765529314,0.98000508075523074,9.2592219679633853E-2,0.84048970251716215]
[null,null,"Nebraska","Gage",null,"Nebraska-Gage",34.33,78.5,4,null,null,null,null,null,175,0.3476630334380193,0.54431573679608014,0.12761558084772376,0.84164050235478804]
[null,null,"Nebraska","Garden",null,"Nebraska-Garden",16,64.900000000000006,1.5,null,null,null,null,null,75,0.18467882027297877,2.303722042738555,2.4555544670846426E-2,0.99894200626959251]
[null,null,"Nebraska","Garfield",null,"Nebraska-Garfield",25.01,68,3,null,null,null,null,null,100,0.18213991769547327,2.9177541311783424,4.0681058495821709E-2,1]
[null,null,"Nebraska","Gosper",null,"Nebraska-Gosper",25.01,66.3,1.5,null,null,null,null,null,125,0.3365672153635117,1.3485583629968718,9.9663283164158206E-2,0.92301365068253405]
[null,null,"Nebraska","Grant",null,"Nebraska-Grant",16.14,68,1,null,null,null,null,null,75,0.15475795017216915,2.1423414331223869,2.5384928716904263E-2,1]
[null,null,"Nebraska","Greeley",null,"Nebraska-Greeley",25.01,68,2,null,null,null,null,null,125,0.29782883874518429,2.7642730499721826,4.6237116305266113E-2,1]
[null,null,"Nebraska","Hall",null,"Nebraska-Hall",25.01,70.5,2,null,null,null,null,null,125,0.28479261277626405,0.22723369383639985,0.13506884913938569,0.99814377320283498]
[null,null,"Nebraska","Hamilton",null,"Nebraska-Hamilton",25.01,69.2,2,null,null,null,null,null,150,0.32441618497109853,0.26635400289818145,0.15748115231382184,1]
[null,null,"Nebraska","Harlan",null,"Nebraska-Harlan",25.01,67.900000000000006,1,null,null,null,null,null,125,0.32467621605490887,0.66031388715331307,0.11587488299531985,0.90301716068642757]
[null,null,"Nebraska","Hayes",null,"Nebraska-Hayes",22.24,67.3,0.5,null,null,null,null,null,100,0.34035195776506827,2.6170675712606077,7.9774883099532387E-2,0.95869962146515242]
[null,null,"Nebraska","Hitchcock",null,"Nebraska-Hitchcock",25,67.900000000000006,1.167,null,null,null,null,null,100,0.35759946654812169,1.0977711216953128,0.11265150115473431,0.84152193995381075]
[null,null,"Nebraska","Holt",null,"Nebraska-Holt",25.01,68.7,2,null,null,null,null,null,99.993860272733144,0.18302639296187692,0.44610296317332082,5.2694029336822656E-2,1]
[null,null,"Nebraska","Hooker",null,"Nebraska-Hooker",23.96,68,1,null,null,null,null,null,75,0.15151758575770732,1.3002042752045231,2.9863715656345401E-2,1]
[null,null,"Nebraska","Howard",null,"Nebraska-Howard",25.01,68.099999999999994,2,null,null,null,null,null,125,0.30255846325167052,0.81211738707184078,8.2087384259259225E-2,1]
[null,null,"Nebraska","Jefferson",null,"Nebraska-Jefferson",31.42,76.099999999999994,4,null,null,null,null,null,175,0.33848741794310722,0.51845353339702882,0.12088625866050801,0.91887990762124716]
[null,null,"Nebraska","Johnson",null,"Nebraska-Johnson",35.01,80.7,5,null,null,null,null,null,175,0.34328276443320738,0.76020832518483883,9.4150537634408629E-2,0.8145878136200716]
[null,null,"Nebraska","Kearney",null,"Nebraska-Kearney",25.01,68,2,null,null,null,null,null,125,0.30573430834856846,0.33358248110303851,0.13377552294723694,1]
[null,null,"Nebraska","Keith",null,"Nebraska-Keith",16,61.5,1.5,null,null,null,null,null,100,0.22010313969361395,1.6375814966735309,8.3476175646215803E-2,0.99377141077545939]
[null,null,"Nebraska","Keya Paha",null,"Nebraska-Keya Paha",25.01,68.7,3,null,null,null,null,null,99.865819209039543,0.19850977198697115,1.2304325186279865,3.5158044717229261E-2,0.99943007452871535]
[null,null,"Nebraska","Kimball",null,"Nebraska-Kimball",16,69.900000000000006,0.5,null,null,null,null,null,50,0.28564102564102617,0.48616408869377664,7.9715221774193559E-2,0.97195900537634417]
[null,null,"Nebraska","Knox",null,"Nebraska-Knox",25.01,72.5,2,null,null,null,null,null,125,0.30644473455178417,1.4105386272415048,7.3522874806800489E-2,0.9952395672333848]
[null,null,"Nebraska","Lancaster",null,"Nebraska-Lancaster",27.66,70.5,4,null,null,null,null,null,150,0.33474593704998939,0.53319494410799628,0.10843460397169599,0.80817165030814886]
[null,null,"Nebraska","Lincoln",null,"Nebraska-Lincoln",20.18,68,1.167,null,null,null,null,null,100,0.23949794390228921,1.228405015655279,6.5514088114754038E-2,0.99905865778688518]
[null,null,"Nebraska","Logan",null,"Nebraska-Logan",25.01,68,3,null,null,null,null,null,100,0.18065955117679258,2.8481175215716177,3.9426243093922668E-2,1]
[null,null,"Nebraska","Loup",null,"Nebraska-Loup",25.01,68,4,null,null,null,null,null,100,0.16739534883720922,3.0701337781043363,3.069796736329803E-2,1]
[null,null,"Nebraska","Madison",null,"Nebraska-Madison",25.01,73.7,1,null,null,null,null,null,100,0.15288468534012364,1.2291185322852336,1.8950460405156546E-2,1]
[null,null,"Nebraska","McPherson",null,"Nebraska-McPherson",20.85,68,1.5,null,null,null,null,null,150,0.28588235294117631,0.64273555947653593,0.15070079669519029,0.98601357332546469]
[null,null,"Nebraska","Merrick",null,"Nebraska-Merrick",25.01,68.900000000000006,2,null,null,null,null,null,150,0.25523122335191861,0.17953342783612289,0.13234853641933284,1]
[null,null,"Nebraska","Morrill",null,"Nebraska-Morrill",16,68,1,null,null,null,null,null,50,0.21819088792816754,1.2782871643099227,6.5641587479038532E-2,0.99017328116266079]
[null,null,"Nebraska","Nance",null,"Nebraska-Nance",25.01,70,2,null,null,null,null,null,150,0.31015026833631532,0.81382775394932072,9.1045011252813224E-2,0.986496624156039]
[null,null,"Nebraska","Nemaha",null,"Nebraska-Nemaha",35.01,83,5.6669999999999998,null,null,null,null,null,175,0.32281033153430966,0.55368368364035947,0.16448887973640861,0.6926235584843492]
[null,null,"Nebraska","Nuckolls",null,"Nebraska-Nuckolls",25.01,67.599999999999994,2,null,null,null,null,null,150,0.32631304824561419,0.57387432913913949,0.10746410927056083,0.90697471665213603]
[null,null,"Nebraska","Otoe",null,"Nebraska-Otoe",35.01,82,5,null,null,null,null,null,175,0.33671461597739505,0.5513008857535997,0.15316510105323081,0.67025334471961273]
[null,null,"Nebraska","Pawnee",null,"Nebraska-Pawnee",35.01,78.2,5,null,null,null,null,null,175,0.33786778060297878,0.68311205016272802,8.0613841918993304E-2,0.83187573731812825]
[null,null,"Nebraska","Perkins",null,"Nebraska-Perkins",16,52.8,1.5,null,null,null,null,null,100,0.2538363668492668,0.41640706399861749,0.20067413699620462,0.99183083318272169]
[null,null,"Nebraska","Phelps",null,"Nebraska-Phelps",25.01,67.3,1,null,null,null,null,null,125,0.31724107665301449,0.36145792438905139,0.14750479727638521,0.99628597957288767]
[null,null,"Nebraska","Pierce",null,"Nebraska-Pierce",25.01,69.599999999999994,1,null,null,null,null,null,150,0.24896026129559068,0.5353693081361478,0.11935708178968364,0.9901510401823882]
[null,null,"Nebraska","Platte",null,"Nebraska-Platte",25.01,77.5,2,null,null,null,null,null,150,0.30830122998375492,0.78188481987804159,0.1783216243148979,0.98577478824115594]
[null,null,"Nebraska","Polk",null,"Nebraska-Polk",25.01,68.099999999999994,2,null,null,null,null,null,150,0.30841724013038763,0.27232277650150621,0.17400797266514809,0.99407744874715254]
[null,null,"Nebraska","Red Willow",null,"Nebraska-Red Willow",24.97,66.8,0.5,null,null,null,null,null,100,0.35833515403102489,1.2219146481777485,0.11250171350239901,0.81774503084304295]
[null,null,"Nebraska","Richardson",null,"Nebraska-Richardson",35.01,83,6,null,null,null,null,null,175,0.31688806183796142,0.75457592119555572,0.16003948605452833,0.85899404575368232]
[null,null,"Nebraska","Rock",null,"Nebraska-Rock",25.01,74.900000000000006,4,null,null,null,null,null,100,0.16201310861423218,0.95825100774761041,2.8211123541633444E-2,1]
[null,null,"Nebraska","Saline",null,"Nebraska-Saline",25.06,66.2,4,null,null,null,null,null,150,0.34366493577480184,0.39724134524642002,0.13916872551973489,0.96712865320879782]
[null,null,"Nebraska","Sarpy",null,"Nebraska-Sarpy",29.82,82.8,5,null,null,null,null,null,150,0.2817281420765026,0.90024120890250126,0.18066212268743895,0.77000973709834508]
[null,null,"Nebraska","Saunders",null,"Nebraska-Saunders",25.23,73.2,4,null,null,null,null,null,150,0.31644930584770703,0.60934674005241651,0.18408870424433016,0.86283404446440604]
[null,null,"Nebraska","Scotts Bluff",null,"Nebraska-Scotts Bluff",16,68.3,0.5,null,null,null,null,null,50,0.30736888497135362,0.63690391049395467,0.14477982750359347,0.99932918064206988]
[null,null,"Nebraska","Seward",null,"Nebraska-Seward",25.01,67.5,2,null,null,null,null,null,150,0.32992628992628975,0.44777856762981427,0.11944058394160582,0.93504525547445261]
[null,null,"Nebraska","Sheridan",null,"Nebraska-Sheridan",16,68.099999999999994,1.5,null,null,null,null,null,50,0.20630952380952361,1.9750760938175005,3.570075046904312E-2,0.99362101313320828]
[null,null,"Nebraska","Sherman",null,"Nebraska-Sherman",25.01,68,2,null,null,null,null,null,125,0.3358656843298386,2.40328106040814,4.8653677116905915E-2,0.99593319660123059]
[null,null,"Nebraska","Sioux",null,"Nebraska-Sioux",16,68,0.5,null,null,null,null,null,50,0.23047708983412718,1.5565398962561554,2.2385931722418109E-2,0.99763522228910484]
[null,null,"Nebraska","Stanton",null,"Nebraska-Stanton",25.01,75.2,2,null,null,null,null,null,150,0.31326523166727471,1.1197453604783087,0.1277664373088685,0.94416666666666649]
[null,null,"Nebraska","Thayer",null,"Nebraska-Thayer",25.01,80.2,3,null,null,null,null,null,150,0.332603453000822,0.65145635792051471,0.12635833333333318,0.94068965517241376]
[null,null,"Nebraska","Thomas",null,"Nebraska-Thomas",25.01,68,1,null,null,null,null,null,75,0.15736434108527131,2.0970024591628444,3.1283130904183547E-2,1]
[null,null,"Nebraska","Thurston",null,"Nebraska-Thurston",25.01,80.7,1,null,null,null,null,null,150,0.32336248012718571,1.4401794291845964,0.14609171466548521,0.91315906070004416]
[null,null,"Nebraska","Valley",null,"Nebraska-Valley",25.01,68,2,null,null,null,null,null,125,0.33644711135919642,1.5970591665497571,6.945813817330207E-2,0.99757025761124118]
[null,null,"Nebraska","Washington",null,"Nebraska-Washington",25.01,80.5,4.6669999999999998,null,null,null,null,null,150,0.31781379883624272,0.98009731909200382,0.1432899716177862,0.87824030274361409]
[null,null,"Nebraska","Wayne",null,"Nebraska-Wayne",25.01,75.599999999999994,1,null,null,null,null,null,150,0.31727369165487973,1.0990889047397154,0.13850217391304351,0.94155797101449268]
[null,null,"Nebraska","Webster",null,"Nebraska-Webster",25.01,66.8,2,null,null,null,null,null,150,0.32664109589041096,0.91446367653422211,7.8468687446382621E-2,0.92006577066056627]
[null,null,"Nebraska","Wheeler",null,"Nebraska-Wheeler",25.01,68,2,null,null,null,null,null,125,0.16447590525456027,1.0343293434621681,4.9981010890812624E-2,1]
[null,null,"Nebraska","York",null,"Nebraska-York",25.01,68.099999999999994,2,null,null,null,null,null,150,0.32392477514308987,0.21743751526316454,0.16249842090152181,0.99766867642836643]
[null,null,"Nevada","Carson City",null,"Nevada-Carson City",15.12,49.7,6.5919999999999996,null,null,null,null,null,15.090487501413866,0.24330271925085564,1.8075189770367999,0.17910590734371834,1]
[null,null,"Nevada","Churchill",null,"Nevada-Churchill",8.76,45.2,0.45,null,null,null,null,null,16.615744040548034,0.22580236117184077,1.0996449047661718,9.9566336633663308E-2,1]
[null,null,"Nevada","Clark",null,"Nevada-Clark",8.1199999999999992,33,0.71099999999999997,null,null,null,null,null,37.935660506502394,0.22030091348737246,1.9484422069346041,0.11905723124516622,1]
[null,null,"Nevada","Douglas",null,"Nevada-Douglas",17.55,50.8,5.9630000000000001,null,null,null,null,null,18.238756077795784,0.28840707122000753,0.91199211019511428,9.4431379859675271E-2,1]
[null,null,"Nevada","Elko",null,"Nevada-Elko",13.57,67.7,1.774,null,null,null,null,null,15.562304755293301,0.19321052631578958,1.8780316597206315,9.5491017964071792E-2,1]
[null,null,"Nevada","Esmeralda",null,"Nevada-Esmeralda",8.48,40.1,5.5659999999999998,null,null,null,null,null,16.325429272281276,0.38433834122247384,1.3024711205939676,9.9347049044056557E-2,1]
[null,null,"Nevada","Eureka",null,"Nevada-Eureka",11.13,58.5,0.41299999999999998,null,null,null,null,null,15.196890971039183,0.33676554711122014,0.99110333380490501,0.12620321543408361,1]
[null,null,"Nevada","Humboldt",null,"Nevada-Humboldt",11.47,52.9,1.302,null,null,null,null,null,20.553224885844749,0.411228526808953,0.83932768026715987,7.7371901289960854E-2,1]
[null,null,"Nevada","Lander",null,"Nevada-Lander",11.58,54.7,0.90900000000000003,null,null,null,null,null,26.474108328373244,0.2722112537018756,1.7876473966347568,0.1641133133133133,1]
[null,null,"Nevada","Lincoln",null,"Nevada-Lincoln",10.99,45,0.42299999999999999,null,null,null,null,null,18.187912541254125,0.25230362537764373,0.68242818558354101,0.15865656406208886,1]
[null,null,"Nevada","Lyon",null,"Nevada-Lyon",11.14,46.2,0.2,null,null,null,null,null,15.29063872930044,0.17686452045606965,1.2011243851132301,0.20761720542231485,1]
[null,null,"Nevada","Mineral",null,"Nevada-Mineral",9.64,45.1,0.57099999999999995,null,null,null,null,null,15.606126506772711,0.25972617354196309,0.52231739065123328,0.22172270916334635,1]
[null,null,"Nevada","Nye",null,"Nevada-Nye",9.16,42.7,1.9390000000000001,null,null,null,null,null,15,0.27030554955733072,1.224460613143902,0.17194985829518203,1]
[null,null,"Nevada","Pershing",null,"Nevada-Pershing",9.74,45.4,0.45,null,null,null,null,null,18.285106382978725,0.18179469273743007,6.6159673336811275,7.5317039106145206E-2,1]
[null,null,"Nevada","Storey",null,"Nevada-Storey",13.08,45,0.15,null,null,null,null,null,22.615533980582523,0.22444517093218741,3.8712123691980569,0.12459811186681571,1]
[null,null,"Nevada","Washoe",null,"Nevada-Washoe",13.45,57.7,5.5659999999999998,null,null,null,null,null,20.439830544020804,0.29045621394861071,1.1585664912798286,0.16473860759493658,1]
[null,null,"Nevada","White Pine",null,"Nevada-White Pine",12.19,56.6,1.202,null,null,null,null,null,41.993749999999999,0.19930434782608694,6.9317367335751898,0.16037448559670783,1]
[null,null,"New Hampshire","Belknap",null,"New Hampshire-Belknap",42.4,120,20,null,null,null,null,null,110,0.21484263533361356,1.0760330244299625,4.8038314176245205E-2,0.98256704980842913]
[null,null,"New Hampshire","Carroll",null,"New Hampshire-Carroll",49.04,126.9,29,null,null,null,null,null,104.953589695018,0.18141296604132032,0.75784691857291753,9.3139013452914771E-3,1]
[null,null,"New Hampshire","Cheshire",null,"New Hampshire-Cheshire",42.23,112,20,null,null,null,null,null,130,0.2309485224022883,1.6247473835609767,8.1861971830985911E-2,0.98450704225352115]
[null,null,"New Hampshire","Coos",null,"New Hampshire-Coos",48.34,146.1,26.667000000000002,null,null,null,null,null,95,0.23331824354911776,0.46042522687660564,1.9005385996409337E-2,1]
[null,null,"New Hampshire","Grafton",null,"New Hampshire-Grafton",46.24,136.6,28.75,null,null,null,null,null,100,0.20990507187415208,1.0809293865023233,2.962815405046482E-2,1]
[null,null,"New Hampshire","Hillsborough",null,"New Hampshire-Hillsborough",44.57,111.3,23,null,null,null,null,null,125,0.20765815324165038,0.9035833567492918,4.4643225806451615E-2,1]
[null,null,"New Hampshire","Merrimack",null,"New Hampshire-Merrimack",42.12,115.6,20,null,null,null,null,null,114.92392015706807,0.1860704557835488,0.81443541409159392,4.3172535211267606E-2,0.97623239436619713]
[null,null,"New Hampshire","Rockingham",null,"New Hampshire-Rockingham",44.68,112.8,20,null,null,null,null,null,120,0.21541453428863885,0.44126276260306346,5.7375502008032146E-2,1]
[null,null,"New Hampshire","Strafford",null,"New Hampshire-Strafford",45.87,119.9,20,null,null,null,null,null,115,0.21997390169639028,0.77744010049453272,5.1147435897435888E-2,1]
[null,null,"New Hampshire","Sullivan",null,"New Hampshire-Sullivan",41.19,115,20,null,null,null,null,null,114.97112935182564,0.23762559808612452,1.1236758998926422,2.1588815789473682E-2,1]
[null,null,"New Jersey","Atlantic",null,"New Jersey-Atlantic",45,97.8,21,null,null,null,null,null,200,0.19785140562248996,0.13329181948213314,0.13164272930648771,1]
[null,null,"New Jersey","Bergen",null,"New Jersey-Bergen",45,110.8,24.5,null,null,null,null,null,175,0.29838509316770218,0.58306766529247755,3.4421052631578949E-2,1]
[null,null,"New Jersey","Burlington",null,"New Jersey-Burlington",45,101.6,21,null,null,null,null,null,199.71581155826817,0.21224704618689602,0.15800014531315068,0.15409704251386319,0.99722735674676521]
[null,null,"New Jersey","Camden",null,"New Jersey-Camden",45,97.8,22,null,null,null,null,null,196.29120879120879,0.25833976833976824,0.14296740511702316,0.16115219780219778,1]
[null,null,"New Jersey","Cape May",null,"New Jersey-Cape May",45,97.8,21,null,null,null,null,null,200,0.24327896995708156,0.16634754122012499,0.36284797979797984,1]
[null,null,"New Jersey","Cumberland",null,"New Jersey-Cumberland",45,97.8,23.5,null,null,null,null,null,195.02009894867038,0.26464357631896868,0.18832263505634372,0.23122023809523809,1]
[null,null,"New Jersey","Essex",null,"New Jersey-Essex",45,107.3,25,null,null,null,null,null,180,0.39905963302752295,0.29480225059891213,7.416666666666666E-3,1]
[null,null,"New Jersey","Gloucester",null,"New Jersey-Gloucester",45,98.5,20,null,null,null,null,null,190,0.27869089099054245,0.2641110600365959,0.24450284900284899,1]
[null,null,"New Jersey","Hudson",null,"New Jersey-Hudson",45,100.1,22,null,null,null,null,null,180,0.184,""]
[null,null,"New Jersey","Hunterdon",null,"New Jersey-Hunterdon",46.14,111.6,23.5,null,null,null,null,null,175.14265335235379,0.31314849274283568,0.78296199348852991,0.16930707876370876,0.97058823529411764]
[null,null,"New Jersey","Mercer",null,"New Jersey-Mercer",45,104.6,25.6,null,null,null,null,null,185.06480218281038,0.31600564573041645,0.41809751732942263,0.16989926289926294,0.99692874692874689]
[null,null,"New Jersey","Middlesex",null,"New Jersey-Middlesex",45,111.4,21,null,null,null,null,null,190,0.27636812847436726,0.25396611913027384,0.33610652920962192,0.98969072164948457]
[null,null,"New Jersey","Monmouth",null,"New Jersey-Monmouth",45,112.5,20,null,null,null,null,null,199.71922951354881,0.24484411535463721,0.40048391274376655,0.20664484848484832,0.98484848484848486]
[null,null,"New Jersey","Morris",null,"New Jersey-Morris",51.26,111.8,25,null,null,null,null,null,170.51432291666666,0.26402443991853292,0.7817303595146905,9.6013157894736842E-2,1]
[null,null,"New Jersey","Ocean",null,"New Jersey-Ocean",45,107.1,20,null,null,null,null,null,199.04431842049991,0.18343308395677452,0.1873569748578906,0.39947083333333333,1]
[null,null,"New Jersey","Passaic",null,"New Jersey-Passaic",51.03,113.8,24.5,null,null,null,null,null,170,0.21860227272727284,0.64624603269502268,6.2399999999999999E-3,1]
[null,null,"New Jersey","Salem",null,"New Jersey-Salem",45,100.4,20,null,null,null,null,null,190,0.32563747228381362,0.21831247643260782,0.24277502214348984,1]
[null,null,"New Jersey","Somerset",null,"New Jersey-Somerset",45,104.8,22,null,null,null,null,null,185,0.32753431890179535,0.48117503937183903,0.11943775100401607,0.98594377510040165]
[null,null,"New Jersey","Sussex",null,"New Jersey-Sussex",45.29,112.5,25.6,null,null,null,null,null,164.54743888242143,0.24862846580406667,2.2622839681320808,7.0511320754717E-2,1]
[null,null,"New Jersey","Union",null,"New Jersey-Union",45,112.5,22,null,null,null,null,null,180,0.33953789279112734,0.32392543313784633,1.2999999999999999E-2,1]
[null,null,"New Jersey","Warren",null,"New Jersey-Warren",45.6,112.5,23.832999999999998,null,null,null,null,null,170,0.27831627430910966,1.0769259990219329,0.12200358422939075,0.99241338112305855]
[null,null,"New Mexico","Bernalillo",null,"New Mexico-Bernalillo",11.04,50.6,0.47499999999999998,null,null,null,null,null,31.108150921658986,0.25417223078240009,0.43280985176324521,0.20951234845083058,1]
[null,null,"New Mexico","Catron",null,"New Mexico-Catron",17.579999999999998,66.400000000000006,0.84399999999999997,null,null,null,null,null,33.375998816217816,0.20058779058779058,0.62597877846118621,0.13303726204941269,1]
[null,null,"New Mexico","Chaves",null,"New Mexico-Chaves",16,45,0.26700000000000002,null,null,null,null,null,81.055777495309002,0.2630903514086641,0.27176027757833909,9.0007326437862453E-2,1]
[null,null,"New Mexico","Cibola",null,"New Mexico-Cibola",12.97,59.3,0.56699999999999995,null,null,null,null,null,25,0.25552625349178337,0.31594674239538573,0.20651965336301478,1]
[null,null,"New Mexico","Colfax",null,"New Mexico-Colfax",17.260000000000002,70.3,2.125,null,null,null,null,null,89.720112867753855,0.29146391839487423,0.49429103633673682,0.15180860215053774,1]
[null,null,"New Mexico","Curry",null,"New Mexico-Curry",16,45,0.1,null,null,null,null,null,111.51990684263059,0.26162050480232291,0.16406747433928381,0.17654069968825767,0.99408844244313577]
[null,null,"New Mexico","De Baca",null,"New Mexico-De Baca",16,45,0.2,null,null,null,null,null,90.164579484021075,0.27854704532415392,0.32305452053528555,0.13388583420776495,1]
[null,null,"New Mexico","Dona Ana",null,"New Mexico-Dona Ana",9.42,44.9,0.13300000000000001,null,null,null,null,null,36.749844430616058,0.24797848728017777,0.74417795622449057,0.21602763415938694,1]
[null,null,"New Mexico","Eddy",null,"New Mexico-Eddy",16.010000000000002,45,0.26700000000000002,null,null,null,null,null,79.947491248541425,0.2581415493650947,0.23850446024143704,0.10195625064948557,1]
[null,null,"New Mexico","Grant",null,"New Mexico-Grant",16.14,51.7,1.167,null,null,null,null,null,45.970257184179083,0.22623257395443713,0.96676448855268149,0.16466681597611055,1]
[null,null,"New Mexico","Guadalupe",null,"New Mexico-Guadalupe",15.98,45,0.2,null,null,null,null,null,77.890287206266322,0.32190822732070384,0.16588317950970882,0.14268149308556619,1]
[null,null,"New Mexico","Harding",null,"New Mexico-Harding",16,46,0.26700000000000002,null,null,null,null,null,98.176030251582034,0.28536091322633239,0.77073151756452818,0.11977349076999839,1]
[null,null,"New Mexico","Hidalgo",null,"New Mexico-Hidalgo",13.73,45.8,0.2,null,null,null,null,null,50.623907724571829,0.25485084400465674,0.50513451239593998,0.21107439167399572,1]
[null,null,"New Mexico","Lea",null,"New Mexico-Lea",15.93,45,0.26700000000000002,null,null,null,null,null,118.02803325434756,0.21324303893158639,0.14505865918013608,7.4735403301684933E-2,1]
[null,null,"New Mexico","Lincoln",null,"New Mexico-Lincoln",15.72,48.2,0.92500000000000004,null,null,null,null,null,62.899153567110034,0.25491773035500598,1.0511329647488006,0.11043971073730544,1]
[null,null,"New Mexico","Los Alamos",null,"New Mexico-Los Alamos",19.12,64,2,null,null,null,null,null,56.494845360824741,0.32523076923076927,0,1,1]
[null,null,"New Mexico","Luna",null,"New Mexico-Luna",9.2100000000000009,45,0.2,null,null,null,null,null,40,0.27723241457264564,0.21152571495455835,0.179132550636315,1]
[null,null,"New Mexico","McKinley",null,"New Mexico-McKinley",11.79,53.7,0.51,null,null,null,null,null,24.974248509976679,0.2948937665989691,0.33742367129498718,0.21899810656098651,1]
[null,null,"New Mexico","Mora",null,"New Mexico-Mora",18.22,68.900000000000006,3.7,null,null,null,null,null,80,0.31393076644974666,0.4998980364115404,0.11330630523047527,1]
[null,null,"New Mexico","Otero",null,"New Mexico-Otero",14.41,51,1.4830000000000001,null,null,null,null,null,71.627491817911334,0.22136219485212746,1.1396031911276563,0.13591636690647485,1]
[null,null,"New Mexico","Quay",null,"New Mexico-Quay",16,45,0.1,null,null,null,null,null,108.31916508538899,0.2700336322869954,0.34282455937655981,0.15480587416481073,0.99601336302895327]
[null,null,"New Mexico","Rio Arriba",null,"New Mexico-Rio Arriba",17.28,74.8,5.3890000000000002,null,null,null,null,null,24.845403787020555,0.28458972257988935,0.92735558460585477,0.14482999029923138,1]
[null,null,"New Mexico","Roosevelt",null,"New Mexico-Roosevelt",16,45,0.1,null,null,null,null,null,116.53019875217083,0.22584440969507397,0.17480577412269849,0.12945030649493738,0.97883049796817967]
[null,null,"New Mexico","San Juan",null,"New Mexico-San Juan",9.76,48.1,1.667,null,null,null,null,null,30.739344262295081,0.29237599409690884,1.0751662404305735,0.2738557071069635,1]
[null,null,"New Mexico","San Miguel",null,"New Mexico-San Miguel",16.239999999999998,51.7,1.4830000000000001,null,null,null,null,null,21.787512693910426,0.29791253440517274,0.43827742165323935,0.25843446953557742,1]
[null,null,"New Mexico","Sandoval",null,"New Mexico-Sandoval",12.42,55,0.56699999999999995,null,null,null,null,null,77.552868391451071,0.30057270310458278,1.2219674514049765,8.0792940950182732E-2,1]
[null,null,"New Mexico","Santa Fe",null,"New Mexico-Santa Fe",15.9,52.1,2.5249999999999999,null,null,null,null,null,45.796464596025167,0.30883099285538318,0.39246604759588094,0.21414033552151701,0.99504011670313641]
[null,null,"New Mexico","Sierra",null,"New Mexico-Sierra",11.97,46.7,0.3,null,null,null,null,null,40.572079536039766,0.17428949691085602,1.2029283509850859,0.16288171824104239,1]
[null,null,"New Mexico","Socorro",null,"New Mexico-Socorro",11.7,45,0.84399999999999997,null,null,null,null,null,32.361383420908162,0.20072051042639297,0.37462925659817015,0.16622942364951074,1]
[null,null,"New Mexico","Taos",null,"New Mexico-Taos",18.510000000000002,72.8,5.4,null,null,null,null,null,38.929062571625032,0.26809050929209832,0.14585605390520839,0.13187224906065478,1]
[null,null,"New Mexico","Torrance",null,"New Mexico-Torrance",15.46,46,0.42,null,null,null,null,null,49.964071856287426,0.32802230326092713,0.22314749867553202,0.13860103176758065,1]
[null,null,"New Mexico","Union",null,"New Mexico-Union",16,52.2,0.15,null,null,null,null,null,112.52734731084777,0.2867075234392869,0.44613002197623292,0.12173888040255203,1]
[null,null,"New Mexico","Valencia",null,"New Mexico-Valencia",9.1999999999999993,45.3,0.2,null,null,null,null,null,25,0.21692003792667522,0.49650015078194876,0.1908138847858199,1]
[null,null,"New York","Albany",null,"New York-Albany",35.93,118.2,19,null,null,null,null,null,120,0.32019367991845082,1.1918417882369843,6.7902612330198592E-2,1]
[null,null,"New York","Allegany",null,"New York-Allegany",35.049999999999997,136,19.428999999999998,null,null,null,null,null,90,0.30222205323193918,1.2626295017655236,4.3620723362658868E-2,0.99508797653958947]
[null,null,"New York","Bronx",null,"New York-Bronx",45,112.5,22,null,null,null,null,null,165,0.24,""]
[null,null,"New York","Broome",null,"New York-Broome",37.450000000000003,135,24.2,null,null,null,null,null,101.68706293706293,0.25463784265656347,1.4904225912966322,3.1653396739130445E-2,1]
[null,null,"New York","Cattaraugus",null,"New York-Cattaraugus",44.08,161.80000000000001,22.5,null,null,null,null,null,100,0.31917910447761172,0.73816941960727267,5.5715607401448153E-2,0.98855591311343527]
[null,null,"New York","Cayuga",null,"New York-Cayuga",35.659999999999997,135,16.332999999999998,null,null,null,null,null,82.882202849245161,0.31163058498387841,0.80023738143612799,0.15452307692307674,0.95851718494271698]
[null,null,"New York","Chautauqua",null,"New York-Chautauqua",44.4,160,24.4,null,null,null,null,null,107.15221774193549,0.3400945378151255,0.57643616941879261,8.1859992611747354E-2,0.96684521610639063]
[null,null,"New York","Chemung",null,"New York-Chemung",35.01,125.3,15,null,null,null,null,null,95.171232876712324,0.25668874172185446,1.0833002194605958,7.3829004329004341E-2,0.99350649350649356]
[null,null,"New York","Chenango",null,"New York-Chenango",39.450000000000003,135.9,22,null,null,null,null,null,95,0.25299316149395057,1.3111370608374364,3.7277082502989271E-2,0.99581506576325229]
[null,null,"New York","Clinton",null,"New York-Clinton",35.409999999999997,130.9,19,null,null,null,null,null,78.368774482372686,0.22446188703673695,0.50921789289891506,5.0798484172982591E-2,0.96208203299152917]
[null,null,"New York","Columbia",null,"New York-Columbia",43.4,121.7,21,null,null,null,null,null,130,0.28767523953605662,1.3285604990062865,7.5082608695652212E-2,0.98278985507246375]
[null,null,"New York","Cortland",null,"New York-Cortland",41.56,136.9,21,null,null,null,null,null,90,0.24323072040622049,1.2289092020538022,6.408853238265004E-2,0.96756981580510981]
[null,null,"New York","Delaware",null,"New York-Delaware",42.76,135.9,25.25,null,null,null,null,null,116.19640387275243,0.24113661202185768,2.1869342049206324,2.8293333333333358E-2,0.99903225806451612]
[null,null,"New York","Dutchess",null,"New York-Dutchess",45.03,112.8,22,null,null,null,null,null,145.35721053628956,0.26637924071082392,1.1091512469596989,3.9852292069632492E-2,0.9697292069632496]
[null,null,"New York","Erie",null,"New York-Erie",39.08,151,18.2,null,null,null,null,null,82.588017751479285,0.36084845430107471,0.37459858010837188,7.4945587259455826E-2,0.99427670869276719]
[null,null,"New York","Essex",null,"New York-Essex",39.6,141.80000000000001,21.8,null,null,null,null,null,90,0.20087399314878165,1.5178940604508036,7.546461538461538E-2,1]
[null,null,"New York","Franklin",null,"New York-Franklin",41.04,155.4,22.75,null,null,null,null,null,86.808275862068967,0.20050027670171564,0.70209467025645833,6.5590349075975371E-2,0.99830595482546203]
[null,null,"New York","Fulton",null,"New York-Fulton",47.21,135.9,24.2,null,null,null,null,null,110,0.32443009363900605,0.61130096266574729,4.6175287356321849E-2,0.99741379310344835]
[null,null,"New York","Genesee",null,"New York-Genesee",35.01,135.1,15,null,null,null,null,null,77.766974816703851,0.34972835314091688,0.45719916478699418,0.20429579507008219,0.9744900918318028]
[null,null,"New York","Greene",null,"New York-Greene",40.35,121.4,22.75,null,null,null,null,null,130,0.234403221869661,1.3193693895068499,5.5253623188405813E-2,1]
[null,null,"New York","Hamilton",null,"New York-Hamilton",51.69,156.80000000000001,30,null,null,null,null,null,100,0.22473801787164938,0.62692096313715506,0.01,1]
[null,null,"New York","Herkimer",null,"New York-Herkimer",49.83,155.69999999999999,24.2,null,null,null,null,null,110,0.25041661706939622,1.109408746087351,6.6888334373050556E-2,0.94981285090455403]
[null,null,"New York","Jefferson",null,"New York-Jefferson",37.94,139.9,25,null,null,null,null,null,81.165390691457048,0.35651911468812736,0.56454927780108521,6.6079511465603258E-2,1]
[null,null,"New York","Kings",null,"New York-Kings",45,111,15,null,null,null,null,null,169.20183486238531,0.26727272727272733,""]
[null,null,"New York","Lewis",null,"New York-Lewis",49.19,158,30,null,null,null,null,null,100,0.23872980501392713,0.56678170884664592,5.9855150214592312E-2,0.99337446351931336]
[null,null,"New York","Livingston",null,"New York-Livingston",34.42,134.9,14.25,null,null,null,null,null,83.168618838457789,0.35113254823352569,0.78591004404810605,0.16658821104699081,0.98983924154987635]
[null,null,"New York","Madison",null,"New York-Madison",42.84,135.69999999999999,22,null,null,null,null,null,90,0.29627327690447386,1.0324087510089481,7.0777153558052405E-2,0.98204588014981276]
[null,null,"New York","Monroe",null,"New York-Monroe",34.76,134.9,13.667,null,null,null,null,null,78.197470133520724,0.34665216278474559,0.54239255310956747,0.17310591549295787,0.91095774647887318]
[null,null,"New York","Montgomery",null,"New York-Montgomery",42.77,135,21,null,null,null,null,null,115.13698630136986,0.33877856579984283,1.0559612667178071,9.1912895927601851E-2,0.97649886877828085]
[null,null,"New York","Nassau",null,"New York-Nassau",45,99,12,null,null,null,null,null,179.82848975702714,0.26786251342642325,0.16872510551624498,0.29013600000000001,1]
[null,null,"New York","New York",null,"New York-New York",45,108.7,22,null,null,null,null,null,170,0.24,""]
[null,null,"New York","Niagara",null,"New York-Niagara",35.01,133.69999999999999,15,null,null,null,null,null,75,0.38028741018431744,0.23924967666715746,0.14479443892750732,1]
[null,null,"New York","Oneida",null,"New York-Oneida",50.09,157.9,26,null,null,null,null,null,100,0.28983252595155695,0.54334475305604069,9.8257387247278394E-2,0.98081259720062208]
[null,null,"New York","Onondaga",null,"New York-Onondaga",39.770000000000003,145.4,21,null,null,null,null,null,83.685996896819233,0.33664191769198198,0.78088844251268785,7.8050431034482753E-2,0.98418103448275873]
[null,null,"New York","Ontario",null,"New York-Ontario",35.01,135,12,null,null,null,null,null,81.417787213965553,0.32480999999999999,0.66418058436835703,0.15568341924398621,0.96389604810996554]
[null,null,"New York","Orange",null,"New York-Orange",45.7,112.2,24.533000000000001,null,null,null,null,null,155,0.25123968736430785,1.0094105494937582,8.9551837270341175E-2,0.99022309711286083]
[null,null,"New York","Orleans",null,"New York-Orleans",35,135,14,null,null,null,null,null,75,0.35579579579579568,0.30541792508106524,0.19335504070131493,0.99624295554164055]
[null,null,"New York","Oswego",null,"New York-Oswego",47.04,161.5,22.75,null,null,null,null,null,85,0.24429056468906291,0.56793776565494936,5.2109316770186383E-2,1]
[null,null,"New York","Otsego",null,"New York-Otsego",41.16,135.6,21.332999999999998,null,null,null,null,null,100,0.26798331234256922,1.7767083541491,6.4156944978838018E-2,0.97831858407079653]
[null,null,"New York","Putnam",null,"New York-Putnam",45,112.2,24.888999999999999,null,null,null,null,null,155,0.22771916214119475,0.69547321181596877,4.0857142857142856E-2,0.98979591836734693]
[null,null,"New York","Queens",null,"New York-Queens",45,112,16.25,null,null,null,null,null,179.7458703939009,0.23519999999999999,""]
[null,null,"New York","Rensselaer",null,"New York-Rensselaer",39.31,130.30000000000001,22.222000000000001,null,null,null,null,null,125,0.26980202920069285,1.3883344197312457,0.10923914823914824,0.97735462735462741]
[null,null,"New York","Richmond",null,"New York-Richmond",45,112.5,21,null,null,null,null,null,180,0.36933333333333335,4.9316917633184035E-2,3.0000000000000005E-3,1]
[null,null,"New York","Rockland",null,"New York-Rockland",46.03,112.2,24.6,null,null,null,null,null,170,0.2420361083249751,0.8066902689839881,1.261904761904762E-2,1]
[null,null,"New York","Saratoga",null,"New York-Saratoga",41.07,124.1,21.571000000000002,null,null,null,null,null,84.783981389165831,0.28485624211853738,0.45945578402029952,5.7673392520850159E-2,1]
[null,null,"New York","Schenectady",null,"New York-Schenectady",40.369999999999997,126.4,18,null,null,null,null,null,113.18284001498688,0.24978207236842101,0.56015144923087379,0.10943934760448522,0.99566768603465849]
[null,null,"New York","Schoharie",null,"New York-Schoharie",38.46,134.80000000000001,22.75,null,null,null,null,null,120,0.28390476190476216,1.1109434126748927,4.5128964059196627E-2,0.98572938689217748]
[null,null,"New York","Schuyler",null,"New York-Schuyler",35.090000000000003,133.4,13,null,null,null,null,null,120,0.27307886117409957,0.95830602553563604,6.8431045542014166E-2,0.94749839640795375]
[null,null,"New York","Seneca",null,"New York-Seneca",35.01,130.80000000000001,14.25,null,null,null,null,null,90,0.27696908261530673,1.3255304052983063,6.682129277566537E-2,0.97338403041825095]
[null,null,"New York","St. Lawrence",null,"New York-St. Lawrence",38.43,145.30000000000001,22.75,null,null,null,null,null,84.01141459437423,0.35777717976318635,0.27215742271243692,9.9794457274826776E-2,0.95981524249422645]
[null,null,"New York","Steuben",null,"New York-Steuben",35.01,123.7,14.667,null,null,null,null,null,90,0.25810493614083468,1.4796304311739437,8.9399537037036958E-2,0.97329166666666667]
[null,null,"New York","Suffolk",null,"New York-Suffolk",45,99.6,15,null,null,null,null,null,171.89724137931034,0.23711001330039921,0.5055111965527519,0.20558203592814364,1]
[null,null,"New York","Sullivan",null,"New York-Sullivan",45.24,128.5,28,null,null,null,null,null,133.58184383819381,0.25278306531014155,2.2972404747312241,1.4252913752913739E-2,0.98951048951048948]
[null,null,"New York","Tioga",null,"New York-Tioga",35.01,134.9,18,null,null,null,null,null,95,0.24999696140990602,1.0175486322532437,6.5370767960363355E-2,0.97563996696944677]
[null,null,"New York","Tompkins",null,"New York-Tompkins",35.119999999999997,135,16.600000000000001,null,null,null,null,null,90,0.26791364535267009,0.57200978552629866,0.10664856230031951,0.88226837060702867]
[null,null,"New York","Ulster",null,"New York-Ulster",46.8,117.6,29.332999999999998,null,null,null,null,null,139.94483315392895,0.24192780835221797,1.0312026069770708,9.3792824074074077E-2,1]
[null,null,"New York","Warren",null,"New York-Warren",44.18,127.4,24.2,null,null,null,null,null,100,0.19164149226569674,0.62069895943204578,8.9225490196078436E-2,1]
[null,null,"New York","Washington",null,"New York-Washington",37.29,114.7,22.667000000000002,null,null,null,null,null,110,0.27453103583317084,1.498100759964804,9.9301612903225936E-2,1]
[null,null,"New York","Wayne",null,"New York-Wayne",35.01,135,15.75,null,null,null,null,null,80,0.29131963984243142,0.4762835496077113,0.10712457801564428,0.99265129682997122]
[null,null,"New York","Westchester",null,"New York-Westchester",45.07,109.6,22,null,null,null,null,null,165,0.23739617358842779,0.7046821541903161,0.12480303030303026,1]
[null,null,"New York","Wyoming",null,"New York-Wyoming",38.65,154,18,null,null,null,null,null,83.148099606815208,0.28358133333333291,1.1298351797455393,0.11468317285648791,0.97696011004126548]
[null,null,"New York","Yates",null,"New York-Yates",35.01,135,11,null,null,null,null,null,85,0.30232117479867388,0.82436385596628614,0.14914125560538113,0.93389387144992519]
[null,null,"North Carolina","Alamance",null,"North Carolina-Alamance",45,105,12,null,null,null,null,null,230,0.29505054432348404,0.72305607971034414,0.10181465038845727,0.9847946725860155]
[null,null,"North Carolina","Alexander",null,"North Carolina-Alexander",51.24,112.5,16.600000000000001,null,null,null,null,null,230,0.22932598039215663,1.0921644838116602,5.5446153846153867E-2,0.97179487179487178]
[null,null,"North Carolina","Alleghany",null,"North Carolina-Alleghany",49.5,108.7,25,null,null,null,null,null,180,0.26422695035460958,3.8221478512953193,2.1317355371900847E-2,0.99920661157024793]
[null,null,"North Carolina","Anson",null,"North Carolina-Anson",45,97.8,14.571,null,null,null,null,null,260,0.25923447860156729,0.75981958563379948,8.6404740200546976E-2,0.98268003646308111]
[null,null,"North Carolina","Ashe",null,"North Carolina-Ashe",57.77,131.30000000000001,25.5,null,null,null,null,null,180.04579025110783,0.23533682634730491,4.672104223213438,4.2568828213879445E-2,0.99726962457337887]
[null,null,"North Carolina","Avery",null,"North Carolina-Avery",59.69,135.19999999999999,27.8,null,null,null,null,null,190,0.22961305007587257,7.1479323888028308,1.6361607142857146E-2,0.99035714285714282]
[null,null,"North Carolina","Beaufort",null,"North Carolina-Beaufort",55.24,112.5,16,null,null,null,null,null,350,0.22714118473425418,0.18828519985647144,0.21158900343642609,1]
[null,null,"North Carolina","Bertie",null,"North Carolina-Bertie",45.02,110.8,15,null,null,null,null,null,310,0.26193572129538795,0.10716753617519936,0.30468055555555551,0.98083333333333333]
[null,null,"North Carolina","Bladen",null,"North Carolina-Bladen",45.92,100.4,18,null,null,null,null,null,320,0.17254678600488207,0.2345559733673119,0.28524884488448826,1]
[null,null,"North Carolina","Brunswick",null,"North Carolina-Brunswick",60,112.5,18.832999999999998,null,null,null,null,null,350.1063867016623,0.1506488095238096,0.12493889957125523,0.27274278846153849,1]
[null,null,"North Carolina","Buncombe",null,"North Carolina-Buncombe",46.92,116.8,25.556000000000001,null,null,null,null,null,200,0.18114718614718617,3.3895328196580552,7.1072620215897928E-2,0.98940137389597649]
[null,null,"North Carolina","Burke",null,"North Carolina-Burke",56.95,114.7,24.2,null,null,null,null,null,252.42644828632089,0.23499263622974956,1.2229070560627739,4.947215496368039E-2,1]
[null,null,"North Carolina","Cabarrus",null,"North Carolina-Cabarrus",45,97.8,14,null,null,null,null,null,250,0.25822867042009501,0.81469270554253748,9.7940282301845802E-2,0.95120521172638428]
[null,null,"North Carolina","Caldwell",null,"North Carolina-Caldwell",53.21,116.1,23.167000000000002,null,null,null,null,null,230,0.23531250000000001,1.6897431136125385,2.520905172413793E-2,1]
[null,null,"North Carolina","Camden",null,"North Carolina-Camden",45.66,105.7,15.333,null,null,null,null,null,320,0.29145106861642295,8.4754939517275779E-2,0.29334161490683219,1]
[null,null,"North Carolina","Carteret",null,"North Carolina-Carteret",60,104.5,18,null,null,null,null,null,350,0.166331109763493,9.7223107353582555E-2,0.20498269896193777,1]
[null,null,"North Carolina","Caswell",null,"North Carolina-Caswell",45,107.2,12,null,null,null,null,null,200,0.25407889839970216,0.82936105392886361,0.12204693611473277,0.92144719687092569]
[null,null,"North Carolina","Catawba",null,"North Carolina-Catawba",45.34,111.1,17.25,null,null,null,null,null,260,0.23740315027671344,1.0946457390682252,9.73311965811966E-2,0.95641025641025645]
[null,null,"North Carolina","Chatham",null,"North Carolina-Chatham",45,105.5,14,null,null,null,null,null,260,0.28893676695563481,0.85394786140480705,0.1152679324894515,0.96719409282700419]
[null,null,"North Carolina","Cherokee",null,"North Carolina-Cherokee",62.2,130.4,35,null,null,null,null,null,260,0.17973451327433609,2.7583532880341868,2.0656826568265681E-2,0.99586715867158671]
[null,null,"North Carolina","Chowan",null,"North Carolina-Chowan",45,97.8,16,null,null,null,null,null,320,0.24118371212121209,9.5326267230236558E-2,0.32321229050279326,1]
[null,null,"North Carolina","Clay",null,"North Carolina-Clay",68.180000000000007,133.4,40,null,null,null,null,null,270,0.18132208157524624,1.1417423140786678,2.1897260273972593E-2,1]
[null,null,"North Carolina","Cleveland",null,"North Carolina-Cleveland",49.44,104.2,19,null,null,null,null,null,270,0.23108217788298913,1.5488635434323785,0.1251890881913304,0.92376681614349776]
[null,null,"North Carolina","Columbus",null,"North Carolina-Columbus",47.64,108.5,17.667000000000002,null,null,null,null,null,330.26233808821121,0.19835436193222805,0.1394130037500293,0.26104029936672407,1]
[null,null,"North Carolina","Craven",null,"North Carolina-Craven",60,110.9,17,null,null,null,null,null,350,0.2094273255813954,0.12634018483400219,0.27477795193312438,1]
[null,null,"North Carolina","Cumberland",null,"North Carolina-Cumberland",45,99,17,null,null,null,null,null,288.62706530291109,0.19780074648291707,0.19475355575997633,0.32546196808510641,1]
[null,null,"North Carolina","Currituck",null,"North Carolina-Currituck",45.95,100.9,16,null,null,null,null,null,320,0.19436385255648045,0.23068105891412044,0.29277967479674782,1]
[null,null,"North Carolina","Dare",null,"North Carolina-Dare",59.96,105.1,15.333,null,null,null,null,null,350.01759530791787,0.11637184115523468,7.4230165157140982E-2,9.9999999999999991E-5,1]
[null,null,"North Carolina","Davidson",null,"North Carolina-Davidson",45,98.6,12,null,null,null,null,null,240,0.24882796634754872,1.1736235607473013,0.10921849501359931,0.95766092475067988]
[null,null,"North Carolina","Davie",null,"North Carolina-Davie",45,100.8,20.667000000000002,null,null,null,null,null,230,0.26342417061611367,0.59241281404946111,0.11610832383124289,0.97548460661345493]
[null,null,"North Carolina","Duplin",null,"North Carolina-Duplin",59.05,112,18,null,null,null,null,null,330,0.15086042437220162,0.16366198679612282,0.2724389275074478,0.9975173783515392]
[null,null,"North Carolina","Durham",null,"North Carolina-Durham",45,97.9,13,null,null,null,null,null,240,0.30954954954954944,0.95335245590849027,0.14844102564102565,0.91487179487179493]
[null,null,"North Carolina","Edgecombe",null,"North Carolina-Edgecombe",45,98.3,14,null,null,null,null,null,290,0.22090534979423881,0.18837619727506635,0.3275837908496731,1]
[null,null,"North Carolina","Forsyth",null,"North Carolina-Forsyth",45,100.4,14,null,null,null,null,null,210,0.24860595597755722,2.075624541553525,0.14392917369308605,0.97892074198988199]
[null,null,"North Carolina","Franklin",null,"North Carolina-Franklin",45,97.8,14,null,null,null,null,null,260,0.25670931758530174,0.72325497577747999,0.11658315935977731,0.98260264439805145]
[null,null,"North Carolina","Gaston",null,"North Carolina-Gaston",45,106.5,17,null,null,null,null,null,260,0.2547688564476886,0.65135537530981391,9.7955882352941212E-2,0.91521008403361359]
[null,null,"North Carolina","Gates",null,"North Carolina-Gates",45,98.5,15,null,null,null,null,null,300,0.26315005727376867,0.12554076937951905,0.27227450980392159,1]
[null,null,"North Carolina","Graham",null,"North Carolina-Graham",68.66,137.30000000000001,35,null,null,null,null,null,240,0.17043847241867038,2.1592740135246538,7.4447916666666655E-2,0.953125]
[null,null,"North Carolina","Granville",null,"North Carolina-Granville",45,97.8,13,null,null,null,null,null,240,0.2970386135603526,0.55952349053724348,0.1843387351778657,0.97401185770750998]
[null,null,"North Carolina","Greene",null,"North Carolina-Greene",45,106.3,15,null,null,null,null,null,316.78194607268466,0.18967455621301776,0.17352863691107132,0.29881889763779523,0.98391451068616431]
[null,null,"North Carolina","Guilford",null,"North Carolina-Guilford",45,104.6,13,null,null,null,null,null,220,0.2604099190283401,0.58587167972612386,0.14377761304670128,0.95191994069681252]
[null,null,"North Carolina","Halifax",null,"North Carolina-Halifax",45,97.8,14,null,null,null,null,null,280,0.25149015317286649,0.30028771930344256,0.24199456521739135,0.81000679347826066]
[null,null,"North Carolina","Harnett",null,"North Carolina-Harnett",45,97.8,16.332999999999998,null,null,null,null,null,280,0.20572941487953358,0.40997700948289706,0.33667191780821926,0.96075342465753411]
[null,null,"North Carolina","Haywood",null,"North Carolina-Haywood",58.7,140.5,28.375,null,null,null,null,null,209.50595500661669,0.19848581884720937,4.7376561658812983,1.9940944881889779E-2,0.98228346456692917]
[null,null,"North Carolina","Henderson",null,"North Carolina-Henderson",60.9,127.8,34,null,null,null,null,null,300,0.24470000000000017,1.8830431301142387,8.5066862745098074E-2,1]
[null,null,"North Carolina","Hertford",null,"North Carolina-Hertford",45,99.7,15,null,null,null,null,null,290,0.27610852713178291,0.20969087313668111,0.29196913580246903,0.99839506172839498]
[null,null,"North Carolina","Hoke",null,"North Carolina-Hoke",45,97.8,19,null,null,null,null,null,282.79494382022472,0.1576605212968849,0.2685296914779951,0.26082841614906827,0.98462732919254659]
[null,null,"North Carolina","Hyde",null,"North Carolina-Hyde",60,101.7,16,null,null,null,null,null,350,0.27607594936708851,8.2308013497636556E-2,0.17802042529378848,1]
[null,null,"North Carolina","Iredell",null,"North Carolina-Iredell",45.12,104.2,14,null,null,null,null,null,240,0.26652720809406566,0.99963140686838525,0.10400377229080932,0.91913580246913584]
[null,null,"North Carolina","Jackson",null,"North Carolina-Jackson",73.05,143.30000000000001,45,null,null,null,null,null,290,0.17837411862297795,2.4617427594514698,9.1143396226415097E-2,0.9562264150943397]
[null,null,"North Carolina","Johnston",null,"North Carolina-Johnston",45,103.9,15,null,null,null,null,null,290,0.19422886557117369,0.28323220224016099,0.29146113572291582,0.96953282319774459]
[null,null,"North Carolina","Jones",null,"North Carolina-Jones",60,112.5,17,null,null,null,null,null,347.07116104868913,0.19537969624300577,0.16773653085574414,0.3245425170068027,1]
[null,null,"North Carolina","Lee",null,"North Carolina-Lee",45,97.8,15.5,null,null,null,null,null,270,0.25947498455836926,0.56031360075322378,0.15177284595300264,0.91853785900783291]
[null,null,"North Carolina","Lenoir",null,"North Carolina-Lenoir",57.53,112,16,null,null,null,null,null,330,0.16171153073523512,0.20714511203562302,0.37774946159368256,1]
[null,null,"North Carolina","Lincoln",null,"North Carolina-Lincoln",45.67,102.6,16.332999999999998,null,null,null,null,null,260,0.26569165786694826,0.75248884717588715,8.3001379310344806E-2,0.95406896551724141]
[null,null,"North Carolina","Macon",null,"North Carolina-Macon",73.64,135.69999999999999,46.667000000000002,null,null,null,null,null,230,0.24635277246653925,1.0769596939526249,0.22806557377049186,0.93180327868852453]
[null,null,"North Carolina","Madison",null,"North Carolina-Madison",46.09,129.4,19.8,null,null,null,null,null,290,0.17206039076376561,1.8126609963768046,3.9523809523809529E-3,1]
[null,null,"North Carolina","Martin",null,"North Carolina-Martin",45,109.3,15.5,null,null,null,null,null,169.72836631742337,0.22986486486486499,5.6023860556784575,4.1572964669738859E-2,0.97588325652841779]
[null,null,"North Carolina","McDowell",null,"North Carolina-McDowell",56.94,115.2,26.428999999999998,null,null,null,null,null,310.3937270603937,0.22673204903677749,0.10861231632902772,0.29922340425531907,0.98484042553191498]
[null,null,"North Carolina","Mecklenburg",null,"North Carolina-Mecklenburg",45,97.9,15,null,null,null,null,null,250,0.26701177285318584,0.7060190660795882,4.5145578231292512E-2,1]
[null,null,"North Carolina","Mitchell",null,"North Carolina-Mitchell",58.61,135,32.5,null,null,null,null,null,170,0.24876923076923083,9.0390179147497651,3.4786324786324784E-3,1]
[null,null,"North Carolina","Montgomery",null,"North Carolina-Montgomery",45,102,16.600000000000001,null,null,null,null,null,260,0.30632286995515701,0.72180108040500135,9.8064056939501876E-2,0.96761565836298924]
[null,null,"North Carolina","Moore",null,"North Carolina-Moore",45,99.9,18.2,null,null,null,null,null,260,0.21023056057866213,0.80273056380919428,0.1143807073954986,0.93340836012861739]
[null,null,"North Carolina","Nash",null,"North Carolina-Nash",45,97.8,14,null,null,null,null,null,280,0.27596200241254515,0.45050020189439055,0.30239295644114911,0.90732159406858204]
[null,null,"North Carolina","New Hanover",null,"North Carolina-New Hanover",60,112.5,22,null,null,null,null,null,347.3758865248227,0.11769152196118494,0.11960432121961666,0.63177922077922077,1]
[null,null,"North Carolina","Northampton",null,"North Carolina-Northampton",45,98,14,null,null,null,null,null,270,0.25219770520741386,0.19569710964372175,0.31324659498207869,0.978494623655914]
[null,null,"North Carolina","Onslow",null,"North Carolina-Onslow",60,112.5,19,null,null,null,null,null,350,0.1681998226426249,0.20949105252232617,0.31368092105263157,1]
[null,null,"North Carolina","Orange",null,"North Carolina-Orange",45,104.4,13,null,null,null,null,null,240,0.3777404036406809,0.51081745634802789,8.9261518661518657E-2,0.90945945945945939]
[null,null,"North Carolina","Pamlico",null,"North Carolina-Pamlico",60,112.4,15,null,null,null,null,null,350,0.17475781729000606,9.9173585006317899E-2,0.29435309973045826,1]
[null,null,"North Carolina","Pasquotank",null,"North Carolina-Pasquotank",45,107.9,16,null,null,null,null,null,320,0.27202020202020227,8.6190640730565593E-2,0.28517898832684818,1]
[null,null,"North Carolina","Pender",null,"North Carolina-Pender",60,112.5,21,null,null,null,null,null,340,0.19595910623946031,0.1295807983712908,0.31334799482535564,0.97956015523932738]
[null,null,"North Carolina","Perquimans",null,"North Carolina-Perquimans",45,102.3,16,null,null,null,null,null,320,0.2586013986013983,6.8576370518858551E-2,0.28997028985507256,1]
[null,null,"North Carolina","Person",null,"North Carolina-Person",45,97.8,12,null,null,null,null,null,220,0.29591746794871798,0.77810760438463145,0.18753767123287662,0.7918378995433788]
[null,null,"North Carolina","Pitt",null,"North Carolina-Pitt",46.33,107.3,15,null,null,null,null,null,320,0.23318346627991307,0.10950762912685971,0.28579344858962685,0.99845313921747036]
[null,null,"North Carolina","Polk",null,"North Carolina-Polk",60.01,117.2,23.667000000000002,null,null,null,null,null,270,0.22418945963976006,1.0247863736296732,5.8740331491712705E-2,0.99447513812154698]
[null,null,"North Carolina","Randolph",null,"North Carolina-Randolph",45,110.9,13,null,null,null,null,null,240,0.37634848796543907,1.0878482614723606,9.6574146981627335E-2,0.99245406824146987]
[null,null,"North Carolina","Richmond",null,"North Carolina-Richmond",45,107.1,16.600000000000001,null,null,null,null,null,270,0.17696356275303624,0.56313317102309512,0.17488532883642507,0.84342327150084317]
[null,null,"North Carolina","Robeson",null,"North Carolina-Robeson",45,97.8,15,null,null,null,null,null,310.75949367088606,0.1930915714522273,0.16911256496052973,0.28989387583892606,0.9921560402684565]
[null,null,"North Carolina","Rockingham",null,"North Carolina-Rockingham",45,100.4,14,null,null,null,null,null,190,0.25822773972602714,0.92493250258643234,0.16303250000000002,0.90004999999999991]
[null,null,"North Carolina","Rowan",null,"North Carolina-Rowan",45,97.8,14,null,null,null,null,null,240,0.25682173064411212,0.68684136079614411,0.20301720647773275,0.95748987854251011]
[null,null,"North Carolina","Rutherford",null,"North Carolina-Rutherford",58.4,112.5,22.2,null,null,null,null,null,270,0.24515252357182485,1.4616884376149999,6.2623188405797073E-2,0.91288244766505633]
[null,null,"North Carolina","Sampson",null,"North Carolina-Sampson",47.38,103.8,17.332999999999998,null,null,null,null,null,320,0.16423122969043941,0.19855987567739861,0.3302464961067853,0.99555061179087878]
[null,null,"North Carolina","Scotland",null,"North Carolina-Scotland",45,97.8,17,null,null,null,null,null,290,0.16156773211567713,0.28680743022573119,0.31316201117318437,1]
[null,null,"North Carolina","Stanly",null,"North Carolina-Stanly",45,97.2,15,null,null,null,null,null,250,0.17611622073578598,0.82273899704760534,0.14466746987951801,1]
[null,null,"North Carolina","Stokes",null,"North Carolina-Stokes",45,101.3,15.4,null,null,null,null,null,192.6490747087046,0.2392413549753,1.3338888677641203,0.25141706422018334,0.92621100917431198]
[null,null,"North Carolina","Surry",null,"North Carolina-Surry",45,111.9,18.332999999999998,null,null,null,null,null,200,0.25352820812627869,1.3494338961939376,0.20498210862619795,0.85230670926517571]
[null,null,"North Carolina","Swain",null,"North Carolina-Swain",63.29,139.9,32.625,null,null,null,null,null,230,0.1742902208201893,2.8642271925682108,0.1075945945945946,1]
[null,null,"North Carolina","Transylvania",null,"North Carolina-Transylvania",82.28,140.19999999999999,44,null,null,null,null,null,320,0.25504963600264735,0.71702078912873268,9.8495192307692297E-2,1]
[null,null,"North Carolina","Tyrrell",null,"North Carolina-Tyrrell",60,100.1,16,null,null,null,null,null,340.73348995040459,0.26488181818181811,8.0054582966023788E-2,0.34567334905660352,1]
[null,null,"North Carolina","Union",null,"North Carolina-Union",45,97.7,12.8,null,null,null,null,null,250,0.20208970976253304,0.51475586285437347,0.20926058495821706,1]
[null,null,"North Carolina","Vance",null,"North Carolina-Vance",45,97.8,12,null,null,null,null,null,240,0.25330645161290349,0.52304232094033098,0.13316237113402063,0.96262886597938147]
[null,null,"North Carolina","Wake",null,"North Carolina-Wake",45,98.9,15,null,null,null,null,null,270,0.24159782819468675,0.50490939479020713,0.16981949458483744,0.98929001203369438]
[null,null,"North Carolina","Warren",null,"North Carolina-Warren",45,97.8,12,null,null,null,null,null,250,0.26421713441654371,0.71456440146054956,0.17526506024096394,0.79497991967871484]
[null,null,"North Carolina","Washington",null,"North Carolina-Washington",56.88,112.5,16,null,null,null,null,null,330,0.21118949958982772,0.11297442165875586,0.28566935672514615,1]
[null,null,"North Carolina","Watauga",null,"North Carolina-Watauga",59.99,132.4,25.428999999999998,null,null,null,null,null,200,0.22192490745637233,9.6525988791204504,1.7030411449016097E-2,1]
[null,null,"North Carolina","Wayne",null,"North Carolina-Wayne",45.45,97.9,15,null,null,null,null,null,310,0.1874291440022903,0.2021214042213299,0.30899706055261611,0.96497354497354504]
[null,null,"North Carolina","Wilkes",null,"North Carolina-Wilkes",53.37,112.9,21.25,null,null,null,null,null,220,0.2111078161406483,2.2671580114852516,5.836148007590132E-2,0.99840607210626175]
[null,null,"North Carolina","Wilson",null,"North Carolina-Wilson",45,100.8,15,null,null,null,null,null,290,0.22267208208636166,0.16523413598876333,0.25338610421836233,0.98221670802315963]
[null,null,"North Carolina","Yadkin",null,"North Carolina-Yadkin",45,112.5,15,null,null,null,null,null,210,0.26184060721062602,0.89019011067138243,0.15243941979522191,0.97145904436860064]
[null,null,"North Carolina","Yancey",null,"North Carolina-Yancey",55.19,132.5,26.667000000000002,null,null,null,null,null,156.18441971383149,0.22493416927899695,8.6400136556227469,3.6758620689655179E-2,1]
[null,null,"North Dakota","Adams",null,"North Dakota-Adams",16,68.099999999999994,0.5,null,null,null,null,null,45,0.26597332486503644,0.97195941408552222,0.119866307541626,0.99947763630427688]
[null,null,"North Dakota","Barnes",null,"North Dakota-Barnes",16,71.400000000000006,0.5,null,null,null,null,null,70.083617218953236,0.28365183384420239,0.37771270635151016,0.16896653051962784,1]
[null,null,"North Dakota","Benson",null,"North Dakota-Benson",16,68.5,0.2,null,null,null,null,null,54.951039059949949,0.27658094812164558,0.49965286842202788,0.16525027362276534,1]
[null,null,"North Dakota","Billings",null,"North Dakota-Billings",16,68.099999999999994,1,null,null,null,null,null,45,0.29395240700218811,3.6534950818214265,0.11704013464526161,1]
[null,null,"North Dakota","Bottineau",null,"North Dakota-Bottineau",16,69.400000000000006,0.5,null,null,null,null,null,50,0.27240361503701599,0.24034795121521807,0.14251153491233456,1]
[null,null,"North Dakota","Bowman",null,"North Dakota-Bowman",16,66.7,1,null,null,null,null,null,45.026421916284242,0.2743403872129675,0.79503844201675922,0.11959969253294282,0.9995900439238653]
[null,null,"North Dakota","Burke",null,"North Dakota-Burke",16,68,0.5,null,null,null,null,null,45,0.28669315673289175,0.32848575124024953,0.19929984802431597,1]
[null,null,"North Dakota","Burleigh",null,"North Dakota-Burleigh",16,76.099999999999994,0.56699999999999995,null,null,null,null,null,55,0.27114683493589742,0.55437185545239953,9.7282530709859927E-2,1]
[null,null,"North Dakota","Cass",null,"North Dakota-Cass",18.09,70.599999999999994,0.5,null,null,null,null,null,74.928299548552715,0.29100338018146243,0.17455788155769453,0.17046685660018973,1]
[null,null,"North Dakota","Cavalier",null,"North Dakota-Cavalier",16,77,0.5,null,null,null,null,null,55,0.29043177530915987,0.24372501141446579,0.20943884325419157,1]
[null,null,"North Dakota","Dickey",null,"North Dakota-Dickey",17.600000000000001,68,0.5,null,null,null,null,null,70,0.27741140215716553,0.25909334737570422,0.13715361050328229,1]
[null,null,"North Dakota","Divide",null,"North Dakota-Divide",16,60.6,0.5,null,null,null,null,null,45,0.2740344615384615,0.47538016836420549,0.20300942915392425,1]
[null,null,"North Dakota","Dunn",null,"North Dakota-Dunn",16,71.099999999999994,1,null,null,null,null,null,45,0.28990439932318107,3.345874812427815,0.11743918690958195,0.99938427800269913]
[null,null,"North Dakota","Eddy",null,"North Dakota-Eddy",16,69.7,0.5,null,null,null,null,null,60,0.25273521337659094,0.48231253892588144,0.13147578724530287,1]
[null,null,"North Dakota","Emmons",null,"North Dakota-Emmons",16,68.099999999999994,0.5,null,null,null,null,null,60,0.28940577427821557,0.67403202125660699,0.12718638416863839,0.99844052484405243]
[null,null,"North Dakota","Foster",null,"North Dakota-Foster",16,74.7,0.3,null,null,null,null,null,60,0.27967431532198345,0.29585229177127059,0.19176683129711436,1]
[null,null,"North Dakota","Golden Valley",null,"North Dakota-Golden Valley",16,69.8,0.5,null,null,null,null,null,45,0.32091417165668651,1.5662243719394002,0.1347520472290992,0.99954294420110457]
[null,null,"North Dakota","Grand Forks",null,"North Dakota-Grand Forks",16.059999999999999,77.8,1,null,null,null,null,null,65,0.2729683885890517,0.25787798246532578,0.20474407526497543,1]
[null,null,"North Dakota","Grant",null,"North Dakota-Grant",16,65.400000000000006,1,null,null,null,null,null,50,0.26262252794496982,1.4141912194509589,0.1074351398943456,0.99951085893171587]
[null,null,"North Dakota","Griggs",null,"North Dakota-Griggs",16.170000000000002,78.5,0.5,null,null,null,null,null,65,0.26386565836298931,0.36125110185583442,0.1275335795061158,1]
[null,null,"North Dakota","Hettinger",null,"North Dakota-Hettinger",16,68,1,null,null,null,null,null,45,0.28673599556295054,0.78718379124143245,0.16786115046755443,1]
[null,null,"North Dakota","Kidder",null,"North Dakota-Kidder",16,68.599999999999994,0.2,null,null,null,null,null,60,0.24726048254860625,0.67628743617127451,9.0424273592183038E-2,1]
[null,null,"North Dakota","La Moure",null,"North Dakota-La Moure",16.670000000000002,67.599999999999994,0.5,null,null,null,null,null,70,0.28245412215831311,0.36880726249341811,0.15684093049807316,1]
[null,null,"North Dakota","Logan",null,"North Dakota-Logan",16,71.099999999999994,0.5,null,null,null,null,null,65,0.26885016862052363,0.74047797705900364,0.10352320460704607,1]
[null,null,"North Dakota","McHenry",null,"North Dakota-McHenry",16,68.099999999999994,0.2,null,null,null,null,null,50,0.21874168179068371,0.24156103695097902,9.3016519721577776E-2,1]
[null,null,"North Dakota","McIntosh",null,"North Dakota-McIntosh",16,68,0.5,null,null,null,null,null,65,0.26985414618158027,0.41659594002028755,0.11785540933173806,1]
[null,null,"North Dakota","McKenzie",null,"North Dakota-McKenzie",16,68.5,0.5,null,null,null,null,null,45,0.29419582179712994,2.8960744949523169,0.13539012199254497,1]
[null,null,"North Dakota","McLean",null,"North Dakota-McLean",16,68.599999999999994,0.56699999999999995,null,null,null,null,null,50,0.283192110453648,0.75611658902768308,0.14195269224152751,1]
[null,null,"North Dakota","Mercer",null,"North Dakota-Mercer",16,68.8,0.75,null,null,null,null,null,50,0.28778498609823905,1.3272993732088372,0.10743199343724361,0.99665299425758824]
[null,null,"North Dakota","Morton",null,"North Dakota-Morton",16,69.5,1,null,null,null,null,null,50,0.2906373844121532,1.5435974731821431,9.728075601374607E-2,1]
[null,null,"North Dakota","Mountrial",null,"North Dakota-Mountrial",16,71,0.5,null,null,null,null,null,45.021095334685597,0.28419829928990964,1.0610354531258115,0.15152184353929998,1]
[null,null,"North Dakota","Nelson",null,"North Dakota-Nelson",16.05,74.099999999999994,0.5,null,null,null,null,null,60,0.28182860783689123,0.33408567302398789,0.13571817262306124,1]
[null,null,"North Dakota","Oliver",null,"North Dakota-Oliver",16,68,0.75,null,null,null,null,null,50,0.28909684439608269,1.1146544068268618,0.11973550724637698,1]
[null,null,"North Dakota","Pembina",null,"North Dakota-Pembina",16,73.599999999999994,1,null,null,null,null,null,60,0.2736566535654128,0.14530843568748844,0.22410909373060206,1]
[null,null,"North Dakota","Pierce",null,"North Dakota-Pierce",16,68,0.35,null,null,null,null,null,50,0.25900793650793652,0.34243373433393642,0.14198001289490655,1]
[null,null,"North Dakota","Ramsey",null,"North Dakota-Ramsey",16,81.2,0.5,null,null,null,null,null,55,0.28473537604456833,0.27209136551701085,0.20403292717889884,1]
[null,null,"North Dakota","Ransom",null,"North Dakota-Ransom",16,68,0.5,null,null,null,null,null,75,0.26335974643423138,0.20061289206356334,0.13021277042638102,1]
[null,null,"North Dakota","Renville",null,"North Dakota-Renville",16,65.8,0.5,null,null,null,null,null,45,0.28171134777818596,0.25472869408322601,0.19136623021301541,1]
[null,null,"North Dakota","Richland",null,"North Dakota-Richland",23.35,77.599999999999994,1,null,null,null,null,null,84.634703196347033,0.2699626865671646,0.1749720044081447,0.22429862119013055,1]
[null,null,"North Dakota","Rolette",null,"North Dakota-Rolette",16,76.400000000000006,0.5,null,null,null,null,null,50,0.26649000868809758,0.32774534737732747,0.14420394595753799,1]
[null,null,"North Dakota","Sargent",null,"North Dakota-Sargent",16.37,68.599999999999994,0.5,null,null,null,null,null,79.941176470588232,0.2590521239102202,0.20605167148824521,0.1465590581825259,1]
[null,null,"North Dakota","Sheridan",null,"North Dakota-Sheridan",16,73.3,0.2,null,null,null,null,null,54.907363793374159,0.27848509933774906,0.76318237362066543,0.10580512450378905,1]
[null,null,"North Dakota","Sioux",null,"North Dakota-Sioux",16,62.3,1,null,null,null,null,null,55,0.26409934258582918,1.3123547881155435,6.234650991917727E-2,1]
[null,null,"North Dakota","Slope",null,"North Dakota-Slope",16,65.599999999999994,1,null,null,null,null,null,45,0.29752649600521741,1.1996636371699201,0.16875341365461838,1]
[null,null,"North Dakota","Stark",null,"North Dakota-Stark",16,77.599999999999994,1,null,null,null,null,null,45,0.30392643785873263,1.430955224615388,0.15479626464843757,1]
[null,null,"North Dakota","Steele",null,"North Dakota-Steele",17.72,76.8,0.5,null,null,null,null,null,70.039621395553596,0.2733850243686306,0.31326820955064139,0.15350058234334962,1]
[null,null,"North Dakota","Stutsman",null,"North Dakota-Stutsman",16,68.599999999999994,0.5,null,null,null,null,null,64.992478089848873,0.27385174625801806,0.51501113662177533,0.11378006508741385,1]
[null,null,"North Dakota","Towner",null,"North Dakota-Towner",16,71.599999999999994,0.5,null,null,null,null,null,55,0.27980547112462056,0.2831693697983963,0.20392443047918285,1]
[null,null,"North Dakota","Traill",null,"North Dakota-Traill",17.38,75.7,1,null,null,null,null,null,70.030802681645227,0.28800254916241685,9.4209617246251168E-2,0.1731453880223372,1]
[null,null,"North Dakota","Walsh",null,"North Dakota-Walsh",16,80,1,null,null,null,null,null,60,0.28497375808617187,0.24673958666592241,0.19191157316594734,1]
[null,null,"North Dakota","Ward",null,"North Dakota-Ward",16,72.8,0.5,null,null,null,null,null,45,0.27725306473022565,0.60525756337311776,0.18136832124010518,1]
[null,null,"North Dakota","Wells",null,"North Dakota-Wells",16,66.400000000000006,0.2,null,null,null,null,null,54.966122202056866,0.27582376897445332,0.29798440444153895,0.17470893206415433,1]
[null,null,"North Dakota","Williams",null,"North Dakota-Williams",16,71.7,0.5,null,null,null,null,null,45,0.27985537026792073,1.1082573463362035,0.17803148769117533,1]
[null,null,"Ohio","Adams",null,"Ohio-Adams",45,125.9,16,null,null,null,null,null,175,0.36083737210554756,0.90224082957709173,6.88317422434368E-2,0.99791169451073991]
[null,null,"Ohio","Allen",null,"Ohio-Allen",35.01,112.5,11,null,null,null,null,null,125,0.37876390605685978,0.25777841133819562,0.16091090712742964,1]
[null,null,"Ohio","Ashland",null,"Ohio-Ashland",35.01,131.9,14.833,null,null,null,null,null,150,0.37074389341228675,0.53335025086761711,0.13036618545837719,0.98767123287671232]
[null,null,"Ohio","Ashtabula",null,"Ohio-Ashtabula",41.55,135,20,null,null,null,null,null,125,0.38064070636178399,0.28871015945453959,9.1273377618804316E-2,1]
[null,null,"Ohio","Athens",null,"Ohio-Athens",35.47,113.9,15,null,null,null,null,null,150,0.37225878594249195,5.0513759422738973,3.2119718309859158E-2,1]
[null,null,"Ohio","Auglaize",null,"Ohio-Auglaize",35.01,112.5,12,null,null,null,null,null,150,0.37326779394416026,0.23328973448314025,0.18431924666972888,1]
[null,null,"Ohio","Belmont",null,"Ohio-Belmont",40.630000000000003,132.9,16,null,null,null,null,null,150,0.36296491228070193,4.7427368157589092,2.8383323682686739E-2,0.9633757961783439]
[null,null,"Ohio","Brown",null,"Ohio-Brown",45,123,15.5,null,null,null,null,null,175,0.39437758675581019,0.79591572035054026,0.19492001759788838,0.9795864496260448]
[null,null,"Ohio","Butler",null,"Ohio-Butler",42.26,112.7,14,null,null,null,null,null,150.67320478723406,0.36113174491941163,0.69705789952234654,0.2186289910600254,1]
[null,null,"Ohio","Carroll",null,"Ohio-Carroll",35.01,135,19,null,null,null,null,null,150,0.32092257001647512,1.8206155782190581,5.102236421725239E-2,0.85415335463258779]
[null,null,"Ohio","Champaign",null,"Ohio-Champaign",35.01,110.5,12,null,null,null,null,null,150.11627906976744,0.35105144573788993,0.29992416400024441,0.22744115798922807,1]
[null,null,"Ohio","Clark",null,"Ohio-Clark",35.01,112.5,12,null,null,null,null,null,150,0.35183019623548284,0.3524675751413115,0.24394093804284878,0.99247249565720908]
[null,null,"Ohio","Clermont",null,"Ohio-Clermont",45,113,15,null,null,null,null,null,174.93143640726774,0.40207631874298594,0.41025336502965298,0.21910482315112545,1]
[null,null,"Ohio","Clinton",null,"Ohio-Clinton",44.83,123.3,14.5,null,null,null,null,null,150,0.36073320537428122,0.28360051825336724,0.30867438400743835,0.99776847977684791]
[null,null,"Ohio","Columbiana",null,"Ohio-Columbiana",35.01,135,14,null,null,null,null,null,150,0.32868723532970318,1.8424306797306418,0.10554110787172001,0.88325364431486897]
[null,null,"Ohio","Coshocton",null,"Ohio-Coshocton",35.01,116.1,14,null,null,null,null,null,150,0.34501260151218149,2.6349344730510951,7.6892162019989524E-2,0.95657548658600744]
[null,null,"Ohio","Crawford",null,"Ohio-Crawford",35.01,131.80000000000001,12,null,null,null,null,null,125,0.35911624203821668,0.30687290606196826,0.19439659252247982,1]
[null,null,"Ohio","Cuyahoga",null,"Ohio-Cuyahoga",35.81,135,14.833,null,null,null,null,null,125,0.3779622641509443,0.17492580179396791,6.108133971291866E-2,1]
[null,null,"Ohio","Darke",null,"Ohio-Darke",35.01,112.5,12,null,null,null,null,null,150,0.3639415481832548,0.19714463725860124,0.2298525908278736,1]
[null,null,"Ohio","Defiance",null,"Ohio-Defiance",35.01,112.5,10,null,null,null,null,null,125,0.32497706422018285,0.20726375155704471,0.19542130065975488,1]
[null,null,"Ohio","Delaware",null,"Ohio-Delaware",35.01,112.9,12,null,null,null,null,null,150,0.36393424036281169,0.27528729557997489,0.20266649048625787,1]
[null,null,"Ohio","Erie",null,"Ohio-Erie",35.01,121,11,null,null,null,null,null,125,0.30757841907151806,0.17273756367851256,0.23556980056980056,0.9971509971509972]
[null,null,"Ohio","Fairfield",null,"Ohio-Fairfield",35.51,110.6,14,null,null,null,null,null,150,0.35506091846298016,0.36056830390296751,0.1446517225106182,0.99613025011798029]
[null,null,"Ohio","Fayette",null,"Ohio-Fayette",36.01,114.9,14.5,null,null,null,null,null,150,0.34555685814771403,0.23608858820516856,0.21024514458351304,1]
[null,null,"Ohio","Franklin",null,"Ohio-Franklin",35.01,112.7,10,null,null,null,null,null,150,0.38119545938275956,0.23591878892298956,0.32974958123953085,1]
[null,null,"Ohio","Fulton",null,"Ohio-Fulton",35.01,112.5,10,null,null,null,null,null,125,0.26495575221238943,0.25112793648965304,0.20811383219954643,1]
[null,null,"Ohio","Gallia",null,"Ohio-Gallia",45,124.2,16,null,null,null,null,null,150,0.3553966597077246,1.4933449126315024,6.3351000000000032E-2,0.98720000000000008]
[null,null,"Ohio","Geauga",null,"Ohio-Geauga",44.74,136.80000000000001,19,null,null,null,null,null,125,0.39492649980135108,0.56072787027487159,8.522120418848167E-2,0.99319371727748684]
[null,null,"Ohio","Greene",null,"Ohio-Greene",35.770000000000003,112.5,13,null,null,null,null,null,150,0.33936917866215072,0.31603303518718129,0.23181836945304432,1]
[null,null,"Ohio","Guernsey",null,"Ohio-Guernsey",35.03,107.3,15,null,null,null,null,null,150,0.3444714197910268,2.7333551492007575,6.5866666666666698E-2,0.98172043010752685]
[null,null,"Ohio","Hamilton",null,"Ohio-Hamilton",45,112.4,15,null,null,null,null,null,167.02763058289176,0.38355460385439066,0.61277009069532917,0.19856549520766772,1]
[null,null,"Ohio","Hancock",null,"Ohio-Hancock",35.01,112.5,10,null,null,null,null,null,125,0.35195510927347878,0.20880042550005973,0.2579352961314616,0.99777473467990418]
[null,null,"Ohio","Hardin",null,"Ohio-Hardin",35.01,112.5,11,null,null,null,null,null,125,0.37007848733499793,0.23242665825727585,0.22554928017718734,1]
[null,null,"Ohio","Harrison",null,"Ohio-Harrison",35.01,130.1,15,null,null,null,null,null,150,0.34481539670070749,2.7157177771806795,3.7692369477911672E-2,0.96441767068273099]
[null,null,"Ohio","Henry",null,"Ohio-Henry",35.01,112.5,10,null,null,null,null,null,125,0.28602812618776069,0.13595131345089864,0.20379852045256741,1]
[null,null,"Ohio","Highland",null,"Ohio-Highland",45,112.6,15.5,null,null,null,null,null,150,0.38367180680826335,0.53107496015360467,0.12882157369782041,0.9963797561876615]
[null,null,"Ohio","Hocking",null,"Ohio-Hocking",40.94,112.1,12,null,null,null,null,null,150,0.3324949698189138,1.3747229649658075,7.0348005502063299E-2,1]
[null,null,"Ohio","Holmes",null,"Ohio-Holmes",35.01,122,14,null,null,null,null,null,150,0.3395479807336052,2.1970737916584162,6.8520376175548625E-2,0.92246603970741892]
[null,null,"Ohio","Huron",null,"Ohio-Huron",35.01,132.69999999999999,12,null,null,null,null,null,125,0.37423188405797114,0.15874364961528661,0.2151499999999999,1]
[null,null,"Ohio","Jackson",null,"Ohio-Jackson",45,120.1,15.667,null,null,null,null,null,150,0.34190939722950187,2.1312386218381438,4.7656147986942357E-2,0.98324265505984754]
[null,null,"Ohio","Jefferson",null,"Ohio-Jefferson",35.01,135,15,null,null,null,null,null,150,0.32842596191216489,2.2791065242534487,2.7261746680286005E-2,0.87522982635342217]
[null,null,"Ohio","Knox",null,"Ohio-Knox",35.270000000000003,122.8,14.833,null,null,null,null,null,150,0.35755328730111069,0.84955634686048798,0.10167358576642327,0.98622262773722635]
[null,null,"Ohio","Lake",null,"Ohio-Lake",37.01,135,19,null,null,null,null,null,125,0.33499654457498351,0.22733264442019341,0.15621376811594204,1]
[null,null,"Ohio","Lawrence",null,"Ohio-Lawrence",45,123.7,16,null,null,null,null,null,150,0.35274186734262752,2.4119017193648529,0.10749128919860627,1]
[null,null,"Ohio","Licking",null,"Ohio-Licking",39.840000000000003,114,14,null,null,null,null,null,150,0.3493721144967678,0.55465354676441181,0.1051492313460817,0.98447694038245237]
[null,null,"Ohio","Logan",null,"Ohio-Logan",35.01,112.5,12,null,null,null,null,null,150.1748158070998,0.35747913769123763,0.36028074891015732,0.23616623821765201,1]
[null,null,"Ohio","Lorain",null,"Ohio-Lorain",35.01,135,12,null,null,null,null,null,125,0.39288807461692143,0.229666263445684,0.18609902130109379,1]
[null,null,"Ohio","Lucas",null,"Ohio-Lucas",34.99,112.5,9,null,null,null,null,null,125,0.23859385219097459,0.21835906362488791,0.24577666666666684,1]
[null,null,"Ohio","Madison",null,"Ohio-Madison",35.01,111.1,12,null,null,null,null,null,150,0.37334128065395045,0.20107274079019177,0.29506973400431286,1]
[null,null,"Ohio","Mahoning",null,"Ohio-Mahoning",35.01,135,14.5,null,null,null,null,null,125,0.37455063033753588,0.58531158354419388,0.11360463121783881,0.96646655231560896]
[null,null,"Ohio","Marion",null,"Ohio-Marion",35.01,112.5,10,null,null,null,null,null,125,0.34636043784206416,0.1657836873193792,0.25617639077340565,1]
[null,null,"Ohio","Medina",null,"Ohio-Medina",35.01,135,14.5,null,null,null,null,null,142.12860310421286,0.4043158717748242,0.4158887449935636,0.13751089918256107,0.99604904632152591]
[null,null,"Ohio","Meigs",null,"Ohio-Meigs",43.28,122.5,15,null,null,null,null,null,150,0.40268602540834841,2.5303227847296133,4.5108919382504338E-2,0.96826758147512859]
[null,null,"Ohio","Mercer",null,"Ohio-Mercer",35.01,112.5,12,null,null,null,null,null,150,0.36972749223870266,0.22752242315268942,0.23646000795861549,1]
[null,null,"Ohio","Miami",null,"Ohio-Miami",35.01,112.5,12,null,null,null,null,null,150,0.37191067961165092,0.28479397823049918,0.24963078470825004,1]
[null,null,"Ohio","Monroe",null,"Ohio-Monroe",44.62,133.19999999999999,16,null,null,null,null,null,150,0.34665696616951647,2.4750165449900501,2.6438614900314815E-2,0.95981112277019942]
[null,null,"Ohio","Montgomery",null,"Ohio-Montgomery",35.01,112.5,13,null,null,null,null,null,150,0.34661378284581074,0.46975906397815514,0.2386006191950463,1]
[null,null,"Ohio","Morgan",null,"Ohio-Morgan",39.15,112.2,15,null,null,null,null,null,150,0.37937952036543587,2.6990122253118063,1.4314397649363366E-2,1]
[null,null,"Ohio","Morrow",null,"Ohio-Morrow",35.01,114.8,12,null,null,null,null,null,150,0.38191011235955047,0.37478063264576761,0.13495510422234094,1]
[null,null,"Ohio","Muskingum",null,"Ohio-Muskingum",35.01,114.3,14,null,null,null,null,null,150,0.34031532632608136,1.7394034852414162,5.5587807606264E-2,0.98942953020134228]
[null,null,"Ohio","Noble",null,"Ohio-Noble",36.28,107.4,15,null,null,null,null,null,150,0.36532441997640597,3.3696732307147799,2.9484126984127005E-2,0.99255952380952384]
[null,null,"Ohio","Ottawa",null,"Ohio-Ottawa",35.01,112.5,10,null,null,null,null,null,125,0.31653242320819164,0.10594965620811438,0.2439294642857143,1]
[null,null,"Ohio","Paulding",null,"Ohio-Paulding",35.01,102.6,10,null,null,null,null,null,125,0.30306848278471432,0.11953144869594041,0.24523601398601394,1]
[null,null,"Ohio","Perry",null,"Ohio-Perry",39.44,114.8,14,null,null,null,null,null,150,0.37901125401929286,1.4465053709424376,9.0092891760904709E-2,0.97504038772213242]
[null,null,"Ohio","Pickaway",null,"Ohio-Pickaway",35.369999999999997,113.2,14,null,null,null,null,null,150,0.35870895760280536,0.27723252574722679,0.20786243936243934,1]
[null,null,"Ohio","Pike",null,"Ohio-Pike",39.85,112.5,16,null,null,null,null,null,150,0.35274809160305365,0.65353261553843744,6.1384332925336627E-2,1]
[null,null,"Ohio","Portage",null,"Ohio-Portage",36.9,135,15.75,null,null,null,null,null,125,0.38338126700349773,0.40115564122005715,0.10614843152257085,0.99579188982402445]
[null,null,"Ohio","Preble",null,"Ohio-Preble",36.64,112.5,13,null,null,null,null,null,150.16263736263735,0.35626061277224075,0.36454706623112115,0.21657636618402595,1]
[null,null,"Ohio","Putnam",null,"Ohio-Putnam",35.01,111.4,10,null,null,null,null,null,125,0.3107028440666878,0.14146152601362899,0.2756702977487287,1]
[null,null,"Ohio","Richland",null,"Ohio-Richland",35.01,133.30000000000001,12,null,null,null,null,null,150,0.36467573552673183,0.59500634896854288,0.11918689690198066,0.93092940578974104]
[null,null,"Ohio","Ross",null,"Ohio-Ross",38.42,112.5,15.5,null,null,null,null,null,150,0.3660752811567588,0.46334617484351814,0.11097103847745131,1]
[null,null,"Ohio","Sandusky",null,"Ohio-Sandusky",35.01,112.5,10,null,null,null,null,null,125,0.28486040110106103,0.13790871210344244,0.20937385086823285,1]
[null,null,"Ohio","Scioto",null,"Ohio-Scioto",42.85,113.7,16,null,null,null,null,null,150,0.35116456361724485,1.5630735871633705,8.0835365853658539E-2,1]
[null,null,"Ohio","Seneca",null,"Ohio-Seneca",35.01,123.7,10,null,null,null,null,null,125,0.36840033975084913,0.21295874344069157,0.19034258654474198,1]
[null,null,"Ohio","Shelby",null,"Ohio-Shelby",35.01,112.5,12,null,null,null,null,null,150.2130087485736,0.38946909667194923,0.27219089122287798,0.23288012205754155,1]
[null,null,"Ohio","Stark",null,"Ohio-Stark",35.01,135,14,null,null,null,null,null,150,0.34464136282127888,0.72576684760313681,0.13913673965936726,0.97177615571776155]
[null,null,"Ohio","Summit",null,"Ohio-Summit",35.020000000000003,135,15.75,null,null,null,null,null,130.97098214285714,0.36917894736842088,0.65799361711557203,7.3381250000000023E-2,0.984375]
[null,null,"Ohio","Trumbull",null,"Ohio-Trumbull",35.07,135,16.600000000000001,null,null,null,null,null,125,0.38671248903188044,0.23739770455633624,0.1050607287449393,0.99021592442645079]
[null,null,"Ohio","Tuscarawas",null,"Ohio-Tuscarawas",35.01,128.1,14,null,null,null,null,null,150,0.31265625000000002,2.5945219476949855,0.13614655810510742,0.94541080680977052]
[null,null,"Ohio","Union",null,"Ohio-Union",35.01,111.5,12,null,null,null,null,null,150,0.37739666424945634,0.20126088177081339,0.2786963123644251,0.99739696312364423]
[null,null,"Ohio","Van Wert",null,"Ohio-Van Wert",35.01,107.5,10,null,null,null,null,null,150,0.34017590822179705,0.12812875375622429,0.18928853585229694,1]
[null,null,"Ohio","Vinton",null,"Ohio-Vinton",44.55,112.5,15,null,null,null,null,null,150,0.33046946564885527,2.5652133438765636,2.8725626740947065E-2,1]
[null,null,"Ohio","Warren",null,"Ohio-Warren",42.45,119.9,14,null,null,null,null,null,150,0.37404089979550192,0.35850269016910874,0.21302642276422754,1]
[null,null,"Ohio","Washington",null,"Ohio-Washington",38.299999999999997,119.9,15.5,null,null,null,null,null,150,0.34995658073269997,2.8685203568699618,3.6200997861724878E-2,0.98364219529579466]
[null,null,"Ohio","Wayne",null,"Ohio-Wayne",35.01,134.6,19,null,null,null,null,null,150,0.36533752860411861,0.48289743195206458,0.11964107560405292,0.91667965705378029]
[null,null,"Ohio","Williams",null,"Ohio-Williams",35.01,112.5,10,null,null,null,null,null,125.02991137370753,0.36217903415783265,0.32598587160444348,0.17008555657773677,1]
[null,null,"Ohio","Wood",null,"Ohio-Wood",35.01,112.5,10,null,null,null,null,null,125,0.27237493553378012,0.10487185909682462,0.20522152886115441,1]
[null,null,"Ohio","Wyandot",null,"Ohio-Wyandot",35.01,112.7,11,null,null,null,null,null,125,0.36337433374333722,0.26180709263837876,0.19100538599640934,1]
[null,null,"Oklahoma","Adair",null,"Oklahoma-Adair",45,81.099999999999994,13.667,null,null,null,null,null,280,0.29105177111716618,0.75432801193023147,2.0597449908925314E-2,1]
[null,null,"Oklahoma","Alfalfa",null,"Oklahoma-Alfalfa",25.01,66.900000000000006,2.6669999999999998,null,null,null,null,null,180,0.31917313150425697,0.27330851669293427,0.17354446854663794,0.96681127982646398]
[null,null,"Oklahoma","Atoka",null,"Oklahoma-Atoka",45,68.900000000000006,10.6,null,null,null,null,null,300,0.27737013515714021,0.47511271470354466,1.9245469988675018E-2,1]
[null,null,"Oklahoma","Beaver",null,"Oklahoma-Beaver",23.21,47.3,0.36699999999999999,null,null,null,null,null,130,0.26650525590211971,0.42177053168157186,7.4670869335214413E-2,0.97051490037030508]
[null,null,"Oklahoma","Beckham",null,"Oklahoma-Beckham",25.01,47.6,0.5,null,null,null,null,null,160,0.29444344864671118,0.49174692211125764,8.6020684605528183E-2,0.93144792238696683]
[null,null,"Oklahoma","Blaine",null,"Oklahoma-Blaine",25.01,64.900000000000006,2,null,null,null,null,null,199.3131499496813,0.30475853529099572,0.30827976587978484,0.12790384615384628,0.94525641025640994]
[null,null,"Oklahoma","Bryan",null,"Oklahoma-Bryan",44.66,69.5,9.2729999999999997,null,null,null,null,null,300,0.33870234604105592,0.39006887089518766,7.9737508964857678E-2,0.97628496294525458]
[null,null,"Oklahoma","Caddo",null,"Oklahoma-Caddo",29.16,67.599999999999994,2,null,null,null,null,null,200,0.28227317554240627,0.39955785113611436,0.13835087040618957,0.96096988118264715]
[null,null,"Oklahoma","Canadian",null,"Oklahoma-Canadian",33.54,64.599999999999994,3,null,null,null,null,null,220.17217146872804,0.34294823571556515,0.25585971163013604,0.10982533359888438,0.9878111929894442]
[null,null,"Oklahoma","Carter",null,"Oklahoma-Carter",35.01,68,4.5,null,null,null,null,null,260,0.37418449197860965,0.57041938522314106,5.0401898734177213E-2,0.99931434599156121]
[null,null,"Oklahoma","Cherokee",null,"Oklahoma-Cherokee",45,81.8,11,null,null,null,null,null,280,0.28066957470010917,0.36975218940662957,2.1465281574630988E-2,1]
[null,null,"Oklahoma","Choctaw",null,"Oklahoma-Choctaw",45,78.3,14.125,null,null,null,null,null,300,0.31511994813053729,0.28330930313837677,4.0669357442686439E-2,1]
[null,null,"Oklahoma","Cimarron",null,"Oklahoma-Cimarron",16,45,0.1,null,null,null,null,null,100,0.26644657345071626,0.46691779063781724,0.11251184210526316,1]
[null,null,"Oklahoma","Cleveland",null,"Oklahoma-Cleveland",35.01,68.099999999999994,4,null,null,null,null,null,260,0.30867010974822512,0.2484364836917749,4.7383859286083851E-2,1]
[null,null,"Oklahoma","Coal",null,"Oklahoma-Coal",42.48,68,7.5,null,null,null,null,null,280,0.33231467473524889,0.89119294082254386,2.0013169446883246E-2,1]
[null,null,"Oklahoma","Comanche",null,"Oklahoma-Comanche",30.86,53.3,3,null,null,null,null,null,220,0.37534068912117702,0.39525683402189521,9.5891392519152727E-2,0.99560612888688593]
[null,null,"Oklahoma","Cotton",null,"Oklahoma-Cotton",32.83,53.1,2,null,null,null,null,null,220,0.37617235452983083,0.25883697966171815,0.1429019108280255,0.97487898089171965]
[null,null,"Oklahoma","Craig",null,"Oklahoma-Craig",45,83.6,9.3330000000000002,null,null,null,null,null,260,0.38220615575294331,0.22621403001950649,6.191592741935481E-2,1]
[null,null,"Oklahoma","Creek",null,"Oklahoma-Creek",35.01,68,5.5,null,null,null,null,null,260,0.22040635137442391,0.47339174069278933,2.7698926050935928E-2,1]
[null,null,"Oklahoma","Custer",null,"Oklahoma-Custer",25.01,58,1.5,null,null,null,null,null,180,0.36491651807424202,0.54298847244504356,0.11934321029461553,0.90548594649508973]
[null,null,"Oklahoma","Delaware",null,"Oklahoma-Delaware",45,83.1,11.333,null,null,null,null,null,280,0.31143261484868273,0.43453618540101729,4.3674935842600564E-2,1]
[null,null,"Oklahoma","Dewey",null,"Oklahoma-Dewey",25.01,50.6,1.5,null,null,null,null,null,180,0.31244394975353801,0.81481864469689402,7.4331030997304565E-2,0.92332378706199469]
[null,null,"Oklahoma","Ellis",null,"Oklahoma-Ellis",25.01,59.2,0.5,null,null,null,null,null,140,0.25198754606684465,0.63358802803528214,7.3334115805946842E-2,0.91671100678142903]
[null,null,"Oklahoma","Garfield",null,"Oklahoma-Garfield",34.270000000000003,66.599999999999994,4,null,null,null,null,null,220.51289609432573,0.38851162097735364,0.30436896318647055,0.15398915470494418,0.99736842105263168]
[null,null,"Oklahoma","Garvin",null,"Oklahoma-Garvin",35.01,68,4,null,null,null,null,null,260,0.3325928096912853,0.39115140009923755,7.246420480289982E-2,1]
[null,null,"Oklahoma","Grady",null,"Oklahoma-Grady",35.01,67.3,3,null,null,null,null,null,240,0.32864452679589434,0.38312551267094602,8.7720161943319899E-2,0.99446153846153851]
[null,null,"Oklahoma","Grant",null,"Oklahoma-Grant",32.01,68,4,null,null,null,null,null,220,0.39929029232452717,0.2052028347755569,0.15525431660480885,0.99954010004841065]
[null,null,"Oklahoma","Greer",null,"Oklahoma-Greer",25.01,50.3,1,null,null,null,null,null,180,0.30671489149413866,0.45104972748775479,8.4757645259938758E-2,0.99209989806320087]
[null,null,"Oklahoma","Harmon",null,"Oklahoma-Harmon",25.01,45,0.5,null,null,null,null,null,160,0.31408982035928196,0.3664990703144928,0.12687760736196316,0.97552147239263787]
[null,null,"Oklahoma","Harper",null,"Oklahoma-Harper",25.01,57.4,0.5,null,null,null,null,null,140,0.30333586626139886,0.68383942582322788,6.6785536933581663E-2,0.92302296710117926]
[null,null,"Oklahoma","Haskell",null,"Oklahoma-Haskell",45,83,12.5,null,null,null,null,null,280,0.34689586305278136,0.33463580741056392,3.3106471816283949E-2,1]
[null,null,"Oklahoma","Hughes",null,"Oklahoma-Hughes",40.479999999999997,71.8,6.5,null,null,null,null,null,280,0.24482415005861655,0.35546006833855859,4.9680674944285297E-2,0.98389048073861829]
[null,null,"Oklahoma","Jackson",null,"Oklahoma-Jackson",25.01,46,1,null,null,null,null,null,180,0.3012699060841158,0.24229117175970113,0.14313232795242137,1]
[null,null,"Oklahoma","Jefferson",null,"Oklahoma-Jefferson",35.01,65.3,3,null,null,null,null,null,240,0.34930285477865058,0.28337988607974524,5.4713190529876235E-2,0.99780157835400229]
[null,null,"Oklahoma","Johnston",null,"Oklahoma-Johnston",39.69,66.2,6.5,null,null,null,null,null,280,0.31375411913814938,0.41154010694005932,3.2659507264687221E-2,1]
[null,null,"Oklahoma","Kay",null,"Oklahoma-Kay",35.01,68,5.5,null,null,null,null,null,240,0.40292332268370634,0.23494054469161918,0.13512787821122743,0.99944814462416753]
[null,null,"Oklahoma","Kingfisher",null,"Oklahoma-Kingfisher",32.799999999999997,67.599999999999994,3,null,null,null,null,null,220,0.29313399202634804,0.29420093202274966,0.12587049570148176,0.99618620815803904]
[null,null,"Oklahoma","Kiowa",null,"Oklahoma-Kiowa",25.11,56.2,1.5,null,null,null,null,null,200,0.32864670083279945,0.35381640908148188,0.15825907404420078,0.96968865946120353]
[null,null,"Oklahoma","Latimer",null,"Oklahoma-Latimer",45.09,83.2,14.2,null,null,null,null,null,299.84140591513074,0.30661209342938278,0.41360115106819451,1.713269088213492E-2,1]
[null,null,"Oklahoma","Le Flore",null,"Oklahoma-Le Flore",49.36,86.8,17.082999999999998,null,null,null,null,null,300,0.32242283352705681,0.34716648110125836,3.2288692027097464E-2,1]
[null,null,"Oklahoma","Lincoln",null,"Oklahoma-Lincoln",35.01,68,6.25,null,null,null,null,null,260,0.29144001307616862,0.50407238095277584,4.1650910667823032E-2,1]
[null,null,"Oklahoma","Logan",null,"Oklahoma-Logan",35.01,65.7,4,null,null,null,null,null,240,0.33903382663847759,0.34213435174446327,9.333921719109739E-2,0.98627526221540029]
[null,null,"Oklahoma","Love",null,"Oklahoma-Love",35.01,68,4.5,null,null,null,null,null,260,0.31556228098120431,0.51268403135508989,4.2106690777576901E-2,1]
[null,null,"Oklahoma","Major",null,"Oklahoma-Major",25.01,55.7,2,null,null,null,null,null,260,0.34434428455063792,0.33353455597899884,0.11230373682529542,0.99006675143038769]
[null,null,"Oklahoma","Marshall",null,"Oklahoma-Marshall",39.53,68,5.3330000000000002,null,null,null,null,null,320,0.26967334331710935,0.25303409110512304,7.7346743849493471E-2,0.98723589001447176]
[null,null,"Oklahoma","Mayes",null,"Oklahoma-Mayes",45,83,9,null,null,null,null,null,280.18328118015199,0.30273638580330542,0.36990989394391766,4.6500222717149202E-2,0.99844097995545655]
[null,null,"Oklahoma","McClain",null,"Oklahoma-McClain",35.01,68,4,null,null,null,null,null,180,0.28178869778869792,0.34714605450379998,0.11409591727580679,0.96393831342485281]
[null,null,"Oklahoma","McCurtain",null,"Oklahoma-McCurtain",54.41,84.9,17.25,null,null,null,null,null,280,0.3000682926829269,0.47189890963679082,3.9899179366940193E-2,0.99747948417350529]
[null,null,"Oklahoma","McIntosh",null,"Oklahoma-McIntosh",45,81.900000000000006,8.5,null,null,null,null,null,280,0.34911273486430094,0.26529625869277129,4.3702692595362837E-2,1]
[null,null,"Oklahoma","Murray",null,"Oklahoma-Murray",35.01,68,4.5,null,null,null,null,null,280,0.30535771704180115,0.62344254330770821,3.7560944206008591E-2,1]
[null,null,"Oklahoma","Muskogee",null,"Oklahoma-Muskogee",45,83,9.1999999999999993,null,null,null,null,null,280,0.36330550203382561,0.25235575305585917,0.10781875843454783,1]
[null,null,"Oklahoma","Noble",null,"Oklahoma-Noble",35.01,65.400000000000006,4.5,null,null,null,null,null,240,0.39907619253183663,0.28948350108830967,0.11849465177085819,0.99629189446161148]
[null,null,"Oklahoma","Nowata",null,"Oklahoma-Nowata",38.99,80.3,8,null,null,null,null,null,260,0.38277761753677531,0.22570433931265607,4.5063930013459028E-2,1]
[null,null,"Oklahoma","Okfuskee",null,"Oklahoma-Okfuskee",35.799999999999997,68.2,5.5,null,null,null,null,null,280,0.2821647118816929,0.37826191191075481,4.2571814671814701E-2,0.99760617760617765]
[null,null,"Oklahoma","Oklahoma",null,"Oklahoma-Oklahoma",35.01,68.2,4,null,null,null,null,null,240,0.29850664223545637,0.2992539136334364,5.3157678479712381E-2,0.996738572162301]
[null,null,"Oklahoma","Okmulgee",null,"Oklahoma-Okmulgee",38.83,68.8,6,null,null,null,null,null,280,0.32044659300184181,0.52970445290817258,7.7309977397481383E-2,1]
[null,null,"Oklahoma","Osage",null,"Oklahoma-Osage",35.01,71.900000000000006,6.25,null,null,null,null,null,259.84537131230928,0.29984239052916795,0.45349261426752485,2.593680164476625E-2,0.99754178957718775]
[null,null,"Oklahoma","Ottawa",null,"Oklahoma-Ottawa",45,83,10,null,null,null,null,null,260,0.37707560627674758,0.29528842228825813,0.12143652561247213,0.97576837416481066]
[null,null,"Oklahoma","Pawnee",null,"Oklahoma-Pawnee",35.01,68.2,5.5,null,null,null,null,null,260,0.37765532752319353,0.38362927914897588,7.1025170801869805E-2,0.98622797554836383]
[null,null,"Oklahoma","Payne",null,"Oklahoma-Payne",35.01,68,5,null,null,null,null,null,260,0.31254629629629566,0.61183740644294426,6.018154937906562E-2,0.98574807806031939]
[null,null,"Oklahoma","Pittsburg",null,"Oklahoma-Pittsburg",45,82.4,10,null,null,null,null,null,277.51473254759748,0.30308477343856344,0.50383402333721772,2.7039978958442918E-2,1]
[null,null,"Oklahoma","Pontotoc",null,"Oklahoma-Pontotoc",35.01,67.099999999999994,5.5,null,null,null,null,null,280,0.29446873633581117,0.52593889862604359,2.6429530201342311E-2,1]
[null,null,"Oklahoma","Pottawatomie",null,"Oklahoma-Pottawatomie",35.01,68.7,6.25,null,null,null,null,null,260.26035502958581,0.32429032909347866,0.40715006541457838,4.4767596125623699E-2,1]
[null,null,"Oklahoma","Pushmataha",null,"Oklahoma-Pushmataha",48.81,82.8,15.75,null,null,null,null,null,300,0.24813756855575902,0.61767522587627599,3.4540080609046141E-2,1]
[null,null,"Oklahoma","Roger Mills",null,"Oklahoma-Roger Mills",25.01,45,0.5,null,null,null,null,null,158.92009817289338,0.28048607975921735,0.80689683432766457,4.1323867773409143E-2,0.97716615698267084]
[null,null,"Oklahoma","Rogers",null,"Oklahoma-Rogers",38.71,83,7.5,null,null,null,null,null,260,0.33798656107511393,0.37277566304608639,4.0423198482933062E-2,0.99848293299620727]
[null,null,"Oklahoma","Seminole",null,"Oklahoma-Seminole",35.01,68,5,null,null,null,null,null,280,0.30594581158339512,0.42299180899171746,5.2545162585307136E-2,1]
[null,null,"Oklahoma","Sequoyah",null,"Oklahoma-Sequoyah",45,82.9,13.667,null,null,null,null,null,280,0.33378556313190694,0.36009665977780236,3.9098153034300823E-2,1]
[null,null,"Oklahoma","Stephens",null,"Oklahoma-Stephens",35.01,68,3,null,null,null,null,null,240,0.32182577132486379,0.40636517385062393,6.5670158405723045E-2,1]
[null,null,"Oklahoma","Texas",null,"Oklahoma-Texas",16,45,0.16,null,null,null,null,null,120,0.28293614067561362,0.25897602911438949,0.11580208580232276,0.99473018882831643]
[null,null,"Oklahoma","Tillman",null,"Oklahoma-Tillman",25.01,48.1,1.333,null,null,null,null,null,200,0.33355730533683325,0.26640380584356038,0.17069584837545143,0.97664259927797836]
[null,null,"Oklahoma","Tulsa",null,"Oklahoma-Tulsa",35.729999999999997,72.2,6.5,null,null,null,null,null,260,0.36115721140276613,0.22709001195607434,7.6267097469036066E-2,1]
[null,null,"Oklahoma","Wagoner",null,"Oklahoma-Wagoner",43.64,76.3,8.5,null,null,null,null,null,280,0.35322298563397875,0.21447193272273382,0.1095391760904684,1]
[null,null,"Oklahoma","Washington",null,"Oklahoma-Washington",35.01,79.900000000000006,8,null,null,null,null,null,260,0.33096838735494205,0.2844944780082565,4.493604651162799E-2,1]
[null,null,"Oklahoma","Washita",null,"Oklahoma-Washita",25.01,65.599999999999994,1.5,null,null,null,null,null,180,0.33770304568527915,0.32987514065495149,0.14582779605263149,0.81419407894736862]
[null,null,"Oklahoma","Woods",null,"Oklahoma-Woods",25.01,46.7,1.5,null,null,null,null,null,160,0.28844230300073176,0.89112881937905597,9.6417261681072342E-2,0.95980207941876483]
[null,null,"Oklahoma","Woodward",null,"Oklahoma-Woodward",25.01,62.7,0.75,null,null,null,null,null,160,0.26898436506927731,0.87742686333041975,6.8356889064350557E-2,0.95390840900118434]
[null,null,"Oregon","Baker",null,"Oregon-Baker",22.33,93.2,16.888999999999999,null,null,null,null,null,26.026923419809219,0.24873589846897662,6.7078012242150846,6.8214079963129448E-2,1]
[null,null,"Oregon","Benton",null,"Oregon-Benton",68.56,152.19999999999999,60,null,null,null,null,null,78.49508196721311,0.23957535387177364,0.32583485325589012,0.12566585067319469,1]
[null,null,"Oregon","Clackamas",null,"Oregon-Clackamas",70.98,160.5,72.856999999999999,null,null,null,null,null,62.060512151361934,0.22082958087980606,0.92073726334584161,0.14981621621621605,1]
[null,null,"Oregon","Clatsop",null,"Oregon-Clatsop",91.53,177.5,60,null,null,null,null,null,108.48022598870057,0.26457749299158956,0.5229481339165275,2.5139601139601141E-2,1]
[null,null,"Oregon","Columbia",null,"Oregon-Columbia",58.15,163.19999999999999,44,null,null,null,null,null,51.111035111719104,0.30774893935612652,0.90494463201331143,8.0758377425044103E-2,1]
[null,null,"Oregon","Coos",null,"Oregon-Coos",72.760000000000005,152.6,58.332999999999998,null,null,null,null,null,106.0730642115203,0.21132708119218929,2.3858240151066852,4.129278887923548E-2,1]
[null,null,"Oregon","Crook",null,"Oregon-Crook",14.93,77.099999999999994,1.617,null,null,null,null,null,37.020734341252698,0.20644374932585488,4.1120743306624652,8.721404514091928E-2,1]
[null,null,"Oregon","Curry",null,"Oregon-Curry",92.45,149,52.5,null,null,null,null,null,158.98081180811809,0.20515116613878481,3.2539418549655701,0.14199127399650954,1]
[null,null,"Oregon","Deschutes",null,"Oregon-Deschutes",22.53,87.8,17.391999999999999,null,null,null,null,null,24.68970921121365,0.17918974782968169,0.42005874903267149,9.8894182987430551E-2,1]
[null,null,"Oregon","Douglas",null,"Oregon-Douglas",55.43,140,34.5,null,null,null,null,null,75.4815067773458,0.20533927084000766,4.2344437231520731,5.3900082236842041E-2,1]
[null,null,"Oregon","Gilliam",null,"Oregon-Gilliam",11.91,74.099999999999994,0.57999999999999996,null,null,null,null,null,26.807708133315046,0.36623074729035859,8.2414150517302218,9.9908450704225285E-2,0.99299367634377711]
[null,null,"Oregon","Grant",null,"Oregon-Grant",20.66,95.4,5.6669999999999998,null,null,null,null,null,36.476222483616198,0.21971017038468302,5.9505903504880742,0.10117966329966323,1]
[null,null,"Oregon","Harney",null,"Oregon-Harney",12.5,67,2.4,null,null,null,null,null,22.178611547966749,0.26269232887273514,1.5322008228671713,9.9434481034805927E-2,1]
[null,null,"Oregon","Hood River",null,"Oregon-Hood River",68.28,151.4,61.875,null,null,null,null,null,56.341791044776116,0.26082133784928058,2.0499618978007517,5.123588039867108E-2,1]
[null,null,"Oregon","Jackson",null,"Oregon-Jackson",36.28,115,21.428999999999998,null,null,null,null,null,45.351692369317043,0.19197389330306491,2.9338907605995521,8.7158359293873278E-2,1]
[null,null,"Oregon","Jefferson",null,"Oregon-Jefferson",20.04,80.8,17.582999999999998,null,null,null,null,null,29.179713710579289,0.24141810834701388,8.7975606894839125,0.1045937522123894,1]
[null,null,"Oregon","Josephine",null,"Oregon-Josephine",58.66,123.9,35,null,null,null,null,null,73.426940046716851,0.22253562082000602,2.3966995846526595,4.8394444444444441E-2,1]
[null,null,"Oregon","Klamath",null,"Oregon-Klamath",27.41,94.2,15.313000000000001,null,null,null,null,null,30.580187126804269,0.15906450783860204,1.3366179036548393,5.6801421917136483E-2,1]
[null,null,"Oregon","Lake",null,"Oregon-Lake",14.97,74.400000000000006,3.3860000000000001,null,null,null,null,null,28.752783566537659,0.20654300632041683,1.288958460808135,8.2667033814296645E-2,1]
[null,null,"Oregon","Lane",null,"Oregon-Lane",66.09,157.9,53.332999999999998,null,null,null,null,null,78.645232815964519,0.23671112273361206,0.55989136810503515,7.2206880301602258E-2,1]
[null,null,"Oregon","Lincoln",null,"Oregon-Lincoln",87.98,167.7,80,null,null,null,null,null,124.17230169050715,0.23433349259436217,2.3896726789368787,0.37932195121951229,1]
[null,null,"Oregon","Linn",null,"Oregon-Linn",69.239999999999995,158.5,48,null,null,null,null,null,60.749765307186813,0.23489745323416719,0.40012575036169346,0.11158307405102677,1]
[null,null,"Oregon","Malheur",null,"Oregon-Malheur",11.72,59.2,2.0249999999999999,null,null,null,null,null,18.48823304314551,0.30220311526479715,4.6294010688260476,0.11588676024279206,1]
[null,null,"Oregon","Marion",null,"Oregon-Marion",63.96,151.4,45,null,null,null,null,null,52.75078747452288,0.25617506224861114,0.41021481005883847,0.23289584775086508,1]
[null,null,"Oregon","Morrow",null,"Oregon-Morrow",14.39,80.900000000000006,1.74,null,null,null,null,null,24.943770373053241,0.33554141876430282,4.2277609125678453,0.12234865782165998,0.99475984778360604]
[null,null,"Oregon","Multnomah",null,"Oregon-Multnomah",62.49,154.4,65.713999999999999,null,null,null,null,null,44.888134057971016,0.29732812499999983,0.81046547638634692,0.15004702194357372,0.99874608150470223]
[null,null,"Oregon","Polk",null,"Oregon-Polk",68.8,150.1,62,null,null,null,null,null,92.690211467189883,0.25517679057116943,0.75493539127755971,0.22990971428571425,1]
[null,null,"Oregon","Sherman",null,"Oregon-Sherman",10.09,76.2,0.75,null,null,null,null,null,19.533881315156375,0.3655449330783932,4.2917942825778939,0.10794822888283383,1]
[null,null,"Oregon","Tillamook",null,"Oregon-Tillamook",95.48,177.9,75,null,null,null,null,null,137.14710252600298,0.22157650981845123,7.4800032085989905,0.28216978417266181,1]
[null,null,"Oregon","Umatilla",null,"Oregon-Umatilla",21.74,100.1,8.7439999999999998,null,null,null,null,null,29.491710798986876,0.35735414905181767,3.9146291656769385,0.16343801856567808,0.98865111311919807]
[null,null,"Oregon","Union",null,"Oregon-Union",29.44,117.3,21,null,null,null,null,null,41.6067512983266,0.29131162102146563,1.2448832457675854,0.11004832442933456,0.99186498300145698]
[null,null,"Oregon","Wallowa",null,"Oregon-Wallowa",28.04,112.7,20.385000000000002,null,null,null,null,null,21.304469901168016,0.23465362865221492,8.4246562325407375,4.0330999242997705E-2,0.99984859954579863]
[null,null,"Oregon","Wasco",null,"Oregon-Wasco",21.05,88.2,20.280999999999999,null,null,null,null,null,33.636865342163354,0.24054926790660872,7.03387046158978,7.5449861552661243E-2,0.99871808019690289]
[null,null,"Oregon","Washington",null,"Oregon-Washington",56.02,149.80000000000001,62,null,null,null,null,null,63.107127335940895,0.32774251229325002,1.1036463551472626,0.16371620411817356,0.99838854073410921]
[null,null,"Oregon","Wheeler",null,"Oregon-Wheeler",17.420000000000002,82.1,3.5,null,null,null,null,null,30.781618224666143,0.24563205417607226,7.9389419060474449,0.11602239532619274,1]
[null,null,"Oregon","Yamhill",null,"Oregon-Yamhill",60.27,146.4,48,null,null,null,null,null,75.657686604053382,0.29248845561826581,1.5964719625801009,0.19946235921754574,0.99152341434499103]
[null,null,"Pennsylvania","Adams",null,"Pennsylvania-Adams",41.63,107.9,16.667000000000002,null,null,null,null,null,150,0.3202174578866761,0.67789588549301227,0.13551028219599795,0.93084145715751643]
[null,null,"Pennsylvania","Allegheny",null,"Pennsylvania-Allegheny",35.07,135,16.332999999999998,null,null,null,null,null,125,0.30466206003022989,3.4410682890784487,4.9563679245283036E-2,0.8665094339622641]
[null,null,"Pennsylvania","Armstrong",null,"Pennsylvania-Armstrong",44.52,134.69999999999999,21,null,null,null,null,null,125,0.31243574051407574,3.4707540370996552,4.8993517017828198E-2,0.91072933549432733]
[null,null,"Pennsylvania","Beaver",null,"Pennsylvania-Beaver",35.01,135,15.5,null,null,null,null,null,125,0.33378225806451628,3.5072851109494509,9.2783264746227709E-2,0.83717421124828506]
[null,null,"Pennsylvania","Bedford",null,"Pennsylvania-Bedford",35.44,112.7,17.777999999999999,null,null,null,null,null,125,0.24579878900791785,2.0307913062174605,6.2592906178489699E-2,0.95006407322654451]
[null,null,"Pennsylvania","Berks",null,"Pennsylvania-Berks",45,110.2,24.25,null,null,null,null,null,155.43203181489517,0.25203700207664725,1.2568329784414527,0.1017719869706839,0.81861156351791498]
[null,null,"Pennsylvania","Blair",null,"Pennsylvania-Blair",37.840000000000003,133.9,21,null,null,null,null,null,125,0.23286912249176409,1.3463337074472288,0.10818749999999998,0.85637019230769218]
[null,null,"Pennsylvania","Bradford",null,"Pennsylvania-Bradford",35.01,123.5,17.399999999999999,null,null,null,null,null,100,0.23990126165661019,1.6410824944431375,7.4126237623762345E-2,0.97708794408852651]
[null,null,"Pennsylvania","Bucks",null,"Pennsylvania-Bucks",45,104.8,28,null,null,null,null,null,173.00201055541592,0.34890944771516608,0.4904383982705251,0.15346104140526973,0.92674404015056466]
[null,null,"Pennsylvania","Butler",null,"Pennsylvania-Butler",40.200000000000003,135,18,null,null,null,null,null,125,0.27979096157674704,2.086272057990632,0.10817272727272727,0.87622727272727274]
[null,null,"Pennsylvania","Cambria",null,"Pennsylvania-Cambria",45,155.5,23.667000000000002,null,null,null,null,null,125,0.27561631351105009,2.5583760650094813,0.23420013956734134,0.87725052337752973]
[null,null,"Pennsylvania","Cameron",null,"Pennsylvania-Cameron",45,146.1,24.5,null,null,null,null,null,100,0.22124255657006733,0.85192188003939318,6.7588652482269505E-3,1]
[null,null,"Pennsylvania","Carbon",null,"Pennsylvania-Carbon",45.16,119.1,26.332999999999998,null,null,null,null,null,150,0.22791063829787245,1.7246876253605485,7.9155701754385979E-2,0.91282894736842102]
[null,null,"Pennsylvania","Centre",null,"Pennsylvania-Centre",38.47,134,21,null,null,null,null,null,125,0.222367700072098,1.7019125086775058,9.4564541213063805E-2,0.87977449455676504]
[null,null,"Pennsylvania","Chester",null,"Pennsylvania-Chester",45,109.5,19.600000000000001,null,null,null,null,null,175,0.3215950792326937,0.93596502638450418,6.9695476087893088E-2,0.93785437311503672]
[null,null,"Pennsylvania","Clarion",null,"Pennsylvania-Clarion",45,135,23.667000000000002,null,null,null,null,null,125,0.27637075718015686,2.0647073285670459,0.12751062416998662,0.89243027888446214]
[null,null,"Pennsylvania","Clearfield",null,"Pennsylvania-Clearfield",42.96,139.5,24,null,null,null,null,null,125.00636339019768,0.24795027624309435,3.1694964984887859,0.23505508982035922,0.95029940119760481]
[null,null,"Pennsylvania","Clinton",null,"Pennsylvania-Clinton",43.52,134.30000000000001,22,null,null,null,null,null,125,0.1866796598157337,1.4164344507940549,9.459999999999999E-2,0.8804950495049505]
[null,null,"Pennsylvania","Columbia",null,"Pennsylvania-Columbia",45,111.9,22,null,null,null,null,null,150,0.24222186182289987,1.2578670450999778,9.9485127478753488E-2,0.88604815864022657]
[null,null,"Pennsylvania","Crawford",null,"Pennsylvania-Crawford",45,153.6,23.4,null,null,null,null,null,125,0.35598639455782277,0.57201714641049806,4.7204053564965598E-2,0.98411147303655444]
[null,null,"Pennsylvania","Cumberland",null,"Pennsylvania-Cumberland",37.92,109.4,19,null,null,null,null,null,150,0.25807503607503612,1.4181230471624435,8.6884378843788468E-2,0.90680196801968027]
[null,null,"Pennsylvania","Dauphin",null,"Pennsylvania-Dauphin",44.16,112.5,20,null,null,null,null,null,150,0.21798389501938589,1.3568023176938726,0.11823993453355151,0.85430441898527032]
[null,null,"Pennsylvania","Delaware",null,"Pennsylvania-Delaware",45,97.8,24.286000000000001,null,null,null,null,null,166.03927986906712,0.27980672268907597,1.4146378447432939,7.9543478260869577E-2,0.95597826086956528]
[null,null,"Pennsylvania","Elk",null,"Pennsylvania-Elk",45,159.9,24.5,null,null,null,null,null,100,0.25655611631819286,1.0435468972120046,5.5468950749464625E-2,1]
[null,null,"Pennsylvania","Erie",null,"Pennsylvania-Erie",44.88,158.6,24.5,null,null,null,null,null,100,0.3219340181746348,0.63834067705568442,9.6629751290473936E-2,0.95732050680431724]
[null,null,"Pennsylvania","Fayette",null,"Pennsylvania-Fayette",44.36,140,23.635999999999999,null,null,null,null,null,125.00841487279844,0.29908341708542718,2.9902816865221546,0.11484362416107376,0.91865771812080521]
[null,null,"Pennsylvania","Forest",null,"Pennsylvania-Forest",45,147.69999999999999,24.5,null,null,null,null,null,100,0.25853156146179418,0.79253459202067011,0.11842477876106194,0.92699115044247793]
[null,null,"Pennsylvania","Franklin",null,"Pennsylvania-Franklin",39.33,111.4,16,null,null,null,null,null,150,0.28084003385526962,0.99354400743211913,0.1137043533389686,0.89028740490278957]
[null,null,"Pennsylvania","Fulton",null,"Pennsylvania-Fulton",36.42,107.7,15.5,null,null,null,null,null,125.31227694503926,0.23346459537572234,1.6786197967007652,0.11182598607888632,0.77296983758700688]
[null,null,"Pennsylvania","Greene",null,"Pennsylvania-Greene",41.29,135,19,null,null,null,null,null,150,0.41273710482529152,5.6073236461984779,2.0592848904267606E-2,0.98442906574394462]
[null,null,"Pennsylvania","Huntingdon",null,"Pennsylvania-Huntingdon",35.57,119.9,19,null,null,null,null,null,125,0.22353153153153138,2.3272660264595837,6.8516784452296808E-2,0.84920494699646643]
[null,null,"Pennsylvania","Indiana",null,"Pennsylvania-Indiana",45,150.19999999999999,24,null,null,null,null,null,125,0.28619221879815082,1.8951292462057543,0.10292231001206269,0.82057901085645368]
[null,null,"Pennsylvania","Jefferson",null,"Pennsylvania-Jefferson",45,138.69999999999999,24.332999999999998,null,null,null,null,null,125,0.26952552120776374,2.6830586751642751,0.15491921664626665,0.9470195838433294]
[null,null,"Pennsylvania","Juniata",null,"Pennsylvania-Juniata",41.07,112.5,20,null,null,null,null,null,125,0.24516740621218233,1.6464616389404008,8.7999999999999995E-2,0.78189378757515049]
[null,null,"Pennsylvania","Lackawanna",null,"Pennsylvania-Lackawanna",42.23,134.4,23.713999999999999,null,null,null,null,null,125,0.22200078926598257,1.282662063828079,5.1655334114888651E-2,0.96910902696365764]
[null,null,"Pennsylvania","Lancaster",null,"Pennsylvania-Lancaster",43.44,111,19,null,null,null,null,null,161.66004765687055,0.32886152808230784,1.111627806773386,0.14792620798319309,0.8371638655462188]
[null,null,"Pennsylvania","Lawrence",null,"Pennsylvania-Lawrence",35.49,135,16,null,null,null,null,null,124.59104606112786,0.31950000000000034,1.8322284591212457,0.16953477443609022,0.91724624060150384]
[null,null,"Pennsylvania","Lebanon",null,"Pennsylvania-Lebanon",45,108.5,21,null,null,null,null,null,150,0.27353920280332916,0.91153080470503556,0.15329102005231035,0.88783783783783776]
[null,null,"Pennsylvania","Lehigh",null,"Pennsylvania-Lehigh",45,111.9,24.25,null,null,null,null,null,169.84964093357272,0.27439873417721544,2.1205953860381648,0.11617979610750696,0.81010194624652443]
[null,null,"Pennsylvania","Luzerne",null,"Pennsylvania-Luzerne",43.45,119.9,23.4,null,null,null,null,null,150,0.23457200587803079,1.5681351810158646,0.15209770554493307,0.94832695984703641]
[null,null,"Pennsylvania","Lycoming",null,"Pennsylvania-Lycoming",41.94,128.1,21.332999999999998,null,null,null,null,null,125,0.22323630792799709,1.7216262003007661,8.5844459738472143E-2,0.94026152787336537]
[null,null,"Pennsylvania","McKean",null,"Pennsylvania-McKean",44.71,164.1,23.75,null,null,null,null,null,100,0.24493287225386495,1.2558635052598119,4.3731391585760511E-2,1]
[null,null,"Pennsylvania","Mercer",null,"Pennsylvania-Mercer",41.21,135,19,null,null,null,null,null,125,0.34037010843941612,0.61643053607377063,0.10289788359788349,0.96306878306878296]
[null,null,"Pennsylvania","Mifflin",null,"Pennsylvania-Mifflin",40.340000000000003,115.2,20,null,null,null,null,null,125,0.23785741517346554,1.0379994161899222,9.6340677966101684E-2,0.81661016949152532]
[null,null,"Pennsylvania","Monroe",null,"Pennsylvania-Monroe",45,128.69999999999999,27,null,null,null,null,null,150,0.22676503033645953,1.0015898114097348,0.14787128712871289,0.90705445544554453]
[null,null,"Pennsylvania","Montgomery",null,"Pennsylvania-Montgomery",45,100.2,22,null,null,null,null,null,175,0.32295610425240057,1.0293351518222322,0.11686194368755673,0.80563124432334243]
[null,null,"Pennsylvania","Montour",null,"Pennsylvania-Montour",45,112.3,22,null,null,null,null,null,150,0.27400000000000008,1.5356820345438065,0.1428151093439364,0.88831013916500978]
[null,null,"Pennsylvania","Northampton",null,"Pennsylvania-Northampton",45,112.5,24.286000000000001,null,null,null,null,null,166.29399585921325,0.27200092421441752,1.1159796345154886,0.15825348837209299,0.93812093023255805]
[null,null,"Pennsylvania","Northumberland",null,"Pennsylvania-Northumberland",45,108.9,22,null,null,null,null,null,150,0.25245128205128187,2.840730562066164,0.16527930813581027,0.77176809737347851]
[null,null,"Pennsylvania","Perry",null,"Pennsylvania-Perry",41.01,111.8,20,null,null,null,null,null,149.68120805369128,0.22166996886498716,2.6314847986022571,5.9357059509918306E-2,0.81449241540256723]
[null,null,"Pennsylvania","Philadelphia",null,"Pennsylvania-Philadelphia",45,98.4,23.832999999999998,null,null,null,null,null,175,0.35837499999999994,""]
[null,null,"Pennsylvania","Pike",null,"Pennsylvania-Pike",44.78,120.7,26.25,null,null,null,null,null,150,0.2208790523690774,0.27337290726497282,2.2917355371900823E-2,1]
[null,null,"Pennsylvania","Potter",null,"Pennsylvania-Potter",39,138.6,19,null,null,null,null,null,100,0.2498114302291852,3.0682016798188658,2.539423076923077E-2,0.96000874125874125]
[null,null,"Pennsylvania","Schuylkill",null,"Pennsylvania-Schuylkill",46.24,111.8,25,null,null,null,null,null,150,0.22047929838874158,2.9049354320695948,0.21309764309764312,0.94121212121212106]
[null,null,"Pennsylvania","Snyder",null,"Pennsylvania-Snyder",45,113.3,20,null,null,null,null,null,125,0.25358986848514375,1.9627803588067991,0.18303712574850289,0.60917365269461077]
[null,null,"Pennsylvania","Somerset",null,"Pennsylvania-Somerset",43.47,138,24.222000000000001,null,null,null,null,null,125,0.2329560117302058,1.056203248421234,9.0539267015706762E-2,0.93687474828836059]
[null,null,"Pennsylvania","Sullivan",null,"Pennsylvania-Sullivan",40,125.5,21,null,null,null,null,null,125,0.22537210982658948,1.3505688546181955,4.5766905444126087E-2,0.97492836676217765]
[null,null,"Pennsylvania","Susquehanna",null,"Pennsylvania-Susquehanna",40.25,135,22.75,null,null,null,null,null,100,0.25010129969418993,1.4239839284022642,6.0660253786328298E-2,0.97519443307408904]
[null,null,"Pennsylvania","Tioga",null,"Pennsylvania-Tioga",35.08,119.2,17.25,null,null,null,null,null,100,0.23672306824591074,2.1167124486655537,6.2242369020501197E-2,0.90439635535307517]
[null,null,"Pennsylvania","Union",null,"Pennsylvania-Union",45,119.1,21,null,null,null,null,null,125,0.24832160804020073,1.0978703410804549,0.14421220159151199,0.81836870026525188]
[null,null,"Pennsylvania","Venango",null,"Pennsylvania-Venango",45,143.6,22.75,null,null,null,null,null,125,0.28510285179990652,0.98489926811387862,4.268964472309298E-2,0.9415360501567398]
[null,null,"Pennsylvania","Warren",null,"Pennsylvania-Warren",45,163.4,25.5,null,null,null,null,null,99.127728085867616,0.28949806949806961,1.2646468804626363,4.169533678756477E-2,0.90077720207253897]
[null,null,"Pennsylvania","Washington",null,"Pennsylvania-Washington",35.06,135,16.332999999999998,null,null,null,null,null,150,0.38950045913682252,2.565133058459212,2.7769694284448376E-2,0.92306601683650868]
[null,null,"Pennsylvania","Wayne",null,"Pennsylvania-Wayne",44.98,132.5,24,null,null,null,null,null,125.35915053091817,0.24055300546448083,0.91169364775942885,4.8991034482758641E-2,0.98758620689655174]
[null,null,"Pennsylvania","Westmoreland",null,"Pennsylvania-Westmoreland",42.09,135.6,22.5,null,null,null,null,null,125,0.31042929681489445,1.8223055305447258,9.078171247357289E-2,0.84936575052854113]
[null,null,"Pennsylvania","Wyoming",null,"Pennsylvania-Wyoming",37.68,134.80000000000001,20,null,null,null,null,null,125,0.24033694344163689,1.2609380048390322,5.4431496062992128E-2,0.91944881889763763]
[null,null,"Pennsylvania","York",null,"Pennsylvania-York",41.08,111.2,18,null,null,null,null,null,156.15674841365117,0.32569238808570028,1.1187338387926418,0.13734572959344482,0.95479672234478419]
[null,null,"Puerto Rico","Adjuntas",null,"Puerto Rico-Adjuntas",69.83,100,null,null,null,null,null,null,423.37931433866112,0.20052951388888901,6.2048165163755525E-2,0.23429481132075475,1]
[null,null,"Puerto Rico","Aguada",null,"Puerto Rico-Aguada",63.97,100,null,null,null,null,null,null,423.37931433866112,0.20052951388888901,6.2048165163755525E-2,0.23429481132075475,1]
[null,null,"Puerto Rico","Aguadilla",null,"Puerto Rico-Aguadilla",35.479999999999997,100,null,null,null,null,null,null,423.37931433866112,0.20052951388888901,6.2048165163755525E-2,0.23429481132075475,1]
[null,null,"Puerto Rico","Aguas Buenas",null,"Puerto Rico-Aguas Buenas",93.24,100,null,null,null,null,null,null,423.37931433866112,0.20052951388888901,6.2048165163755525E-2,0.23429481132075475,1]
[null,null,"Puerto Rico","Aibonito",null,"Puerto Rico-Aibonito",86.67,100,null,null,null,null,null,null,423.37931433866112,0.20052951388888901,6.2048165163755525E-2,0.23429481132075475,1]
[null,null,"Puerto Rico","Anasco",null,"Puerto Rico-Anasco",58.08,100,null,null,null,null,null,null,423.37931433866112,0.20052951388888901,6.2048165163755525E-2,0.23429481132075475,1]
[null,null,"Puerto Rico","Arecibo",null,"Puerto Rico-Arecibo",70.89,100,null,null,null,null,null,null,423.37931433866112,0.20052951388888901,6.2048165163755525E-2,0.23429481132075475,1]
[null,null,"Puerto Rico","Arroyo",null,"Puerto Rico-Arroyo",45.27,100,null,null,null,null,null,null,423.37931433866112,0.20052951388888901,6.2048165163755525E-2,0.23429481132075475,1]
[null,null,"Puerto Rico","Barceloneta",null,"Puerto Rico-Barceloneta",68.84,100,null,null,null,null,null,null,423.37931433866112,0.20052951388888901,6.2048165163755525E-2,0.23429481132075475,1]
[null,null,"Puerto Rico","Barranquitas",null,"Puerto Rico-Barranquitas",95.8,100,null,null,null,null,null,null,423.37931433866112,0.20052951388888901,6.2048165163755525E-2,0.23429481132075475,1]
[null,null,"Puerto Rico","Bayamon",null,"Puerto Rico-Bayamon",82.41,100,null,null,null,null,null,null,423.37931433866112,0.20052951388888901,6.2048165163755525E-2,0.23429481132075475,1]
[null,null,"Puerto Rico","Cabo Rojo",null,"Puerto Rico-Cabo Rojo",38.26,100,null,null,null,null,null,null,423.37931433866112,0.20052951388888901,6.2048165163755525E-2,0.23429481132075475,1]
[null,null,"Puerto Rico","Caguas",null,"Puerto Rico-Caguas",83.66,100,null,null,null,null,null,null,423.37931433866112,0.20052951388888901,6.2048165163755525E-2,0.23429481132075475,1]
[null,null,"Puerto Rico","Camuy",null,"Puerto Rico-Camuy",69.38,100,null,null,null,null,null,null,423.37931433866112,0.20052951388888901,6.2048165163755525E-2,0.23429481132075475,1]
[null,null,"Puerto Rico","Canovanas",null,"Puerto Rico-Canovanas",77.97,100,null,null,null,null,null,null,423.37931433866112,0.20052951388888901,6.2048165163755525E-2,0.23429481132075475,1]
[null,null,"Puerto Rico","Carolina",null,"Puerto Rico-Carolina",54.29,100,null,null,null,null,null,null,423.37931433866112,0.20052951388888901,6.2048165163755525E-2,0.23429481132075475,1]
[null,null,"Puerto Rico","Catano",null,"Puerto Rico-Catano",64.63,100,null,null,null,null,null,null,423.37931433866112,0.20052951388888901,6.2048165163755525E-2,0.23429481132075475,1]
[null,null,"Puerto Rico","Cayey",null,"Puerto Rico-Cayey",89.83,100,null,null,null,null,null,null,423.37931433866112,0.20052951388888901,6.2048165163755525E-2,0.23429481132075475,1]
[null,null,"Puerto Rico","Ceiba",null,"Puerto Rico-Ceiba",56.9,100,null,null,null,null,null,null,423.37931433866112,0.20052951388888901,6.2048165163755525E-2,0.23429481132075475,1]
[null,null,"Puerto Rico","Ciales",null,"Puerto Rico-Ciales",86.26,100,null,null,null,null,null,null,423.37931433866112,0.20052951388888901,6.2048165163755525E-2,0.23429481132075475,1]
[null,null,"Puerto Rico","Cidra",null,"Puerto Rico-Cidra",88.29,100,null,null,null,null,null,null,423.37931433866112,0.20052951388888901,6.2048165163755525E-2,0.23429481132075475,1]
[null,null,"Puerto Rico","Coamo",null,"Puerto Rico-Coamo",43.82,100,null,null,null,null,null,null,423.37931433866112,0.20052951388888901,6.2048165163755525E-2,0.23429481132075475,1]
[null,null,"Puerto Rico","Comerio",null,"Puerto Rico-Comerio",90.06,100,null,null,null,null,null,null,423.37931433866112,0.20052951388888901,6.2048165163755525E-2,0.23429481132075475,1]
[null,null,"Puerto Rico","Corozal",null,"Puerto Rico-Corozal",87.99,100,null,null,null,null,null,null,423.37931433866112,0.20052951388888901,6.2048165163755525E-2,0.23429481132075475,1]
[null,null,"Puerto Rico","Dorado",null,"Puerto Rico-Dorado",70.489999999999995,100,null,null,null,null,null,null,423.37931433866112,0.20052951388888901,6.2048165163755525E-2,0.23429481132075475,1]
[null,null,"Puerto Rico","Fajardo",null,"Puerto Rico-Fajardo",65.180000000000007,100,null,null,null,null,null,null,423.37931433866112,0.20052951388888901,6.2048165163755525E-2,0.23429481132075475,1]
[null,null,"Puerto Rico","Florida",null,"Puerto Rico-Florida",70.489999999999995,100,null,null,null,null,null,null,423.37931433866112,0.20052951388888901,6.2048165163755525E-2,0.23429481132075475,1]
[null,null,"Puerto Rico","Guanica",null,"Puerto Rico-Guanica",30.28,100,null,null,null,null,null,null,423.37931433866112,0.20052951388888901,6.2048165163755525E-2,0.23429481132075475,1]
[null,null,"Puerto Rico","Guayama",null,"Puerto Rico-Guayama",50.8,100,null,null,null,null,null,null,423.37931433866112,0.20052951388888901,6.2048165163755525E-2,0.23429481132075475,1]
[null,null,"Puerto Rico","Guayanilla",null,"Puerto Rico-Guayanilla",42.2,100,null,null,null,null,null,null,423.37931433866112,0.20052951388888901,6.2048165163755525E-2,0.23429481132075475,1]
[null,null,"Puerto Rico","Guaynabo",null,"Puerto Rico-Guaynabo",79.23,100,null,null,null,null,null,null,423.37931433866112,0.20052951388888901,6.2048165163755525E-2,0.23429481132075475,1]
[null,null,"Puerto Rico","Gurabo",null,"Puerto Rico-Gurabo",82.77,100,null,null,null,null,null,null,423.37931433866112,0.20052951388888901,6.2048165163755525E-2,0.23429481132075475,1]
[null,null,"Puerto Rico","Hatillo",null,"Puerto Rico-Hatillo",70.39,100,null,null,null,null,null,null,423.37931433866112,0.20052951388888901,6.2048165163755525E-2,0.23429481132075475,1]
[null,null,"Puerto Rico","Hormigueros",null,"Puerto Rico-Hormigueros",46.39,100,null,null,null,null,null,null,423.37931433866112,0.20052951388888901,6.2048165163755525E-2,0.23429481132075475,1]
[null,null,"Puerto Rico","Humacao",null,"Puerto Rico-Humacao",74.540000000000006,100,null,null,null,null,null,null,423.37931433866112,0.20052951388888901,6.2048165163755525E-2,0.23429481132075475,1]
[null,null,"Puerto Rico","Isabela",null,"Puerto Rico-Isabela",39.450000000000003,100,null,null,null,null,null,null,423.37931433866112,0.20052951388888901,6.2048165163755525E-2,0.23429481132075475,1]
[null,null,"Puerto Rico","Jayuya",null,"Puerto Rico-Jayuya",93.51,100,null,null,null,null,null,null,423.37931433866112,0.20052951388888901,6.2048165163755525E-2,0.23429481132075475,1]
[null,null,"Puerto Rico","Juana Diaz",null,"Puerto Rico-Juana Diaz",41.23,100,null,null,null,null,null,null,423.379314338661,0.20052951388888901,6.2048165163755498E-2,0.234294811320755,1]
[null,null,"Puerto Rico","Juncos",null,"Puerto Rico-Juncos",78.040000000000006,100,null,null,null,null,null,null,423.379314338661,0.20052951388888901,6.2048165163755498E-2,0.234294811320755,1]
[null,null,"Puerto Rico","Lajas",null,"Puerto Rico-Lajas",36.51,100,null,null,null,null,null,null,423.379314338661,0.20052951388888901,6.2048165163755498E-2,0.234294811320755,1]
[null,null,"Puerto Rico","Lares",null,"Puerto Rico-Lares",60.64,100,null,null,null,null,null,null,423.379314338661,0.20052951388888901,6.2048165163755498E-2,0.234294811320755,1]
[null,null,"Puerto Rico","Las Marias",null,"Puerto Rico-Las Marias",57.62,100,null,null,null,null,null,null,423.379314338661,0.20052951388888901,6.2048165163755498E-2,0.234294811320755,1]
[null,null,"Puerto Rico","Las Piedras",null,"Puerto Rico-Las Piedras",80.510000000000005,100,null,null,null,null,null,null,423.379314338661,0.20052951388888901,6.2048165163755498E-2,0.234294811320755,1]
[null,null,"Puerto Rico","Loiza",null,"Puerto Rico-Loiza",49.08,100,null,null,null,null,null,null,423.379314338661,0.20052951388888901,6.2048165163755498E-2,0.234294811320755,1]
[null,null,"Puerto Rico","Luquillo",null,"Puerto Rico-Luquillo",79.13,100,null,null,null,null,null,null,423.379314338661,0.20052951388888901,6.2048165163755498E-2,0.234294811320755,1]
[null,null,"Puerto Rico","Manati",null,"Puerto Rico-Manati",67.64,100,null,null,null,null,null,null,423.379314338661,0.20052951388888901,6.2048165163755498E-2,0.234294811320755,1]
[null,null,"Puerto Rico","Maricao",null,"Puerto Rico-Maricao",54.59,100,null,null,null,null,null,null,423.379314338661,0.20052951388888901,6.2048165163755498E-2,0.234294811320755,1]
[null,null,"Puerto Rico","Maunabo",null,"Puerto Rico-Maunabo",74.27,100,null,null,null,null,null,null,423.379314338661,0.20052951388888901,6.2048165163755498E-2,0.234294811320755,1]
[null,null,"Puerto Rico","Mayaguez",null,"Puerto Rico-Mayaguez",52.63,100,null,null,null,null,null,null,423.379314338661,0.20052951388888901,6.2048165163755498E-2,0.234294811320755,1]
[null,null,"Puerto Rico","Moca",null,"Puerto Rico-Moca",57.15,100,null,null,null,null,null,null,423.379314338661,0.20052951388888901,6.2048165163755498E-2,0.234294811320755,1]
[null,null,"Puerto Rico","Morovis",null,"Puerto Rico-Morovis",85.58,100,null,null,null,null,null,null,423.379314338661,0.20052951388888901,6.2048165163755498E-2,0.234294811320755,1]
[null,null,"Puerto Rico","Naguabo",null,"Puerto Rico-Naguabo",73.91,100,null,null,null,null,null,null,423.379314338661,0.20052951388888901,6.2048165163755498E-2,0.234294811320755,1]
[null,null,"Puerto Rico","Naranjito",null,"Puerto Rico-Naranjito",87.88,100,null,null,null,null,null,null,423.379314338661,0.20052951388888901,6.2048165163755498E-2,0.234294811320755,1]
[null,null,"Puerto Rico","Orocovis",null,"Puerto Rico-Orocovis",99.48,100,null,null,null,null,null,null,423.379314338661,0.20052951388888901,6.2048165163755498E-2,0.234294811320755,1]
[null,null,"Puerto Rico","Patillas",null,"Puerto Rico-Patillas",76.31,100,null,null,null,null,null,null,423.379314338661,0.20052951388888901,6.2048165163755498E-2,0.234294811320755,1]
[null,null,"Puerto Rico","Penuelas",null,"Puerto Rico-Penuelas",48.25,100,null,null,null,null,null,null,423.379314338661,0.20052951388888901,6.2048165163755498E-2,0.234294811320755,1]
[null,null,"Puerto Rico","Ponce",null,"Puerto Rico-Ponce",42.61,100,null,null,null,null,null,null,423.379314338661,0.20052951388888901,6.2048165163755498E-2,0.234294811320755,1]
[null,null,"Puerto Rico","Quebradillas",null,"Puerto Rico-Quebradillas",40.14,100,null,null,null,null,null,null,423.379314338661,0.20052951388888901,6.2048165163755498E-2,0.234294811320755,1]
[null,null,"Puerto Rico","Rincon",null,"Puerto Rico-Rincon",68.239999999999995,100,null,null,null,null,null,null,423.379314338661,0.20052951388888901,6.2048165163755498E-2,0.234294811320755,1]
[null,null,"Puerto Rico","Rio Grande",null,"Puerto Rico-Rio Grande",75.11,100,null,null,null,null,null,null,423.379314338661,0.20052951388888901,6.2048165163755498E-2,0.234294811320755,1]
[null,null,"Puerto Rico","Sabana Grande",null,"Puerto Rico-Sabana Grande",50.43,100,null,null,null,null,null,null,423.379314338661,0.20052951388888901,6.2048165163755498E-2,0.234294811320755,1]
[null,null,"Puerto Rico","Salinas",null,"Puerto Rico-Salinas",30.53,100,null,null,null,null,null,null,423.379314338661,0.20052951388888901,6.2048165163755498E-2,0.234294811320755,1]
[null,null,"Puerto Rico","San German",null,"Puerto Rico-San German",53.54,100,null,null,null,null,null,null,423.379314338661,0.20052951388888901,6.2048165163755498E-2,0.234294811320755,1]
[null,null,"Puerto Rico","San Juan",null,"Puerto Rico-San Juan",43.66,100,null,null,null,null,null,null,423.379314338661,0.20052951388888901,6.2048165163755498E-2,0.234294811320755,1]
[null,null,"Puerto Rico","San Lorenzo",null,"Puerto Rico-San Lorenzo",83.92,100,null,null,null,null,null,null,423.379314338661,0.20052951388888901,6.2048165163755498E-2,0.234294811320755,1]
[null,null,"Puerto Rico","San Sebastian",null,"Puerto Rico-San Sebastian",66.569999999999993,100,null,null,null,null,null,null,423.379314338661,0.20052951388888901,6.2048165163755498E-2,0.234294811320755,1]
[null,null,"Puerto Rico","Santa Isabel",null,"Puerto Rico-Santa Isabel",34.78,100,null,null,null,null,null,null,423.379314338661,0.20052951388888901,6.2048165163755498E-2,0.234294811320755,1]
[null,null,"Puerto Rico","Toa Alta",null,"Puerto Rico-Toa Alta",78.09,100,null,null,null,null,null,null,423.379314338661,0.20052951388888901,6.2048165163755498E-2,0.234294811320755,1]
[null,null,"Puerto Rico","Toa Baja",null,"Puerto Rico-Toa Baja",71.92,100,null,null,null,null,null,null,423.379314338661,0.20052951388888901,6.2048165163755498E-2,0.234294811320755,1]
[null,null,"Puerto Rico","Trujillo Alto",null,"Puerto Rico-Trujillo Alto",84.72,100,null,null,null,null,null,null,423.379314338661,0.20052951388888901,6.2048165163755498E-2,0.234294811320755,1]
[null,null,"Puerto Rico","Utuado",null,"Puerto Rico-Utuado",85.49,100,null,null,null,null,null,null,423.379314338661,0.20052951388888901,6.2048165163755498E-2,0.234294811320755,1]
[null,null,"Puerto Rico","Vega Alta",null,"Puerto Rico-Vega Alta",69.489999999999995,100,null,null,null,null,null,null,423.379314338661,0.20052951388888901,6.2048165163755498E-2,0.234294811320755,1]
[null,null,"Puerto Rico","Vega Baja",null,"Puerto Rico-Vega Baja",68.13,100,null,null,null,null,null,null,423.379314338661,0.20052951388888901,6.2048165163755498E-2,0.234294811320755,1]
[null,null,"Puerto Rico","Villalba",null,"Puerto Rico-Villalba",63.94,100,null,null,null,null,null,null,423.379314338661,0.20052951388888901,6.2048165163755498E-2,0.234294811320755,1]
[null,null,"Puerto Rico","Yabucoa",null,"Puerto Rico-Yabucoa",79.44,100,null,null,null,null,null,null,423.379314338661,0.20052951388888901,6.2048165163755498E-2,0.234294811320755,1]
[null,null,"Puerto Rico","Yauco",null,"Puerto Rico-Yauco",53.52,100,null,null,null,null,null,null,423.379314338661,0.20052951388888901,6.2048165163755498E-2,0.234294811320755,1]
[null,null,"Rhode Island","Bristol",null,"Rhode Island-Bristol",45,112.5,25.286000000000001,null,null,null,null,null,150,0.24055555555555555,0.24160800799940688,6.7899999999999988E-2,1]
[null,null,"Rhode Island","Kent",null,"Rhode Island-Kent",49.72,112.5,28,null,null,null,null,null,150,0.22796106557377052,0.4825642675081051,9.8966666666666647E-2,1]
[null,null,"Rhode Island","Newport",null,"Rhode Island-Newport",45,112.5,28,null,null,null,null,null,150,0.2532676518883421,0.41752311407933018,9.7396226415094406E-2,0.99150943396226421]
[null,null,"Rhode Island","Providence",null,"Rhode Island-Providence",45,112.5,26,null,null,null,null,null,150,0.20840769545640567,0.73371268716123417,0.18224427480916031,0.98091603053435117]
[null,null,"Rhode Island","Washington",null,"Rhode Island-Washington",48.32,112.2,23.332999999999998,null,null,null,null,null,150,0.2540163487738416,0.30885059929172687,0.10216800000000002,1]
[null,null,"South Carolina","Abbeville",null,"South Carolina-Abbeville",45,96.4,14.25,null,null,null,null,null,250.59466848940534,0.25211287988422582,0.77602657205145764,3.2468235294117645E-2,0.99117647058823533]
[null,null,"South Carolina","Aiken",null,"South Carolina-Aiken",45.8,96.8,15.333,null,null,null,null,null,250,0.13039117026456767,0.53886639591749608,0.2546626360338573,0.95556227327690446]
[null,null,"South Carolina","Allendale",null,"South Carolina-Allendale",45,96.5,14,null,null,null,null,null,300,0.15579945799457978,0.26109709408805515,0.2389683481701286,0.9932542037586547]
[null,null,"South Carolina","Anderson",null,"South Carolina-Anderson",52.96,97.7,20,null,null,null,null,null,274.75622406639002,0.266140744060959,0.78774972563796319,6.5063404892661075E-2,0.93744383424862709]
[null,null,"South Carolina","Bamberg",null,"South Carolina-Bamberg",45,97.1,14,null,null,null,null,null,300,0.16081980198019802,0.2425315832458729,0.24962667304015293,0.99474187380497137]
[null,null,"South Carolina","Barnwell",null,"South Carolina-Barnwell",45,98.2,15,null,null,null,null,null,275,0.13437639696021447,0.42827475345762284,0.19812590299277616,0.99701754385964914]
[null,null,"South Carolina","Beaufort",null,"South Carolina-Beaufort",59.68,97.8,11,null,null,null,null,null,400,0.19152673950546267,8.3879658636212898E-2,0.20040361445783134,1]
[null,null,"South Carolina","Berkeley",null,"South Carolina-Berkeley",55.99,99.1,11,null,null,null,null,null,349.84094162557659,0.20774928774928783,0.13202958807078546,0.16366257668711653,0.98773006134969321]
[null,null,"South Carolina","Calhoun",null,"South Carolina-Calhoun",45,95.1,16.600000000000001,null,null,null,null,null,275,0.15329455754050667,0.34271307490878328,0.21811758360302055,0.90722761596548007]
[null,null,"South Carolina","Charleston",null,"South Carolina-Charleston",56,97.8,12.8,null,null,null,null,null,400,0.18611737271667342,0.10749719234521835,0.21160698027314123,1]
[null,null,"South Carolina","Cherokee",null,"South Carolina-Cherokee",50.14,106.2,19,null,null,null,null,null,275,0.27042892156862719,1.0098050799641973,3.9901808785529728E-2,0.92693798449612408]
[null,null,"South Carolina","Chester",null,"South Carolina-Chester",45,96.9,15,null,null,null,null,null,250,0.25486122792262395,0.60070302902500339,2.4557401812688829E-2,1]
[null,null,"South Carolina","Chesterfield",null,"South Carolina-Chesterfield",45,97.8,15.856999999999999,null,null,null,null,null,275,0.18424683695392699,0.45060309154027106,0.15527808136004856,0.97176684881602915]
[null,null,"South Carolina","Clarendon",null,"South Carolina-Clarendon",45,96.1,12,null,null,null,null,null,300,0.16895131086142354,0.13124653786691923,0.28654396442185498,0.99587039390088949]
[null,null,"South Carolina","Colleton",null,"South Carolina-Colleton",56.01,97.4,11.5,null,null,null,null,null,350,0.16630459126539815,0.15116395773198171,0.2380722269991401,0.99312123817712816]
[null,null,"South Carolina","Darlington",null,"South Carolina-Darlington",45,97.8,15,null,null,null,null,null,300,0.20076123595505613,0.16181167311104103,0.27216842759477944,0.99440646364201368]
[null,null,"South Carolina","Dillon",null,"South Carolina-Dillon",45,99.1,14.5,null,null,null,null,null,325,0.19663442940038675,0.16946547979024118,0.264998873873874,1]
[null,null,"South Carolina","Dorchester",null,"South Carolina-Dorchester",53.68,97.4,11.5,null,null,null,null,null,325,0.16865426695842439,0.11629493078541371,0.30392987804878058,1]
[null,null,"South Carolina","Edgefield",null,"South Carolina-Edgefield",45,97.4,13.667,null,null,null,null,null,250,0.30277048598793921,0.46083571454605471,0.11373876404494383,0.87994382022471906]
[null,null,"South Carolina","Fairfield",null,"South Carolina-Fairfield",45,97.5,13.75,null,null,null,null,null,249.63348416289594,0.26868147448015112,0.65107905249678155,3.5395348837209302E-2,0.95930232558139539]
[null,null,"South Carolina","Florence",null,"South Carolina-Florence",45,97.8,13,null,null,null,null,null,325,0.18153499313860016,0.18785915637812547,0.31291185682326605,1]
[null,null,"South Carolina","Georgetown",null,"South Carolina-Georgetown",56.92,99.4,11,null,null,null,null,null,348.76017130620983,0.19473024089189753,9.8913860812987947E-2,0.29229081632653064,1]
[null,null,"South Carolina","Greenville",null,"South Carolina-Greenville",59.5,104.1,27.332999999999998,null,null,null,null,null,300,0.24671511049173747,0.85799587930723287,7.1400888888888889E-2,0.93511111111111112]
[null,null,"South Carolina","Greenwood",null,"South Carolina-Greenwood",45,97.8,13.8,null,null,null,null,null,250,0.28394736842105284,0.67892202751715758,1.2222222222222219E-2,0.97990543735224589]
[null,null,"South Carolina","Hampton",null,"South Carolina-Hampton",47.76,95.8,12,null,null,null,null,null,325.33333333333331,0.16802016241949047,0.11872516640648542,0.29725187566988204,0.99303322615219725]
[null,null,"South Carolina","Horry",null,"South Carolina-Horry",52.43,104.6,13.667,null,null,null,null,null,350.44980800877676,0.16901408450704231,0.18078822726225321,0.32191143724696347,1]
[null,null,"South Carolina","Jasper",null,"South Carolina-Jasper",55.78,97.8,11.5,null,null,null,null,null,350.11510107015459,0.19174700331548114,8.5685797074348369E-2,0.22729954954954962,1]
[null,null,"South Carolina","Kershaw",null,"South Carolina-Kershaw",45,98.5,15.2,null,null,null,null,null,271.27985626717395,0.17421668137687563,0.5487267683742092,0.10164937388193203,1]
[null,null,"South Carolina","Lancaster",null,"South Carolina-Lancaster",45,97.8,13.75,null,null,null,null,null,250,0.30623968118417311,0.86490391451477477,4.8358921161825767E-2,1]
[null,null,"South Carolina","Laurens",null,"South Carolina-Laurens",45,96.9,15.833,null,null,null,null,null,250,0.26341945996275606,0.62022353970778599,4.4781111111111105E-2,0.97444444444444445]
[null,null,"South Carolina","Lee",null,"South Carolina-Lee",45,100.9,15,null,null,null,null,null,275,0.18376245210727934,0.22068173235322466,0.32419433198380587,1]
[null,null,"South Carolina","Lexington",null,"South Carolina-Lexington",45,97.8,17.286000000000001,null,null,null,null,null,250,0.17319530710835049,0.43510827564663829,0.1219976726144299,0.92490302560124127]
[null,null,"South Carolina","Marion",null,"South Carolina-Marion",45.51,96.1,13,null,null,null,null,null,250,0.30103495544893749,0.76763721510974237,1.3190751445086708E-2,1]
[null,null,"South Carolina","Marlboro",null,"South Carolina-Marlboro",45,97.9,16.25,null,null,null,null,null,325.36447118429385,0.21720892626131971,0.15180650410892357,0.28719911504424778,1]
[null,null,"South Carolina","McCormick",null,"South Carolina-McCormick",45,97.6,12.8,null,null,null,null,null,300,0.19071826828468327,0.28427145897174566,0.31292626346313152,0.99150787075393543]
[null,null,"South Carolina","Newberry",null,"South Carolina-Newberry",45,97.7,13.5,null,null,null,null,null,250,0.25787431219229656,0.5320354732438215,7.5375598086124401E-2,0.87697368421052624]
[null,null,"South Carolina","Oconee",null,"South Carolina-Oconee",61.56,108.7,32.923000000000002,null,null,null,null,null,300,0.25315838800374851,0.98827135562903179,8.2783911671924351E-2,0.89337539432176649]
[null,null,"South Carolina","Orangeburg",null,"South Carolina-Orangeburg",45,96.4,14.25,null,null,null,null,null,275,0.1706921985815604,0.22247621120111316,0.24382009504412738,0.98268839103869654]
[null,null,"South Carolina","Pickens",null,"South Carolina-Pickens",61.07,112.2,30.8,null,null,null,null,null,300,0.23790947574080079,1.1298726120167633,3.7804915514592925E-2,0.97619047619047616]
[null,null,"South Carolina","Richland",null,"South Carolina-Richland",45,97.8,16.443999999999999,null,null,null,null,null,274.79838709677421,0.26297985925746165,0.27869766858638179,0.23974788135593228,0.99067796610169501]
[null,null,"South Carolina","Saluda",null,"South Carolina-Saluda",45,97.8,13.667,null,null,null,null,null,250,0.37206521739130438,0.43482086879729231,0.13843344709897606,0.93287827076222984]
[null,null,"South Carolina","Spartanburg",null,"South Carolina-Spartanburg",52.75,99,21.2,null,null,null,null,null,275,0.27256190290505006,0.87112727887497743,9.2296556122449039E-2,0.88348214285714299]
[null,null,"South Carolina","Sumter",null,"South Carolina-Sumter",45,97,14.25,null,null,null,null,null,275.28828413284134,0.18805297065139615,0.15884640558573865,0.29751517194875265,1]
[null,null,"South Carolina","Union",null,"South Carolina-Union",45.4,97.8,15.75,null,null,null,null,null,250,0.25550837988826808,0.98574533817142562,3.0814965986394559E-2,0.9843537414965986]
[null,null,"South Carolina","Williamsburg",null,"South Carolina-Williamsburg",45,97.2,11,null,null,null,null,null,325,0.18671426171678202,0.12538963899985564,0.31858557345971544,1]
[null,null,"South Carolina","York",null,"South Carolina-York",45,97.8,15.667,null,null,null,null,null,250,0.26495368226030569,0.66904879102856285,7.5081366965012206E-2,0.98942229454841335]
[null,null,"South Dakota","Aurora",null,"South Dakota-Aurora",25.01,65.3,0.5,null,null,null,null,null,95,0.3061627906976746,0.22217992404994,9.9217954650624801E-2,1]
[null,null,"South Dakota","Beadle",null,"South Dakota-Beadle",21.6,71.099999999999994,0.5,null,null,null,null,null,90,0.29720704845814955,0.21784779731957907,0.13083408488063664,1]
[null,null,"South Dakota","Bennett",null,"South Dakota-Bennett",16,68,1,null,null,null,null,null,65,0.25605387205387159,1.4609533472829546,5.6726864204465655E-2,0.98161072883022049]
[null,null,"South Dakota","Bon Homme",null,"South Dakota-Bon Homme",25.01,75,1,null,null,null,null,null,120,0.28773498131647063,0.62168344983969237,0.21506778115501529,1]
[null,null,"South Dakota","Brookings",null,"South Dakota-Brookings",25.01,79.900000000000006,1,null,null,null,null,null,110,0.28573248407643342,0.54870653861525764,0.17452288845905858,0.98321513002364058]
[null,null,"South Dakota","Brown",null,"South Dakota-Brown",16,70.900000000000006,0.4,null,null,null,null,null,79.985062466051062,0.2892184889548915,0.20111176147371895,0.16079060762509931,1]
[null,null,"South Dakota","Brule",null,"South Dakota-Brule",23.49,67.900000000000006,0.2,null,null,null,null,null,90.031740104555638,0.31563254184507561,0.49405751932292491,0.11649223539027374,1]
[null,null,"South Dakota","Buffalo",null,"South Dakota-Buffalo",16,62.1,0.5,null,null,null,null,null,79.9739921976593,0.33733126721763107,0.9457362720659539,5.9198805760449731E-2,1]
[null,null,"South Dakota","Butte",null,"South Dakota-Butte",16,70.3,1,null,null,null,null,null,45.073742246726397,0.33903802771511449,0.73256303330130235,9.0683237731038882E-2,1]
[null,null,"South Dakota","Campbell",null,"South Dakota-Campbell",16,68.099999999999994,0.5,null,null,null,null,null,65.012259910093988,0.29588593818023484,0.71094271587064495,0.11522860360360358,0.99718468468468469]
[null,null,"South Dakota","Charles Mix",null,"South Dakota-Charles Mix",25.01,68,1,null,null,null,null,null,105,0.30817121771217687,0.57341964047724892,0.13259684405940583,0.9943688118811882]
[null,null,"South Dakota","Clark",null,"South Dakota-Clark",23.05,75.7,0.5,null,null,null,null,null,90,0.2882256990679099,0.29071831449519053,0.18123974820143882,0.99492805755395675]
[null,null,"South Dakota","Clay",null,"South Dakota-Clay",25.01,73,1,null,null,null,null,null,135,0.29894252873563221,0.21452579587373494,0.24469337694194604,0.99721995094031068]
[null,null,"South Dakota","Codington",null,"South Dakota-Codington",25.01,82.7,1,null,null,null,null,null,95.080592463515572,0.28924858115777496,0.48128595700309801,0.12807983296487332,0.99422746253991645]
[null,null,"South Dakota","Corson",null,"South Dakota-Corson",16,63.2,0.5,null,null,null,null,null,59.349703849950643,0.29916066046389739,1.241677883505746,7.3044860685242019E-2,1]
[null,null,"South Dakota","Custer",null,"South Dakota-Custer",17.149999999999999,73.7,0.48,null,null,null,null,null,50,0.29037712464589216,1.6171381872150772,4.4438615096693772E-2,1]
[null,null,"South Dakota","Davison",null,"South Dakota-Davison",25.01,72.5,0.5,null,null,null,null,null,100,0.28443565780014418,0.24926025968047469,0.19019683085147002,1]
[null,null,"South Dakota","Day",null,"South Dakota-Day",22.61,73.3,0.35,null,null,null,null,null,90,0.28612178493957263,0.51522621902644994,0.11979751852490086,1]
[null,null,"South Dakota","Deuel",null,"South Dakota-Deuel",25.01,83,1,null,null,null,null,null,104.9410609037328,0.28176174918321195,0.6037630687905664,0.12599625668449194,0.99264705882352944]
[null,null,"South Dakota","Dewey",null,"South Dakota-Dewey",16,68,0.5,null,null,null,null,null,60,0.3442949790794983,2.0256120918263574,6.6503946997462579E-2,1]
[null,null,"South Dakota","Douglas",null,"South Dakota-Douglas",25.01,68,0.2,null,null,null,null,null,104.95498739647101,0.30023001095290286,0.25450879410813732,0.15621877365632095,1]
[null,null,"South Dakota","Edmunds",null,"South Dakota-Edmunds",16,67,0.2,null,null,null,null,null,70.014937533948938,0.29975646463264494,0.39001807707128872,0.12627460182025024,1]
[null,null,"South Dakota","Fall River",null,"South Dakota-Fall River",16,68,0.4,null,null,null,null,null,50,0.31363850055672426,1.3333866996860371,6.4350548568370219E-2,1]
[null,null,"South Dakota","Faulk",null,"South Dakota-Faulk",16,62.7,0.2,null,null,null,null,null,75,0.29845021916092668,0.24565675494498204,0.11337102758509425,1]
[null,null,"South Dakota","Grant",null,"South Dakota-Grant",25.01,71.599999999999994,1,null,null,null,null,null,100,0.28027790643816547,0.35938020911401941,0.13708579221423228,0.99970245474832631]
[null,null,"South Dakota","Gregory",null,"South Dakota-Gregory",25.01,68,1,null,null,null,null,null,95.011974255350992,0.32625802411147697,2.5929928723738298,6.8076371926396401E-2,1]
[null,null,"South Dakota","Haakon",null,"South Dakota-Haakon",16,68.599999999999994,0.5,null,null,null,null,null,59.969185996747413,0.35617799688635132,1.6091966274194867,5.689959270409068E-2,1]
[null,null,"South Dakota","Hamlin",null,"South Dakota-Hamlin",25.01,83,1,null,null,null,null,null,100,0.29673826327094222,0.33350922956596812,0.17974404955983034,0.99060971633518091]
[null,null,"South Dakota","Hand",null,"South Dakota-Hand",16.07,67.7,0.2,null,null,null,null,null,75,0.29186577768062066,0.44880163658486488,9.8209146618247881E-2,1]
[null,null,"South Dakota","Hanson",null,"South Dakota-Hanson",25.01,77.3,0.5,null,null,null,null,null,105,0.29658704306912759,0.29430421897157744,0.19138312693498452,1]
[null,null,"South Dakota","Harding",null,"South Dakota-Harding",16,67.8,1,null,null,null,null,null,45.138208537438771,0.26364873417721513,1.2759217376384335,5.3042904290429016E-2,1]
[null,null,"South Dakota","Hughes",null,"South Dakota-Hughes",16,67.900000000000006,0.5,null,null,null,null,null,70.035091237216761,0.315,0.54453593965530345,0.13446218107925029,1]
[null,null,"South Dakota","Hutchinson",null,"South Dakota-Hutchinson",25.01,76.400000000000006,0.5,null,null,null,null,null,115,0.28824254090471602,0.3075843431045453,0.20880851918826598,1]
[null,null,"South Dakota","Hyde",null,"South Dakota-Hyde",16,59.4,0.35,null,null,null,null,null,75,0.31094442426443886,0.5334342409669518,5.9610681399631674E-2,1]
[null,null,"South Dakota","Jackson",null,"South Dakota-Jackson",16,68,1,null,null,null,null,null,64.751042535446203,0.33167468629115943,2.0469251887843258,7.9829397818871509E-2,0.99941204362256986]
[null,null,"South Dakota","Jerauld",null,"South Dakota-Jerauld",24.02,68,0.5,null,null,null,null,null,90,0.29117786327315748,0.53702447626198013,6.5012462006078894E-2,1]
[null,null,"South Dakota","Jones",null,"South Dakota-Jones",16,65.599999999999994,0.5,null,null,null,null,null,70,0.35382709807886781,1.7428547949028628,6.1482587064676512E-2,1]
[null,null,"South Dakota","Kingsbury",null,"South Dakota-Kingsbury",25.01,68.7,1,null,null,null,null,null,100,0.30204619202137806,0.27149991732192974,0.16762273848684203,0.99407894736842117]
[null,null,"South Dakota","Lake",null,"South Dakota-Lake",25.01,82.6,1,null,null,null,null,null,110,0.30420367751060817,0.48624108854811449,0.17196000627352553,0.96775407779171885]
[null,null,"South Dakota","Lawrence",null,"South Dakota-Lawrence",25.94,97.5,2,null,null,null,null,null,41.053054662379424,0.33071492007104797,2.442493169047764,6.4015731874144985E-2,1]
[null,null,"South Dakota","Lincoln",null,"South Dakota-Lincoln",25.01,83,1,null,null,null,null,null,130,0.31065111231687464,0.31475901115016031,0.23340737514517984,0.9847560975609756]
[null,null,"South Dakota","Lyman",null,"South Dakota-Lyman",17,67.3,0.5,null,null,null,null,null,75,0.36813472607119929,1.2450511027725728,0.10676790768560838,1]
[null,null,"South Dakota","Marshall",null,"South Dakota-Marshall",19.97,68,0.35,null,null,null,null,null,115,0.27901396877567797,0.350189901447159,0.15875595413113766,0.99603057924139959]
[null,null,"South Dakota","McCook",null,"South Dakota-McCook",25.01,75.7,0.5,null,null,null,null,null,70,0.28919696969696951,0.52660644911836596,6.2494142073261191E-2,1]
[null,null,"South Dakota","McPherson",null,"South Dakota-McPherson",16,68,0.2,null,null,null,null,null,85,0.27678298189960815,0.60832069505475928,0.10291388545529458,1]
[null,null,"South Dakota","Meade",null,"South Dakota-Meade",16.260000000000002,67.900000000000006,1.167,null,null,null,null,null,50.02809625232247,0.3168698138858928,1.1358677285120953,6.3046691853143294E-2,0.99731182795698925]
[null,null,"South Dakota","Mellette",null,"South Dakota-Mellette",16.03,68,1,null,null,null,null,null,70,0.33537463976945209,2.1974073591885808,7.6515495363592007E-2,1]
[null,null,"South Dakota","Miner",null,"South Dakota-Miner",25.01,68.3,0.2,null,null,null,null,null,100,0.30470978441127705,0.21707274008954633,0.10771329077190946,1]
[null,null,"South Dakota","Minnehaha",null,"South Dakota-Minnehaha",25.01,82.4,1,null,null,null,null,null,120,0.30495115279406004,0.63452753460537303,0.14483020637898675,0.96143292682926829]
[null,null,"South Dakota","Moody",null,"South Dakota-Moody",25.01,78,2,null,null,null,null,null,115.02407463135721,0.30183883671614664,0.36430431221523302,0.18737377567140592,0.97911532385466038]
[null,null,"South Dakota","Pennington",null,"South Dakota-Pennington",18.350000000000001,71.900000000000006,1.167,null,null,null,null,null,51.918325526932087,0.31543504729793004,2.0418485876716037,6.5959162082099024E-2,0.99666737198476518]
[null,null,"South Dakota","Perkins",null,"South Dakota-Perkins",16,67.2,0.5,null,null,null,null,null,50,0.29202855794193999,0.87595101271523412,7.7584044394056986E-2,1]
[null,null,"South Dakota","Potter",null,"South Dakota-Potter",16,68.2,0.2,null,null,null,null,null,70.003503240497466,0.31241404535479095,0.63672056732517235,0.13890374531835181,1]
[null,null,"South Dakota","Roberts",null,"South Dakota-Roberts",25.01,68,1,null,null,null,null,null,95.068832599118949,0.27143837575064356,0.46081803626506274,0.15507311761045417,1]
[null,null,"South Dakota","Sanborn",null,"South Dakota-Sanborn",25.01,68,0.5,null,null,null,null,null,95,0.27619977985690669,0.31866337114301052,8.9004348445964915E-2,1]
[null,null,"South Dakota","Shannon",null,"South Dakota-Shannon",16,64.400000000000006,1,null,null,null,null,null,59.990302849470389,0.31451945988880053,2.375901846698115,0.17628581288343576,0.99358128834355819]
[null,null,"South Dakota","Spink",null,"South Dakota-Spink",16.41,68,0.2,null,null,null,null,null,85,0.29667778936392114,0.11854583842904115,0.13886324832504848,0.99721201642532964]
[null,null,"South Dakota","Stanley",null,"South Dakota-Stanley",16,68,0.5,null,null,null,null,null,65,0.36555148795465209,1.71061118470505,8.8857964760877331E-2,1]
[null,null,"South Dakota","Sully",null,"South Dakota-Sully",16,68,0.5,null,null,null,null,null,69.692556634304211,0.30287066246056793,0.29712311281033038,0.17407770270270295,1]
[null,null,"South Dakota","Todd",null,"South Dakota-Todd",16.63,68,1,null,null,null,null,null,75,0.23804217886545637,1.1873511256661751,3.5765765765765727E-2,1]
[null,null,"South Dakota","Tripp",null,"South Dakota-Tripp",23.93,69.2,1,null,null,null,null,null,85,0.29478776104905108,0.96215511563344525,5.8561048839071095E-2,0.99738791032826257]
[null,null,"South Dakota","Turner",null,"South Dakota-Turner",25.01,82.9,1,null,null,null,null,null,125,0.29632730974802707,0.24939731020049158,0.21184268753372898,1]
[null,null,"South Dakota","Union",null,"South Dakota-Union",25.01,79,2,null,null,null,null,null,139.82447342026077,0.30765256588072132,0.52551776107993231,0.28297168742921824,0.97474518686296707]
[null,null,"South Dakota","Walworth",null,"South Dakota-Walworth",16,68.7,0.5,null,null,null,null,null,65,0.31885921231326364,0.66902205904787482,0.12303016132803352,0.99912321720832364]
[null,null,"South Dakota","Yankton",null,"South Dakota-Yankton",25.01,81,1,null,null,null,null,null,125,0.29588306573765522,0.58780895252653409,0.18495943869027734,1]
[null,null,"South Dakota","Ziebach",null,"South Dakota-Ziebach",16,67.3,0.5,null,null,null,null,null,55,0.32759500897080424,1.7968892364177207,8.6646346486531051E-2,0.99400691984512723]
[null,null,"Tennessee","Anderson",null,"Tennessee-Anderson",60.31,119.9,24.25,null,null,null,null,null,190,0.30278299282164489,4.2582751466939586,0.132232044198895,0.98756906077348061]
[null,null,"Tennessee","Bedford",null,"Tennessee-Bedford",60,112.5,24.5,null,null,null,null,null,230,0.33239778239778223,0.75454182635045186,4.7254721549636822E-2,0.99728813559322038]
[null,null,"Tennessee","Benton",null,"Tennessee-Benton",60,97.8,18,null,null,null,null,null,230,0.3398066639243108,0.37674803286028341,9.0089905362776071E-2,1]
[null,null,"Tennessee","Bledsoe",null,"Tennessee-Bledsoe",60,118.4,26.667000000000002,null,null,null,null,null,230,0.25978378378378375,1.1597789379482604,2.7365030674846628E-2,1]
[null,null,"Tennessee","Blount",null,"Tennessee-Blount",54.08,122.4,27.25,null,null,null,null,null,195.38378766140602,0.27663703131039818,0.81407702355496714,2.3079847908745229E-2,0.9898605830164765]
[null,null,"Tennessee","Bradley",null,"Tennessee-Bradley",60,112.5,28.667000000000002,null,null,null,null,null,260,0.3197263562169948,0.73327692036067815,2.4226321036889358E-2,0.96909272183449646]
[null,null,"Tennessee","Campbell",null,"Tennessee-Campbell",59.89,115.5,25.75,null,null,null,null,null,180.13228346456694,0.2620045931758524,4.3957397081763681,2.6473529411764705E-2,0.98147058823529409]
[null,null,"Tennessee","Cannon",null,"Tennessee-Cannon",60,112.3,25,null,null,null,null,null,230,0.34142685129440081,0.9673376460915496,3.9796854521625187E-2,1]
[null,null,"Tennessee","Carroll",null,"Tennessee-Carroll",60,109.1,18,null,null,null,null,null,240,0.42478343259339474,0.44181201123660613,0.11114084507042254,0.98017736045905057]
[null,null,"Tennessee","Carter",null,"Tennessee-Carter",50.82,135,23.75,null,null,null,null,null,150,0.22937547027840488,2.8571189112078228,3.4752620545073387E-2,1]
[null,null,"Tennessee","Cheatham",null,"Tennessee-Cheatham",59.71,107.9,20,null,null,null,null,null,210,0.27000554938956728,1.4777056277144196,2.4687301587301581E-2,0.98809523809523814]
[null,null,"Tennessee","Chester",null,"Tennessee-Chester",60,97.8,20,null,null,null,null,null,280.30860855441256,0.33377317339149409,0.56579233054227984,0.10744823529411765,0.96082352941176463]
[null,null,"Tennessee","Claiborne",null,"Tennessee-Claiborne",57.54,130.19999999999999,23.332999999999998,null,null,null,null,null,150.40140845070422,0.2939443834613979,2.7402477575763875,4.1876138433515472E-3,1]
[null,null,"Tennessee","Clay",null,"Tennessee-Clay",60,99.1,22,null,null,null,null,null,200,0.32150684931506845,1.7515593393794491,2.1217488789237675E-2,0.99047085201793716]
[null,null,"Tennessee","Cocke",null,"Tennessee-Cocke",46.18,127.8,21.1,null,null,null,null,null,170.14810426540285,0.22889047619047617,2.0653988539976602,3.5127348643006262E-2,0.99436325678496873]
[null,null,"Tennessee","Coffee",null,"Tennessee-Coffee",60,112.6,26,null,null,null,null,null,248.34168916313152,0.36551977170811212,0.6143645223849894,0.11175714285714293,0.98693877551020404]
[null,null,"Tennessee","Crockett",null,"Tennessee-Crockett",60,97.8,18,null,null,null,null,null,270,0.47081209247184375,0.3053445635097693,0.28440189445196201,0.97401894451962101]
[null,null,"Tennessee","Cumberland",null,"Tennessee-Cumberland",60,134.1,28,null,null,null,null,null,220,0.24227895103272207,1.1257763444739644,7.8989260143198112E-2,0.95226730310262531]
[null,null,"Tennessee","Davidson",null,"Tennessee-Davidson",48.9,112.4,20,null,null,null,null,null,210,0.34078066914498129,0.72656567363699953,4.5071246819338419E-2,0.98664122137404575]
[null,null,"Tennessee","De Kalb",null,"Tennessee-De Kalb",60,112.4,25.75,null,null,null,null,null,250,0.33382016890213623,0.54975021925153233,8.7590214067278335E-2,0.9532110091743119]
[null,null,"Tennessee","Decatur",null,"Tennessee-Decatur",60,97.8,20,null,null,null,null,null,207.73694390715667,0.320128205128205,1.4907630704706669,1.55984555984556E-2,0.996010296010296]
[null,null,"Tennessee","Dickson",null,"Tennessee-Dickson",60,100.2,19,null,null,null,null,null,220,0.29953811369509065,1.2180069250516625,2.8138408304498274E-2,1]
[null,null,"Tennessee","Dyer",null,"Tennessee-Dyer",59.15,97.8,16,null,null,null,null,null,260,0.4275952088452098,0.19804019232714659,0.25919544452608384,0.99658339456282141]
[null,null,"Tennessee","Fayette",null,"Tennessee-Fayette",60,94,19.332999999999998,null,null,null,null,null,300.28324850630668,0.4679727095516566,0.46050709921336669,0.1521738323538509,0.98762759047324467]
[null,null,"Tennessee","Fentress",null,"Tennessee-Fentress",60,134.5,26.75,null,null,null,null,null,200,0.26488940244305059,0.85934537944435307,8.8875195007800334E-2,0.99219968798751945]
[null,null,"Tennessee","Franklin",null,"Tennessee-Franklin",60,112.5,26,null,null,null,null,null,250,0.3054971462901771,0.72264807499890638,7.8925244393329541E-2,0.98677400805060378]
[null,null,"Tennessee","Gibson",null,"Tennessee-Gibson",60,104.6,18,null,null,null,null,null,250,0.4639918699186989,0.35063935210925912,0.20461719253058583,0.9698969735994849]
[null,null,"Tennessee","Giles",null,"Tennessee-Giles",60,112.5,25,null,null,null,null,null,260,0.29345241268994937,1.1911209533333551,2.3318901795142569E-2,0.98925554382259773]
[null,null,"Tennessee","Grainger",null,"Tennessee-Grainger",48.07,119.6,18,null,null,null,null,null,168.72225090345896,0.30384925201380836,2.208047168546686,1.6999999999999998E-2,0.98712737127371275]
[null,null,"Tennessee","Greene",null,"Tennessee-Greene",45.19,127,20.286000000000001,null,null,null,null,null,150.1157469717362,0.27398422090729768,2.0401580956753169,3.230539174389218E-2,0.98828980623420382]
[null,null,"Tennessee","Grundy",null,"Tennessee-Grundy",60,121.1,26,null,null,null,null,null,240,0.29768526591107236,0.48519136319977035,3.5234567901234574E-2,0.98289241622574952]
[null,null,"Tennessee","Hamblen",null,"Tennessee-Hamblen",45,112.5,16,null,null,null,null,null,160,0.29879714576962291,1.5898527241256939,3.2207253886010381E-2,0.97305699481865282]
[null,null,"Tennessee","Hamilton",null,"Tennessee-Hamilton",60,113.1,26.75,null,null,null,null,null,260,0.29615269461077837,0.73260788958019185,1.7148750000000001E-2,1]
[null,null,"Tennessee","Hancock",null,"Tennessee-Hancock",47.59,115.7,19.600000000000001,null,null,null,null,null,150,0.27398167723749117,5.3386396054813687,3.1177914110429424E-2,0.98670756646216773]
[null,null,"Tennessee","Hardeman",null,"Tennessee-Hardeman",60,97.8,20.5,null,null,null,null,null,300,0.36611859201511959,0.55493152378718802,0.13406438969764825,0.97357222844344904]
[null,null,"Tennessee","Hardin",null,"Tennessee-Hardin",60,98.8,23.332999999999998,null,null,null,null,null,299.23470727224992,0.3437432547571711,0.3876729684133014,0.11383406432748537,0.99334795321637437]
[null,null,"Tennessee","Hawkins",null,"Tennessee-Hawkins",45.07,114.3,17.332999999999998,null,null,null,null,null,150,0.26968438538205997,2.1111896125809828,2.9353353353353356E-2,1]
[null,null,"Tennessee","Haywood",null,"Tennessee-Haywood",60,97.8,18,null,null,null,null,null,280,0.46539914686166933,0.23088360251893006,0.28389919999999974,0.93603999999999998]
[null,null,"Tennessee","Henderson",null,"Tennessee-Henderson",60,97.8,19,null,null,null,null,null,250,0.37440386356776317,0.55417658553583737,0.12986965517241381,0.96910344827586214]
[null,null,"Tennessee","Henry",null,"Tennessee-Henry",60,109,18,null,null,null,null,null,230,0.42261904761904828,0.42073520187037672,7.6081368469717928E-2,0.9865002311604254]
[null,null,"Tennessee","Hickman",null,"Tennessee-Hickman",60,98.6,20,null,null,null,null,null,230,0.27948871009602883,1.1511207065809788,4.0762312633832946E-2,1]
[null,null,"Tennessee","Houston",null,"Tennessee-Houston",60,98.3,18,null,null,null,null,null,220,0.32026252983293585,0.83637745502661665,2.1309803921568626E-2,1]
[null,null,"Tennessee","Humphreys",null,"Tennessee-Humphreys",60,97.8,18,null,null,null,null,null,230,0.32145204660890353,1.077563522162208,3.9092941176470594E-2,1]
[null,null,"Tennessee","Jackson",null,"Tennessee-Jackson",60,100.6,22,null,null,null,null,null,210,0.3044595392793854,5.3225141223883252,1.2439862542955326E-2,1]
[null,null,"Tennessee","Jefferson",null,"Tennessee-Jefferson",45,112.7,19,null,null,null,null,null,180,0.29019161676646688,1.7853506053524124,2.2705603038936369E-2,0.97891737891737884]
[null,null,"Tennessee","Johnson",null,"Tennessee-Johnson",49.37,135,23.713999999999999,null,null,null,null,null,150,0.21306810035842291,2.4733902515415962,2.6491428571428551E-2,0.98142857142857143]
[null,null,"Tennessee","Knox",null,"Tennessee-Knox",53.33,112.5,23.4,null,null,null,null,null,167.19102792632205,0.30135506551613966,1.4404731420451302,2.0143923240938159E-2,0.98160980810234544]
[null,null,"Tennessee","Lake",null,"Tennessee-Lake",50.98,97.8,14.5,null,null,null,null,null,260,0.35580736543909375,9.6661882748585948E-2,0.26803575418994385,1]
[null,null,"Tennessee","Lauderdale",null,"Tennessee-Lauderdale",59.84,97.3,16,null,null,null,null,null,280,0.43212844653665317,0.44437632562684948,0.24735688684075813,0.9877624167946748]
[null,null,"Tennessee","Lawrence",null,"Tennessee-Lawrence",60,112.5,24.5,null,null,null,null,null,270,0.31435525634386313,0.48350748740598148,7.13605832965091E-2,0.9913831197525409]
[null,null,"Tennessee","Lewis",null,"Tennessee-Lewis",60,108.4,22,null,null,null,null,null,250,0.2835860058309036,1.1057376274862381,8.9729729729729722E-3,1]
[null,null,"Tennessee","Lincoln",null,"Tennessee-Lincoln",60,112.5,20,null,null,null,null,null,250,0.3404671328671327,0.75237666534791658,5.5276825969341803E-2,0.96844003606853024]
[null,null,"Tennessee","Loudon",null,"Tennessee-Loudon",60,114.4,27,null,null,null,null,null,210,0.29445682451253458,1.3279887694489281,1.9941489361702133E-2,0.97531914893617011]
[null,null,"Tennessee","Macon",null,"Tennessee-Macon",60,101.9,22,null,null,null,null,null,230.16310257339615,0.29935011269722001,1.0769574496207852,1.9519861830742679E-2,0.9926597582037997]
[null,null,"Tennessee","Madison",null,"Tennessee-Madison",60,100.5,18,null,null,null,null,null,300,0.31706015249929359,0.45298331894755967,9.9193059936908481E-2,0.97671924290220813]
[null,null,"Tennessee","Marion",null,"Tennessee-Marion",60,113.1,26,null,null,null,null,null,200,0.2886983471074378,0.95442754689309084,5.4197292069632495E-2,0.98539651837524167]
[null,null,"Tennessee","Marshall",null,"Tennessee-Marshall",60,112.5,24.5,null,null,null,null,null,260,0.43652885443583112,0.39619572227341332,0.22092160804020075,0.97145728643216067]
[null,null,"Tennessee","Maury",null,"Tennessee-Maury",60,112.5,23,null,null,null,null,null,250,0.24243553898726306,0.43796844512803534,0.11231934306569347,1]
[null,null,"Tennessee","McMinn",null,"Tennessee-McMinn",60,113.8,29,null,null,null,null,null,240,0.32302837780601446,0.67094289993745038,4.0641129032258111E-2,0.99650537634408598]
[null,null,"Tennessee","McNairy",null,"Tennessee-McNairy",60,100.6,22,null,null,null,null,null,240,0.33192708333333304,0.7720616380692783,3.8108872901678678E-2,1]
[null,null,"Tennessee","Meigs",null,"Tennessee-Meigs",60,113.9,26,null,null,null,null,null,230,0.30052282157676358,0.55923152091662642,8.5386904761904758E-3,1]
[null,null,"Tennessee","Monroe",null,"Tennessee-Monroe",60.67,125.2,29,null,null,null,null,null,220,0.30350364963503668,1.1460509915976747,4.3181148748159079E-2,0.99189985272459502]
[null,null,"Tennessee","Montgomery",null,"Tennessee-Montgomery",60,112.5,18,null,null,null,null,null,200,0.32362470469119126,1.0304067736136955,7.7754994742376404E-2,0.99566246056782337]
[null,null,"Tennessee","Moore",null,"Tennessee-Moore",60,112.5,22,null,null,null,null,null,240,0.31662387676508363,2.2644249270332262,2.1201834862385298E-2,1]
[null,null,"Tennessee","Morgan",null,"Tennessee-Morgan",60,135,27.332999999999998,null,null,null,null,null,200,0.29731980617807396,2.0086295436520833,1.6825545171339561E-2,1]
[null,null,"Tennessee","Obion",null,"Tennessee-Obion",60,100.4,15.667,null,null,null,null,null,260,0.47233421750663296,0.4054543365090621,0.16649999999999981,0.99268867924528303]
[null,null,"Tennessee","Overton",null,"Tennessee-Overton",60,114.4,25.75,null,null,null,null,null,210,0.30231991134096753,1.0784813759177636,4.5348659003831483E-2,1]
[null,null,"Tennessee","Perry",null,"Tennessee-Perry",60,97.8,20,null,null,null,null,null,250,0.30006486074017524,0.54929779525247302,4.0383202099737524E-2,1]
[null,null,"Tennessee","Pickett",null,"Tennessee-Pickett",60,117.5,24.5,null,null,null,null,null,200,0.29933187294633101,1.2970523040355091,1.7821917808219179E-2,1]
[null,null,"Tennessee","Polk",null,"Tennessee-Polk",60,125.9,30,null,null,null,null,null,259.83146067415731,0.27700706991359014,1.4690741269164935,7.8339191564147662E-2,1]
[null,null,"Tennessee","Putnam",null,"Tennessee-Putnam",60,114.3,26.6,null,null,null,null,null,220,0.31167012879102612,1.104054860107442,5.4727506426735226E-2,0.99228791773778924]
[null,null,"Tennessee","Rhea",null,"Tennessee-Rhea",60,125.4,26,null,null,null,null,null,230,0.24267382413087923,1.1314996451439177,3.8853658536585359E-2,1]
[null,null,"Tennessee","Roane",null,"Tennessee-Roane",60,126.7,26,null,null,null,null,null,210,0.2673678963110665,1.5721451430602482,8.4707259953161612E-3,1]
[null,null,"Tennessee","Robertson",null,"Tennessee-Robertson",54.89,111.9,20,null,null,null,null,null,200,0.32618100788481302,0.85374206575639999,8.3016956521739127E-2,0.98858695652173911]
[null,null,"Tennessee","Rutherford",null,"Tennessee-Rutherford",59.94,112.5,23.667000000000002,null,null,null,null,null,230,0.32519968262364457,0.46708122691832421,2.8728888888888884E-2,0.99471604938271607]
[null,null,"Tennessee","Scott",null,"Tennessee-Scott",60,118.8,27,null,null,null,null,null,180,0.3163999999999999,1.972211978104655,3.9360341151385928E-3,1]
[null,null,"Tennessee","Sequatchie",null,"Tennessee-Sequatchie",60,113.4,26,null,null,null,null,null,250,0.25594306049822058,1.8038298771503205,2.970996978851962E-2,1]
[null,null,"Tennessee","Sevier",null,"Tennessee-Sevier",52.64,126.5,28,null,null,null,null,null,180,0.2482343434343432,2.4772008961373833,2.5653061224489793E-2,0.98799519807923164]
[null,null,"Tennessee","Shelby",null,"Tennessee-Shelby",60,96.8,17,null,null,null,null,null,300,0.46660268714011577,0.3384482755820295,0.19095674445076841,0.99362549800796807]
[null,null,"Tennessee","Smith",null,"Tennessee-Smith",60,102.7,22,null,null,null,null,null,210,0.31647455867082058,1.3089055428072429,3.0349142280524734E-2,0.97830474268415746]
[null,null,"Tennessee","Stewart",null,"Tennessee-Stewart",60,108.8,18,null,null,null,null,null,210,0.31877059059863372,1.0417916130941047,0.12629774127310059,0.98480492813141673]
[null,null,"Tennessee","Sullivan",null,"Tennessee-Sullivan",45.1,135,20,null,null,null,null,null,140,0.32733763242745267,2.4829703643754026,2.058797814207651E-2,1]
[null,null,"Tennessee","Sumner",null,"Tennessee-Sumner",57.4,109.9,20,null,null,null,null,null,200,0.33541389728096632,0.95422365810970922,2.947265625E-2,0.9874441964285714]
[null,null,"Tennessee","Tipton",null,"Tennessee-Tipton",59.98,99,19,null,null,null,null,null,282.59913362212598,0.45322580645161364,0.45496430015113432,0.2664995164410055,0.97147001934235977]
[null,null,"Tennessee","Trousdale",null,"Tennessee-Trousdale",60,109,20,null,null,null,null,null,210,0.33627478753541074,1.1451314679889872,3.9083333333333331E-2,1]
[null,null,"Tennessee","Unicoi",null,"Tennessee-Unicoi",52.12,135,23.332999999999998,null,null,null,null,null,150,0.25639876352395646,1.6070506301001786,6.2159090909090907E-2,1]
[null,null,"Tennessee","Union",null,"Tennessee-Union",60,114.7,22,null,null,null,null,null,170,0.29054493984430257,2.0989243306733192,4.5693950177935951E-3,1]
[null,null,"Tennessee","Van Buren",null,"Tennessee-Van Buren",60,111.9,29,null,null,null,null,null,223.58652198743576,0.27477577169481637,1.6749751502914614,9.4125000000000007E-3,1]
[null,null,"Tennessee","Warren",null,"Tennessee-Warren",60,113.6,28,null,null,null,null,null,229.87419122933142,0.34266514806378101,0.57030906211503407,0.14471329552614992,0.97996219281663521]
[null,null,"Tennessee","Washington",null,"Tennessee-Washington",45,135,22,null,null,null,null,null,150,0.28551288795370855,1.3833654556281196,5.6529411764705946E-2,0.9975144987572494]
[null,null,"Tennessee","Wayne",null,"Tennessee-Wayne",60,109.8,23.667000000000002,null,null,null,null,null,280,0.29699956859361559,0.45174046583153354,1.3949029126213588E-2,1]
[null,null,"Tennessee","Weakley",null,"Tennessee-Weakley",60,99.6,18,null,null,null,null,null,250,0.46691371382201718,0.35038884710574808,0.1489838555105048,0.97769996314043472]
[null,null,"Tennessee","White",null,"Tennessee-White",60,106.5,28,null,null,null,null,null,220,0.30124520255863529,1.3059184828006136,2.4930063578564931E-2,0.98683015440508626]
[null,null,"Tennessee","Williamson",null,"Tennessee-Williamson",59.99,111.8,21,null,null,null,null,null,230,0.32248483177054615,0.71691210215236534,3.9847614410905556E-2,0.98257059396299906]
[null,null,"Tennessee","Wilson",null,"Tennessee-Wilson",59.27,110.6,22,null,null,null,null,null,210,0.33204779105307053,0.63799130516255975,3.7419010123734595E-2,0.98984814398200227]
[null,null,"Texas","Anderson",null,"Texas-Anderson",44.95,81.8,7.5,null,null,null,null,null,350,0.26337698646262525,0.51525873586189008,4.7046118370484197E-2,1]
[null,null,"Texas","Andrews",null,"Texas-Andrews",16,45,0.1,null,null,null,null,null,90,0.1777108057464083,0.11169677452388198,5.5285501066098197E-2,1]
[null,null,"Texas","Angelina",null,"Texas-Angelina",45.56,85.6,8.5,null,null,null,null,null,400,0.38422899159663848,0.24694284097854066,1.3663585951940851E-2,1]
[null,null,"Texas","Aransas",null,"Texas-Aransas",35.01,68,5.5,null,null,null,null,null,280,0.23468016194331978,9.1480816050658012E-2,8.3165680473372847E-2,1]
[null,null,"Texas","Archer",null,"Texas-Archer",25.37,47.5,1.5,null,null,null,null,null,200,0.32633310006997868,0.17899160655109855,6.072629538244631E-2,0.97307014451885787]
[null,null,"Texas","Armstrong",null,"Texas-Armstrong",22.68,45,0.25,null,null,null,null,null,120,0.31510839642119765,0.75970290377820771,7.3667652173913079E-2,0.98959999999999992]
[null,null,"Texas","Atascosa",null,"Texas-Atascosa",25.01,48.5,1,null,null,null,null,null,250,0.25418589492895294,0.19746729703947083,0.10639697492370966,0.98026403078147806]
[null,null,"Texas","Austin",null,"Texas-Austin",44.66,78.400000000000006,7.5,null,null,null,null,null,350,0.2859227780475958,0.20414652593856919,5.0815889508362889E-2,0.99287886467308673]
[null,null,"Texas","Bailey",null,"Texas-Bailey",16,45,0.1,null,null,null,null,null,100,0.24173422562141478,0.18073838017717414,0.16592238337906715,0.98491767934143459]
[null,null,"Texas","Bandera",null,"Texas-Bandera",26.87,47.6,3.5,null,null,null,null,null,220,0.2155876533438861,1.9147569544210352,6.6631011608623614E-2,0.99730514096185741]
[null,null,"Texas","Bastrop",null,"Texas-Bastrop",35.01,67.900000000000006,4,null,null,null,null,null,300,0.32247472924187787,0.38128107156554325,6.219771241830057E-2,0.98243464052287577]
[null,null,"Texas","Baylor",null,"Texas-Baylor",25.01,50.5,1,null,null,null,null,null,180,0.32531996353691883,0.39436673002087042,9.0119784906360065E-2,0.9262099017244575]
[null,null,"Texas","Bee",null,"Texas-Bee",33.33,64.599999999999994,1.5,null,null,null,null,null,270,0.28369936034115129,0.24994586683739584,8.0855045871559506E-2,0.99044036697247684]
[null,null,"Texas","Bell",null,"Texas-Bell",35.01,67.3,5.5,null,null,null,null,null,300,0.28501101881674851,0.3458150517154655,0.17487558502340089,0.94670436817472692]
[null,null,"Texas","Bexar",null,"Texas-Bexar",30.61,60.4,3,null,null,null,null,null,250,0.2495931099959314,0.40545351859569317,0.13992963036173162,0.98021348092508398]
[null,null,"Texas","Blanco",null,"Texas-Blanco",33.6,56.3,4,null,null,null,null,null,250,0.25719717064544695,0.54311971958735028,4.0613692480359086E-2,0.99270482603815935]
[null,null,"Texas","Borden",null,"Texas-Borden",20.34,45,0.27500000000000002,null,null,null,null,null,120,0.3020783289817231,0.23467849932504534,0.12353537677849982,0.94941155805375033]
[null,null,"Texas","Bosque",null,"Texas-Bosque",35.01,68.099999999999994,4,null,null,null,null,null,280,0.24234893892758752,0.33254729112775205,7.5836972828804819E-2,0.98766461076846146]
[null,null,"Texas","Bowie",null,"Texas-Bowie",45,81.8,14,null,null,null,null,null,340,0.35744872846595588,0.16007762388587354,9.3662428759316074E-2,1]
[null,null,"Texas","Brazoria",null,"Texas-Brazoria",52.72,83.4,15.667,null,null,null,null,null,400.49746514575412,0.33397550243786378,7.7327062763869719E-2,3.3330475493781972E-2,1]
[null,null,"Texas","Brazos",null,"Texas-Brazos",39.340000000000003,78,6.5,null,null,null,null,null,350,0.35516740740740771,0.21372827678787357,2.8255784469096708E-2,1]
[null,null,"Texas","Brewster",null,"Texas-Brewster",15.81,45,0.27500000000000002,null,null,null,null,null,80,0.16318420885875423,2.2375574177816393,0.13964407527661324,1]
[null,null,"Texas","Briscoe",null,"Texas-Briscoe",24.56,45.9,0.25,null,null,null,null,null,130,0.33941268462206697,1.4446622257623054,0.10424323849666302,0.9936775553213909]
[null,null,"Texas","Brooks",null,"Texas-Brooks",25.01,47.1,0.2,null,null,null,null,null,260,0.17191803550688611,0.17342513995007788,5.5149606299212714E-2,1]
[null,null,"Texas","Brown",null,"Texas-Brown",25.01,45,1.5,null,null,null,null,null,200,0.26393913634818089,0.39182346601003143,5.1043402475161238E-2,0.99107547498692705]
[null,null,"Texas","Burleson",null,"Texas-Burleson",35.340000000000003,75.400000000000006,5,null,null,null,null,null,348.55038044731378,0.32816654667626582,0.21940734320962224,9.0881535741348898E-2,0.98320282899722156]
[null,null,"Texas","Burnet",null,"Texas-Burnet",32.1,63.9,3,null,null,null,null,null,250,0.22719035612984553,0.42490829998314272,3.551777999335335E-2,0.99534729145895651]
[null,null,"Texas","Caldwell",null,"Texas-Caldwell",35.01,74.099999999999994,4,null,null,null,null,null,300,0.31410101010101033,0.32571611906812259,8.9673899939722621E-2,0.99017480409885472]
[null,null,"Texas","Calhoun",null,"Texas-Calhoun",39.380000000000003,75.3,7,null,null,null,null,null,300,0.32611852311511036,0.10227352646011116,0.12666068814055631,1]
[null,null,"Texas","Callahan",null,"Texas-Callahan",25.01,45,2,null,null,null,null,null,180,0.25174049529124548,0.4539747734003971,5.4805358410220023E-2,0.97123846699787098]
[null,null,"Texas","Cameron",null,"Texas-Cameron",25.01,66.5,1.5,null,null,null,null,null,270,0.33278102318994557,0.10444785095413882,0.13757094665823322,1]
[null,null,"Texas","Camp",null,"Texas-Camp",45,70.099999999999994,11,null,null,null,null,null,340,0.30318370739817113,0.32582940034677699,1.5676082862523536E-2,1]
[null,null,"Texas","Carson",null,"Texas-Carson",24.35,61.4,0.2,null,null,null,null,null,120,0.31208111359340118,0.3124965073166312,9.2095625996104116E-2,0.98972905967770497]
[null,null,"Texas","Cass",null,"Texas-Cass",45,82.9,12,null,null,null,null,null,339.44078947368422,0.24848742411101474,0.44160680078963305,1.8629993853718482E-2,1]
[null,null,"Texas","Castro",null,"Texas-Castro",16,45,0.1,null,null,null,null,null,110,0.3155316191799864,0.13571270598699614,0.19888124778447322,1]
[null,null,"Texas","Chambers",null,"Texas-Chambers",58.88,87.5,14.8,null,null,null,null,null,429.52965584574076,0.32037600221177776,9.6974838353388784E-2,7.6045281582952817E-2,1]
[null,null,"Texas","Cherokee",null,"Texas-Cherokee",45,79.7,10,null,null,null,null,null,350,0.27273825503355686,0.44723423787330313,2.8970398880335917E-2,1]
[null,null,"Texas","Childress",null,"Texas-Childress",25.01,45,0.433,null,null,null,null,null,160,0.32452813469206926,0.38435969838762529,0.1744975034044482,0.90835224693599637]
[null,null,"Texas","Clay",null,"Texas-Clay",34.29,61,2,null,null,null,null,null,220,0.35358754184252672,0.25468586703076046,5.5793082706766979E-2,0.98984962406015042]
[null,null,"Texas","Cochran",null,"Texas-Cochran",16,45,0.1,null,null,null,null,null,90,0.20809274193548385,0.15185895757737092,0.18356756202583538,0.99401271273323755]
[null,null,"Texas","Coke",null,"Texas-Coke",25.01,45,0.2,null,null,null,null,null,140,0.23359909675178051,0.77889887459740814,0.10134925952045137,0.98459097320169264]
[null,null,"Texas","Coleman",null,"Texas-Coleman",25.01,45,1.5,null,null,null,null,null,180,0.26108131487889241,0.58068587026985852,8.5093718079673045E-2,0.96357252298263518]
[null,null,"Texas","Collin",null,"Texas-Collin",38.369999999999997,68.900000000000006,8.5,null,null,null,null,null,300,0.31955260663507079,0.28603305766305853,0.1098731288343557,0.97948466257668698]
[null,null,"Texas","Collingsworth",null,"Texas-Collingsworth",25.01,45,0.5,null,null,null,null,null,150,0.27501880341880358,0.49855471149654446,0.15087664132688328,0.95426744989633727]
[null,null,"Texas","Colorado",null,"Texas-Colorado",42.29,83,6,null,null,null,null,null,350,0.31322698570953822,0.19936261261319033,4.1975422559503303E-2,0.96419454984477404]
[null,null,"Texas","Comal",null,"Texas-Comal",35.01,69.5,4,null,null,null,null,null,280,0.17487098623853201,0.51373290696749385,5.2476098812961211E-2,0.99185113891562393]
[null,null,"Texas","Comanche",null,"Texas-Comanche",27.57,59.1,2,null,null,null,null,null,230,0.24572519083969477,0.24804040752792955,0.14252346885360326,0.9956028616297331]
[null,null,"Texas","Concho",null,"Texas-Concho",25.01,45,0.56699999999999995,null,null,null,null,null,160,0.2215823483057528,0.33407454558626909,0.12389446506374045,0.95631757301920284]
[null,null,"Texas","Cooke",null,"Texas-Cooke",35.15,68.099999999999994,4,null,null,null,null,null,280,0.30652904378909701,0.36485488118789416,8.190962326761661E-2,0.99599843841499125]
[null,null,"Texas","Coryell",null,"Texas-Coryell",34.340000000000003,65.5,4,null,null,null,null,null,276.73212882953652,0.24662205353575697,0.52179857625083192,0.12391148225469722,0.9416701461377871]
[null,null,"Texas","Cottle",null,"Texas-Cottle",25.01,45,0.4,null,null,null,null,null,160,0.30188251946213712,0.44001286778592791,0.10647013727937256,0.95514351934391162]
[null,null,"Texas","Crane",null,"Texas-Crane",15.79,44.1,0.1,null,null,null,null,null,90,0.20969206158768261,0.34124924048977234,0.11611613421740005,1]
[null,null,"Texas","Crockett",null,"Texas-Crockett",17.3,45,0.33300000000000002,null,null,null,null,null,120,0.1857233544938193,0.64726333294749006,7.4576174176533186E-2,1]
[null,null,"Texas","Crosby",null,"Texas-Crosby",24.06,45.1,0.15,null,null,null,null,null,130,0.30485027855153185,0.2527314413284027,0.31290920420153095,0.97552964215773552]
[null,null,"Texas","Culberson",null,"Texas-Culberson",15.21,45,0.371,null,null,null,null,null,70,0.2412492471823105,0.93014318078076397,0.10882992338132524,1]
[null,null,"Texas","Dallam",null,"Texas-Dallam",16,45,0.1,null,null,null,null,null,100,0.2603443215172726,0.1656623758762906,0.12892330030748198,1]
[null,null,"Texas","Dallas",null,"Texas-Dallas",35.01,68,7,null,null,null,null,null,300.09648518263265,0.31869614944719837,0.25725585249809141,0.11837673130193913,1]
[null,null,"Texas","Dawson",null,"Texas-Dawson",16,45,0.15,null,null,null,null,null,110,0.22635387811634319,0.2354892327547515,0.36667487948580579,0.95565077664702758]
[null,null,"Texas","De Witt",null,"Texas-De Witt",35.01,68.7,3.5,null,null,null,null,null,100,0.31612421052631506,0.20115004440182879,0.17485589239965824,0.98774551665243393]
[null,null,"Texas","Deaf Smith",null,"Texas-Deaf Smith",16,45,0.15,null,null,null,null,null,330,0.34427221172022626,0.23025231485967801,0.14167769176636164,0.99099225897255461]
[null,null,"Texas","Delta",null,"Texas-Delta",45,63.6,10,null,null,null,null,null,280,0.3076011827758271,0.22138832257962263,9.0183804878048765E-2,0.99041463414634145]
[null,null,"Texas","Denton",null,"Texas-Denton",35.64,68,5,null,null,null,null,null,300,0.26471480900052352,0.32424663920225938,3.9657017543859613E-2,0.98440350877192984]
[null,null,"Texas","Dickens",null,"Texas-Dickens",25.01,45,0.4,null,null,null,null,null,140,0.29603525751814741,0.57537778581337296,9.6108596889743117E-2,0.94590249868949861]
[null,null,"Texas","Dimmit",null,"Texas-Dimmit",25.01,45,0.35,null,null,null,null,null,180,0.27348066298342477,0.12963210164028768,5.6600725075528734E-2,1]
[null,null,"Texas","Donley",null,"Texas-Donley",25.01,45,0.4,null,null,null,null,null,130,0.26296265141318986,0.54298219869019726,7.674030612244899E-2,0.98136054421768704]
[null,null,"Texas","Duval",null,"Texas-Duval",25.01,45,0.35,null,null,null,null,null,240,0.23887040585263883,0.24488538629455661,6.9071113463914119E-2,1]
[null,null,"Texas","Eastland",null,"Texas-Eastland",25.94,45.5,2,null,null,null,null,null,218.21452589105581,0.24549152542372882,0.38416478320770653,8.7685201634393306E-2,0.99422632794457277]
[null,null,"Texas","Ector",null,"Texas-Ector",16,45,0.1,null,null,null,null,null,90,0.29157960868784766,0.20489018763539607,7.3352557772071961E-2,1]
[null,null,"Texas","Edwards",null,"Texas-Edwards",25.01,45,1,null,null,null,null,null,170,0.13099815702174694,1.8207159733139389,5.695424206466923E-2,1]
[null,null,"Texas","El Paso",null,"Texas-El Paso",8.64,45,0.15,null,null,null,null,null,300,0.32696169772256706,0.31315484593907916,0.15596347203916397,0.93099228017322533]
[null,null,"Texas","Ellis",null,"Texas-Ellis",35.01,68,7,null,null,null,null,null,50,0.21138954224715026,0.59810842133143294,0.19061503312771302,1]
[null,null,"Texas","Erath",null,"Texas-Erath",34.69,59.5,2,null,null,null,null,null,240,0.34169501466275659,0.49118683998008617,7.4967203249586098E-2,0.98719723183391017]
[null,null,"Texas","Falls",null,"Texas-Falls",35.01,68.7,7.5,null,null,null,null,null,320,0.35144838841289266,0.23828087975137355,0.18860360551431593,0.92816542948038161]
[null,null,"Texas","Fannin",null,"Texas-Fannin",45,68,8.8330000000000002,null,null,null,null,null,320,0.35120661457386898,0.2334719067260066,0.1121125802061053,0.98444487653120749]
[null,null,"Texas","Fayette",null,"Texas-Fayette",35.01,73.900000000000006,5,null,null,null,null,null,330,0.34199435871909745,0.31912808048802305,6.9970588235294132E-2,0.9936388508891929]
[null,null,"Texas","Fisher",null,"Texas-Fisher",25.01,45,0.75,null,null,null,null,null,160,0.33812489006156543,0.27536410109048848,0.26136736521583387,0.83358409457281013]
[null,null,"Texas","Floyd",null,"Texas-Floyd",24.17,45,0.15,null,null,null,null,null,130,0.31193507521773556,0.24719588556172414,0.27082508090614921,0.99295307443365688]
[null,null,"Texas","Foard",null,"Texas-Foard",25.01,45,0.5,null,null,null,null,null,170,0.32363009125306075,0.27232850066051756,0.10634687920969925,0.98102828917826657]
[null,null,"Texas","Fort Bend",null,"Texas-Fort Bend",45,83.2,11.856999999999999,null,null,null,null,null,400,0.33448523379819528,8.6124342672294851E-2,7.3927863436123203E-2,1]
[null,null,"Texas","Franklin",null,"Texas-Franklin",45,69.5,11,null,null,null,null,null,340,0.34650221729490022,0.30101521080919535,1.779214402618659E-2,1]
[null,null,"Texas","Freestone",null,"Texas-Freestone",39.200000000000003,70.900000000000006,7.5,null,null,null,null,null,340,0.31884567792115937,0.39294007892042948,2.7294523246650944E-2,1]
[null,null,"Texas","Frio",null,"Texas-Frio",25.01,45.3,1,null,null,null,null,null,220,0.27754300776914509,0.16717511768616894,0.13370962223806127,1]
[null,null,"Texas","Gaines",null,"Texas-Gaines",16,45,0.1,null,null,null,null,null,90,0.17796758104738147,0.30158155980385132,0.32003199052132686,1]
[null,null,"Texas","Galveston",null,"Texas-Galveston",45.25,83,16.5,null,null,null,null,null,430,0.32550797649034446,7.798824811324262E-2,4.6428288543140073E-2,1]
[null,null,"Texas","Garza",null,"Texas-Garza",25.01,45,0.27500000000000002,null,null,null,null,null,130.10324380885945,0.29212668889278842,0.84570444943890133,0.12822911482403138,0.96903661571276234]
[null,null,"Texas","Gillespie",null,"Texas-Gillespie",29.3,52,1.5,null,null,null,null,null,230,0.2242935589195609,0.45077057399064169,3.656527820951197E-2,0.99166925707180598]
[null,null,"Texas","Glasscock",null,"Texas-Glasscock",16,45,0.3,null,null,null,null,null,120,0.28660714285714234,0.21327689408330322,0.19566947220761,0.99233736629843949]
[null,null,"Texas","Goliad",null,"Texas-Goliad",35.01,61.7,2.5,null,null,null,null,null,280,0.28268706229266483,0.18465122689061775,3.7109735666418495E-2,0.99357781087118391]
[null,null,"Texas","Gonzales",null,"Texas-Gonzales",35.01,69.900000000000006,3.5,null,null,null,null,null,300,0.34798461083160687,0.25906813891052605,4.4818058281745413E-2,0.99750868186622377]
[null,null,"Texas","Gray",null,"Texas-Gray",25.01,49.6,0.3,null,null,null,null,null,130,0.25477740303541274,0.64018618952219164,7.562647837599297E-2,1]
[null,null,"Texas","Grayson",null,"Texas-Grayson",39,72.3,5.7140000000000004,null,null,null,null,null,300,0.33982381206620427,0.33670213379226632,0.12337320380489784,0.92683667273831205]
[null,null,"Texas","Gregg",null,"Texas-Gregg",45,82.3,10,null,null,null,null,null,340,0.29378362573099398,0.2571567423005523,1.5529691211401433E-2,1]
[null,null,"Texas","Grimes",null,"Texas-Grimes",45,77,6,null,null,null,null,null,350,0.31899862014587038,0.28071057982176922,4.4412944162436581E-2,1]
[null,null,"Texas","Guadalupe",null,"Texas-Guadalupe",35.01,71.400000000000006,3,null,null,null,null,null,280,0.30931057415207253,0.28784399896119989,0.10448298834166067,0.95441351415655473]
[null,null,"Texas","Hale",null,"Texas-Hale",16,45.1,0.1,null,null,null,null,null,120,0.31305300792787227,0.14000178810119632,0.33106789319439955,0.97818300227938781]
[null,null,"Texas","Hall",null,"Texas-Hall",24.97,45,0.3,null,null,null,null,null,140,0.32067555863502517,0.36376532404640716,0.21065837421163261,0.91458479327259978]
[null,null,"Texas","Hamilton",null,"Texas-Hamilton",29.41,59.4,2,null,null,null,null,null,250,0.24164559350820919,0.40653981746137324,8.1105000958037896E-2,0.96119946349875451]
[null,null,"Texas","Hansford",null,"Texas-Hansford",16,45,0.2,null,null,null,null,null,120,0.34276588515120698,0.25281273491060985,0.14331313654410499,1]
[null,null,"Texas","Hardeman",null,"Texas-Hardeman",25.01,45,0.5,null,null,null,null,null,170,0.29016010978956991,0.47796108869850484,8.8645396750647587E-2,0.96034848128090422]
[null,null,"Texas","Hardin",null,"Texas-Hardin",60,97.8,11.833,null,null,null,null,null,429.53878260869567,0.34614322533137004,0.10547089472565641,5.010597302504817E-2,1]
[null,null,"Texas","Harris",null,"Texas-Harris",48.49,82.2,11.167,null,null,null,null,null,400,0.32907185092277375,9.1384406661093293E-2,0.1274046262152195,1]
[null,null,"Texas","Harrison",null,"Texas-Harrison",45,83,10,null,null,null,null,null,350,0.33988284066330199,0.30904234559096477,3.4152076318743022E-2,1]
[null,null,"Texas","Hartley",null,"Texas-Hartley",16,45,1.5780000000000001,null,null,null,null,null,100,0.25360294903301628,0.18635985714035064,0.1164437640992588,1]
[null,null,"Texas","Haskell",null,"Texas-Haskell",25.01,49.1,1,null,null,null,null,null,170,0.31017016843201967,0.18865094258179593,0.25027824379796543,0.85236480456898112]
[null,null,"Texas","Hays",null,"Texas-Hays",35.01,69.3,4.5,null,null,null,null,null,280,0.19602975360297564,0.88150625321914755,3.4180267646287094E-2,0.99278404618210447]
[null,null,"Texas","Hemphill",null,"Texas-Hemphill",25.01,45,0.5,null,null,null,null,null,140,0.22870281400137246,0.43382645021832561,4.9610122164048857E-2,0.97514834205933687]
[null,null,"Texas","Henderson",null,"Texas-Henderson",41.26,68.099999999999994,7.5,null,null,null,null,null,340,0.2811817690506212,0.43384343578198231,3.9258551307847105E-2,1]
[null,null,"Texas","Hidalgo",null,"Texas-Hidalgo",25.01,62.2,0.2,null,null,null,null,null,259.84785615491012,0.25197226502311287,0.11037600292806274,0.16695291245204033,1]
[null,null,"Texas","Hill",null,"Texas-Hill",35.01,68,5,null,null,null,null,null,300,0.3068610780479511,0.28531074214747282,0.1950099295901789,0.92227838960101105]
[null,null,"Texas","Hockley",null,"Texas-Hockley",16,45,0.2,null,null,null,null,null,110,0.26828084667010854,0.16233013243130587,0.32442029243937182,0.94769971469329539]
[null,null,"Texas","Hood",null,"Texas-Hood",35.01,67.099999999999994,3,null,null,null,null,null,260,0.26816875460574802,0.54772844129357068,9.3380787537862303E-2,0.98589355257464306]
[null,null,"Texas","Hopkins",null,"Texas-Hopkins",45,70.900000000000006,11,null,null,null,null,null,330,0.36908456486042646,0.23723395539289202,2.9513513513513584E-2,1]
[null,null,"Texas","Houston",null,"Texas-Houston",45,81.5,7.5,null,null,null,null,null,350,0.35456338845372815,0.33781158901821612,1.3910662824207479E-2,1]
[null,null,"Texas","Howard",null,"Texas-Howard",16.45,45,0.4,null,null,null,null,null,120,0.27920833333333339,0.22765105671436714,0.3215072621641249,0.92648874364560596]
[null,null,"Texas","Hudspeth",null,"Texas-Hudspeth",10.64,45,0.32500000000000001,null,null,null,null,null,50,0.21324880532979848,0.69426825405622294,0.10786977275085616,1]
[null,null,"Texas","Hunt",null,"Texas-Hunt",44.98,71,10,null,null,null,null,null,320,0.36437254535253416,0.23649416240288937,9.7190338563170955E-2,0.97888109000825774]
[null,null,"Texas","Hutchinson",null,"Texas-Hutchinson",17.2,47.1,0.2,null,null,null,null,null,120,0.25430633231102312,0.36916042050325676,7.906182895223994E-2,1]
[null,null,"Texas","Irion",null,"Texas-Irion",23.2,45,0.35,null,null,null,null,null,130,0.20157503714710298,0.43663406253639536,5.5574471276436263E-2,0.99959502024898761]
[null,null,"Texas","Jack",null,"Texas-Jack",35.01,60,3,null,null,null,null,null,220,0.28148287029146107,0.43129752235325342,4.1730916695712918E-2,0.99170442662948755]
[null,null,"Texas","Jackson",null,"Texas-Jackson",43.75,83,7.4,null,null,null,null,null,330,0.3475378346915014,0.10160880960895899,0.15624555735056522,1]
[null,null,"Texas","Jasper",null,"Texas-Jasper",59.86,93.4,11.286,null,null,null,null,null,429.77712989957888,0.31538185085354875,0.24079892831930916,9.3074935400516787E-3,1]
[null,null,"Texas","Jeff Davis",null,"Texas-Jeff Davis",16.78,47.9,0.32500000000000001,null,null,null,null,null,70,0.17736104120227239,3.9379425888737143,7.3927285366701165E-2,1]
[null,null,"Texas","Jefferson",null,"Texas-Jefferson",59.88,97.5,15.667,null,null,null,null,null,449.20044087545267,0.32761771822073343,8.5127801857808133E-2,8.1683302886371947E-2,1]
[null,null,"Texas","Jim Hogg",null,"Texas-Jim Hogg",25.01,45,1,null,null,null,null,null,240,0.19313256325632566,0.19631047451253689,6.7074437232426454E-2,1]
[null,null,"Texas","Jim Wells",null,"Texas-Jim Wells",25.34,53.4,0.75,null,null,null,null,null,260,0.26342205323193907,0.1902098419468273,0.16353823032124726,0.99541611873003955]
[null,null,"Texas","Johnson",null,"Texas-Johnson",35.01,67.8,4,null,null,null,null,null,280,0.3292181340341655,0.3566067043619891,0.10503316582914568,0.98753768844221113]
[null,null,"Texas","Jones",null,"Texas-Jones",25.01,45,1,null,null,null,null,null,170,0.28540074399729382,0.13348358328635734,0.24580497997562248,0.86768239596030061]
[null,null,"Texas","Karnes",null,"Texas-Karnes",29.83,49.6,2,null,null,null,null,null,280,0.29498523206751115,0.35015867458224997,9.4036782103678468E-2,0.96394923639492358]
[null,null,"Texas","Kaufman",null,"Texas-Kaufman",37.74,69,8.5,null,null,null,null,null,320,0.36588035214085629,0.21480946614506527,5.6766780675502365E-2,0.99341598973920475]
[null,null,"Texas","Kendall",null,"Texas-Kendall",35,68.7,4,null,null,null,null,null,230.23102310231022,0.19468602455146355,0.57010844088062895,6.7350142229118198E-2,1]
[null,null,"Texas","Kenedy",null,"Texas-Kenedy",25.01,53.9,1.625,null,null,null,null,null,270,0.17290306627101859,0.12396165988484431,0.12322607178464601,1]
[null,null,"Texas","Kent",null,"Texas-Kent",25.01,45,0.4,null,null,null,null,null,140,0.26619658871109558,0.52658574444243766,0.1114563485036302,0.97651850540109797]
[null,null,"Texas","Kerr",null,"Texas-Kerr",25.68,47.2,3.5,null,null,null,null,null,220,0.17237057991513435,0.35886405992458975,4.6388720436628193E-2,0.99810491206791996]
[null,null,"Texas","Kimble",null,"Texas-Kimble",25.01,45,1,null,null,null,null,null,180,0.17456960824183279,0.93408280119235321,7.8228125792543721E-2,1]
[null,null,"Texas","King",null,"Texas-King",25.01,45,0.4,null,null,null,null,null,160,0.34069451607357698,0.568447383529743,5.2092576570340839E-2,0.97508219415123742]
[null,null,"Texas","Kinney",null,"Texas-Kinney",25.01,45,1,null,null,null,null,null,170,0.16998157167302885,0.8432787020565321,9.8001267865375705E-2,1]
[null,null,"Texas","Kleberg",null,"Texas-Kleberg",25.34,45.7,2.3130000000000002,null,null,null,null,null,270,0.24099527000394183,0.12946849629348786,0.1212163861285743,1]
[null,null,"Texas","Knox",null,"Texas-Knox",25.01,45,0.5,null,null,null,null,null,170,0.31811405143496069,0.28791745609592123,0.1518221237232607,0.96330699556754684]
[null,null,"Texas","La Salle",null,"Texas-La Salle",25.01,45,0.5,null,null,null,null,null,330,0.35699068377570758,0.20404297197927423,8.8802466192986429E-2,0.9978913591565437]
[null,null,"Texas","Lamar",null,"Texas-Lamar",45,77.3,12.8,null,null,null,null,null,110,0.24819452980946544,0.2040510648010182,0.2785575824873095,0.97788705583756341]
[null,null,"Texas","Lamb",null,"Texas-Lamb",16,45,0.1,null,null,null,null,null,250,0.21993855606758769,0.34234830122469639,3.0160631383472573E-2,0.99280408542247001]
[null,null,"Texas","Lampasas",null,"Texas-Lampasas",27.48,52.7,2.5,null,null,null,null,null,220,0.30302003718240023,0.17596525191988674,0.10121967725143143,1]
[null,null,"Texas","Lavaca",null,"Texas-Lavaca",35.18,79.900000000000006,6,null,null,null,null,null,330,0.29080723280594073,0.25716446786382985,4.3667775744468541E-2,0.99434370321078025]
[null,null,"Texas","Lee",null,"Texas-Lee",35.01,63.7,4,null,null,null,null,null,330.03038537549406,0.33297241557102336,0.41986014781280157,4.2469756480754128E-2,0.99201361612987693]
[null,null,"Texas","Leon",null,"Texas-Leon",41.72,75.099999999999994,8,null,null,null,null,null,350,0.26130556373270536,0.34303547396228984,3.0305369398465887E-2,1]
[null,null,"Texas","Liberty",null,"Texas-Liberty",59.61,96.2,11.286,null,null,null,null,null,430,0.34497452843177762,0.10512582967110631,9.9219066366704065E-2,1]
[null,null,"Texas","Limestone",null,"Texas-Limestone",35.01,67.8,7.5,null,null,null,null,null,320,0.34708791208791195,0.28739028148749818,7.835330836454435E-2,0.9943820224719101]
[null,null,"Texas","Lipscomb",null,"Texas-Lipscomb",25.01,50.2,0.2,null,null,null,null,null,140,0.25946213136729246,0.42115408026497148,4.902073771885096E-2,0.9178140404555496]
[null,null,"Texas","Live Oak",null,"Texas-Live Oak",25.28,52.9,1,null,null,null,null,null,260,0.23803363327924515,0.2561912375402533,7.6739076733055384E-2,0.98462251042149151]
[null,null,"Texas","Llano",null,"Texas-Llano",25.01,49,2,null,null,null,null,null,230,0.18079816980172869,0.47206283681714495,8.2198422436459306E-2,1]
[null,null,"Texas","Loving",null,"Texas-Loving",9.7799999999999994,45,0.1,null,null,null,null,null,90,0.22275926357492404,0.13269907814073501,9.420492957746468E-2,1]
[null,null,"Texas","Lubbock",null,"Texas-Lubbock",17.05,45,0.2,null,null,null,null,null,120,0.29276296018031589,0.13300224289632426,0.42031525390239077,0.95967200158071497]
[null,null,"Texas","Lynn",null,"Texas-Lynn",18.61,45,0.1,null,null,null,null,null,120,0.2545981670778994,0.18779948268101773,0.4073589882565492,0.80422764227642252]
[null,null,"Texas","Madison",null,"Texas-Madison",44.88,69.7,7,null,null,null,null,null,180,0.25431148262208514,0.55001592735458571,6.2190248279988057E-2,0.98342805862997307]
[null,null,"Texas","Marion",null,"Texas-Marion",45,83,11,null,null,null,null,null,300,0.30067080745341629,0.26206457933094535,0.1171006722978796,0.95230132735735218]
[null,null,"Texas","Martin",null,"Texas-Martin",16,45,0.15,null,null,null,null,null,240,0.29075634792004307,0.22419506482517515,3.4611142533936663E-2,1]
[null,null,"Texas","Mason",null,"Texas-Mason",25.01,45,2,null,null,null,null,null,350,0.35181022880215324,0.2856152536187655,3.810994764397907E-2,1]
[null,null,"Texas","Matagorda",null,"Texas-Matagorda",45,83,11.933,null,null,null,null,null,340.21170130869899,0.25768962510897986,0.31384354984055529,4.5665796344647501E-3,1]
[null,null,"Texas","Maverick",null,"Texas-Maverick",25.01,45,0.35,null,null,null,null,null,110,0.2681285347043702,0.13884697520724093,0.3339644109396912,0.97585904628330988]
[null,null,"Texas","McCulloch",null,"Texas-McCulloch",25.01,45,0.56699999999999995,null,null,null,null,null,200.78828451882845,0.18099334357398866,0.50524476037685706,5.5638917262512758E-2,0.99787197820905682]
[null,null,"Texas","McLennan",null,"Texas-McLennan",35.01,68,5,null,null,null,null,null,349.64531021281385,0.35252394366197165,8.5100047053217873E-2,0.10891039212762783,1]
[null,null,"Texas","McMullen",null,"Texas-McMullen",25.01,45,0.75,null,null,null,null,null,170,0.28527941176470606,0.17713149287590157,4.0995161890584234E-2,1]
[null,null,"Texas","Medina",null,"Texas-Medina",25.23,45.5,3.5,null,null,null,null,null,220,0.24610721750891448,0.3548909781810437,7.8870724284844748E-2,0.99011564211807657]
[null,null,"Texas","Menard",null,"Texas-Menard",25.01,45,0.5,null,null,null,null,null,180,0.22671178205795608,0.2883998977958,4.0096982382696662E-2,0.99206349206349209]
[null,null,"Texas","Midland",null,"Texas-Midland",16,45,0.15,null,null,null,null,null,110,0.27002772483105264,0.19898587191512784,0.1261306661411116,0.99952700039416642]
[null,null,"Texas","Milam",null,"Texas-Milam",35.01,65.3,6.5,null,null,null,null,null,320,0.30113499304159602,0.25582125713794901,0.11054885287983311,0.97466709449703171]
[null,null,"Texas","Mills",null,"Texas-Mills",25.01,45,1,null,null,null,null,null,220,0.24320209424083764,0.69406502108070078,3.6226040554962667E-2,0.98236926360725729]
[null,null,"Texas","Mitchell",null,"Texas-Mitchell",24.81,45,0.5,null,null,null,null,null,140,0.28114964452921787,0.22874215794771252,0.14884561526343443,0.9065639768948015]
[null,null,"Texas","Montague",null,"Texas-Montague",35.01,62.7,2.5,null,null,null,null,null,260,0.35112319456244589,0.45047564106459886,7.4098069491225022E-2,1]
[null,null,"Texas","Montgomery",null,"Texas-Montgomery",45.01,83.6,8,null,null,null,null,null,400,0.30346910391416665,0.13683334598750441,3.8421790722761626E-2,1]
[null,null,"Texas","Moore",null,"Texas-Moore",16,45,0.1,null,null,null,null,null,110,0.30925840298772883,0.40464397177226402,0.13859699873440623,1]
[null,null,"Texas","Morris",null,"Texas-Morris",45,83,12,null,null,null,null,null,340,0.31688435374149665,0.36288355990204385,3.1506925207756248E-2,1]
[null,null,"Texas","Motley",null,"Texas-Motley",25.01,45.2,0.2,null,null,null,null,null,140,0.26918493803622495,0.56546756887274108,6.8463161259389532E-2,0.99220073517660212]
[null,null,"Texas","Nacogdoches",null,"Texas-Nacogdoches",45,82.2,10.5,null,null,null,null,null,400.4830994897959,0.2766554734721291,0.23240811537537748,2.2690092165898623E-2,1]
[null,null,"Texas","Navarro",null,"Texas-Navarro",35.01,70.5,6.5,null,null,null,null,null,320,0.3621859706362151,0.2764011439514516,6.1951207491375074E-2,1]
[null,null,"Texas","Newton",null,"Texas-Newton",60,87.6,14.143000000000001,null,null,null,null,null,430,0.30228334461746814,0.26018761255098577,4.2095022624434368E-2,1]
[null,null,"Texas","Nolan",null,"Texas-Nolan",25.01,45,0.5,null,null,null,null,null,160,0.25622119023047807,0.36784558005695506,0.15088098504837294,0.91526824978012333]
[null,null,"Texas","Nueces",null,"Texas-Nueces",30.99,63.8,2.8,null,null,null,null,null,270,0.29494704992435733,0.10083495920386591,0.13536479089117573,0.99859864243485885]
[null,null,"Texas","Ochiltree",null,"Texas-Ochiltree",20.149999999999999,45,0.3,null,null,null,null,null,130,0.29629572911349389,0.32489522879362959,5.8302001740644017E-2,0.98953872932985198]
[null,null,"Texas","Oldham",null,"Texas-Oldham",16,45,0.1,null,null,null,null,null,100,0.2858966057441254,0.42837586987226889,9.0497408821035158E-2,0.98796119592875331]
[null,null,"Texas","Orange",null,"Texas-Orange",60,97.8,16.5,null,null,null,null,null,449.62947715109101,0.36961743341404352,8.9321980871173046E-2,3.3919487179487194E-2,1]
[null,null,"Texas","Palo Pinto",null,"Texas-Palo Pinto",34.85,56.6,2,null,null,null,null,null,220,0.21368168267638279,0.63791263110024843,4.7377984550561858E-2,0.99641853932584279]
[null,null,"Texas","Panola",null,"Texas-Panola",45,83,10.8,null,null,null,null,null,350,0.305647173489279,0.2992517905310636,1.9155995934959359E-2,1]
[null,null,"Texas","Parker",null,"Texas-Parker",35.01,68,2.5,null,null,null,null,null,260,0.2827128678391081,0.3827223134243154,8.7259508716323278E-2,0.99742472266244053]
[null,null,"Texas","Parmer",null,"Texas-Parmer",16,45,0.1,null,null,null,null,null,100,0.30545856158331797,0.12097099615236566,0.23819652968036517,0.99159817351598178]
[null,null,"Texas","Pecos",null,"Texas-Pecos",15.81,44.6,0.27500000000000002,null,null,null,null,null,90,0.24978478445738236,0.97294780826116112,8.2130661496807783E-2,1]
[null,null,"Texas","Polk",null,"Texas-Polk",48.03,90.9,8,null,null,null,null,null,400,0.3372378787878792,0.24439207248256922,8.143617021276587E-3,1]
[null,null,"Texas","Potter",null,"Texas-Potter",16,47.6,0.1,null,null,null,null,null,110,0.26994688644688619,1.5574013412424372,2.9475661482528805E-2,0.99727327812563116]
[null,null,"Texas","Presidio",null,"Texas-Presidio",15.66,45,0.2,null,null,null,null,null,70,0.18497387923703068,1.4228517006939287,0.13286067671310764,1]
[null,null,"Texas","Rains",null,"Texas-Rains",45,69.5,10,null,null,null,null,null,330,0.34999351070733331,0.22186045467849544,7.7612173913043564E-2,0.99826086956521742]
[null,null,"Texas","Randall",null,"Texas-Randall",16.02,45.3,0.2,null,null,null,null,null,110,0.31193296283431765,0.42392073211589026,0.11385767441860463,0.98788837209302316]
[null,null,"Texas","Reagan",null,"Texas-Reagan",16,45,0.3,null,null,null,null,null,120,0.29212197714589383,0.24274829477842189,0.10321215380478629,1]
[null,null,"Texas","Real",null,"Texas-Real",25.01,50.6,3.5,null,null,null,null,null,180,0.14057481547752185,3.7921373689712894,3.4727272727272739E-2,1]
[null,null,"Texas","Red River",null,"Texas-Red River",45,80.099999999999994,13.75,null,null,null,null,null,340,0.35944444444444418,0.16879714483708072,8.1493485342019514E-2,0.99432294090274553]
[null,null,"Texas","Reeves",null,"Texas-Reeves",10.71,45,0.2,null,null,null,null,null,80,0.29415585188712962,0.29899271473691402,9.8047027027027084E-2,1]
[null,null,"Texas","Refugio",null,"Texas-Refugio",35.01,69.5,4.8330000000000002,null,null,null,null,null,280,0.30761226944667175,7.6232480700396552E-2,4.0784281282316447E-2,1]
[null,null,"Texas","Roberts",null,"Texas-Roberts",22.81,47.1,0.3,null,null,null,null,null,130,0.25112220717670891,0.89397907965347589,5.2922040259297191E-2,1]
[null,null,"Texas","Robertson",null,"Texas-Robertson",35.01,68,7.5,null,null,null,null,null,340,0.30391110284545264,0.30385497533172234,4.7357385079125881E-2,1]
[null,null,"Texas","Rockwall",null,"Texas-Rockwall",35.39,68.2,9.5,null,null,null,null,null,300,0.33034696406443592,0.26774801670072612,8.2274268104776629E-2,0.98798151001540835]
[null,null,"Texas","Runnels",null,"Texas-Runnels",25.01,45.4,0.56699999999999995,null,null,null,null,null,160,0.29770418770418755,0.21235093104838421,0.16383606557377042,0.91434426229508181]
[null,null,"Texas","Rusk",null,"Texas-Rusk",45,79.8,10.5,null,null,null,null,null,350,0.29046312178387623,0.51727363833557827,1.8739961759082231E-2,0.99869980879541109]
[null,null,"Texas","Sabine",null,"Texas-Sabine",59.98,83,10.8,null,null,null,null,null,400,0.32617607825700307,0.32522632442158073,1.0066246056782333E-2,1]
[null,null,"Texas","San Augustine",null,"Texas-San Augustine",48.23,83.7,10,null,null,null,null,null,400,0.30243403939056096,0.41132348589486462,2.4985358711566624E-2,1]
[null,null,"Texas","San Jacinto",null,"Texas-San Jacinto",46.39,94.3,7.5,null,null,null,null,null,400,0.30201626961069178,0.2957442142205407,6.2258594917787756E-2,1]
[null,null,"Texas","San Patricio",null,"Texas-San Patricio",35,68,3.556,null,null,null,null,null,270,0.29593885466575359,9.4716781443362347E-2,0.11318023997957619,0.97658922644881263]
[null,null,"Texas","San Saba",null,"Texas-San Saba",25.01,45,1.5,null,null,null,null,null,220,0.23137954891379567,0.68061091848740884,5.3418715083798883E-2,0.99793296089385475]
[null,null,"Texas","Schleicher",null,"Texas-Schleicher",25.01,45,1,null,null,null,null,null,150,0.24895465393794719,0.14635979681956487,7.872890915636617E-2,0.99455178207128292]
[null,null,"Texas","Scurry",null,"Texas-Scurry",25.01,45,0.5,null,null,null,null,null,140,0.29483826086956505,0.32081939914799767,0.1970908600215906,0.87541381792011519]
[null,null,"Texas","Shackelford",null,"Texas-Shackelford",25.01,45,2,null,null,null,null,null,180,0.23733898891966781,0.30441294218728354,3.1676536796536862E-2,0.99716017316017325]
[null,null,"Texas","Shelby",null,"Texas-Shelby",48.74,88.9,10.667,null,null,null,null,null,400,0.28693237796686089,0.53140156421538431,1.1958147321428567E-2,1]
[null,null,"Texas","Sherman",null,"Texas-Sherman",16,45,0.1,null,null,null,null,null,110.13373963094634,0.31131806615776086,0.21095012892745282,0.14309332647109294,0.99636301252358894]
[null,null,"Texas","Smith",null,"Texas-Smith",45,67.400000000000006,9.5,null,null,null,null,null,338.6245475485357,0.26134919225989695,0.42453555762093725,3.2924808836023778E-2,0.99333050127442657]
[null,null,"Texas","Somervell",null,"Texas-Somervell",35.01,60.7,2,null,null,null,null,null,260,0.25103187919463077,0.61505575772088206,5.5497326203208623E-2,1]
[null,null,"Texas","Starr",null,"Texas-Starr",25.01,50.5,0.2,null,null,null,null,null,240.14496439471006,0.25451294539861669,0.17779513431406149,0.15440850376749207,0.99526372443487621]
[null,null,"Texas","Stephens",null,"Texas-Stephens",26.23,51.8,2,null,null,null,null,null,200,0.30018479776848006,0.26272831142010317,4.6463884430176669E-2,1]
[null,null,"Texas","Sterling",null,"Texas-Sterling",22.64,45,0.2,null,null,null,null,null,130,0.25194547917372173,0.59103078998734171,9.1189522342064705E-2,0.99815100154083203]
[null,null,"Texas","Stonewall",null,"Texas-Stonewall",25.01,45,0.433,null,null,null,null,null,160,0.31410895342842382,0.30555175209371649,9.2192593874372702E-2,0.94255061429313025]
[null,null,"Texas","Sutton",null,"Texas-Sutton",25.01,45,1,null,null,null,null,null,150,0.1971338865216414,0.5287943235350524,0.10497633264574976,1]
[null,null,"Texas","Swisher",null,"Texas-Swisher",16.8,45,0.15,null,null,null,null,null,120,0.31494284724627619,9.4399944183486365E-2,0.1890747514204543,0.99829545454545443]
[null,null,"Texas","Tarrant",null,"Texas-Tarrant",35.01,68,4.5,null,null,null,null,null,280,0.28768737020955243,0.23531781711688673,3.1695320447609407E-2,1]
[null,null,"Texas","Taylor",null,"Texas-Taylor",25.01,45,1,null,null,null,null,null,170,0.26412063953488363,0.36235720121532888,9.6997519582245464E-2,0.95926892950391673]
[null,null,"Texas","Terrell",null,"Texas-Terrell",16,45,0.4,null,null,null,null,null,100,0.15145793277199548,1.5036133631114037,6.7726117615752951E-2,1]
[null,null,"Texas","Terry",null,"Texas-Terry",16,45,0.1,null,null,null,null,null,110,0.19690421591109547,0.15044735768710688,0.3699719059860449,0.98024237972824069]
[null,null,"Texas","Throckmorton",null,"Texas-Throckmorton",25.01,55.2,1.5,null,null,null,null,null,180,0.3076464524995709,0.23727165417524154,5.044225108225113E-2,0.98573160173160168]
[null,null,"Texas","Titus",null,"Texas-Titus",45,82.4,12,null,null,null,null,null,340,0.33648732943469783,0.27030879047405793,3.0384220654265524E-2,1]
[null,null,"Texas","Tom Green",null,"Texas-Tom Green",24.83,45,0.35,null,null,null,null,null,140,0.25440198458777519,0.30955745161018877,0.11261642778390289,0.96930540242557883]
[null,null,"Texas","Travis",null,"Texas-Travis",35.01,68,4.5,null,null,null,null,null,300,0.24616163265306101,0.91023061849131925,0.10985286905345762,0.96319274153997048]
[null,null,"Texas","Trinity",null,"Texas-Trinity",45,82.5,7,null,null,null,null,null,400,0.42252517808892148,0.20834135114641017,1.5100220264317179E-2,1]
[null,null,"Texas","Tyler",null,"Texas-Tyler",57.88,97.8,9.5,null,null,null,null,null,430,0.28445373758494513,0.32491811555578987,5.5655430711610493E-3,1]
[null,null,"Texas","Upshur",null,"Texas-Upshur",45,78.8,10.5,null,null,null,null,null,340,0.28044408774745866,0.4517911849545076,3.6457673778389522E-2,1]
[null,null,"Texas","Upton",null,"Texas-Upton",16,45,0.15,null,null,null,null,null,110.46757164404224,0.27839492207139288,0.31287446481635078,8.7019105013463244E-2,1]
[null,null,"Texas","Uvalde",null,"Texas-Uvalde",25.01,47.3,3,null,null,null,null,null,180.03775846568774,0.22428121606948939,0.98135157635514025,7.5386682956627954E-2,0.99430869476685002]
[null,null,"Texas","Val Verde",null,"Texas-Val Verde",20.13,45,1,null,null,null,null,null,130,0.14892841903136347,0.89413488705284594,0.12063226838658074,1]
[null,null,"Texas","Van Zandt",null,"Texas-Van Zandt",44.97,75.400000000000006,8.5,null,null,null,null,null,340,0.32887756992035566,0.23540517716971876,3.3071881606765351E-2,1]
[null,null,"Texas","Victoria",null,"Texas-Victoria",35.729999999999997,74,4,null,null,null,null,null,300,0.32505243445692888,0.15502944278679595,0.10233779001179698,0.99250389408099693]
[null,null,"Texas","Walker",null,"Texas-Walker",45,81.900000000000006,7,null,null,null,null,null,400,0.28974438604873365,0.29151051930801331,2.1820585457979241E-2,1]
[null,null,"Texas","Waller",null,"Texas-Waller",45,71.5,6.8330000000000002,null,null,null,null,null,400,0.32054089709762557,0.12909631025655272,7.552374906646743E-2,1]
[null,null,"Texas","Ward",null,"Texas-Ward",13.22,45,0.1,null,null,null,null,null,90,0.19126215407629027,0.13102088113556742,8.5120676402767076E-2,1]
[null,null,"Texas","Washington",null,"Texas-Washington",41.89,82.9,4.5,null,null,null,null,null,350,0.32675073002389182,0.26213495661395703,4.1690285081649632E-2,1]
[null,null,"Texas","Webb",null,"Texas-Webb",25.01,45,0.2,null,null,null,null,null,200.35744127750442,0.27530525628468783,0.25945153732444026,7.4579357166595472E-2,1]
[null,null,"Texas","Wharton",null,"Texas-Wharton",45,83,10,null,null,null,null,null,315.81841541755887,0.3374377015537966,9.1112574925282769E-2,0.10208908037212133,1]
[null,null,"Texas","Wheeler",null,"Texas-Wheeler",25.01,45,0.433,null,null,null,null,null,138.70285031575355,0.22831879596374255,0.50654498770799272,8.4274625826662078E-2,0.98277062304211626]
[null,null,"Texas","Wichita",null,"Texas-Wichita",25.01,51.2,2,null,null,null,null,null,200,0.35617850953206248,0.25093775933957813,0.13163726970703712,0.91485955904560567]
[null,null,"Texas","Wilbarger",null,"Texas-Wilbarger",25.01,45,1,null,null,null,null,null,180,0.29770192465866119,0.25967032601575663,0.11229253631658045,0.95980965102688232]
[null,null,"Texas","Willacy",null,"Texas-Willacy",25.01,65.7,1.167,null,null,null,null,null,270,0.26951343500363178,0.10400660077764801,0.35635568065506612,1]
[null,null,"Texas","Williamson",null,"Texas-Williamson",35.01,67,5,null,null,null,null,null,300,0.28178735632183888,0.29382183505936338,0.14583652924256954,0.89571748162352183]
[null,null,"Texas","Wilson",null,"Texas-Wilson",28.22,53.4,2,null,null,null,null,null,280,0.24858505254963043,0.24944806530137975,0.16806191825171987,0.98945770942938072]
[null,null,"Texas","Winkler",null,"Texas-Winkler",15.91,45,0.1,null,null,null,null,null,90,0.17862004835410061,0.11486563080496082,0.14316845878136208,1]
[null,null,"Texas","Wise",null,"Texas-Wise",35.01,66.5,2,null,null,null,null,null,260,0.2954190147245952,0.40057973048526069,6.7572539867755674E-2,0.99893037728510303]
[null,null,"Texas","Wood",null,"Texas-Wood",45,67.099999999999994,10,null,null,null,null,null,339.75527615626402,0.29256928135274768,0.37346072989910495,6.9392548596112325E-2,1]
[null,null,"Texas","Yoakum",null,"Texas-Yoakum",16,45,0.1,null,null,null,null,null,90,0.17690099589923841,0.14076982705662444,0.30773608870967745,1]
[null,null,"Texas","Young",null,"Texas-Young",29.03,59.9,2,null,null,null,null,null,200,0.30827130852340945,0.23141246611788677,8.1847568523430642E-2,0.92122015915119349]
[null,null,"Texas","Zapata",null,"Texas-Zapata",24.51,45,0.5,null,null,null,null,null,220,0.24753185464841862,0.20258119317080611,7.8122126436781569E-2,1]
[null,null,"Texas","Zavala",null,"Texas-Zavala",25.01,45,1,null,null,null,null,null,180,0.27763825163004091,0.17498367943251969,9.9396306645608085E-2,0.99825051634066342]
[null,null,"Utah","Beaver",null,"Utah-Beaver",13.92,56.1,1.829,null,null,null,null,null,19.464986417144583,0.25867223065250389,1.3747981158053646,0.2119826271186441,1]
[null,null,"Utah","Box Elder",null,"Utah-Box Elder",12.04,62.7,5.2060000000000004,null,null,null,null,null,30.860592588081246,0.29436917693966363,2.7097150851638596,0.27440213458755375,0.99205182706222861]
[null,null,"Utah","Cache",null,"Utah-Cache",27.19,94.5,14.474,null,null,null,null,null,54.724106041923548,0.28809471607103709,2.5040497520087412,0.19177500760109456,1]
[null,null,"Utah","Carbon",null,"Utah-Carbon",14,59.1,2.2400000000000002,null,null,null,null,null,25.796142208774583,0.25958728757448696,6.7315998868044762,0.12647591410330822,1]
[null,null,"Utah","Daggett",null,"Utah-Daggett",16,65.7,6.8,null,null,null,null,null,21.797931583134446,0.20708827404479566,3.3560513683548354,0.10612916666666664,1]
[null,null,"Utah","Davis",null,"Utah-Davis",18.84,74.5,5.88,null,null,null,null,null,29.219462747085657,0.24122117847993174,2.2451164478497039,9.2694282380396759E-2,1]
[null,null,"Utah","Duchesne",null,"Utah-Duchesne",17.649999999999999,66.8,6.7130000000000001,null,null,null,null,null,22.23445951242455,0.23247631805568847,3.3055779213338616,0.14628491827637444,1]
[null,null,"Utah","Emery",null,"Utah-Emery",9.7799999999999994,47.6,2.8140000000000001,null,null,null,null,null,16.439327940261357,0.31057100297914614,4.2746926450455831,0.23807111111111107,1]
[null,null,"Utah","Garfield",null,"Utah-Garfield",12.75,53.5,2.2309999999999999,null,null,null,null,null,31.963078523140926,0.20308771929824551,4.2610574616131682,0.25060731538992426,1]
[null,null,"Utah","Grand",null,"Utah-Grand",11.54,50.9,1.5289999999999999,null,null,null,null,null,16.665339098771053,0.24235710076605765,9.7470261197893819,0.18076998635743519,1]
[null,null,"Utah","Iron",null,"Utah-Iron",14.2,52.6,2.04,null,null,null,null,null,27.075577214987618,0.32442113032475728,0.39219702260337508,0.15067993764240337,1]
[null,null,"Utah","Juab",null,"Utah-Juab",12.23,57.4,1.2210000000000001,null,null,null,null,null,20.826086956521738,0.25382304832713803,2.0540726278184605,0.20343998087039747,1]
[null,null,"Utah","Kane",null,"Utah-Kane",12.41,47.9,0.94,null,null,null,null,null,42.687593423019429,0.31230608695652201,1.3978775582980909,0.18438984587488672,1]
[null,null,"Utah","Millard",null,"Utah-Millard",10.31,49.3,1.494,null,null,null,null,null,23.281762624638148,0.28979630235602039,1.2806954666318189,0.22431735751295273,1]
[null,null,"Utah","Morgan",null,"Utah-Morgan",28.79,99.6,12,null,null,null,null,null,49.244402985074629,0.21373877551020412,7.8625677116275146,4.7675877520537764E-2,1]
[null,null,"Utah","Piute",null,"Utah-Piute",16.29,68.900000000000006,3.125,null,null,null,null,null,31.64691943127962,0.23833959429000731,3.7569026256996501,9.5511700468018726E-2,1]
[null,null,"Utah","Rich",null,"Utah-Rich",16.41,73.599999999999994,12.222,null,null,null,null,null,33.602358577482953,0.29162870159453286,2.6305302989526593,0.10265110565110559,1]
[null,null,"Utah","Salt Lake",null,"Utah-Salt Lake",21.46,79.400000000000006,4.8499999999999996,null,null,null,null,null,38.715132066156507,0.25659073652239939,3.1014162188477297,0.17831262011531071,1]
[null,null,"Utah","San Juan",null,"Utah-San Juan",11.4,50.1,1.175,null,null,null,null,null,21.531804063672837,0.29501369863013682,5.718319869494505,0.25621941979862428,1]
[null,null,"Utah","Sanpete",null,"Utah-Sanpete",18.670000000000002,78.599999999999994,4.9290000000000003,null,null,null,null,null,31.694548170276324,0.25682767295597481,3.3206436893500428,0.16266187788609546,1]
[null,null,"Utah","Sevier",null,"Utah-Sevier",17.57,72.8,2.8639999999999999,null,null,null,null,null,35.619457135178713,0.32150280898876382,4.3101521532811597,0.19763621052631566,1]
[null,null,"Utah","Summit",null,"Utah-Summit",25.66,90.7,13.571,null,null,null,null,null,29.713583200425305,0.20016181229773489,7.1690285366756461,8.7616296026248652E-2,1]
[null,null,"Utah","Tooele",null,"Utah-Tooele",10.95,54.1,3.1619999999999999,null,null,null,null,null,22.988353413654618,0.26672982642109438,1.4968769370739519,0.28747796468789083,1]
[null,null,"Utah","Uintah",null,"Utah-Uintah",11.72,51.1,3.3620000000000001,null,null,null,null,null,17.006201893792568,0.24817598006326005,2.5514002186939742,0.11737670025188908,0.99985467932571204]
[null,null,"Utah","Utah",null,"Utah-Utah",19.73,80.599999999999994,5.242,null,null,null,null,null,27.010800508259212,0.26528301886792449,4.5472594486800642,0.13662908661948092,0.99765756656555449]
[null,null,"Utah","Wasatch",null,"Utah-Wasatch",24.11,88.1,10.3,null,null,null,null,null,30.659963908223769,0.21765013054830287,6.8256957176100608,0.15664145524174242,1]
[null,null,"Utah","Washington",null,"Utah-Washington",15.17,48.8,1.788,null,null,null,null,null,35.100747977408027,0.2022574257425743,3.0358545402030503,0.24476639344262269,1]
[null,null,"Utah","Wayne",null,"Utah-Wayne",10.210000000000001,49.1,2.42,null,null,null,null,null,16.179006085192697,0.30067729083665357,5.0349605121935506,0.29944920127795521,1]
[null,null,"Utah","Weber",null,"Utah-Weber",27.56,88.3,6.8310000000000004,null,null,null,null,null,40.903401360544215,0.24589670597803989,2.3712775810629565,0.13742703727100442,1]
[null,null,"Vermont","Addison",null,"Vermont-Addison",39.479999999999997,123.4,26,null,null,null,null,null,100,0.36629083245521699,0.58475817935109153,9.2618455158112983E-2,0.98742871954380518]
[null,null,"Vermont","Bennington",null,"Vermont-Bennington",53.05,139,26.454999999999998,null,null,null,null,null,125,0.31849689440993745,0.95792070741521618,6.5992805755395678E-2,1]
[null,null,"Vermont","Caledonia",null,"Vermont-Caledonia",41.69,141.19999999999999,22.5,null,null,null,null,null,95,0.26280070017504431,1.732987475280521,3.4538167938931316E-2,1]
[null,null,"Vermont","Chittenden",null,"Vermont-Chittenden",39.35,140.4,26.25,null,null,null,null,null,90.117040020135917,0.25384806973848101,0.71872030629505712,2.9859223300970867E-2,1]
[null,null,"Vermont","Essex",null,"Vermont-Essex",44.09,148.1,22.5,null,null,null,null,null,95,0.29648655378486105,0.6644895191809852,5.8095693779904277E-2,1]
[null,null,"Vermont","Franklin",null,"Vermont-Franklin",43.74,148.6,25,null,null,null,null,null,90.525484889490301,0.27646605322059159,0.52150192771555048,7.7044839857651287E-2,1]
[null,null,"Vermont","Grand Isle",null,"Vermont-Grand Isle",35.01,135,20,null,null,null,null,null,90,0.36196629213483134,0.27868757214501022,6.2402898550724645E-2,1]
[null,null,"Vermont","Lamoille",null,"Vermont-Lamoille",47.44,153.30000000000001,27.5,null,null,null,null,null,90.060687795010111,0.25665395284327308,0.49542326884241428,7.1706443914081208E-2,1]
[null,null,"Vermont","Orange",null,"Vermont-Orange",38.659999999999997,131.69999999999999,22.5,null,null,null,null,null,100,0.24499763928234214,1.1915507354122077,3.8380614657210411E-2,0.99586288416075652]
[null,null,"Vermont","Orleans",null,"Vermont-Orleans",45.46,161.9,25,null,null,null,null,null,90.071723538361226,0.27417071478140187,1.020931428044257,4.5436771300448424E-2,0.99641255605381163]
[null,null,"Vermont","Rutland",null,"Vermont-Rutland",44.45,127.7,26.25,null,null,null,null,null,110,0.27028916124090385,0.78517068543389079,6.3088555858310608E-2,0.99220708446866479]
[null,null,"Vermont","Washington",null,"Vermont-Washington",43.29,141.1,25,null,null,null,null,null,95,0.23735937867733556,0.80592426217633972,6.378023850085178E-2,1]
[null,null,"Vermont","Windham",null,"Vermont-Windham",49.91,130.9,25.2,null,null,null,null,null,130,0.31793154447496297,0.69582727531016475,5.9793103448275868E-2,1]
[null,null,"Vermont","Windsor",null,"Vermont-Windsor",43.47,131.19999999999999,26.25,null,null,null,null,null,110,0.24403644954438097,0.64470262751480045,2.8468750000000011E-2,1]
[null,null,"Virginia","Accomack",null,"Virginia-Accomack",44.99,97.6,15.333,null,null,null,null,null,250.12292960662526,0.21714562354763739,0.14309342933063418,0.22576932668329192,1]
[null,null,"Virginia","Albemarle",null,"Virginia-Albemarle",45.9,103.7,16.8,null,null,null,null,null,174.64186444301902,0.27607757631397761,1.5255498891286317,2.7737451737451749E-2,0.9894208494208494]
[null,null,"Virginia","Alexandria",null,"Virginia-Alexandria",45,97.8,15,null,null,null,null,null,null,null,""]
[null,null,"Virginia","Alleghany",null,"Virginia-Alleghany",39.450000000000003,112.6,15.667,null,null,null,null,null,150,0.26565484311050475,1.5750424610583442,7.2532467532467528E-3,1]
[null,null,"Virginia","Amelia",null,"Virginia-Amelia",45,97.8,15.75,null,null,null,null,null,200,0.25276746242263476,1.4484073543225244,6.1780797101449264E-2,1]
[null,null,"Virginia","Amherst",null,"Virginia-Amherst",44.79,98.3,16.600000000000001,null,null,null,null,null,150,0.25404878048780477,1.5191797782588019,5.1452307692307721E-2,0.99330769230769222]
[null,null,"Virginia","Appomattox",null,"Virginia-Appomattox",45,97.8,13.667,null,null,null,null,null,175,0.23121640735502108,1.9864695168705921,6.6331811263318066E-2,0.96879756468797562]
[null,null,"Virginia","Arlington",null,"Virginia-Arlington",45,105.1,15,null,null,null,null,null,null,null,""]
[null,null,"Virginia","Augusta",null,"Virginia-Augusta",40.51,104.8,15,null,null,null,null,null,150,0.2872052294030587,2.2563752193406645,6.5775658145745833E-2,0.99801602441816106]
[null,null,"Virginia","Bath",null,"Virginia-Bath",44.94,116.8,18,null,null,null,null,null,150,0.24945443645083934,0.96145337220600458,1.2981684981684984E-2,1]
[null,null,"Virginia","Bedford",null,"Virginia-Bedford",45.46,102,14,null,null,null,null,null,150,0.23760061579063196,2.2549054111746445,3.1424330616996482E-2,0.99679860302677536]
[null,null,"Virginia","Bedford City",null,"Virginia-Bedford City",45,99.3,14,null,null,null,null,null,null,null,""]
[null,null,"Virginia","Bland",null,"Virginia-Bland",37.619999999999997,124.2,17.332999999999998,null,null,null,null,null,150,0.23402909550917142,3.2559641047127901,3.4458333333333348E-2,1]
[null,null,"Virginia","Botetourt",null,"Virginia-Botetourt",43.22,109.8,15,null,null,null,null,null,150,0.25293353705118388,2.6836407923716061,7.645399698340874E-2,1]
[null,null,"Virginia","Bristol",null,"Virginia-Bristol",45,135,20,null,null,null,null,null,null,null,""]
[null,null,"Virginia","Brunswick",null,"Virginia-Brunswick",45,97.8,12,null,null,null,null,null,250,0.24708440629470707,0.76384108885694224,0.15229491525423727,1]
[null,null,"Virginia","Buchanan",null,"Virginia-Buchanan",45.02,132.1,17,null,null,null,null,null,150,0.17651322233104777,15.651460012474274,3.6178913738019174E-2,1]
[null,null,"Virginia","Buckingham",null,"Virginia-Buckingham",45,97.7,13.667,null,null,null,null,null,175,0.31671710348554405,1.5996390109869383,2.9878136200716852E-2,1]
[null,null,"Virginia","Buena Vista",null,"Virginia-Buena Vista",35.01,97.8,14,null,null,null,null,null,null,null,""]
[null,null,"Virginia","Campbell",null,"Virginia-Campbell",45,98.9,13,null,null,null,null,null,175,0.30058453802639834,1.5260577784998506,5.2488864142538963E-2,0.98218262806236079]
[null,null,"Virginia","Caroline",null,"Virginia-Caroline",45,99.3,14,null,null,null,null,null,200,0.24997331300038117,0.33032419880856834,0.16149999999999998,1]
[null,null,"Virginia","Carroll",null,"Virginia-Carroll",44.5,102.6,20.667000000000002,null,null,null,null,null,150,0.29779819579017747,3.4106459800584465,4.9189289012003701E-2,1]
[null,null,"Virginia","Charles City",null,"Virginia-Charles City",45,101.2,14,null,null,null,null,null,250,0.32241979835013745,0.25565563794639357,0.15579824561403507,1]
[null,null,"Virginia","Charlotte",null,"Virginia-Charlotte",45,97.1,12,null,null,null,null,null,200,0.28744101030242641,1.1109496268638022,4.5661408614668213E-2,0.97613504074505242]
[null,null,"Virginia","Charlottesville",null,"Virginia-Charlottesville",45,112.4,16.8,null,null,null,null,null,null,null,""]
[null,null,"Virginia","Chesapeake",null,"Virginia-Chesapeake",46.18,97.8,15.5,null,null,null,null,null,226.7238361918096,0.25698127065736326,0.29681118124107453,0.13770789473684214,1]
[null,null,"Virginia","Chesterfield",null,"Virginia-Chesterfield",45,97.8,14,null,null,null,null,null,150,0.3072735426008969,1.4375135446687106,1.4170860927152314E-2,1]
[null,null,"Virginia","Clarke",null,"Virginia-Clarke",35.229999999999997,97.8,13,null,null,null,null,null,null,null,""]
[null,null,"Virginia","Clifton Forge",null,"Virginia-Clifton Forge",35.01,111.8,18,null,null,null,null,null,null,null,""]
[null,null,"Virginia","Colonial Heights",null,"Virginia-Colonial Heights",45,97.8,14,null,null,null,null,null,null,null,""]
[null,null,"Virginia","Covington",null,"Virginia-Covington",35.01,102.1,18,null,null,null,null,null,146.83508488278093,0.26404435058078146,1.680297482872269,2.9316568047337274E-2,1]
[null,null,"Virginia","Craig",null,"Virginia-Craig",37.729999999999997,111.4,15,null,null,null,null,null,175,0.31957455596860795,1.0876154130055626,6.7066230580539635E-2,0.9568274734260015]
[null,null,"Virginia","Culpeper",null,"Virginia-Culpeper",45,97.8,15.5,null,null,null,null,null,175,0.25465471797575123,1.4610097985340651,2.3034482758620696E-2,1]
[null,null,"Virginia","Cumberland",null,"Virginia-Cumberland",45,97.8,12,null,null,null,null,null,null,null,""]
[null,null,"Virginia","Danville",null,"Virginia-Danville",45,112.5,12,null,null,null,null,null,150,0.18556962025316451,7.5556446029657103,4.7534722222222194E-2,1]
[null,null,"Virginia","Dickenson",null,"Virginia-Dickenson",45,122.9,18,null,null,null,null,null,250,0.30271600912944252,0.53672206339245809,0.20478550724637684,0.97826086956521741]
[null,null,"Virginia","Dinwiddie",null,"Virginia-Dinwiddie",45,97.6,14,null,null,null,null,null,null,null,""]
[null,null,"Virginia","Emporia",null,"Virginia-Emporia",45,97.8,14,null,null,null,null,null,250,0.23717632552404438,0.32694259395034453,0.22549019607843143,1]
[null,null,"Virginia","Essex",null,"Virginia-Essex",45,102.8,14,null,null,null,null,null,199.96374184191444,0.33619251336898387,0.83635501517962629,4.0500000000000001E-2,1]
[null,null,"Virginia","Fairfax",null,"Virginia-Fairfax",42.87,97.7,15,null,null,null,null,null,null,null,""]
[null,null,"Virginia","Fairfax City",null,"Virginia-Fairfax City",45,97.8,15,null,null,null,null,null,null,null,""]
[null,null,"Virginia","Falls Chruch",null,"Virginia-Falls Chruch",45,107.8,15,null,null,null,null,null,175,0.31866503067484664,1.1827451108697307,4.1638067061144077E-2,0.99921104536489158]
[null,null,"Virginia","Fauquier",null,"Virginia-Fauquier",43.89,98.6,14.5,null,null,null,null,null,150,0.29821623895666788,2.3445578274586962,2.3658682634730532E-2,1]
[null,null,"Virginia","Floyd",null,"Virginia-Floyd",46.91,103.4,16.332999999999998,null,null,null,null,null,175,0.33089722675367078,1.3412837686982384,2.2862500000000001E-2,1]
[null,null,"Virginia","Fluvanna",null,"Virginia-Fluvanna",45,97.7,14,null,null,null,null,null,150,0.27034136076689264,1.9490016028440527,8.3561391541609742E-2,0.98635743519781716]
[null,null,"Virginia","Franklin",null,"Virginia-Franklin",45,108.3,15.75,null,null,null,null,null,null,null,""]
[null,null,"Virginia","Franklin City",null,"Virginia-Franklin City",45,97.8,14,null,null,null,null,null,150,0.28701313320825472,2.1234550507432504,7.2359732824427495E-2,0.99618320610687028]
[null,null,"Virginia","Frederick",null,"Virginia-Frederick",35.03,100.9,13,null,null,null,null,null,null,null,""]
[null,null,"Virginia","Fredericksburg",null,"Virginia-Fredericksburg",45,112.5,14,null,null,null,null,null,null,null,""]
[null,null,"Virginia","Galax",null,"Virginia-Galax",45,97.8,20.667000000000002,null,null,null,null,null,150,0.25607142857142823,3.3256761576410483,3.4931818181818176E-3,1]
[null,null,"Virginia","Giles",null,"Virginia-Giles",36.76,106.8,16.399999999999999,null,null,null,null,null,250,0.25615384615384607,0.26983327539386415,0.1884942528735632,1]
[null,null,"Virginia","Gloucester",null,"Virginia-Gloucester",45,102.5,14,null,null,null,null,null,200,0.26738461538461533,0.97488960123072577,5.810313901345289E-2,1]
[null,null,"Virginia","Goochland",null,"Virginia-Goochland",45,97.8,14.5,null,null,null,null,null,150,0.23482952266345775,4.2512528095611799,2.3330578512396685E-2,1]
[null,null,"Virginia","Grayson",null,"Virginia-Grayson",46.95,109.7,22.75,null,null,null,null,null,150,0.26644028103044481,1.4043251632009748,4.3018461538461568E-2,1]
[null,null,"Virginia","Greene",null,"Virginia-Greene",46.14,108.5,17.25,null,null,null,null,null,250,0.30079348397267491,0.29411610205524069,0.26644979919678713,0.99397590361445787]
[null,null,"Virginia","Greensville",null,"Virginia-Greensville",45,97.8,14,null,null,null,null,null,200,0.26482916170043674,1.1613208830359618,0.10019525258673166,0.91859403530127814]
[null,null,"Virginia","Halifax",null,"Virginia-Halifax",45,98.3,12,null,null,null,null,null,null,null,""]
[null,null,"Virginia","Hampton",null,"Virginia-Hampton",45,97.8,15,null,null,null,null,null,200,0.24929591836734655,0.54384078268125891,0.1166116248348745,1]
[null,null,"Virginia","Hanover",null,"Virginia-Hanover",45,97.9,14,null,null,null,null,null,null,null,""]
[null,null,"Virginia","Harrisonburg",null,"Virginia-Harrisonburg",35.01,108.6,13.875,null,null,null,null,null,225,0.28169150521609543,0.54627849960907282,0.20767845659163994,1]
[null,null,"Virginia","Henrico",null,"Virginia-Henrico",45,97.8,14,null,null,null,null,null,175,0.25523260776781886,2.0217283151596699,4.9612277867528275E-2,1]
[null,null,"Virginia","Henry",null,"Virginia-Henry",45,109.2,15,null,null,null,null,null,123.58439201451905,0.24821226415094313,4.6162777644455613,3.2063893016344734E-2,1]
[null,null,"Virginia","Highland",null,"Virginia-Highland",43.07,127.5,18,null,null,null,null,null,null,null,""]
[null,null,"Virginia","Hopewell",null,"Virginia-Hopewell",45,106.9,14,null,null,null,null,null,250,0.26179345088161249,0.24636462686590979,0.23177516778523483,1]
[null,null,"Virginia","Isle of Wight",null,"Virginia-Isle of Wight",45,100.1,14,null,null,null,null,null,250,0.28516577540106963,0.5055960409883774,0.13729629629629628,1]
[null,null,"Virginia","James City",null,"Virginia-James City",45,112.5,14,null,null,null,null,null,250,0.24326458752515068,0.30428359359294593,0.258429799426934,1]
[null,null,"Virginia","King and Queen",null,"Virginia-King and Queen",45,111.4,14,null,null,null,null,null,200,0.28118249534450662,0.94655619545198044,9.2076305220883559E-2,1]
[null,null,"Virginia","King George",null,"Virginia-King George",45,98.1,15.5,null,null,null,null,null,250,0.26290588235294099,0.26577387554869036,0.22563600782778864,1]
[null,null,"Virginia","King William",null,"Virginia-King William",45,107.4,14,null,null,null,null,null,250,0.21670276774969927,0.19599465460404414,0.17171257485029942,1]
[null,null,"Virginia","Lancaster",null,"Virginia-Lancaster",45,97.8,14,null,null,null,null,null,150,0.2623244552058111,6.1628875693710548,3.854842342342342E-2,1]
[null,null,"Virginia","Lee",null,"Virginia-Lee",54.44,120.9,22.856999999999999,null,null,null,null,null,null,null,""]
[null,null,"Virginia","Lexington",null,"Virginia-Lexington",35.01,97.8,14,null,null,null,null,null,150,0.32744518879415463,0.92715548424868988,3.0642887586574307E-2,1]
[null,null,"Virginia","Loudoun",null,"Virginia-Loudoun",42.66,95.7,14.4,null,null,null,null,null,175,0.30920544476100043,0.8675458189372901,8.2922314049586748E-2,1]
[null,null,"Virginia","Louisa",null,"Virginia-Louisa",45,97.8,14,null,null,null,null,null,200,0.3135291970802917,1.1013109264155272,6.7482035928143752E-2,1]
[null,null,"Virginia","Lunenburg",null,"Virginia-Lunenburg",45,96.4,12,null,null,null,null,null,175,0.28900549115314195,1.4523367730605565,2.0340425531914882E-2,1]
[null,null,"Virginia","Lynchburg",null,"Virginia-Lynchburg",45,97.8,16.600000000000001,null,null,null,null,null,null,null,""]
[null,null,"Virginia","Madison",null,"Virginia-Madison",46.05,103.8,15.75,null,null,null,null,null,null,null,""]
[null,null,"Virginia","Manassas City",null,"Virginia-Manassas City",35.01,83,15,null,null,null,null,null,null,null,""]
[null,null,"Virginia","Manassas Park City",null,"Virginia-Manassas Park City",35.01,83,15,null,null,null,null,null,250,0.22533707865168551,0.17140153156377236,0.17244761904761904,1]
[null,null,"Virginia","Martinsville",null,"Virginia-Martinsville",45,112.5,15,null,null,null,null,null,225,0.31600164880461656,0.72766355211761569,0.13555715871254165,1]
[null,null,"Virginia","Mathews",null,"Virginia-Mathews",45,97.8,14,null,null,null,null,null,250,0.25764354066985656,0.30176550216624204,0.18030769230769231,1]
[null,null,"Virginia","Mecklenburg",null,"Virginia-Mecklenburg",45,95.9,12,null,null,null,null,null,149.02449149024491,0.2871434859154931,2.8291685042697465,3.8753378378378389E-2,0.9932432432432432]
[null,null,"Virginia","Middlesex",null,"Virginia-Middlesex",45,98.5,14,null,null,null,null,null,175,0.22701476793248962,2.5442462471686578,4.080278422273783E-2,0.9860788863109049]
[null,null,"Virginia","Montgomery",null,"Virginia-Montgomery",36.33,107.8,16.332999999999998,null,null,null,null,null,225,0.32378881987577623,1.4005982914966939,0.20111111111111113,1]
[null,null,"Virginia","Nelson",null,"Virginia-Nelson",45.8,103.9,17.25,null,null,null,null,null,null,null,""]
[null,null,"Virginia","New Kent",null,"Virginia-New Kent",45,107.4,14,null,null,null,null,null,250,0.22578787878787882,0.15308119596063435,0.23798015873015882,1]
[null,null,"Virginia","Newport News",null,"Virginia-Newport News",45,100.8,14,null,null,null,null,null,250,0.22772007042253531,0.28089038502019448,0.2111201923076923,1]
[null,null,"Virginia","Norfolk",null,"Virginia-Norfolk",45,97.8,15,null,null,null,null,null,null,null,""]
[null,null,"Virginia","Northampton",null,"Virginia-Northampton",45,97.8,15,null,null,null,null,null,200,0.23971919770773628,1.1125149258818621,6.6914956011730212E-2,1]
[null,null,"Virginia","Northumberland",null,"Virginia-Northumberland",44.85,97.1,15.5,null,null,null,null,null,175,0.34239391143911407,1.0540211134135151,5.117764471057884E-2,0.99121756487025947]
[null,null,"Virginia","Norton",null,"Virginia-Norton",45,135,21,null,null,null,null,null,150.7308160779537,0.29183812405446269,1.1274889410654723,4.0090311986863712E-2,1]
[null,null,"Virginia","Nottoway",null,"Virginia-Nottoway",45,97.8,16.8,null,null,null,null,null,150,0.29814977973568291,2.6351618124535676,3.5971684053651268E-2,0.99523099850968699]
[null,null,"Virginia","Orange",null,"Virginia-Orange",45,97.8,15.75,null,null,null,null,null,null,null,""]
[null,null,"Virginia","Page",null,"Virginia-Page",37.950000000000003,102.9,13,null,null,null,null,null,175,0.24955047318611931,1.2168883006878159,0.1006225972808253,0.97737927801218938]
[null,null,"Virginia","Patrick",null,"Virginia-Patrick",51.41,108.9,17.332999999999998,null,null,null,null,null,null,null,""]
[null,null,"Virginia","Petersburg",null,"Virginia-Petersburg",45,97.8,14,null,null,null,null,null,200,0.28243127672571772,0.54431216778552194,4.9873684210526341E-2,1]
[null,null,"Virginia","Pittsylvania",null,"Virginia-Pittsylvania",45,108.4,13,null,null,null,null,null,175,0.26515638963360111,0.88880872965185109,1.9337837837837844E-2,1]
[null,null,"Virginia","Poquoson City",null,"Virginia-Poquoson City",45,97.8,15,null,null,null,null,null,250,0.32800453514739231,0.3287563433064653,6.4208860759493655E-2,1]
[null,null,"Virginia","Portsmouth",null,"Virginia-Portsmouth",45,97.8,15,null,null,null,null,null,174.65500246426811,0.33961928934010155,0.74978309557773104,3.7293706293706277E-2,0.99067599067599066]
[null,null,"Virginia","Powhatan",null,"Virginia-Powhatan",45,95.8,15.5,null,null,null,null,null,150,0.28166095890410964,3.3863040554193642,2.1360000000000028E-2,0.97646153846153849]
[null,null,"Virginia","Prince Edward",null,"Virginia-Prince Edward",45,97.8,12,null,null,null,null,null,null,null,""]
[null,null,"Virginia","Prince George",null,"Virginia-Prince George",45,97.8,14,null,null,null,null,null,175,0.26923208191126285,1.5545352574230995,1.7591125198098256E-2,1]
[null,null,"Virginia","Prince William",null,"Virginia-Prince William",38.979999999999997,94.4,15,null,null,null,null,null,250,0.22892674616695055,0.30109181958611003,0.11774344023323616,1]
[null,null,"Virginia","Pulaski",null,"Virginia-Pulaski",35.14,97.3,17,null,null,null,null,null,150,0.2332555425904316,2.9012510007954262,3.7051020408163271E-2,1]
[null,null,"Virginia","Radford",null,"Virginia-Radford",35.01,97.8,16.332999999999998,null,null,null,null,null,null,null,""]
[null,null,"Virginia","Rappahannock",null,"Virginia-Rappahannock",45,100.3,15,null,null,null,null,null,150,0.25318369945877084,3.8418658869427951,3.2969945355191273E-2,0.98907103825136611]
[null,null,"Virginia","Richmond",null,"Virginia-Richmond",45,97.8,15.5,null,null,null,null,null,150,0.30064389697648386,1.7354508185470099,9.8105943909585366E-2,1]
[null,null,"Virginia","Richmond City",null,"Virginia-Richmond City",45,97.8,14,null,null,null,null,null,150,0.28134723601456435,6.1967165200396792,2.5415603900975258E-2,1]
[null,null,"Virginia","Roanoke",null,"Virginia-Roanoke",41.36,108.3,14.5,null,null,null,null,null,null,null,""]
[null,null,"Virginia","Roanoke City",null,"Virginia-Roanoke City",45,112.5,15,null,null,null,null,null,150,0.26051707317073136,6.6063370964307682,2.9132056451612896E-2,1]
[null,null,"Virginia","Rockbridge",null,"Virginia-Rockbridge",41.21,101.4,15,null,null,null,null,null,150,0.2950386335908905,1.9089186420162494,5.4457786116322696E-2,1]
[null,null,"Virginia","Rockingham",null,"Virginia-Rockingham",36.24,107.6,13.875,null,null,null,null,null,150,0.2736260623229464,2.7832195547617333,4.8200000000000021E-2,1]
[null,null,"Virginia","Russell",null,"Virginia-Russell",45.11,135,18,null,null,null,null,null,null,null,""]
[null,null,"Virginia","Salem",null,"Virginia-Salem",42.52,109.3,15,null,null,null,null,null,250,0.252630480167015,0.22829582661633677,0.22936883116883125,0.9948051948051948]
[null,null,"Virginia","Scott",null,"Virginia-Scott",45.66,132.80000000000001,18.5,null,null,null,null,null,175,0.28754694366759892,0.61083719827305549,0.12502486187845305,1]
[null,null,"Virginia","Shenandoah",null,"Virginia-Shenandoah",35.020000000000003,106.1,12,null,null,null,null,null,175,0.31434085943190099,1.2222231281402189,0.13685239852398531,1]
[null,null,"Virginia","Smyth",null,"Virginia-Smyth",45.7,134.19999999999999,19,null,null,null,null,null,null,null,""]
[null,null,"Virginia","South Boston",null,"Virginia-South Boston",45,97.8,12,null,null,null,null,null,250,0.29330513254371132,0.29161744273238888,0.18543617021276596,1]
[null,null,"Virginia","Southampton",null,"Virginia-Southampton",45,97.8,14,null,null,null,null,null,250,0.24528783958602879,0.29158468652081526,0.28896955503512889,0.99414519906323184]
[null,null,"Virginia","Spotsylvania",null,"Virginia-Spotsylvania",45,98.7,14,null,null,null,null,null,150,0.23734510532837663,4.7097480914618934,4.3365441906653451E-2,1]
[null,null,"Virginia","Stafford",null,"Virginia-Stafford",44.65,99.7,14,null,null,null,null,null,150,0.29210017574692437,2.1084951406303594,2.59915254237288E-2,1]
[null,null,"Virginia","Staunton",null,"Virginia-Staunton",35.01,97.8,15,null,null,null,null,null,150,0.3067473745624274,3.979391820843285,3.7682308180088761E-2,1]
[null,null,"Virginia","Suffolk",null,"Virginia-Suffolk",45,101.6,15,null,null,null,null,null,null,null,""]
[null,null,"Virginia","Surry",null,"Virginia-Surry",45,100.8,14,null,null,null,null,null,250,0.27119214586255275,0.30303004289663121,0.16596347031963471,0.9780821917808219]
[null,null,"Virginia","Sussex",null,"Virginia-Sussex",45,92.9,14,null,null,null,null,null,null,null,""]
[null,null,"Virginia","Tazewell",null,"Virginia-Tazewell",44.1,135,18,null,null,null,null,null,null,null,""]
[null,null,"Virginia","Virginia Beach",null,"Virginia-Virginia Beach",45,97.8,16,null,null,null,null,null,150,0.19737049549549557,9.9663137311300769,3.3009009009009001E-2,1]
[null,null,"Virginia","Warren",null,"Virginia-Warren",37.4,98.3,13,null,null,null,null,null,150,0.2958243512974052,2.7003636220108063,4.7943356643356631E-2,0.99370629370629371]
[null,null,"Virginia","Washington",null,"Virginia-Washington",45.4,134.1,21,null,null,null,null,null,250,0.25558300395256905,0.23642589277798101,0.20285714285714285,1]
[null,null,"Virginia","Waynesboro",null,"Virginia-Waynesboro",40.31,97.8,15,null,null,null,null,null,300,0.29028551034975042,9.9204457980249877E-2,0.18531150793650791,1]
[null,null,"Virginia","Westmoreland",null,"Virginia-Westmoreland",45,97.8,15.5,null,null,null,null,null,161.20689655172413,0.26877192982456138,""]
[null,null,"Virginia","Williamsburg",null,"Virginia-Williamsburg",45,112.5,14,null,null,null,null,null,300,null,""]
[null,null,"Virginia","Winchester",null,"Virginia-Winchester",35.01,97.8,12,null,null,null,null,null,300,null,0.2089816072509581,4.2000000000000003E-2,1]
[null,null,"Virginia","Wise",null,"Virginia-Wise",45.85,131.19999999999999,21,null,null,null,null,null,225,0.29901098901098905,""]
[null,null,"Virginia","Wythe",null,"Virginia-Wythe",37.18,107.9,17,null,null,null,null,null,300,0.18580687830687814,0.21058694451804721,0.26234904601571252,1]
[null,null,"Virginia","York",null,"Virginia-York",45,105.3,14,null,null,null,null,null,300,0.28045714285714307,9.9277314551926926E-2,0.21141106719367586,1]
[null,null,"Washington","Adams",null,"Washington-Adams",9.91,70.7,0.56699999999999995,null,null,null,null,null,16.430677032717849,0.45728759806376179,1.3445938617083582,0.14561768149882914,1]
[null,null,"Washington","Asotin",null,"Washington-Asotin",18.18,98.6,6.6669999999999998,null,null,null,null,null,38.989966555183948,0.27667746686303424,14.640669411278958,4.7949545913218941E-2,0.9904809956273124]
[null,null,"Washington","Benton",null,"Washington-Benton",8.5,54.7,2.5,null,null,null,null,null,10.194997684113016,0.47043797534749576,2.2904715037321073,0.16103447350771299,1]
[null,null,"Washington","Chelan",null,"Washington-Chelan",45.07,117.2,23.236999999999998,null,null,null,null,null,25.645564892623717,0.2837400950871633,15.464865180412122,3.0097363796133571E-2,1]
[null,null,"Washington","Clallam",null,"Washington-Clallam",82.85,169,66.25,null,null,null,null,null,99.130297280202399,0.23118102288021539,0.25867417881950683,0.17476138433515484,1]
[null,null,"Washington","Clark",null,"Washington-Clark",65.900000000000006,160.4,46.667000000000002,null,null,null,null,null,64.102240228789327,0.29282164121149368,0.40802947020291863,3.2158730158730227E-2,1]
[null,null,"Washington","Columbia",null,"Washington-Columbia",28.71,111.1,11,null,null,null,null,null,45.521619595101228,0.3742353257942917,11.298771648008724,9.2276641221373967E-2,0.910290076335878]
[null,null,"Washington","Cowlitz",null,"Washington-Cowlitz",76.12,173.7,63.332999999999998,null,null,null,null,null,82.887130362349026,0.25882082254817368,1.1517635083113993,2.3758181818181821E-2,1]
[null,null,"Washington","Douglas",null,"Washington-Douglas",11.04,65,1.74,null,null,null,null,null,17.045646661031277,0.35661827420379277,2.754769871748298,9.2034207422193995E-2,0.99898375827964792]
[null,null,"Washington","Ferry",null,"Washington-Ferry",19.34,91,2.5,null,null,null,null,null,22.437307041131362,0.29304493628437323,7.4949039892511475,3.3897308781869681E-2,1]
[null,null,"Washington","Franklin",null,"Washington-Franklin",8.5,63.2,0.35,null,null,null,null,null,12.251443569553805,0.45686957719322457,1.9233531322402766,0.19150359003238107,1]
[null,null,"Washington","Garfield",null,"Washington-Garfield",20.399999999999999,99.4,8.3330000000000002,null,null,null,null,null,45.853846153846156,0.34228922549299839,6.9521377436692733,8.202226345083484E-2,0.91944032158317868]
[null,null,"Washington","Grant",null,"Washington-Grant",8.5399999999999991,48.5,0.35,null,null,null,null,null,11.454266501273095,0.36711154513888844,1.1103910499504941,0.14479031646049931,1]
[null,null,"Washington","Grays Harbor",null,"Washington-Grays Harbor",89.68,177.2,104,null,null,null,null,null,119.50489711564381,0.25013961605584634,0.17361525434289463,2.8853813559322029E-2,1]
[null,null,"Washington","Island",null,"Washington-Island",26.76,135,15,null,null,null,null,null,13.948033707865168,0.17323051948051962,0.49610912617817132,7.6751037344398351E-2,1]
[null,null,"Washington","Jefferson",null,"Washington-Jefferson",87.63,173.4,60.454999999999998,null,null,null,null,null,126.97287872917474,0.18780965391621104,1.2148129203759559,1.9812227074235807E-2,1]
[null,null,"Washington","King",null,"Washington-King",71.680000000000007,168.8,55.454999999999998,null,null,null,null,null,23.227105585711783,0.20102249062890479,0.51187014843308964,7.5245508982035919E-3,1]
[null,null,"Washington","Kitsap",null,"Washington-Kitsap",51.51,146.4,30,null,null,null,null,null,46.955213435969206,0.15915346121768148,0.46173434136245073,3.5252525252525268E-3,1]
[null,null,"Washington","Kittitas",null,"Washington-Kittitas",37.229999999999997,106.7,22.456,null,null,null,null,null,33.364627384644301,0.24698291225495328,5.4713273484744462,3.1874749316317237E-2,0.9996171376481312]
[null,null,"Washington","Klickitat",null,"Washington-Klickitat",23.72,87.4,12.012,null,null,null,null,null,47.407647493230492,0.29487304687499999,3.2417387982373098,6.7916870415647881E-2,1]
[null,null,"Washington","Lewis",null,"Washington-Lewis",70.89,168.4,60,null,null,null,null,null,70.571810225702436,0.23649893141635894,0.67934312603640745,8.9868918918919002E-2,1]
[null,null,"Washington","Lincoln",null,"Washington-Lincoln",13.28,75.400000000000006,0.92500000000000004,null,null,null,null,null,29.707033598290028,0.39555095040731747,1.7339463670722914,0.14993074082447827,0.99657849122013731]
[null,null,"Washington","Mason",null,"Washington-Mason",81.72,171.2,65.385000000000005,null,null,null,null,null,127.88696337140607,0.18514996512438944,0.14289121548124351,1.0617391304347825E-2,1]
[null,null,"Washington","Okanogan",null,"Washington-Okanogan",24.34,89.5,18.146999999999998,null,null,null,null,null,35.971767184619438,0.26254476793762921,7.1801508162673064,3.5508568781843393E-2,1]
[null,null,"Washington","Pacific",null,"Washington-Pacific",91.65,179.4,68.888999999999996,null,null,null,null,null,117.85912958115183,0.2360402082211448,0.16375234064099339,3.1698581560283705E-2,1]
[null,null,"Washington","Pend Oreille",null,"Washington-Pend Oreille",38.61,132.80000000000001,19.167000000000002,null,null,null,null,null,36.284221259240375,0.3054016463241559,0.92324937352323211,1.8159274193548364E-2,1]
[null,null,"Washington","Pierce",null,"Washington-Pierce",64.209999999999994,164.2,34,null,null,null,null,null,47.007423403968147,0.19304704425874372,0.4002805309823963,6.5178761061946908E-2,1]
[null,null,"Washington","San Juan",null,"Washington-San Juan",32.78,135,54,null,null,null,null,null,19.64979639325189,0.23215568862275465,2.4306072392812794,4.5352112676056364E-3,1]
[null,null,"Washington","Skagit",null,"Washington-Skagit",75.25,169.5,54,null,null,null,null,null,43.314547206165706,0.23008593475973352,0.56476878880227577,8.175404780262148E-2,1]
[null,null,"Washington","Skamania",null,"Washington-Skamania",87.99,167,62.5,null,null,null,null,null,90.006939501779357,0.23101332256762255,3.2219693853411342,0.16574733096085409,1]
[null,null,"Washington","Snohomish",null,"Washington-Snohomish",78.14,174.4,57.667000000000002,null,null,null,null,null,38.363861727034845,0.23383639822447688,0.32738401227639474,3.1954986149584509E-2,1]
[null,null,"Washington","Spokane",null,"Washington-Spokane",19.37,99.4,6.4,null,null,null,null,null,50.731748575498578,0.31201320132013161,1.9149681126147493,0.10796759795007434,0.99307654157712022]
[null,null,"Washington","Stevens",null,"Washington-Stevens",25.19,104.6,4.3330000000000002,null,null,null,null,null,21.937060868278973,0.28447157135834805,3.418081907078705,3.2020391177694577E-2,0.99987515605493127]
[null,null,"Washington","Thurston",null,"Washington-Thurston",53.52,157.5,31.111000000000001,null,null,null,null,null,56.784255946116609,0.24200724637681195,0.35630284991350564,2.3639937106918224E-2,1]
[null,null,"Washington","Wahkiakum",null,"Washington-Wahkiakum",87.61,177.2,72,null,null,null,null,null,127.31841359773371,0.23871508379888282,0.21025132017926504,3.0589147286821695E-2,1]
[null,null,"Washington","Walla Walla",null,"Washington-Walla Walla",15.91,84.4,4.8140000000000001,null,null,null,null,null,33.004091948489588,0.41881788297172945,5.7817209126488258,0.14318161774838067,0.99942124844977265]
[null,null,"Washington","Whatcom",null,"Washington-Whatcom",72.17,168.3,57.273000000000003,null,null,null,null,null,46.258000000000003,0.24093028010631776,0.30329116323759414,4.7896487985212614E-2,0.9985212569316082]
[null,null,"Washington","Whitman",null,"Washington-Whitman",17.79,96.1,1.5,null,null,null,null,null,46.670685324721923,0.35477045908183641,5.4998609739793363,0.1691466029150922,0.8977388756073108]
[null,null,"Washington","Yakima",null,"Washington-Yakima",26.84,84.7,18.399999999999999,null,null,null,null,null,32.48950493198074,0.35668423905010577,3.645983427741438,8.0995638200183642E-2,0.99802188552188553]
[null,null,"West Virginia","Barbour",null,"West Virginia-Barbour",45.69,148.30000000000001,25,null,null,null,null,null,150,0.27365675057208227,2.8665823755962747,1.2223636363636364E-2,1]
[null,null,"West Virginia","Berkeley",null,"West Virginia-Berkeley",35.01,100.9,14,null,null,null,null,null,150,0.27604352126607318,0.62413712131705201,4.070777777777778E-2,1]
[null,null,"West Virginia","Boone",null,"West Virginia-Boone",45,135,19,null,null,null,null,null,150,0.19618142144638415,10.020839758305677,0.15076249999999997,1]
[null,null,"West Virginia","Braxton",null,"West Virginia-Braxton",45.77,135,25,null,null,null,null,null,150,0.30320610687022931,5.6605106410465771,1.1084367245657572E-2,1]
[null,null,"West Virginia","Brooke",null,"West Virginia-Brooke",35.01,135,15,null,null,null,null,null,150,0.35553380782918181,2.7061615317385681,2.9223404255319149E-2,0.9813829787234043]
[null,null,"West Virginia","Cabell",null,"West Virginia-Cabell",45,135,15,null,null,null,null,null,150,0.31603089720736743,3.7079262639093189,2.988501742160278E-2,1]
[null,null,"West Virginia","Calhoun",null,"West Virginia-Calhoun",45,135,20,null,null,null,null,null,150,0.32594624860022342,4.1731993680823116,3.0493449781659396E-2,0.98034934497816595]
[null,null,"West Virginia","Clay",null,"West Virginia-Clay",45.13,135,25,null,null,null,null,null,150,0.27241979835013785,4.5327299095256786,5.7514492753623199E-2,1]
[null,null,"West Virginia","Doddridge",null,"West Virginia-Doddridge",45,135,16.332999999999998,null,null,null,null,null,150,0.33432634730538946,6.470124962656727,3.3639821029082785E-2,1]
[null,null,"West Virginia","Fayette",null,"West Virginia-Fayette",45.51,135,21,null,null,null,null,null,150,0.24607126002831586,4.9930869278942112,4.828382838283829E-2,1]
[null,null,"West Virginia","Gilmer",null,"West Virginia-Gilmer",45,135,20,null,null,null,null,null,150,0.33660342434058277,9.1133783162992863,3.6868735083532223E-2,1]
[null,null,"West Virginia","Grant",null,"West Virginia-Grant",38.72,140.6,19.75,null,null,null,null,null,133.55870712401057,0.23825964912280712,1.0891596135772674,3.3265040650406523E-2,1]
[null,null,"West Virginia","Greenbrier",null,"West Virginia-Greenbrier",46.45,132.19999999999999,22,null,null,null,null,null,150,0.25582035494386085,2.7818812589588666,5.1536082474226821E-2,0.99175257731958766]
[null,null,"West Virginia","Hampshire",null,"West Virginia-Hampshire",35.020000000000003,112.3,14,null,null,null,null,null,125,0.2268260325406754,1.7223873531006053,2.8355468750000015E-2,0.99375000000000002]
[null,null,"West Virginia","Hancock",null,"West Virginia-Hancock",35.01,135,14.5,null,null,null,null,null,150,0.25310408921933103,1.8518576639575111,3.7697841726618692E-2,0.99136690647482018]
[null,null,"West Virginia","Hardy",null,"West Virginia-Hardy",35.15,114.6,14.429,null,null,null,null,null,125,0.23188934297390756,1.3716400473776442,8.4030625832223732E-2,1]
[null,null,"West Virginia","Harrison",null,"West Virginia-Harrison",45,135.1,20,null,null,null,null,null,150,0.33428959627329191,5.5969166572610085,2.6423284313725492E-2,1]
[null,null,"West Virginia","Jackson",null,"West Virginia-Jackson",44.8,135,17,null,null,null,null,null,150,0.3384571041030861,2.3480734463425184,3.4080993520518334E-2,1]
[null,null,"West Virginia","Jefferson",null,"West Virginia-Jefferson",35.04,99.2,12.667,null,null,null,null,null,150,0.3151742424242423,0.66053708956061419,3.9272835112692743E-2,1]
[null,null,"West Virginia","Kanawha",null,"West Virginia-Kanawha",45,135,21,null,null,null,null,null,150,0.27170418571931093,3.8970758153364304,5.2772616136919318E-2,1]
[null,null,"West Virginia","Lewis",null,"West Virginia-Lewis",45.14,140.80000000000001,22.5,null,null,null,null,null,150,0.33500215424386043,2.6775561282769633,7.2864814814814771E-2,1]
[null,null,"West Virginia","Lincoln",null,"West Virginia-Lincoln",45,135,16,null,null,null,null,null,150,0.24835719398711503,3.8395941618357932,9.0383333333333357E-2,1]
[null,null,"West Virginia","Logan",null,"West Virginia-Logan",45,135,17,null,null,null,null,null,150,0.20062392278524654,10.832493950455021,0.26273633440514477,1]
[null,null,"West Virginia","Marion",null,"West Virginia-Marion",45,135,19,null,null,null,null,null,150,0.20633136094674565,16.016343830881961,0.15492473118279571,1]
[null,null,"West Virginia","Marshall",null,"West Virginia-Marshall",43.26,135,16,null,null,null,null,null,150,0.34393229166666645,4.7000595932569329,2.7959999999999995E-2,1]
[null,null,"West Virginia","Mason",null,"West Virginia-Mason",45,135,16,null,null,null,null,null,150,0.34589809572825503,4.1429593092457866,2.4984984984984991E-2,0.98498498498498499]
[null,null,"West Virginia","McDowell",null,"West Virginia-McDowell",43.82,135,16.667000000000002,null,null,null,null,null,150,0.36686594202898509,1.5366962655227243,8.5346820809248533E-2,1]
[null,null,"West Virginia","Mercer",null,"West Virginia-Mercer",35.659999999999997,134.4,17.428999999999998,null,null,null,null,null,150,0.24740022379709067,4.9010864960142699,8.6824457593688356E-3,1]
[null,null,"West Virginia","Mineral",null,"West Virginia-Mineral",35.71,125,21.332999999999998,null,null,null,null,null,129.9454459203036,0.25018737672583824,2.6145087151900386,3.0486153846153843E-2,1]
[null,null,"West Virginia","Mingo",null,"West Virginia-Mingo",45,134.19999999999999,16,null,null,null,null,null,150,0.19943572496263051,14.143128649007171,0.20773092369477919,1]
[null,null,"West Virginia","Monongalia",null,"West Virginia-Monongalia",45.01,136.69999999999999,20,null,null,null,null,null,150,0.31826106594399284,4.2609275048402084,0.1952016393442623,1]
[null,null,"West Virginia","Monroe",null,"West Virginia-Monroe",37.08,113.8,16.332999999999998,null,null,null,null,null,150,0.2834948708878674,4.7699216577464032,2.6176411290322586E-2,0.99299395161290316]
[null,null,"West Virginia","Morgan",null,"West Virginia-Morgan",35.130000000000003,101.3,14,null,null,null,null,null,150,0.23065467625899302,6.4913950653354258,9.2441947565543095E-2,1]
[null,null,"West Virginia","Nicholas",null,"West Virginia-Nicholas",50.97,137.5,30,null,null,null,null,null,150,0.26140678411780205,2.0587661168326221,3.6203124999999996E-2,1]
[null,null,"West Virginia","Ohio",null,"West Virginia-Ohio",35.01,135,15.5,null,null,null,null,null,150,0.35858208955223869,2.7587906980319552,4.9368200836820086E-2,0.89665271966527205]
[null,null,"West Virginia","Pendleton",null,"West Virginia-Pendleton",38.51,127.1,16.273,null,null,null,null,null,128.31469648562302,0.23408687381103374,2.1016170957463109,5.0648083623693385E-2,1]
[null,null,"West Virginia","Pleasants",null,"West Virginia-Pleasants",45,135,15,null,null,null,null,null,150,0.35240384615384596,3.6552945163256556,3.3789473684210536E-2,1]
[null,null,"West Virginia","Pocahontas",null,"West Virginia-Pocahontas",51.24,145.6,28.332999999999998,null,null,null,null,null,150,0.25429679922405407,3.0903597132544784,3.2016774193548377E-2,1]
[null,null,"West Virginia","Preston",null,"West Virginia-Preston",52.35,162.69999999999999,27.5,null,null,null,null,null,150,0.28827408678597721,3.3498483958767338,6.4362357080035154E-2,1]
[null,null,"West Virginia","Putnam",null,"West Virginia-Putnam",45,135,16,null,null,null,null,null,150,0.30447047797563265,3.6133785130447209,1.1854447439353101E-2,1]
[null,null,"West Virginia","Raleigh",null,"West Virginia-Raleigh",44.14,135,18,null,null,null,null,null,150,0.26746707978311357,3.1836099764079728,8.2128352490421455E-2,1]
[null,null,"West Virginia","Randolph",null,"West Virginia-Randolph",56.15,165,32,null,null,null,null,null,150,0.23507828594973179,3.7954627481729379,2.7588138385502468E-2,1]
[null,null,"West Virginia","Ritchie",null,"West Virginia-Ritchie",45,135,18,null,null,null,null,null,150,0.33060920733817978,4.0430062189985172,2.4533199195171027E-2,1]
[null,null,"West Virginia","Roane",null,"West Virginia-Roane",45,135,19,null,null,null,null,null,150,0.32386658031088117,6.1596986369007887,2.5161073825503359E-2,1]
[null,null,"West Virginia","Summers",null,"West Virginia-Summers",36.869999999999997,132,16,null,null,null,null,null,150,0.25631290483308433,2.3220346282231601,4.5467980295566507E-2,1]
[null,null,"West Virginia","Taylor",null,"West Virginia-Taylor",45,135,20,null,null,null,null,null,150,0.32468435498627657,3.0466543935108343,1.7859504132231408E-2,1]
[null,null,"West Virginia","Tucker",null,"West Virginia-Tucker",57.81,164.9,28.332999999999998,null,null,null,null,null,150,0.23565167243367913,3.5324698903274463,6.4502590673575125E-2,1]
[null,null,"West Virginia","Tyler",null,"West Virginia-Tyler",45,135,18,null,null,null,null,null,150,0.35437614120511274,3.5652457897762635,1.3810096153846155E-2,1]
[null,null,"West Virginia","Upshur",null,"West Virginia-Upshur",50.94,163.6,30,null,null,null,null,null,150,0.2739510022271715,3.3236711578556024,1.9442105263157896E-2,1]
[null,null,"West Virginia","Wayne",null,"West Virginia-Wayne",45,135,15,null,null,null,null,null,150,0.25012543554007,3.3149886854362083,0.13318162839248435,1]
[null,null,"West Virginia","Webster",null,"West Virginia-Webster",58.42,149.4,35,null,null,null,null,null,150,0.2481360638667133,3.6524825845683706,2.7989247311827954E-2,1]
[null,null,"West Virginia","Wetzel",null,"West Virginia-Wetzel",45,135,18,null,null,null,null,null,150,0.33125925925925886,4.539142249095903,2.3332214765100674E-2,1]
[null,null,"West Virginia","Wirt",null,"West Virginia-Wirt",45,135,17,null,null,null,null,null,150,0.3646720214190089,2.8884210014071283,1.9977941176470594E-2,1]
[null,null,"West Virginia","Wood",null,"West Virginia-Wood",40.409999999999997,134.30000000000001,16,null,null,null,null,null,150,0.34862393162393146,4.4585010323267635,3.7957446808510639E-2,1]
[null,null,"West Virginia","Wyoming",null,"West Virginia-Wyoming",43.88,135,17,null,null,null,null,null,150,0.20149513912168948,7.2456603337978231,0.1247679347826087,1]
[null,null,"Wisconsin","Adams",null,"Wisconsin-Adams",35.01,97.8,10,null,null,null,null,null,140.09074410163339,0.166775353016688,0.23445025111309259,0.17749205020920494,1]
[null,null,"Wisconsin","Ashland",null,"Wisconsin-Ashland",35.01,126.4,14,null,null,null,null,null,100,0.30201490683229842,0.45650925461616243,3.193895870736084E-2,1]
[null,null,"Wisconsin","Barron",null,"Wisconsin-Barron",35.01,97.8,9,null,null,null,null,null,140.13352073085031,0.3055569007263923,0.48984908131677346,8.8460260972716351E-2,0.97298339264531442]
[null,null,"Wisconsin","Bayfield",null,"Wisconsin-Bayfield",34.42,112.9,14,null,null,null,null,null,100,0.28915820278877619,0.38079758090275673,2.4293670886075949E-2,1]
[null,null,"Wisconsin","Brown",null,"Wisconsin-Brown",28.25,101.2,8,null,null,null,null,null,100,0.3284260977118118,0.40998762720835041,0.10103557814485388,0.98172384582803895]
[null,null,"Wisconsin","Buffalo",null,"Wisconsin-Buffalo",35.01,97.8,6,null,null,null,null,null,160,0.29555709662505775,2.2707804371715521,6.4523664870161701E-2,0.90421362077413037]
[null,null,"Wisconsin","Burnett",null,"Wisconsin-Burnett",34.950000000000003,97.8,11,null,null,null,null,null,130,0.18536349771225177,0.64776279319649965,6.7584108199492829E-2,0.99556213017751483]
[null,null,"Wisconsin","Calumet",null,"Wisconsin-Calumet",33.39,98.5,8,null,null,null,null,null,100,0.31475531914893579,0.26602959851612995,0.11827626459143982,0.94260700389105057]
[null,null,"Wisconsin","Chippewa",null,"Wisconsin-Chippewa",35.01,97.8,9,null,null,null,null,null,150,0.29054318026045239,0.67135112227967142,8.0817587019104797E-2,0.96741690656896095]
[null,null,"Wisconsin","Clark",null,"Wisconsin-Clark",35.01,99.8,10,null,null,null,null,null,150,0.31518106942083912,0.36939082569854875,8.2590187248162944E-2,0.98807774354112343]
[null,null,"Wisconsin","Columbia",null,"Wisconsin-Columbia",35.01,97.8,8,null,null,null,null,null,140,0.25902338376891287,0.65356877150692616,0.14913741162004296,0.9587457731324931]
[null,null,"Wisconsin","Crawford",null,"Wisconsin-Crawford",35.01,97.3,6,null,null,null,null,null,170,0.31712743628185891,2.742948022862433,5.0334214002642028E-2,0.73447820343461045]
[null,null,"Wisconsin","Dane",null,"Wisconsin-Dane",35.01,98.2,8,null,null,null,null,null,150,0.32762683201803783,0.82761925024650362,0.15134721203228174,0.94372707263389577]
[null,null,"Wisconsin","Dodge",null,"Wisconsin-Dodge",35.01,99.9,8,null,null,null,null,null,130,0.3264306585749604,0.54469725681958303,0.16975478645066278,0.97814187530682384]
[null,null,"Wisconsin","Door",null,"Wisconsin-Door",34.96,110.9,17.25,null,null,null,null,null,90,0.28714285714285648,0.38852348062341335,6.9586057988895778E-2,0.99703886489821103]
[null,null,"Wisconsin","Douglas",null,"Wisconsin-Douglas",33.1,104,14,null,null,null,null,null,109.91853834516466,0.27776470588235286,0.4033709035371888,2.0346153846153816E-2,1]
[null,null,"Wisconsin","Dunn",null,"Wisconsin-Dunn",34.96,96.9,7,null,null,null,null,null,150,0.27413871951219526,0.74108904243840446,0.12656941431670268,0.97308839479392628]
[null,null,"Wisconsin","Eau Claire",null,"Wisconsin-Eau Claire",35.01,97.8,8,null,null,null,null,null,150,0.2394063586686537,0.73400046760451565,0.10231482375663924,0.96711733462095606]
[null,null,"Wisconsin","Florence",null,"Wisconsin-Florence",32.26,115.2,17.25,null,null,null,null,null,90.146945088940456,0.26198606271777003,0.86499210414626693,1.7691304347826092E-2,1]
[null,null,"Wisconsin","Fond Du Lac",null,"Wisconsin-Fond Du Lac",33.99,97.8,8,null,null,null,null,null,120,0.33209997549620152,0.48612139145670141,0.15118584579976979,0.94620253164556967]
[null,null,"Wisconsin","Forest",null,"Wisconsin-Forest",35.01,118,12,null,null,null,null,null,90,0.29884100418410076,0.48138164089040131,1.160536398467433E-2,1]
[null,null,"Wisconsin","Grant",null,"Wisconsin-Grant",35.01,99.3,9,null,null,null,null,null,170.03174603174602,0.32931681466628415,1.8841851503827074,7.1333073170731578E-2,0.78446634146341465]
[null,null,"Wisconsin","Green",null,"Wisconsin-Green",35.01,97.8,9,null,null,null,null,null,160,0.3201001895477929,1.5981017602138432,8.2522433927473784E-2,0.82971727105101412]
[null,null,"Wisconsin","Green Lake",null,"Wisconsin-Green Lake",35.01,97.8,10,null,null,null,null,null,130.13951579811243,0.25337894110648412,0.53180265893152723,0.12167268252666109,0.9420836751435604]
[null,null,"Wisconsin","Iowa",null,"Wisconsin-Iowa",35.01,98,9,null,null,null,null,null,160,0.30149868536371616,1.5417354135304842,4.5475973236009763E-2,0.81543491484184916]
[null,null,"Wisconsin","Iron",null,"Wisconsin-Iron",35.01,124.7,14,null,null,null,null,null,100,0.24282012195121946,0.82815720083887878,9.408695652173912E-3,1]
[null,null,"Wisconsin","Jackson",null,"Wisconsin-Jackson",35.01,97.8,12,null,null,null,null,null,160,0.22562674581005593,1.8217967364166034,8.5935259497057201E-2,0.90636704119850187]
[null,null,"Wisconsin","Jefferson",null,"Wisconsin-Jefferson",35.01,98.8,8,null,null,null,null,null,140,0.30430610889774207,0.58350502541754357,0.13873173473210923,0.94880104908205332]
[null,null,"Wisconsin","Juneau",null,"Wisconsin-Juneau",35.01,98.4,10,null,null,null,null,null,150,0.2230918813806512,1.0573511574691643,0.12455634186173101,0.95563418617310836]
[null,null,"Wisconsin","Kenosha",null,"Wisconsin-Kenosha",35.01,103.3,8,null,null,null,null,null,140,0.31408854166666728,0.45949904797618046,0.1887823741007191,1]
[null,null,"Wisconsin","Kewaunee",null,"Wisconsin-Kewaunee",33,98.5,8,null,null,null,null,null,90,0.33692155895411913,0.52225738871826421,0.10885470588235294,0.9584117647058823]
[null,null,"Wisconsin","La Crosse",null,"Wisconsin-La Crosse",35.01,97.8,9,null,null,null,null,null,159.80623973727421,0.29772364217252412,1.762270153188656,8.7657650042265403E-2,0.81415891800507179]
[null,null,"Wisconsin","Lafayette",null,"Wisconsin-Lafayette",35.01,98.6,9,null,null,null,null,null,169.87696850393701,0.31869684158169631,1.5703413857963509,9.1466666666666474E-2,0.82908831908831915]
[null,null,"Wisconsin","Langlade",null,"Wisconsin-Langlade",35.01,110.6,12,null,null,null,null,null,100,0.27932126696832582,0.32807000075413395,9.3566721581548579E-2,0.99052718286655683]
[null,null,"Wisconsin","Lincoln",null,"Wisconsin-Lincoln",35.01,111.4,12,null,null,null,null,null,110,0.29834792993630554,0.4298248614019391,5.2786157941437449E-2,0.97826086956521741]
[null,null,"Wisconsin","Manitowoc",null,"Wisconsin-Manitowoc",28.8,98.7,12,null,null,null,null,null,100,0.30244593804792502,0.49296384240435415,0.10413220712449499,0.9689680499449137]
[null,null,"Wisconsin","Marathon",null,"Wisconsin-Marathon",35.01,109.3,10,null,null,null,null,null,130,0.32874729085392207,0.35114333910930523,8.5721506635441064E-2,0.98404566744730682]
[null,null,"Wisconsin","Marinette",null,"Wisconsin-Marinette",33.04,107.4,12,null,null,null,null,null,90,0.19662263626251369,0.51073166399322878,6.4447770311545541E-2,0.98930971288943192]
[null,null,"Wisconsin","Marquette",null,"Wisconsin-Marquette",35.01,96.5,10,null,null,null,null,null,140,0.19478388998035373,0.31006957820012521,0.10646518987341773,0.99588607594936707]
[null,null,"Wisconsin","Menominee",null,"Wisconsin-Menominee",35.01,101.5,12,null,null,null,null,null,100,0.23613457760314363,""]
[null,null,"Wisconsin","Milwaukee",null,"Wisconsin-Milwaukee",35.01,107.4,8,null,null,null,null,null,140,0.35055118110236239,0.34792422319392574,0.27871428571428564,1]
[null,null,"Wisconsin","Monroe",null,"Wisconsin-Monroe",35.01,97.8,10,null,null,null,null,null,160,0.26255839100346012,1.7781690067792153,4.8305220883534151E-2,0.87937751004016063]
[null,null,"Wisconsin","Oconto",null,"Wisconsin-Oconto",34.97,105.6,10,null,null,null,null,null,100,0.20623312331233132,0.41765259548546624,0.1139423885618166,1]
[null,null,"Wisconsin","Oneida",null,"Wisconsin-Oneida",35.01,114.4,12,null,null,null,null,null,100,0.21916580418132886,0.98077073003182702,0.20799636363636367,1]
[null,null,"Wisconsin","Outagamie",null,"Wisconsin-Outagamie",33.340000000000003,101,10,null,null,null,null,null,100,0.30055540503928413,0.2878357453829043,0.14167440249393823,1]
[null,null,"Wisconsin","Ozaukee",null,"Wisconsin-Ozaukee",35.01,97.8,8,null,null,null,null,null,140,0.32091997008227346,0.55465819081883971,9.7938100320170765E-2,0.996264674493063]
[null,null,"Wisconsin","Pepin",null,"Wisconsin-Pepin",34.81,90.5,6,null,null,null,null,null,150,0.28536931818181821,1.0917352002620722,0.10105021834061141,0.9055131004366811]
[null,null,"Wisconsin","Pierce",null,"Wisconsin-Pierce",34.409999999999997,92.9,6,null,null,null,null,null,150,0.32480164158686703,1.249108215015817,7.1163609135155348E-2,0.84947210782478477]
[null,null,"Wisconsin","Polk",null,"Wisconsin-Polk",35.01,97.8,8.5,null,null,null,null,null,140,0.28165977554636712,0.8450996888481116,7.556451002648501E-2,0.9826901248581158]
[null,null,"Wisconsin","Portage",null,"Wisconsin-Portage",35.01,105.6,12,null,null,null,null,null,130,0.20828710837185396,0.24305860549427671,0.17203422178348116,1]
[null,null,"Wisconsin","Price",null,"Wisconsin-Price",35.01,112.5,12,null,null,null,null,null,120,0.31835871404399319,0.45486363784596712,2.1675072744907858E-2,1]
[null,null,"Wisconsin","Racine",null,"Wisconsin-Racine",35.01,102.5,8,null,null,null,null,null,140,0.32401305876444014,0.51787192567929896,0.2121085043988267,0.9923753665689149]
[null,null,"Wisconsin","Richland",null,"Wisconsin-Richland",35.01,97.8,10,null,null,null,null,null,160,0.28363856068743309,2.5291427218484608,5.8521826392373341E-2,0.83873557451078762]
[null,null,"Wisconsin","Rock",null,"Wisconsin-Rock",35.01,97.8,8,null,null,null,null,null,140,0.29251593806921644,0.54680824809445427,0.20733008229198419,0.98652849740932647]
[null,null,"Wisconsin","Rusk",null,"Wisconsin-Rusk",35.01,105.6,11,null,null,null,null,null,130,0.33163985148514896,0.49250211947294109,6.4318445475638059E-2,0.99419953596287702]
[null,null,"Wisconsin","Sauk",null,"Wisconsin-Sauk",35.01,97.7,10,null,null,null,null,null,140,0.3167244874971834,0.91829677862641235,9.2202065677965961E-2,0.97874735169491522]
[null,null,"Wisconsin","Sawyer",null,"Wisconsin-Sawyer",35.01,110,12,null,null,null,null,null,159.86776706231453,0.29534542490319948,1.2733630884084672,9.618661654135327E-2,0.8870375939849624]
[null,null,"Wisconsin","Shawano",null,"Wisconsin-Shawano",34.86,98.3,10,null,null,null,null,null,120,0.3067282551856374,0.57843470254494611,3.2822847682119211E-2,1]
[null,null,"Wisconsin","Sheboygan",null,"Wisconsin-Sheboygan",35.01,105.8,8,null,null,null,null,null,100,0.22320451222059737,0.49586529693073311,0.10425101965146449,1]
[null,null,"Wisconsin","St. Croix",null,"Wisconsin-St. Croix",35.01,96.2,6,null,null,null,null,null,140,0.31329477858559179,0.59853974077305572,0.10248196721311471,0.98758782201405149]
[null,null,"Wisconsin","Taylor",null,"Wisconsin-Taylor",35.01,109.5,10,null,null,null,null,null,130,0.34903290351267258,0.4063955787497659,6.4115798922800726E-2,1]
[null,null,"Wisconsin","Trempealeau",null,"Wisconsin-Trempealeau",35.01,97.8,7,null,null,null,null,null,160,0.28988334413480205,2.3750323379817027,8.4222151292690728E-2,0.89337695499521219]
[null,null,"Wisconsin","Vernon",null,"Wisconsin-Vernon",35.01,97.5,10,null,null,null,null,null,159.71849865951742,0.31678586107685952,1.8958918765071899,5.1907951171230579E-2,0.77398548333883199]
[null,null,"Wisconsin","Vilas",null,"Wisconsin-Vilas",35.01,121.9,14,null,null,null,null,null,100,0.19688241639697932,1.1523324031460818,3.4881081081081081E-2,1]
[null,null,"Wisconsin","Walworth",null,"Wisconsin-Walworth",35.01,107.4,8,null,null,null,null,null,140,0.32920000000000066,0.5168897543061366,0.20022383949645928,0.99126671911880393]
[null,null,"Wisconsin","Washburn",null,"Wisconsin-Washburn",33.67,103.3,12,null,null,null,null,null,130,0.24183967574870499,1.124093420935947,4.4239754098360673E-2,0.96362704918032782]
[null,null,"Wisconsin","Washington",null,"Wisconsin-Washington",35.01,97.8,8,null,null,null,null,null,120,0.3129952830188682,0.43117031801217309,0.11563604651162784,0.98093023255813938]
[null,null,"Wisconsin","Waukesha",null,"Wisconsin-Waukesha",35.01,98.4,8,null,null,null,null,null,130.39020452099032,0.31655459494076277,0.56844629214009867,0.14191775456919054,1]
[null,null,"Wisconsin","Waupaca",null,"Wisconsin-Waupaca",35.01,99.4,10,null,null,null,null,null,110,0.21722027094831925,0.34658433998664684,0.10749523019493976,0.93863542098714237]
[null,null,"Wisconsin","Waushara",null,"Wisconsin-Waushara",35.01,97.8,10,null,null,null,null,null,130.22053418279833,0.1750300601202405,0.53880601649847748,0.19363716327652544,0.97429906542056077]
[null,null,"Wisconsin","Winnebago",null,"Wisconsin-Winnebago",35.01,98.5,9,null,null,null,null,null,109.90286022665947,0.30144944252210676,0.25534047844871566,0.16142540010325254,0.99432111512648425]
[null,null,"Wisconsin","Wood",null,"Wisconsin-Wood",35.01,105.1,10,null,null,null,null,null,140,0.29178744982040922,0.23033821221575992,6.6824449877750616E-2,0.99119804400977995]
[null,null,"Wyoming","Albany",null,"Wyoming-Albany",16.670000000000002,78.7,6.2,null,null,null,null,null,39.576169771430848,0.24538810115480217,2.1576537688179664,0.14388052472250251,1]
[null,null,"Wyoming","Big Horn",null,"Wyoming-Big Horn",13.67,57.5,8.2859999999999996,null,null,null,null,null,20,0.30478497281265421,1.6339412334561489,0.22227457098283943,1]
[null,null,"Wyoming","Campbell",null,"Wyoming-Campbell",16,69,0.2,null,null,null,null,null,47.478660324493383,0.28981174097575341,1.6165242889946094,7.7485720858895699E-2,1]
[null,null,"Wyoming","Carbon",null,"Wyoming-Carbon",16.309999999999999,76.400000000000006,14.848000000000001,null,null,null,null,null,21.6376548881329,0.28328612741345593,1.1938412768154727,0.16631348788198108,1]
[null,null,"Wyoming","Converse",null,"Wyoming-Converse",16.61,69.3,1.74,null,null,null,null,null,39.894480816356385,0.27526106855968613,1.7055691191191147,0.13615969799991168,1]
[null,null,"Wyoming","Crook",null,"Wyoming-Crook",17.23,78.2,0.56699999999999995,null,null,null,null,null,49.614037102980873,0.30516543995756235,1.4642026225924671,6.3964680951259609E-2,0.99912094812024166]
[null,null,"Wyoming","Fremont",null,"Wyoming-Fremont",14.86,57.1,14.042,null,null,null,null,null,20,0.2931137942174119,1.305564455444298,0.12326070991432073,1]
[null,null,"Wyoming","Goshen",null,"Wyoming-Goshen",16,68.099999999999994,0.5,null,null,null,null,null,50,0.32125475001862774,1.2359576003600496,0.14410470069501552,0.99786264105821698]
[null,null,"Wyoming","Hot Springs",null,"Wyoming-Hot Springs",13.16,53.4,6.6,null,null,null,null,null,20,0.29939820359281399,3.1871817637966346,0.12894275562001437,1]
[null,null,"Wyoming","Johnson",null,"Wyoming-Johnson",17.75,74.2,7.6429999999999998,null,null,null,null,null,35.004803675856309,0.31684069299422501,2.9025928734017472,9.2515195449729512E-2,1]
[null,null,"Wyoming","Laramie",null,"Wyoming-Laramie",16.010000000000002,76.400000000000006,0.75,null,null,null,null,null,59.671921354196961,0.25094137808769729,1.1876614972688464,0.14171722174074497,1]
[null,null,"Wyoming","Lincoln",null,"Wyoming-Lincoln",20.58,84.8,11.917,null,null,null,null,null,21.12387956791542,0.28675134488942039,2.5466592284674725,7.9128301297077652E-2,1]
[null,null,"Wyoming","Natrona",null,"Wyoming-Natrona",13.81,63.3,1.714,null,null,null,null,null,20,0.27167620501081002,2.3910131338225011,0.11925778362380789,1]
[null,null,"Wyoming","Niobrara",null,"Wyoming-Niobrara",16,68.400000000000006,0.3,null,null,null,null,null,49.800349243306172,0.30273056057866193,0.94659026192153084,9.4213083371839701E-2,1]
[null,null,"Wyoming","Park",null,"Wyoming-Park",24.15,92.7,13.111000000000001,null,null,null,null,null,20.044602012808785,0.26493684334789325,3.161319218068789,0.11702620584884176,1]
[null,null,"Wyoming","Platte",null,"Wyoming-Platte",16,69.900000000000006,1.167,null,null,null,null,null,49.985225505443232,0.29319010535959655,2.6648595100530721,0.11661670886075967,1]
[null,null,"Wyoming","Sheridan",null,"Wyoming-Sheridan",18.809999999999999,85.5,5.7,null,null,null,null,null,29.364042207792206,0.32107546673678666,5.2660820066090368,8.6724921774342087E-2,0.99894165286213876]
[null,null,"Wyoming","Sublette",null,"Wyoming-Sublette",19.350000000000001,78.3,14.042,null,null,null,null,null,19.220029784065524,0.233478069532052,0.5790910308938545,6.9035575485799638E-2,1]
[null,null,"Wyoming","Sweetwater",null,"Wyoming-Sweetwater",8.93,47.3,2.125,null,null,null,null,null,17.480982185844969,0.28585881098890442,1.5984946363273305,0.2766253909582031,1]
[null,null,"Wyoming","Teton",null,"Wyoming-Teton",38.96,137.69999999999999,22.5,null,null,null,null,null,22.962576153176677,0.26178571428571423,0.84747927942936241,5.0190328467153246E-2,1]
[null,null,"Wyoming","Uinta",null,"Wyoming-Uinta",12.95,63.5,6.1429999999999998,null,null,null,null,null,17.880511320550319,0.279528116397955,1.274648576235401,0.10081202793216473,1]
[null,null,"Wyoming","Washakie",null,"Wyoming-Washakie",12.64,58.5,2.6669999999999998,null,null,null,null,null,19.774674333998355,0.30698488664987406,2.7264996903200194,0.1383225251780888,1]
[null,null,"Wyoming","Weston",null,"Wyoming-Weston",16.68,70.099999999999994,0.51700000000000002,null,null,null,null,null,49.665726375176305,0.30699812062190307,1.6477571701095577,7.2897678417884859E-2,1]